{"text_format":"1","workbook":"xlsx","n_sheets":6,"sheets":["Cadastro de Produtos em Linha","Tabela de Fretes","Aferi (Variáveis)","Custo Básico dos Produtos","Aferi (Pedido) ","Aferi (Pedido_Cliente)"],"not_rendered":{"charts":0,"images":4,"macros":1,"external_links":0,"defined_names":3,"comments":2,"pivot_tables":0},"unopened":[],"bounds":{"document_bytes":16777216,"sheet_cells":100000,"rows_first":2000,"rows_last":500,"rows_between":2000,"halvings":0,"cell_chars":16384,"cell_head_chars":4096},"cells_cut":0,"cells_raw":0,"read":"whole","date_system":"1900"}

{"sheet":"Cadastro de Produtos em Linha","index":0,"n_rows":457,"n_cols":6,"rows_kept":457,"cut":false,"hidden":false,"merged":[[1,6,2,8],[3,5,4,5],[3,1,4,1],[3,2,4,2],[3,3,4,3],[3,4,4,4],[2,1,2,5]]}
[]
[]
[null,"Cadastro de Produtos em Linha (20.07.20)"]
[null,"Ref.","Descrição","Qtde. na emb.","Cubagem","Peso da Embalagem"]
[]
[]
[1,null,"PINO MULTIPLICADOR BIPOLAR BR/PR (4 POTES C/ 20 PÇS)",80,2.4300000000000002E-2,2.82]
[111,806,"CORDÃO PROLONGADOR BIPOLAR  PRETO 10 MTS",15,1.6796000000000002E-2,5.2480000000000011]
[108,803,"CORDÃO PROLONGADOR BIPOLAR BRANCO 10 MTS",15,1.6796000000000002E-2,5.2480000000000011]
[4]
[106,801,"CORDÃO PROLONGADOR BIPOLAR BRANCO 3 MTS",20,1.6796000000000002E-2,2.9580000000000002]
[107,802,"CORDÃO PROLONGADOR BIPOLAR BRANCO 5 MTS",20,1.6796000000000002E-2,4.2379999999999995]
[7]
[8,null,"PINO MULTIPLICADOR TRIPOLAR BR/PR (4 POTES C/ 20 PÇS)",80,2.4300000000000002E-2,2.99]
[109,804,"CORDÃO PROLONGADOR BIPOLAR PRETO 3 MTS",20,1.6796000000000002E-2,2.9580000000000002]
[110,805,"CORDÃO PROLONGADOR BIPOLAR PRETO 5 MTS",20,1.6796000000000002E-2,4.2379999999999995]
[11]
[114,853,"CORDÃO PROLONGADOR TRIPOLAR BRANCO 10 MTS",15,1.6796000000000002E-2,8.4899999999999984]
[112,851,"CORDÃO PROLONGADOR TRIPOLAR BRANCO 3 MTS",20,1.6796000000000002E-2,4.4800000000000004]
[14]
[15,null,"PINO EM BARRA FRONTAL BIPOLAR BR/PR 4 PTS C/ 12 PCS",48,2.4300000000000002E-2,2.7959999999999998]
[113,852,"CORDÃO PROLONGADOR TRIPOLAR BRANCO 5 MTS",20,1.6796000000000002E-2,6.8000000000000007]
[117,856,"CORDÃO PROLONGADOR TRIPOLAR PRETO 10 MTS",15,1.6796000000000002E-2,8.4899999999999984]
[18]
[115,854,"CORDÃO PROLONGADOR TRIPOLAR PRETO 3 MTS",20,1.6796000000000002E-2,4.4800000000000004]
[116,855,"CORDÃO PROLONGADOR TRIPOLAR PRETO 5 MTS",20,1.6796000000000002E-2,6.8000000000000007]
[21]
[22,null,"PINO EM BARRA FRONTAL TRIPOLAR BR/PR 4 PTS C/ 12 PCS",48,2.4300000000000002E-2,3.2279999999999998]
[69,604,"EXTENSAO COMPACT BIPOLAR BRANCA 10 MTS  ",15,0.02,5.3830000000000009]
[66,601,"EXTENSAO COMPACT BIPOLAR BRANCA 2 MTS  ",20,1.7000000000000001E-2,2.4180000000000001]
[25]
[67,602,"EXTENSAO COMPACT BIPOLAR BRANCA 3 MTS  ",20,1.7000000000000001E-2,3.0180000000000002]
[68,603,"EXTENSAO COMPACT BIPOLAR BRANCA 5 MTS  ",20,0.02,4.338000000000001]
[28]
[29,null,"PINO MACHO DESMONTAVEL BIPOLAR BR/PR (4 POTES C/ 60 PCS)",240,2.0400000000000001E-2,4.1360000000000001]
[73,608,"EXTENSAO COMPACT BIPOLAR PRETA 10 MTS  ",15,0.02,5.3830000000000009]
[70,605,"EXTENSAO COMPACT BIPOLAR PRETA 2 MTS  ",20,1.7000000000000001E-2,2.4180000000000001]
[32]
[71,606,"EXTENSAO COMPACT BIPOLAR PRETA 3 MTS  ",20,1.7000000000000001E-2,3.0180000000000002]
[72,607,"EXTENSAO COMPACT BIPOLAR PRETA 5 MTS  ",20,0.02,4.338000000000001]
[35]
[36,null,"PINO MACHO DESMONTAVEL TRIPOLAR BR/PR (4 POTES C/ 60 PCS)",240,2.0400000000000001E-2,4.76]
[81,654,"EXTENSAO COMPACT TRIPOLAR BRANCA 10 MTS  ",15,2.1735999999999998E-2,11.382]
[78,651,"EXTENSAO COMPACT TRIPOLAR BRANCA 2 MTS  ",20,0.02,2.7120000000000006]
[39]
[79,652,"EXTENSAO COMPACT TRIPOLAR BRANCA 3 MTS  ",20,1.976E-2,5.18]
[80,653,"EXTENSAO COMPACT TRIPOLAR BRANCA 5 MTS  ",20,2.1735999999999998E-2,7.36]
[42]
[43,null,"PINO ADAPTADOR BIPOLAR BR/PR 4 PTS C/ 45 PCS",180,2.4300000000000002E-2,5.120000000000001]
[85,658,"EXTENSAO COMPACT TRIPOLAR PRETA 10 MTS  ",15,2.1735999999999998E-2,10.5]
[82,655,"EXTENSAO COMPACT TRIPOLAR PRETA 2 MTS  ",20,1.976E-2,3.4119999999999999]
[46]
[83,656,"EXTENSAO COMPACT TRIPOLAR PRETA 3 MTS  ",20,1.976E-2,4.7320000000000002]
[84,657,"EXTENSAO COMPACT TRIPOLAR PRETA 5 MTS  ",20,2.1735999999999998E-2,7.43]
[49]
[50,null,"TOMADA DESMONTAVEL TRIPOLAR BR/PR (4 POTES C/ 30 PCS)",120,2.0400000000000001E-2,3.06]
[143,624,"EXTENSÃO ENERGY BIPOLAR BRANCA 10 MTS 2P 10A/250V~",15,1.6799999999999999E-2,6.077]
[140,621,"EXTENSÃO ENERGY BIPOLAR BRANCA 2 MTS 2P 10A/250V~",20,1.6799999999999999E-2,2.7909999999999999]
[53]
[141,622,"EXTENSÃO ENERGY BIPOLAR BRANCA 3 MTS 2P 10A/250V~",20,1.6799999999999999E-2,3.3180000000000001]
[142,623,"EXTENSÃO ENERGY BIPOLAR BRANCA 5 MTS 2P 10A/250V~",20,1.6799999999999999E-2,4.5209999999999999]
[56]
[147,628,"EXTENSÃO ENERGY BIPOLAR PRETA 10 MTS 2P 10A/250V~",15,1.6799999999999999E-2,6.077]
[144,625,"EXTENSÃO ENERGY BIPOLAR PRETA 2 MTS 2P 10A/250V~",20,1.6799999999999999E-2,2.7909999999999999]
[145,626,"EXTENSÃO ENERGY BIPOLAR PRETA 3 MTS 2P 10A/250V~",20,1.6799999999999999E-2,3.3180000000000001]
[146,627,"EXTENSÃO ENERGY BIPOLAR PRETA 5 MTS 2P 10A/250V~",20,1.6799999999999999E-2,4.5209999999999999]
[98,711,"FILTRO DE LINHA BIVOLT FULL ENERGY BRANCO 3T CINTA",20,2.1735999999999998E-2,3.86]
[90,701,"FILTRO DE LINHA BIVOLT FULL ENERGY BRANCO 3T FLOW PACK",20,2.1735999999999998E-2,3.7019999999999995]
[63]
[64]
[65]
[99,712,"FILTRO DE LINHA BIVOLT FULL ENERGY BRANCO 4T  CINTA",20,2.1735999999999998E-2,4.1399999999999997]
[91,702,"FILTRO DE LINHA BIVOLT FULL ENERGY BRANCO 4T  FLOW PACK",20,2.1735999999999998E-2,4]
[100,713,"FILTRO DE LINHA BIVOLT FULL ENERGY BRANCO 5T  CINTA",20,2.1999999999999999E-2,4.6100000000000003]
[92,703,"FILTRO DE LINHA BIVOLT FULL ENERGY BRANCO 5T  FLOW PACK",20,2.1735999999999998E-2,4.42]
[101,714,"FILTRO DE LINHA BIVOLT FULL ENERGY BRANCO 6T  CINTA",20,2.9519999999999994E-2,4.88]
[93,704,"FILTRO DE LINHA BIVOLT FULL ENERGY BRANCO 6T  FLOW PACK",20,2.9519999999999994E-2,4.8099999999999996]
[102,715,"FILTRO DE LINHA BIVOLT FULL ENERGY PRETO 3T  CINTA",20,2.1735999999999998E-2,3.71]
[94,705,"FILTRO DE LINHA BIVOLT FULL ENERGY PRETO 3T  FLOW PACK",20,2.1735999999999998E-2,3.7019999999999995]
[74]
[75]
[76]
[77]
[103,716,"FILTRO DE LINHA BIVOLT FULL ENERGY PRETO 4T  CINTA",20,2.1735999999999998E-2,4.3420000000000005]
[95,706,"FILTRO DE LINHA BIVOLT FULL ENERGY PRETO 4T  FLOW PACK",20,2.1735999999999998E-2,3.97]
[104,717,"FILTRO DE LINHA BIVOLT FULL ENERGY PRETO 5T  CINTA",20,2.1999999999999999E-2,4.6100000000000003]
[96,707,"FILTRO DE LINHA BIVOLT FULL ENERGY PRETO 5T  FLOW PACK",20,2.1999999999999999E-2,4.5680000000000005]
[105,718,"FILTRO DE LINHA BIVOLT FULL ENERGY PRETO 6T  CINTA",20,2.9519999999999994E-2,4.92]
[97,708,"FILTRO DE LINHA BIVOLT FULL ENERGY PRETO 6T  FLOW PACK",20,2.9519999999999994E-2,4.83]
[124,3101,"LUMINÁRIA TARTARUGA FLORENÇA BRANCA",20,5.8999999999999997E-2,4.3099999999999996]
[125,3102,"LUMINÁRIA TARTARUGA FLORENÇA PRETA",20,5.8999999999999997E-2,4.3150000000000004]
[86]
[87]
[88]
[89]
[44,202,"PINO ADAPTADOR BIPOLAR BRANCO GRANEL",100,8.8000000000000023E-3,2.4300000000000002]
[47,205,"PINO ADAPTADOR BIPOLAR BRANCO INDIVIDUAL",100,2.1735999999999998E-2,2.91]
[45,203,"PINO ADAPTADOR BIPOLAR PRETO GRANEL",100,8.8000000000000023E-3,2.41]
[48,206,"PINO ADAPTADOR BIPOLAR PRETO INDIVIDUAL",100,2.1735999999999998E-2,2.8620000000000001]
[16,52,"PINO EM BARRA FRONTAL BIPOLAR BRANCO GRANEL",100,2.4300000000000002E-2,4.4929999999999994]
[19,55,"PINO EM BARRA FRONTAL BIPOLAR BRANCO INDIVIDUAL",100,4.7375999999999995E-2,4.9340000000000002]
[17,53,"PINO EM BARRA FRONTAL BIPOLAR PRETO GRANEL",100,2.4300000000000002E-2,4.4929999999999994]
[20,56,"PINO EM BARRA FRONTAL BIPOLAR PRETO INDIVIDUAL",100,4.7375999999999995E-2,4.9340000000000002]
[23,62,"PINO EM BARRA FRONTAL TRIPOLAR BRANCO GRANEL",100,2.4300000000000002E-2,5.3929999999999998]
[26,65,"PINO EM BARRA FRONTAL TRIPOLAR BRANCO INDIVIDUAL",100,4.7375999999999995E-2,5.7060000000000004]
[24,63,"PINO EM BARRA FRONTAL TRIPOLAR PRETO GRANEL",100,2.4300000000000002E-2,5.3929999999999998]
[27,66,"PINO EM BARRA FRONTAL TRIPOLAR PRETO INDIVIDUAL",100,4.7375999999999995E-2,5.7060000000000004]
[30,102,"PINO MACHO DESMONTÁVEL BIPOLAR BRANCO GRANEL ",100,4.000000000000001E-3,1.41]
[33,105,"PINO MACHO DESMONTAVEL BIPOLAR BRANCO INDIVIDUAL",100,1.976E-2,1.667]
[31,103,"PINO MACHO DESMONTÁVEL BIPOLAR PRETO GRANEL ",100,4.000000000000001E-3,1.41]
[34,106,"PINO MACHO DESMONTAVEL BIPOLAR PRETO INDIVIDUAL",100,8.8000000000000023E-3,1.76]
[37,152,"PINO MACHO DESMONTÁVEL TRIPOLAR BRANCO GRANEL ",100,4.0000000000000001E-3,1.825]
[40,155,"PINO MACHO DESMONTAVEL TRIPOLAR BRANCO INDIVIDUAL",100,8.8000000000000023E-3,2.19]
[38,153,"PINO MACHO DESMONTÁVEL TRIPOLAR PRETO GRANEL ",100,4.0000000000000001E-3,1.79]
[41,156,"PINO MACHO DESMONTAVEL TRIPOLAR PRETO INDIVIDUAL",100,8.8000000000000023E-3,2.2000000000000002]
[2,2,"PINO MULTIPLICADOR BIPOLAR BRANCO GRANEL",100,2.0400000000000001E-2,3.04]
[5,5,"PINO MULTIPLICADOR BIPOLAR BRANCO INDIVIDUAL",100,2.9519999999999994E-2,3.3]
[3,3,"PINO MULTIPLICADOR BIPOLAR PRETO GRANEL",100,2.0400000000000001E-2,3.04]
[6,6,"PINO MULTIPLICADOR BIPOLAR PRETO INDIVIDUAL",100,2.9519999999999994E-2,3.3]
[9,12,"PINO MULTIPLICADOR TRIPOLAR BRANCO GRANEL",100,2.0400000000000001E-2,3.07]
[12,15,"PINO MULTIPLICADOR TRIPOLAR BRANCO INDIVIDUAL",100,2.9519999999999994E-2,3.47]
[10,13,"PINO MULTIPLICADOR TRIPOLAR PRETO GRANEL",100,2.0400000000000001E-2,3.07]
[13,16,"PINO MULTIPLICADOR TRIPOLAR PRETO INDIVIDUAL",100,2.9519999999999994E-2,3.47]
[126,3151,"PLAFONIER BÉRGAMO BRANCO E-27            ",30,2.1999999999999999E-2,1.65]
[127,3152,"PLAFONIER BÉRGAMO PRETO E-27               ",30,2.1999999999999999E-2,1.66]
[130,3203,"SPOT DUPLO ALETADO NÁPOLES BRANCO E-27    ",12,4.7375999999999995E-2,2.76]
[131,3204,"SPOT DUPLO ALETADO NÁPOLES PRETO E-27    ",12,4.7375999999999995E-2,2.78]
[122]
[123]
[138,3211,"SPOT DUPLO TRANSLUCIDO NÁPOLES BRANCO E-27",12,4.7E-2,3.61]
[134,3207,"SPOT DUPLO VENTILADO NÁPOLES BRANCO E-27    ",12,4.7E-2,3.22]
[135,3208,"SPOT DUPLO VENTILADO NÁPOLES PRETO E-27    ",12,4.7E-2,3.1120000000000001]
[129,3202,"SPOT SIMPLES ALETADO NÁPOLES PRETO E-27   ",24,4.7375999999999995E-2,3.1120000000000001]
[128,null,"SPOT SIMPLES ALETADO NÁPOLES BRANCO E-27   ",24,4.7375999999999995E-2,3.08]
[132,3205,"SPOT SIMPLES VENTILADO  NÁPOLES BRANCO E-27  ",24,4.7375999999999995E-2,3.472]
[133,3206,"SPOT SIMPLES VENTILADO  NÁPOLES PRETO E-27  ",24,4.7375999999999995E-2,3.472]
[51,252,"TOMADA DESMONTÁVEL TRIPOLAR BRANCA GRANEL           ",100,6.8000000000000022E-3,1.92]
[54,255,"TOMADA DESMONTÁVEL TRIPOLAR BRANCA INDIVIDUAL",100,1.6796000000000002E-2,2.5499999999999998]
[52,253,"TOMADA DESMONTÁVEL TRIPOLAR PRETA GRANEL           ",100,6.8000000000000022E-3,2.0699999999999998]
[55,256,"TOMADA DESMONTÁVEL TRIPOLAR PRETA INDIVIDUAL",100,1.6796000000000002E-2,2.61]
[118,901,"TOMADA EM BARRA TRIPOLAR 3T BRANCA",20,1.7000000000000001E-2,1.464]
[136,null,"SPOT SIMPLES TRANSLUCIDO NÁPOLES BRANCO E-27",24,4.7E-2,3.7360000000000002]
[137,null,"SPOT SIMPLES TRANSLUCIDO NÁPOLES PRETO E-27",24,4.7E-2,3.7360000000000002]
[120,903,"TOMADA EM BARRA TRIPOLAR 3T PRETA",20,1.7000000000000001E-2,1.464]
[139,null,"SPOT DUPLO TRANSLUCIDO NÁPOLES PRETO E-27",12,4.7E-2,3.472]
[119,902,"TOMADA EM BARRA TRIPOLAR 4T BRANCA",20,1.7000000000000001E-2,1.728]
[121,904,"TOMADA EM BARRA TRIPOLAR 4T PRETA",20,1.7000000000000001E-2,1.728]
[57,212,"PINO ADAPTADOR TRIPOLAR BRANCO GRANEL",100,8.8000000000000023E-3,2.4300000000000002]
[58,215,"PINO ADAPTADOR TRIPOLAR BRANCO INDIVIDUAL",100,2.1735999999999998E-2,2.91]
[59,213,"PINO ADAPTADOR TRIPOLAR PRETO GRANEL",100,8.8000000000000023E-3,2.41]
[60,216,"PINO ADAPTADOR TRIPOLAR PRETO INDIVIDUAL",100,2.1735999999999998E-2,2.8620000000000001]
[61,112,"PINO MACHO 90º 10A BIPOLAR BRANCO GRANEL",100,1.0699999999999999E-2,2.06]
[62,113,"PINO MACHO 90º 10A BIPOLAR PRETO GRANEL",100,1.0699999999999999E-2,2.06]
[148,115,"PINO MACHO 90º 10A BIPOLAR BRANCO INDIVIDUAL",100,2.1700000000000001E-2,2.532]
[149,116,"PINO MACHO 90º 10A BIPOLAR PRETO INDIVIDUAL",100,2.1700000000000001E-2,2.532]
[150,122,"PINO MACHO 90º 20A BIPOLAR BRANCO GRANEL",100,1.0999999999999999E-2,2.6240000000000001]
[151,123,"PINO MACHO 90º 20A BIPOLAR PRETO GRANEL",100,1.0999999999999999E-2,2.6240000000000001]
[152,125,"PINO MACHO 90º 20A BIPOLAR BRANCO INDIVIDUAL",100,2.1700000000000001E-2,3.03]
[153,126,"PINO MACHO 90º 20A BIPOLAR PRETO INDIVIDUAL",100,2.1700000000000001E-2,3.03]
[154,162,"PINO MACHO 90º 10A TRIPOLAR BRANCO GRANEL",100,1.7000000000000001E-2,2.37]
[155,163,"PINO MACHO 90º 10A TRIPOLAR PRETO GRANEL",100,1.7000000000000001E-2,2.37]
[156,165,"PINO MACHO 90º 10A TRIPOLAR BRANCO INDIVIDUAL",100,2.1700000000000001E-2,2.8119999999999998]
[157,166,"PINO MACHO 90º 10A TRIPOLAR PRETO INDIVIDUAL",100,2.1700000000000001E-2,2.8119999999999998]
[158,172,"PINO MACHO 90º 20A TRIPOLAR BRANCO GRANEL",100,1.0999999999999999E-2,2.992]
[159,173,"PINO MACHO 90º 20A TRIPOLAR PRETO GRANEL",100,1.0999999999999999E-2,2.992]
[160,175,"PINO MACHO 90º 20A TRIPOLAR BRANCO INDIVIDUAL",100,2.1700000000000001E-2,3.4279999999999999]
[161,176,"PINO MACHO 90º 20A TRIPOLAR PRETO INDIVIDUAL",100,2.1700000000000001E-2,3.4279999999999999]
[162]
[163]
[164]
[165]
[166]
[167]
[168]
[169]
[170]
[171]
[172]
[173]
[174]
[175]
[176]
[177]
[178]
[179]
[180]
[181]
[182]
[183]
[184]
[185]
[186]
[187]
[188]
[189]
[190]
[191]
[192]
[193]
[194]
[195]
[196]
[197]
[198]
[199]
[200]
[201]
[202]
[203]
[204]
[205]
[206]
[207]
[208]
[209]
[210]
[211]
[212]
[213]
[214]
[215]
[216]
[217]
[218]
[219]
[220]
[221]
[222]
[223]
[224]
[225]
[226]
[227]
[228]
[229]
[230]
[231]
[232]
[233]
[234]
[235]
[236]
[237]
[238]
[239]
[240]
[241]
[242]
[243]
[244]
[245]
[246]
[247]
[248]
[249]
[250]
[251]
[252]
[253]
[254]
[255]
[256]
[257]
[258]
[259]
[260]
[261]
[262]
[263]
[264]
[265]
[266]
[267]
[268]
[269]
[270]
[271]
[272]
[273]
[274]
[275]
[276]
[277]
[278]
[279]
[280]
[281]
[282]
[283]
[284]
[285]
[286]
[287]
[288]
[289]
[290]
[291]
[292]
[293]
[294]
[295]
[296]
[297]
[298]
[299]
[300]
[301]
[302]
[303]
[304]
[305]
[306]
[307]
[308]
[309]
[310]
[311]
[312]
[313]
[314]
[315]
[316]
[317]
[318]
[319]
[320]
[321]
[322]
[323]
[324]
[325]
[326]
[327]
[328]
[329]
[330]
[331]
[332]
[333]
[334]
[335]
[336]
[337]
[338]
[339]
[340]
[341]
[342]
[343]
[344]
[345]
[346]
[347]
[348]
[349]
[350]
[351]
[352]
[353]
[354]
[355]
[356]
[357]
[358]
[359]
[360]
[361]
[362]
[363]
[364]
[365]
[366]
[367]
[368]
[369]
[370]
[371]
[372]
[373]
[374]
[375]
[376]
[377]
[378]
[379]
[380]
[381]
[382]
[383]
[384]
[385]
[386]
[387]
[388]
[389]
[390]
[391]
[392]
[393]
[394]
[395]
[396]
[397]
[398]
[399]
[400]
[401]
[402]
[403]
[404]
[405]
[406]
[407]
[408]
[409]
[410]
[411]
[412]
[413]
[414]
[415]
[416]
[417]
[418]
[419]
[420]
[421]
[422]
[423]
[424]
[425]
[426]
[427]
[428]
[429]
[430]
[431]
[432]
[433]
[434]
[435]
[436]
[437]
[438]
[439]
[440]
[441]
[442]
[443]
[444]
[445]
[446]
[447]
[448]
[449]
[450]
[451]

{"sheet":"Tabela de Fretes","index":1,"n_rows":8,"n_cols":2,"rows_kept":8,"cut":false,"hidden":true,"merged":[[0,0,0,1],[1,0,1,1]]}
[]
["Tabela de Fretes  (01.06.14)"]
["","Valor do metro cúbico de frete"]
["Retira",0]
["Rio de Janeiro",0.05]
["São Paulo",0.02]
["São Paulo Interior",0.05]
["Bahia",0.1]

{"sheet":"Aferi (Variáveis)","index":2,"n_rows":50,"n_cols":16,"rows_kept":50,"cut":false,"hidden":false,"merged":[[0,16,1,20],[2,0,2,4],[28,16,29,20],[9,4,10,4],[0,0,1,4],[3,0,3,4],[9,0,10,0],[9,1,10,1],[9,2,10,2],[9,3,10,3]]}
[]
[]
["AFERI - Variáveis"]
["Prazo"]
[1,2,3,4,5]
[30,40,50,60,70,null,{"$f":"IF(A6>0,A6,\"\")","v":30},{"$f":"IF(B6>0,B6,\"\")","v":40},{"$f":"IF(C6>0,C6,\"\")","v":50},{"$f":"IF(D6>0,D6,\"\")","v":60},{"$f":"IF(E6>0,E6,\"\")","v":70},{"$f":"IF(A8>0,A8,\"\")","v":""},{"$f":"IF(B8>0,B8,\"\")","v":""},{"$f":"IF(C8>0,C8,\"\")","v":""},{"$f":"IF(D8>0,D8,\"\")","v":""},{"$f":"IF(E8>0,E8,\"\")","v":""}]
[6,7,8,9,10]
[null,null,null,null,null,null,null,null,{"$f":"ROUND(IF(SUM(G6:P6)>0,AVERAGE(G6:P6),0),0)","v":50}]
[]
["Prazo médio","Frete","ICMS","Comissão","Condições"]
[]
[{"$f":"I8","v":50},"São Paulo",7,5,70,null,18,{"$f":"'Tabela de Fretes'!A4","v":"Retira"},null,100,{"$f":"IF(E12=\"\",J12,E12)","v":70}]
[null,null,null,null,null,null,12,{"$f":"'Tabela de Fretes'!A5","v":"Rio de Janeiro"},null,30]
[null,null,null,null,null,null,7,{"$f":"'Tabela de Fretes'!A6","v":"São Paulo"},null,50]
[null,{"$f":"IF(B12=\"\",1,0)","v":0},{"$f":"IF(C12=\"\",1,0)","v":0},{"$f":"IF(D12=\"\",1,0)","v":0},{"$f":"IF(E12=\"\",1,0)","v":0},null,"ALC",{"$f":"'Tabela de Fretes'!A7","v":"São Paulo Interior"},null,70]
[null,{"$f":"SUM(B15:E15)","v":0},null,null,null,null,"ZFM",{"$f":"'Tabela de Fretes'!A8","v":"Bahia"},null,100]
["2008-01-01","2008-11-30",null,null,null,null,"EXP",{"$f":"'Tabela de Fretes'!A9","v":0}]
[null,{"$f":"IF(B16>0,A17,B17)","v":"2008-11-30"},null,null,null,null,"Venda para Exportar",{"$f":"'Tabela de Fretes'!A10","v":0}]
[null,null,null,null,null,null,"ICMS",{"$f":"'Tabela de Fretes'!A11","v":0}]
[null,null,null,null,null,{"$f":"IF(IF(C12=\"\",18,C12)=\"ICMS\",18,IF(C12=\"\",18,C12))","v":7},"ALC",{"$f":"'Tabela de Fretes'!A12","v":0}]
[null,null,null,null,null,null,"ZFM",{"$f":"'Tabela de Fretes'!A13","v":0}]
[null,null,null,null,null,null,"Exportação",{"$f":"'Tabela de Fretes'!A14","v":0}]
[null,null,null,null,null,null,"AO",{"$f":"'Tabela de Fretes'!A15","v":0}]
[null,null,null,null,null,null,7,{"$f":"'Tabela de Fretes'!A16","v":0},null,null,{"$f":"IF(B12=\"\",K25,B12)","v":"São Paulo"}]
[null,null,null,null,null,null,12,{"$f":"'Tabela de Fretes'!A17","v":0},null,null,"São Paulo Interior"]
[null,null,null,null,null,null,18,{"$f":"'Tabela de Fretes'!A18","v":0}]
[null,null,null,null,null,null,null,{"$f":"'Tabela de Fretes'!A19","v":0}]
[null,null,null,null,null,null,null,{"$f":"'Tabela de Fretes'!A20","v":0}]
[null,null,null,null,null,null,null,{"$f":"'Tabela de Fretes'!A21","v":0}]
[null,null,null,null,null,null,null,{"$f":"'Tabela de Fretes'!A22","v":0}]
[null,null,null,null,null,null,null,{"$f":"'Tabela de Fretes'!A23","v":0}]
[null,null,null,null,null,null,null,{"$f":"'Tabela de Fretes'!A24","v":0}]
[null,null,null,null,null,null,null,{"$f":"'Tabela de Fretes'!A25","v":0}]
[null,null,null,null,null,null,null,{"$f":"'Tabela de Fretes'!A26","v":0}]
[null,null,null,null,null,null,null,{"$f":"'Tabela de Fretes'!A27","v":0}]
[null,null,null,null,null,null,null,{"$f":"'Tabela de Fretes'!A28","v":0}]
[null,null,null,null,null,null,null,{"$f":"'Tabela de Fretes'!A29","v":0}]
[null,null,null,null,null,null,null,{"$f":"'Tabela de Fretes'!A30","v":0}]
[null,null,null,null,null,null,null,{"$f":"'Tabela de Fretes'!A31","v":0}]
[null,null,null,null,null,null,null,{"$f":"'Tabela de Fretes'!A32","v":0}]
[null,null,null,null,null,null,null,{"$f":"'Tabela de Fretes'!A33","v":0}]
[null,null,null,null,null,null,null,{"$f":"'Tabela de Fretes'!A34","v":0}]
[null,null,null,null,null,null,null,{"$f":"'Tabela de Fretes'!A35","v":0}]
[null,null,null,null,null,null,null,{"$f":"'Tabela de Fretes'!A36","v":0}]
[null,null,null,null,null,null,null,{"$f":"'Tabela de Fretes'!A37","v":0}]
[null,null,null,null,null,null,null,{"$f":"'Tabela de Fretes'!A38","v":0}]
[null,null,null,null,null,null,null,{"$f":"'Tabela de Fretes'!A39","v":0}]
[null,null,null,null,null,null,null,{"$f":"'Tabela de Fretes'!A40","v":0}]
[null,null,null,null,null,null,null,{"$f":"'Tabela de Fretes'!A41","v":0}]
[null,null,null,null,null,null,null,{"$f":"'Tabela de Fretes'!A42","v":0}]

{"sheet":"Custo Básico dos Produtos","index":3,"n_rows":456,"n_cols":21,"rows_kept":456,"cut":false,"hidden":true,"merged":[[3,11,5,11],[0,1,1,10],[3,1,3,2],[3,3,3,9],[4,1,5,1],[4,2,5,2],[4,3,5,3],[4,4,5,4],[4,5,5,5],[4,6,5,6],[4,9,5,9],[4,7,5,7],[4,10,5,10]]}
[null,"Custo Básico dos Produtos (Revisto em 01.08.18)"]
[null,null,null,null,null,null,null,null,null,""]
[]
[null,"Produtos",null,"Custo básico",null,null,null,null,null,null,"Preço Mínimo","IPI"]
[null,"Ref.","Descrição",1,"Ref.",2,"Ref.",3,null,"Total"]
[null,null,null,null,null,null,null,null,null,null,null,null,"PREÇO ANTIGO",null,null,"PREÇO ANTIGO C 8%",null,"Preço antigo até 07.05.17","PREÇO ANTIGO","DIF EM R$","PRECO NOVO"]
[1,null,"PINO MULTIPLICADOR BIPOLAR BR/PR (4 POTES C/ 20 PÇS)",0.77264610454662364,null,null,null,0.33,0.58699999999999997,0,1,15,0,null,{"$f":"M7*10%","v":0},{"$f":"M7+O7","v":0},null,"PINO MULTIPLICADOR BIPOLAR BR/PR (4 POTES C/ 20 PÇS)",0,{"$f":"P7-S7","v":0},0]
[2,2,"PINO MULTIPLICADOR BIPOLAR BRANCO GRANEL",0.59327316993321411,null,null,null,0.25,0.42499999999999999,1.46999853,1,15,1.3999986,{"$f":"J8/M8-1","v":5.0000000000000044E-2},{"$f":"M8*5%","v":6.9999930000000002E-2},{"$f":"M8+O8","v":1.46999853},2,"PINO MULTIPLICADOR BIPOLAR BRANCO GRANEL",0.68423,{"$f":"P8-S8","v":0.78576853000000002},0.73896839999999997]
[3,3,"PINO MULTIPLICADOR BIPOLAR PRETO GRANEL",0.59327316993321411,null,null,null,0.25,0.42499999999999999,1.46999853,1,15,1.3999986,{"$f":"J9/M9-1","v":5.0000000000000044E-2},{"$f":"M9*5%","v":6.9999930000000002E-2},1.46999853,3,"PINO MULTIPLICADOR BIPOLAR PRETO GRANEL",0.68423,0.78576853000000002,0.73896839999999997]
[4,null,null,null,null,null,null,null,null,0,null,null,0,null,0,0,null,null,0,0,0]
[5,5,"PINO MULTIPLICADOR BIPOLAR BRANCA INDIVIDUAL",0.64894631993321417,null,null,null,0.25,0.52900000000000003,1.7134411140000001,1,15,1.6318486800000001,5.0000000000000044E-2,8.1592434000000005E-2,1.7134411140000001,5,"PINO MULTIPLICADOR BIPOLAR BRANCA INDIVIDUAL",0.79754399999999992,0.91589711400000018,0.86134751999999992]
[6,6,"PINO MULTIPLICADOR BIPOLAR PRETO INDIVIDUAL",0.64894631993321417,null,null,null,0.25,0.52900000000000003,1.7134411140000001,1,15,1.6318486800000001,5.0000000000000044E-2,8.1592434000000005E-2,1.7134411140000001,6,"PINO MULTIPLICADOR BIPOLAR PRETO INDIVIDUAL",0.79754399999999992,0.91589711400000018,0.86134751999999992]
[7,null,null,null,null,null,null,null,null,0,null,null,0,null,0,0,null,null,0,0,0]
[8,null,"PINO MULTIPLICADOR TRIPOLAR BR/PR (4 POTES C/ 20 PÇS)",0.92368754204662384,null,null,null,0.4,0.71499999999999997,0,1,15,0,null,0,0,null,"PINO MULTIPLICADOR TRIPOLAR BR/PR (4 POTES C/ 20 PÇS)",0,0,0]
[9,12,"PINO MULTIPLICADOR TRIPOLAR BRANCO GRANEL",0.74424131993321407,null,null,null,0.3,0.55200000000000005,1.8819648539999998,1,15,1.7923474799999999,5.0000000000000044E-2,8.9617374E-2,1.8819648539999998,12,"PINO MULTIPLICADOR TRIPOLAR BRANCO GRANEL",0.87598399999999998,1.0059808539999997,0.94606272000000002]
[10,13,"PINO MULTIPLICADOR TRIPOLAR PRETO GRANEL",0.74424131993321407,null,null,null,0.3,0.55200000000000005,1.8819648539999998,1,15,1.7923474799999999,5.0000000000000044E-2,8.9617374E-2,1.8819648539999998,13,"PINO MULTIPLICADOR TRIPOLAR PRETO GRANEL",0.87598399999999998,1.0059808539999997,0.94606272000000002]
[11,null,null,null,null,null,null,null,null,0,null,null,0,null,0,0,null,null,0,0,0]
[12,15,"PINO MULTIPLICADOR TRIPOLAR BRANCO INDIVIDUAL",0.79962131993321417,null,null,null,0.3,0.65600000000000003,2.1244968360000005,1,15,2.0233303200000003,5.0000000000000044E-2,0.10116651600000003,2.1244968360000005,15,"PINO MULTIPLICADOR TRIPOLAR BRANCO INDIVIDUAL",0.98887399999999992,1.1356228360000005,1.0679839199999999]
[13,16,"PINO MULTIPLICADOR TRIPOLAR PRETO INDIVIDUAL",0.79962131993321417,null,null,null,0.3,0.65600000000000003,2.1244968360000005,1,15,2.0233303200000003,5.0000000000000044E-2,0.10116651600000003,2.1244968360000005,16,"PINO MULTIPLICADOR TRIPOLAR PRETO INDIVIDUAL",0.98887399999999992,1.1356228360000005,1.0679839199999999]
[14,null,null,null,null,null,null,null,null,0,null,null,0,null,0,0,null,null,0,0,0]
[15,null,"PINO EM BARRA FRONTAL BIPOLAR BR/PR 4 PTS C/ 12 PCS",1.3199350854863448,null,null,null,null,1.204,0,1,15,0,null,0,0,null,"PINO EM BARRA FRONTAL BIPOLAR BR/PR 4 PTS C/ 12 PCS",0,0,0]
[16,52,"PINO EM BARRA FRONTAL BIPOLAR BRANCO GRANEL",1.0218163199332144,null,null,null,null,0.92200000000000004,2.0117692979999999,1,15,1.91597076,5.0000000000000044E-2,9.5798538000000003E-2,2.0117692979999999,52,"PINO EM BARRA FRONTAL BIPOLAR BRANCO GRANEL",0.93640400000000001,1.0753652979999999,1.0113163199999999]
[17,53,"PINO EM BARRA FRONTAL BIPOLAR PRETO GRANEL",1.0218163199332144,null,null,null,null,0.92200000000000004,2.0117692979999999,1,15,1.91597076,5.0000000000000044E-2,9.5798538000000003E-2,2.0117692979999999,53,"PINO EM BARRA FRONTAL BIPOLAR PRETO GRANEL",0.93640400000000001,1.0753652979999999,1.0113163199999999]
[18,null,null,null,null,null,null,null,null,0,null,null,0,null,0,0,null,null,0,0,0]
[19,55,"PINO EM BARRA FRONTAL BIPOLAR BRANCO INDIVIDUAL",1.0805963199332143,null,null,null,null,1.016,2.2720642560000002,1,15,2.1638707200000002,5.0000000000000044E-2,0.10819353600000002,2.2720642560000002,55,"PINO EM BARRA FRONTAL BIPOLAR BRANCO INDIVIDUAL",1.0575620000000001,1.2145022560000001,1.1421669600000002]
[20,56,"PINO EM BARRA FRONTAL BIPOLAR PRETO INDIVIDUAL",1.0805963199332143,null,null,null,null,1.016,2.2720642560000002,1,15,2.1638707200000002,5.0000000000000044E-2,0.10819353600000002,2.2720642560000002,56,"PINO EM BARRA FRONTAL BIPOLAR PRETO INDIVIDUAL",1.0575620000000001,1.2145022560000001,1.1421669600000002]
[21,null,null,null,null,null,null,null,null,0,null,null,0,null,0,0,null,null,0,0,0]
[22,null,"PINO EM BARRA FRONTAL TRIPOLAR BR/PR 4 PTS C/ 12 PCS",1.6306350854863447,null,null,null,null,1.546,0,1,15,0,null,0,0,null,"PINO EM BARRA FRONTAL TRIPOLAR BR/PR 4 PTS C/ 12 PCS",0,0,0]
[23,62,"PINO EM BARRA FRONTAL TRIPOLAR BRANCO GRANEL",1.3325163199332144,null,null,null,null,1.264,2.801311128,1,15,2.6679153599999998,5.0000000000000044E-2,0.133395768,2.801311128,62,"PINO EM BARRA FRONTAL TRIPOLAR BRANCO GRANEL",1.303906,1.497405128,1.4082184799999999]
[24,63,"PINO EM BARRA FRONTAL TRIPOLAR PRETO GRANEL",1.3325163199332144,null,null,null,null,1.264,2.801311128,1,15,2.6679153599999998,5.0000000000000044E-2,0.133395768,2.801311128,63,"PINO EM BARRA FRONTAL TRIPOLAR PRETO GRANEL",1.303906,1.497405128,1.4082184799999999]
[25,null,null,null,null,null,null,null,null,0,null,null,0,null,0,0,null,null,0,0,0]
[26,65,"PINO EM BARRA FRONTAL TRIPOLAR BRANCO INDIVIDUAL",1.3912963199332142,null,null,null,null,1.3580000000000001,3.0613815539999996,1,15,2.9156014799999994,5.0000000000000044E-2,0.14578007399999998,3.0613815539999996,65,"PINO EM BARRA FRONTAL TRIPOLAR BRANCO INDIVIDUAL",1.4249579999999999,1.6364235539999996,1.53895464]
[27,66,"PINO EM BARRA FRONTAL TRIPOLAR PRETO INDIVIDUAL",1.3912963199332142,null,null,null,null,1.3580000000000001,3.0613815539999996,1,15,2.9156014799999994,5.0000000000000044E-2,0.14578007399999998,3.0613815539999996,66,"PINO EM BARRA FRONTAL TRIPOLAR PRETO INDIVIDUAL",1.4249579999999999,1.6364235539999996,1.53895464]
[28,null,null,null,null,null,null,null,null,0,null,null,0,null,0,0,null,null,0,0,0]
[29,null,"PINO MACHO DESMONTAVEL BIPOLAR BR/PR (4 POTES C/ 60 PCS)",0.57656859393355575,null,null,null,null,0.58899999999999997,0,1,15,0,null,0,0,null,"PINO MACHO DESMONTAVEL BIPOLAR BR/PR (4 POTES C/ 60 PCS)",0,0,0]
[30,102,"PINO MACHO DESMONTÁVEL BIPOLAR BRANCO GRANEL ",0.5574973998512287,null,null,null,null,0.53800000000000003,1.2008220839999999,1,15,1.1436400799999999,5.0000000000000044E-2,5.7182004000000002E-2,1.2008220839999999,102,"PINO MACHO DESMONTÁVEL BIPOLAR BRANCO GRANEL ",0.55893799999999993,0.64188408399999997,0.60365303999999997]
[31,103,"PINO MACHO DESMONTÁVEL BIPOLAR PRETO GRANEL ",0.5574973998512287,null,null,null,null,0.53800000000000003,1.2008220839999999,1,15,1.1436400799999999,5.0000000000000044E-2,5.7182004000000002E-2,1.2008220839999999,103,"PINO MACHO DESMONTÁVEL BIPOLAR PRETO GRANEL ",0.55893799999999993,0.64188408399999997,0.60365303999999997]
[32,null,null,null,null,null,null,null,null,0,null,null,0,null,0,0,null,null,0,0,0]
[33,105,"PINO MACHO DESMONTAVEL BIPOLAR BRANCO INDIVIDUAL",0.60188739985122863,null,null,null,null,0.63600000000000001,1.4185308059999999,1,15,1.3509817199999998,5.0000000000000044E-2,6.7549085999999994E-2,1.4185308059999999,105,"PINO MACHO DESMONTAVEL BIPOLAR BRANCO INDIVIDUAL",0.66027400000000003,0.75825680599999989,0.71309591999999999]
[34,106,"PINO MACHO DESMONTAVEL BIPOLAR PRETO INDIVIDUAL",0.60188739985122863,null,null,null,null,0.63600000000000001,1.4185308059999999,1,15,1.3509817199999998,5.0000000000000044E-2,6.7549085999999994E-2,1.4185308059999999,106,"PINO MACHO DESMONTAVEL BIPOLAR PRETO INDIVIDUAL",0.66027400000000003,0.75825680599999989,0.71309591999999999]
[35,null,null,null,null,null,null,null,null,0,null,null,0,null,0,0,null,null,0,0,0]
[36,null,"PINO MACHO DESMONTAVEL TRIPOLAR BR/PR (4 POTES C/ 60 PCS)",0.78289150413355579,null,null,null,null,0.81,0,1,15,0,null,0,0,null,"PINO MACHO DESMONTAVEL TRIPOLAR BR/PR (4 POTES C/ 60 PCS)",0,0,0]
[37,152,"PINO MACHO DESMONTÁVEL TRIPOLAR BRANCO GRANEL ",0.76382031005122886,null,null,null,null,0.747,1.6783766999999998,1,15,1.5984539999999998,5.0000000000000044E-2,7.9922699999999999E-2,1.6783766999999998,152,"PINO MACHO DESMONTÁVEL TRIPOLAR BRANCO GRANEL ",0.78122000000000003,0.89715669999999981,0.84371760000000007]
[38,153,"PINO MACHO DESMONTÁVEL TRIPOLAR PRETO GRANEL ",0.76382031005122886,null,null,null,null,0.747,1.6783766999999998,1,15,1.5984539999999998,5.0000000000000044E-2,7.9922699999999999E-2,1.6783766999999998,153,"PINO MACHO DESMONTÁVEL TRIPOLAR PRETO GRANEL ",0.78122000000000003,0.89715669999999981,0.84371760000000007]
[39,null,null,null,null,null,null,null,null,0,null,null,0,null,0,0,null,null,0,0,0]
[40,155,"PINO MACHO DESMONTAVEL TRIPOLAR BRANCO INDIVIDUAL",0.80821031005122879,null,null,null,null,0.84499999999999997,1.8963099539999999,1,15,1.8060094799999999,5.0000000000000044E-2,9.0300474000000006E-2,1.8963099539999999,155,"PINO MACHO DESMONTAVEL TRIPOLAR BRANCO INDIVIDUAL",0.88266199999999995,1.0136479540000001,0.95327495999999989]
[41,156,"PINO MACHO DESMONTAVEL TRIPOLAR PRETO INDIVIDUAL",0.80821031005122879,null,null,null,null,0.84499999999999997,1.8963099539999999,1,15,1.8060094799999999,5.0000000000000044E-2,9.0300474000000006E-2,1.8963099539999999,156,"PINO MACHO DESMONTAVEL TRIPOLAR PRETO INDIVIDUAL",0.88594799999999996,1.010361954,0.95682383999999998]
[42,null,null,null,null,null,null,null,null,0,null,null,0,null,0,0,null,null,0,0,0]
[43,null,"PINO ADAPTADOR BIPOLAR BR/PR 4 PTS C/ 45 PCS",0.79026112979849927,null,null,null,null,0.71599999999999997,0,1,15,0,null,0,0,null,"PINO ADAPTADOR BIPOLAR BR/PR 4 PTS C/ 45 PCS",0,0,0]
[44,202,"PINO ADAPTADOR BIPOLAR BRANCO GRANEL",0.74131631993321412,null,null,null,0.05,0.63900000000000001,1.5763518540000003,1,15,1.5012874800000002,5.0000000000000044E-2,7.5064374000000017E-2,1.5763518540000003,202,"PINO ADAPTADOR BIPOLAR BRANCO GRANEL",0.73373200000000005,0.84261985400000028,0.79243056000000001]
[45,203,"PINO ADAPTADOR BIPOLAR PRETO GRANEL",0.74131631993321412,null,null,null,0.05,0.63900000000000001,1.5763518540000003,1,15,1.5012874800000002,5.0000000000000044E-2,7.5064374000000017E-2,1.5763518540000003,203,"PINO ADAPTADOR BIPOLAR PRETO GRANEL",0.73373200000000005,0.84261985400000028,0.79243056000000001]
[46,null,null,null,null,null,null,null,null,0,null,null,0,null,0,0,null,null,0,0,0]
[47,205,"PINO ADAPTADOR BIPOLAR BRANCO INDIVIDUAL",0.78950631993321407,null,null,null,0.05,0.73699999999999999,1.8002102580000001,1,15,1.7144859600000002,5.0000000000000044E-2,8.5724298000000018E-2,1.8002102580000001,205,"PINO ADAPTADOR BIPOLAR BRANCO INDIVIDUAL",0.83792999999999995,0.96228025800000017,0.90496439999999989]
[48,206,"PINO ADAPTADOR BIPOLAR PRETO INDIVIDUAL",0.78950631993321407,null,null,null,0.05,0.73699999999999999,1.8002102580000001,1,15,1.7144859600000002,5.0000000000000044E-2,8.5724298000000018E-2,1.8002102580000001,206,"PINO ADAPTADOR BIPOLAR PRETO INDIVIDUAL",0.83792999999999995,0.96228025800000017,0.90496439999999989]
[49,null,null,null,null,null,null,null,null,0,null,null,0,null,0,0,null,null,0,0,0]
[50,null,"TOMADA DESMONTAVEL TRIPOLAR BR/PR/CZ (4 POTES C/ 30 PCS)",0.69211455404709421,null,null,null,null,0.60199999999999998,0,1,15,0,null,0,0,null,"TOMADA DESMONTAVEL TRIPOLAR BR/PR/CZ (4 POTES C/ 30 PCS)",0,0,0]
[51,252,"TOMADA DESMONTÁVEL TRIPOLAR BRANCA GRANEL           ",0.62156110529292008,null,null,null,null,0.49099999999999999,1.1340986579999999,1,15,1.0800939599999999,5.0000000000000044E-2,5.4004697999999997E-2,1.1340986579999999,252,"TOMADA DESMONTÁVEL TRIPOLAR BRANCA GRANEL           ",0.52788000000000002,0.60621865799999985,0.57011040000000002]
[52,253,"TOMADA DESMONTÁVEL TRIPOLAR PRETA GRANEL           ",0.62156110529292008,null,null,null,null,0.49099999999999999,1.1340986579999999,1,15,1.0800939599999999,5.0000000000000044E-2,5.4004697999999997E-2,1.1340986579999999,253,"TOMADA DESMONTÁVEL TRIPOLAR PRETA GRANEL           ",0.52788000000000002,0.60621865799999985,0.57011040000000002]
[53,null,null,null,null,null,null,null,null,0,null,null,0,null,0,0,null,null,0,0,0]
[54,255,"TOMADA DESMONTÁVEL BRANCA TRIPOLAR INDIVIDUAL",0.66865110529292004,null,null,null,null,0.58599999999999997,1.3577200560000002,1,15,1.2930667200000001,5.0000000000000044E-2,6.4653336000000006E-2,1.3577200560000002,255,"TOMADA DESMONTÁVEL BRANCA TRIPOLAR INDIVIDUAL",0.63197199999999998,0.72574805600000025,0.68252975999999999]
[55,256,"TOMADA DESMONTÁVEL PRETA TRIPOLAR INDIVIDUAL",0.66865110529292004,null,null,null,null,0.58599999999999997,1.3577200560000002,1,15,1.2930667200000001,5.0000000000000044E-2,6.4653336000000006E-2,1.3577200560000002,256,"TOMADA DESMONTÁVEL PRETA TRIPOLAR INDIVIDUAL",0.63197199999999998,0.72574805600000025,0.68252975999999999]
[56,null,null,null,null,null,null,null,null,0,null,null,0,null,0,0,null,null,0,0,0]
[57,212,"PINO ADAPTADOR TRIPOLAR BRANCO GRANEL",0.74099999999999999,null,null,null,0.05,0.63900000000000001,1.5762894839999999,1,15,1.50122808,null,7.5061403999999998E-2,1.5762894839999999,null,null,0,1.5762894839999999,0]
[58,215,"PINO ADAPTADOR TRIPOLAR BRANCO INDIVIDUAL",0.79,null,null,null,0.05,0.63900000000000001,1.8002726280000001,1,15,1.71454536,null,8.5727268000000009E-2,1.8002726280000001,null,null,0,1.8002726280000001,0]
[59,213,"PINO ADAPTADOR TRIPOLAR PRETO GRANEL",0.74099999999999999,null,null,null,0.05,0.73699999999999999,1.5762894839999999,1,15,1.50122808,null,7.5061403999999998E-2,1.5762894839999999,null,null,0,1.5762894839999999,0]
[60,216,"PINO ADAPTADOR TRIPOLAR PRETO INDIVIDUAL",0.79,null,null,null,0.05,0.73699999999999999,1.8002726280000001,1,15,1.71454536,null,8.5727268000000009E-2,1.8002726280000001,null,null,0,1.8002726280000001,0]
[61,null,null,null,null,null,null,null,null,0,null,null,0,null,0,0,null,null,0,0,0]
[62,null,null,null,null,null,null,null,null,0,null,null,0,null,0,0,null,null,0,0,0]
[63,null,null,null,null,null,null,null,null,0,null,null,0,null,0,0,null,null,0,0,0]
[64,null,null,null,null,null,null,null,null,0,null,null,0,null,0,0,null,null,0,0,0]
[65,null,null,null,null,null,null,null,null,0,null,null,0,null,0,0,null,null,0,0,0]
[66,601,"EXTENSAO COMPACT BIPOLAR BRANCA 2 MTS  ",2.7671146362118506,null,null,null,null,2.145,4.9702851449999992,1,5,4.7336048999999996,4.9999999999999822E-2,0.23668024499999998,{"$f":"M72+O72","v":4.9702851449999992},601,"EXTENSAO COMPACT BIPOLAR BRANCA 2 MTS  ",2.435244,{"$f":"P72-S72","v":2.5350411449999992},2.6300635199999998]
[67,602,"EXTENSAO COMPACT BIPOLAR BRANCA 3 MTS  ",3.4895146362118505,null,null,null,null,2.6739999999999999,5.8313387159999994,1,5,5.5536559199999997,{"$f":"J73/M73-1","v":5.0000000000000044E-2},{"$f":"M73*5%","v":0.27768279600000001},5.8313387159999994,602,"EXTENSAO COMPACT BIPOLAR BRANCA 3 MTS  ",2.8571239999999998,2.9742147159999996,3.0856939199999998]
[68,603,"EXTENSAO COMPACT BIPOLAR BRANCA 5 MTS  ",4.1836146362118498,null,null,null,null,3.569,7.8651949319999996,1,5,7.4906618399999996,5.0000000000000044E-2,0.37453309200000001,7.8651949319999996,603,"EXTENSAO COMPACT BIPOLAR BRANCA 5 MTS  ",3.8536299999999999,4.0115649319999998,4.1619203999999996]
[69,604,"EXTENSAO COMPACT BIPOLAR BRANCA 10 MTS  ",6.5710564695451836,null,null,null,null,5.726,12.833713407599999,1,5,11.994124679999999,7.0000000000000062E-2,{"$f":"M75*7%","v":0.83958872760000003},12.833713407599999,604,"EXTENSAO COMPACT BIPOLAR BRANCA 10 MTS  ",6.1704720000000002,6.6632414075999993,6.6641097600000005]
[70,605,"EXTENSAO COMPACT BIPOLAR PRETA 2 MTS  ",2.7621146362118503,null,null,null,null,2.145,4.9702851449999992,1,5,4.7336048999999996,4.9999999999999822E-2,0.23668024499999998,4.9702851449999992,605,"EXTENSAO COMPACT BIPOLAR PRETA 2 MTS  ",2.435244,2.5350411449999992,2.6300635199999998]
[71,606,"EXTENSAO COMPACT BIPOLAR PRETA 3 MTS  ",3.207114636211851,null,null,null,null,2.6739999999999999,5.8313387159999994,1,5,5.5536559199999997,5.0000000000000044E-2,0.27768279600000001,5.8313387159999994,606,"EXTENSAO COMPACT BIPOLAR PRETA 3 MTS  ",2.8571239999999998,2.9742147159999996,3.0856939199999998]
[72,607,"EXTENSAO COMPACT BIPOLAR PRETA 5 MTS  ",4.1836146362118498,null,null,null,null,3.569,7.8651949319999996,1,5,7.4906618399999996,5.0000000000000044E-2,0.37453309200000001,7.8651949319999996,607,"EXTENSAO COMPACT BIPOLAR PRETA 5 MTS  ",3.8536299999999999,4.0115649319999998,4.1619203999999996]
[73,608,"EXTENSAO COMPACT BIPOLAR PRETA 10 MTS  ",6.5710564695451836,null,null,null,null,5.726,12.833713407599999,1,5,11.994124679999999,7.0000000000000062E-2,{"$f":"M79*7%","v":0.83958872760000003},12.833713407599999,608,"EXTENSAO COMPACT BIPOLAR PRETA 10 MTS  ",6.1704720000000002,6.6632414075999993,6.6641097600000005]
[74,null,null,null,null,null,null,null,null,0,null,null,0,null,0,0,null,null,0,0,0]
[75,null,null,null,null,null,null,null,null,0,null,null,0,null,0,0,null,null,0,0,0]
[76,null,null,null,null,null,null,null,null,0,null,null,0,null,0,0,null,null,0,0,0]
[77,null,null,null,null,null,null,null,null,0,null,null,0,null,0,0,null,null,0,0,0]
[78,651,"EXTENSAO COMPACT TRIPOLAR BRANCA 2 MTS  ",3.5029333120578126,null,null,null,null,3.1619999999999999,7.0757602650000004,1,5,6.7388193000000003,5.0000000000000044E-2,0.33694096500000004,7.0757602650000004,651,"EXTENSAO COMPACT TRIPOLAR BRANCA 2 MTS  ",3.4668359999999998,3.6089242650000006,3.7441828799999999]
[79,652,"EXTENSAO COMPACT TRIPOLAR BRANCA 3 MTS  ",4.2629146362118497,null,null,null,null,3.8889999999999998,8.6702181299999985,1,5,8.2573505999999988,5.0000000000000044E-2,0.41286752999999998,8.6702181299999985,652,"EXTENSAO COMPACT TRIPOLAR BRANCA 3 MTS  ",4.2480560000000001,4.4221621299999985,4.5879004800000001]
[80,653,"EXTENSAO COMPACT TRIPOLAR BRANCA 5 MTS  ",5.8554146362118518,null,null,null,null,5.3979999999999997,12.249849024,1,5,11.666522879999999,5.0000000000000044E-2,0.58332614399999994,12.249849024,653,"EXTENSAO COMPACT TRIPOLAR BRANCA 5 MTS  ",6.001932,6.2479170239999995,6.4820865599999999]
[81,654,"EXTENSAO COMPACT TRIPOLAR BRANCA 10 MTS  ",9.8373164695451845,null,null,null,null,9.0879999999999992,21.684733462800001,1,5,20.26610604,7.0000000000000062E-2,{"$f":"M87*7%","v":1.4186274228000002},21.684733462800001,654,"EXTENSAO COMPACT TRIPOLAR BRANCA 10 MTS  ",10.426054000000001,11.2586794628,11.260138320000001]
[82,655,"EXTENSAO COMPACT TRIPOLAR PRETA 2 MTS  ",3.5029333120578126,null,null,null,null,3.1619999999999999,7.0757602650000004,1,5,6.7388193000000003,5.0000000000000044E-2,0.33694096500000004,7.0757602650000004,655,"EXTENSAO COMPACT TRIPOLAR PRETA 2 MTS  ",3.4668359999999998,3.6089242650000006,3.7441828799999999]
[83,656,"EXTENSAO COMPACT TRIPOLAR PRETA 3 MTS  ",4.2629146362118497,null,null,null,null,3.8889999999999998,8.6702181299999985,1,5,8.2573505999999988,5.0000000000000044E-2,0.41286752999999998,8.6702181299999985,656,"EXTENSAO COMPACT TRIPOLAR PRETA 3 MTS  ",4.2480560000000001,4.4221621299999985,4.5879004800000001]
[84,657,"EXTENSAO COMPACT TRIPOLAR PRETA 5 MTS  ",5.8554146362118518,null,null,null,null,5.3979999999999997,12.249849024,1,5,11.666522879999999,5.0000000000000044E-2,0.58332614399999994,12.249849024,657,"EXTENSAO COMPACT TRIPOLAR PRETA 5 MTS  ",6.001932,6.2479170239999995,6.4820865599999999]
[85,658,"EXTENSAO COMPACT TRIPOLAR PRETA 10 MTS  ",9.8373164695451845,null,null,null,null,9.0879999999999992,21.684733462800001,1,5,20.26610604,7.0000000000000062E-2,{"$f":"M91*7%","v":1.4186274228000002},21.684733462800001,658,"EXTENSAO COMPACT TRIPOLAR PRETA 10 MTS  ",10.426054000000001,11.2586794628,11.260138320000001]
[86,null,null,null,null,null,null,null,null,0,null,null,0,null,0,0,null,null,0,0,0]
[87,null,null,null,null,null,null,null,null,0,null,null,0,null,0,0,null,null,0,0,0]
[88,null,null,null,null,null,null,null,null,0,null,null,0,null,0,0,null,null,0,0,0]
[89,null,null,null,null,null,null,null,null,0,null,null,0,null,0,0,null,null,0,0,0]
[90,701,"FILTRO DE LINHA BIVOLT FULL ENERGY BRANCO 3T FLOW PACK",4.6804664124548587,null,null,null,0.5,4.556,9.2393987458229994,1,15,8.6349520988999995,7.0000000000000062E-2,{"$f":"M96*7%","v":0.60444664692299999},9.2393987458229994,701,"FILTRO DE LINHA BIVOLT FULL ENERGY BRANCO 3T FLOW PACK",5.1956959999999999,4.0437027458229995,5.6113516800000003]
[91,702,"FILTRO DE LINHA BIVOLT FULL ENERGY BRANCO 4T  FLOW PACK",5.04347800453586,null,null,null,0.5,4.8570000000000002,9.836746759862999,1,15,9.1932212708999987,7.0000000000000062E-2,{"$f":"M97*7%","v":0.64352548896299999},9.836746759862999,702,"FILTRO DE LINHA BIVOLT FULL ENERGY BRANCO 4T  FLOW PACK",5.5316099999999997,4.3051367598629993,5.9741387999999995]
[92,703,"FILTRO DE LINHA BIVOLT FULL ENERGY BRANCO 5T  FLOW PACK",5.4297841566168641,null,null,null,0.5,5.1879999999999997,10.456725290273999,1,15,9.7726404581999997,6.999999999999984E-2,0.68408483207400006,10.456725290273999,703,"FILTRO DE LINHA BIVOLT FULL ENERGY BRANCO 5T  FLOW PACK",5.8802439999999994,4.5764812902739997,6.3506635199999995]
[93,704,"FILTRO DE LINHA BIVOLT FULL ENERGY BRANCO 6T  FLOW PACK",5.8181811886978663,null,null,null,0.5,5.4969999999999999,11.007132112953,1,15,10.287039357899999,7.0000000000000062E-2,0.72009275505300008,11.007132112953,704,"FILTRO DE LINHA BIVOLT FULL ENERGY BRANCO 6T  FLOW PACK",6.1897640000000003,4.8173681129529999,6.6849451200000001]
[94,705,"FILTRO DE LINHA BIVOLT FULL ENERGY PRETO 3T  FLOW PACK",4.6804664124548587,null,null,null,0.5,4.556,9.2393987458229994,1,15,8.6349520988999995,7.0000000000000062E-2,0.60444664692299999,9.2393987458229994,705,"FILTRO DE LINHA BIVOLT FULL ENERGY PRETO 3T  FLOW PACK",5.1956959999999999,4.0437027458229995,5.6113516800000003]
[95,706,"FILTRO DE LINHA BIVOLT FULL ENERGY PRETO 4T  FLOW PACK",5.04347800453586,null,null,null,0.5,4.8570000000000002,9.836746759862999,1,15,9.1932212708999987,7.0000000000000062E-2,0.64352548896299999,9.836746759862999,706,"FILTRO DE LINHA BIVOLT FULL ENERGY PRETO 4T  FLOW PACK",5.5316099999999997,4.3051367598629993,5.9741387999999995]
[96,707,"FILTRO DE LINHA BIVOLT FULL ENERGY PRETO 5T  FLOW PACK",5.4086691566168623,null,null,null,0.5,5.1879999999999997,10.456725290273999,1,15,9.7726404581999997,6.999999999999984E-2,0.68408483207400006,10.456725290273999,707,"FILTRO DE LINHA BIVOLT FULL ENERGY PRETO 5T  FLOW PACK",5.8802439999999994,4.5764812902739997,6.3506635199999995]
[97,708,"FILTRO DE LINHA BIVOLT FULL ENERGY PRETO 6T  FLOW PACK",5.8181811886978663,null,null,null,0.5,5.4969999999999999,11.007132112953,1,15,10.287039357899999,7.0000000000000062E-2,0.72009275505300008,11.007132112953,708,"FILTRO DE LINHA BIVOLT FULL ENERGY PRETO 6T  FLOW PACK",6.1897640000000003,4.8173681129529999,6.6849451200000001]
[98,null,"FILTRO DE LINHA BIVOLT FULL ENERGY BRANCO 3T CINTA",4.8535664124548585,null,null,null,0.5,4.6502944748536317,0,1,15,0,null,0,0,711,"FILTRO DE LINHA BIVOLT FULL ENERGY BRANCO 3T CINTA",0,0,0]
[99,null,"FILTRO DE LINHA BIVOLT FULL ENERGY BRANCO 4T  CINTA",5.2165780045358607,null,null,null,0.5,4.9993261254394001,0,1,15,0,null,0,0,712,"FILTRO DE LINHA BIVOLT FULL ENERGY BRANCO 4T  CINTA",0,0,0]
[100,null,"FILTRO DE LINHA BIVOLT FULL ENERGY BRANCO 5T  CINTA",5.5916691566168639,null,null,null,0.5,5.3665585468679264,0,1,15,0,null,0,0,713,"FILTRO DE LINHA BIVOLT FULL ENERGY BRANCO 5T  CINTA",0,0,0]
[101,null,"FILTRO DE LINHA BIVOLT FULL ENERGY BRANCO 6T  CINTA",6.0121811886978671,null,null,null,0.5,5.6780133696251047,0,1,15,0,null,0,0,714,"FILTRO DE LINHA BIVOLT FULL ENERGY BRANCO 6T  CINTA",0,0,0]
[102,null,"FILTRO DE LINHA BIVOLT FULL ENERGY PRETO 3T  CINTA",4.8535664124548585,null,null,null,0.5,4.6502944748536317,0,1,15,0,null,0,0,715,"FILTRO DE LINHA BIVOLT FULL ENERGY PRETO 3T  CINTA",0,0,0]
[103,null,"FILTRO DE LINHA BIVOLT FULL ENERGY PRETO 4T  CINTA",5.2165780045358607,null,null,null,0.5,4.9993261254394001,0,1,15,0,null,0,0,716,"FILTRO DE LINHA BIVOLT FULL ENERGY PRETO 4T  CINTA",0,0,0]
[104,null,"FILTRO DE LINHA BIVOLT FULL ENERGY PRETO 5T  CINTA",5.6026691566168623,null,null,null,0.5,5.3665585468679264,0,1,15,0,null,0,0,717,"FILTRO DE LINHA BIVOLT FULL ENERGY PRETO 5T  CINTA",0,0,0]
[105,null,"FILTRO DE LINHA BIVOLT FULL ENERGY PRETO 6T  CINTA",6.0121811886978671,null,null,null,0.5,5.6780133696251047,0,1,15,0,null,0,0,718,"FILTRO DE LINHA BIVOLT FULL ENERGY PRETO 6T  CINTA",0,0,0]
[106,801,"CORDÃO PROLONGADOR BIPOLAR BRANCO 3 MTS",3.0186987242786736,null,null,null,null,2.629,5.5037856509999994,1,5,5.2417006199999996,5.0000000000000044E-2,0.26208503099999997,5.5037856509999994,801,"CORDÃO PROLONGADOR BIPOLAR BRANCO 3 MTS",2.6966399999999999,2.8071456509999995,2.9123711999999999]
[107,802,"CORDÃO PROLONGADOR BIPOLAR BRANCO 5 MTS",4.0017558968312281,null,null,null,null,3.5230000000000001,7.5376418669999996,1,5,7.1787065399999994,5.0000000000000044E-2,0.35893532699999997,7.5376418669999996,802,"CORDÃO PROLONGADOR BIPOLAR BRANCO 5 MTS",3.693146,3.8444958669999996,3.9885976799999998]
[108,803,"CORDÃO PROLONGADOR BIPOLAR BRANCO 10 MTS",9.913485825548964,null,null,null,null,5.7110000000000003,12.287058966,1,5,11.701960919999999,5.0000000000000044E-2,0.58509804600000004,12.287058966,803,"CORDÃO PROLONGADOR BIPOLAR BRANCO 10 MTS",6.0201640000000003,6.2668949659999997,6.5017771200000007]
[109,804,"CORDÃO PROLONGADOR BIPOLAR PRETO 3 MTS",3.0186987242786736,null,null,null,null,2.629,5.5037856509999994,1,5,5.2417006199999996,5.0000000000000044E-2,0.26208503099999997,5.5037856509999994,804,"CORDÃO PROLONGADOR BIPOLAR PRETO 3 MTS",2.6966399999999999,2.8071456509999995,2.9123711999999999]
[110,805,"CORDÃO PROLONGADOR BIPOLAR PRETO 5 MTS",4.0018883968312284,null,null,null,null,3.524,7.5382990200000002,1,5,7.1793323999999998,5.0000000000000044E-2,0.35896662000000001,7.5382990200000002,805,"CORDÃO PROLONGADOR BIPOLAR PRETO 5 MTS",3.6934640000000001,3.8448350200000001,3.9889411200000002]
[111,806,"CORDÃO PROLONGADOR BIPOLAR  PRETO 10 MTS",9.913485825548964,null,null,null,null,5.7110000000000003,12.287058966,1,5,11.701960919999999,5.0000000000000044E-2,0.58509804600000004,12.287058966,806,"CORDÃO PROLONGADOR BIPOLAR  PRETO 10 MTS",6.0201640000000003,6.2668949659999997,6.5017771200000007]
[112,851,"CORDÃO PROLONGADOR TRIPOLAR BRANCO 3 MTS",4.1964459114772046,null,null,null,null,3.895,8.4047498639999993,1,5,8.0045236800000001,4.9999999999999822E-2,0.40022618400000004,8.4047498639999993,851,"CORDÃO PROLONGADOR TRIPOLAR BRANCO 3 MTS",4.1179940000000004,4.286755863999999,4.4474335200000006]
[113,852,"CORDÃO PROLONGADOR TRIPOLAR BRANCO 5 MTS",5.8083865662368277,null,null,null,null,5.4009999999999998,11.966874633,1,5,11.39702346,5.0000000000000044E-2,0.56985117299999999,11.966874633,852,"CORDÃO PROLONGADOR TRIPOLAR BRANCO 5 MTS",5.8632839999999993,6.1035906330000005,6.3323467199999994]
[114,853,"CORDÃO PROLONGADOR TRIPOLAR BRANCO 10 MTS",9.9701850255489646,null,null,null,null,9.0709999999999997,20.882630978999998,1,5,19.888219979999999,5.0000000000000044E-2,0.99441099899999996,20.882630978999998,853,"CORDÃO PROLONGADOR TRIPOLAR BRANCO 10 MTS",10.23165,10.650980978999998,11.050182]
[115,854,"CORDÃO PROLONGADOR TRIPOLAR PRETO 3 MTS",4.1964459114772046,null,null,null,null,3.895,8.4047498639999993,1,5,8.0045236800000001,4.9999999999999822E-2,0.40022618400000004,8.4047498639999993,854,"CORDÃO PROLONGADOR TRIPOLAR PRETO 3 MTS",4.1179940000000004,4.286755863999999,4.4474335200000006]
[116,855,"CORDÃO PROLONGADOR TRIPOLAR PRETO 5 MTS",5.8083865662368277,null,null,null,null,5.4009999999999998,11.966874633,1,5,11.39702346,5.0000000000000044E-2,0.56985117299999999,11.966874633,855,"CORDÃO PROLONGADOR TRIPOLAR PRETO 5 MTS",5.8632839999999993,6.1035906330000005,6.3323467199999994]
[117,856,"CORDÃO PROLONGADOR TRIPOLAR PRETO 10 MTS",9.9701850255489646,null,null,null,null,9.0709999999999997,20.882630978999998,1,5,19.888219979999999,5.0000000000000044E-2,0.99441099899999996,20.882630978999998,856,"CORDÃO PROLONGADOR TRIPOLAR PRETO 10 MTS",10.23165,10.650980978999998,11.050182]
[118,901,"TOMADA EM BARRA TRIPOLAR 3T BRANCA",1.8500956362118508,null,null,null,null,1.8009999999999999,3.5293686120000003,1,15,3.3613034400000004,5.0000000000000044E-2,0.16806517200000004,3.5293686120000003,901,"TOMADA EM BARRA TRIPOLAR 3T BRANCA",1.6427880000000001,1.8865806120000002,1.7742110400000002]
[119,902,"TOMADA EM BARRA TRIPOLAR 4T BRANCA",2.1306436362118513,null,null,null,null,2.0339999999999998,3.8021874660000003,1,15,3.6211309200000001,5.0000000000000044E-2,0.18105654600000001,3.8021874660000003,902,"TOMADA EM BARRA TRIPOLAR 4T BRANCA",1.769776,2.0324114660000001,1.9113580800000001]
[120,903,"TOMADA EM BARRA TRIPOLAR 3T PRETA",1.8500956362118508,null,null,null,null,1.8009999999999999,3.5293686120000003,1,15,3.3613034400000004,5.0000000000000044E-2,0.16806517200000004,3.5293686120000003,903,"TOMADA EM BARRA TRIPOLAR 3T PRETA",1.6427880000000001,1.8865806120000002,1.7742110400000002]
[121,904,"TOMADA EM BARRA TRIPOLAR 4T PRETA",2.1306436362118513,null,null,null,null,2.0339999999999998,3.8021874660000003,1,15,3.6211309200000001,5.0000000000000044E-2,0.18105654600000001,3.8021874660000003,904,"TOMADA EM BARRA TRIPOLAR 4T PRETA",1.769776,2.0324114660000001,1.9113580800000001]
[122,null,null,null,null,null,null,null,null,0,null,null,0,null,0,0,null,null,0,0,0]
[123,null,null,null,null,null,null,null,null,0,null,null,0,null,0,0,null,null,0,0,0]
[124,null,"LUMINÁRIA TARTARUGA FLORENÇA BRANCA",2.5991792187623322,null,null,null,0.3,2.589,6.7066752759475374,1,15,6.3873097866167026,5.0000000000000044E-2,0.31936548933083514,6.7066752759475374,3101,"LUMINÁRIA TARTARUGA FLORENÇA BRANCA",3.1216999999999997,3.5849752759475377,3.3714359999999997]
[125,null,"LUMINÁRIA TARTARUGA FLORENÇA PRETA",2.6014792187623321,null,null,null,0.3,2.589,6.7066752759475374,1,15,6.3873097866167026,5.0000000000000044E-2,0.31936548933083514,6.7066752759475374,3102,"LUMINÁRIA TARTARUGA FLORENÇA PRETA",3.1216999999999997,3.5849752759475377,3.3714359999999997]
[126,3151,"PLAFONIER BÉRGAMO BRANCO E-27            ",1.0796967972531903,null,null,null,null,1.006,2.3586712380000003,1,15,2.2463535600000002,5.0000000000000044E-2,0.11231767800000002,2.3586712380000003,3151,"PLAFONIER BÉRGAMO BRANCO E-27            ",1.1746920000000001,1.1839792380000003,1.26866736]
[127,null,"PLAFONIER BÉRGAMO PRETO E-27               ",1.0796967972531903,null,null,null,null,1.006,0,1,15,0,{"$error":"#DIV/0!"},0,0,3152,"PLAFONIER BÉRGAMO PRETO E-27               ",0,0,0]
[128,null,null,1.9769385850603547,null,null,null,1,1.4308974637550416,0,1,15,0,{"$error":"#DIV/0!"},0,0,null,"SPOT SIMPLES ALETADO NÁPOLES BRANCO E-27   ",0,0,0]
[129,112,"PINO MACHO 90º 10A BIPOLAR BRANCO GRANEL",null,null,null,null,1,1.4308974637550416,1.3585319999999999,1,15,1.2938399999999999,5.0000000000000044E-2,6.4692E-2,1.3585319999999999,3202,"SPOT SIMPLES ALETADO NÁPOLES PRETO E-27   ",0,1.3585319999999999,0]
[130,113,"PINO MACHO 90º 10A BIPOLAR PRETO GRANEL",null,null,null,null,1.25,2.4042845535100827,1.3585319999999999,1,15,1.2938399999999999,5.0000000000000044E-2,6.4692E-2,{"$f":"M136+O136","v":1.3585319999999999},3203,"SPOT DUPLO ALETADO NÁPOLES BRANCO E-27    ",0,{"$f":"P136-S136","v":1.3585319999999999},0]
[131,115,"PINO MACHO 90º 10A BIPOLAR BRANCO INDIVIDUAL",null,null,null,null,1.25,2.4042845535100827,1.537704,1,15,1.46448,{"$f":"J137/M137-1","v":5.0000000000000044E-2},{"$f":"M137*5%","v":7.3223999999999997E-2},1.537704,3204,"SPOT DUPLO ALETADO NÁPOLES PRETO E-27    ",0,1.537704,0]
[132,116,"PINO MACHO 90º 10A BIPOLAR PRETO INDIVIDUAL",null,null,null,null,1.05,1.5260677215550411,1.537704,1,15,1.46448,5.0000000000000044E-2,7.3223999999999997E-2,1.537704,3205,"SPOT SIMPLES VENTILADO  NÁPOLES BRANCO E-27  ",0,1.537704,0]
[133,122,"PINO MACHO 90º 20A BIPOLAR BRANCO GRANEL",null,null,null,null,1.05,1.5260677215550411,1.416366,1,15,1.3489200000000001,4.9999999999999822E-2,6.7446000000000006E-2,1.416366,3206,"SPOT SIMPLES VENTILADO  NÁPOLES PRETO E-27  ",0,1.416366,0]
[134,123,"PINO MACHO 90º 20A BIPOLAR PRETO GRANEL",null,null,null,null,1.25,2.59441673577675,1.416366,1,15,1.3489200000000001,4.9999999999999822E-2,6.7446000000000006E-2,1.416366,3207,"SPOT DUPLO VENTILADO NÁPOLES BRANCO E-27    ",0,1.416366,0]
[135,125,"PINO MACHO 90º 20A BIPOLAR BRANCO INDIVIDUAL",null,null,null,null,1.25,2.5946250691100836,1.5955380000000001,1,15,1.51956,5.0000000000000044E-2,7.5978000000000004E-2,1.5955380000000001,3208,"SPOT DUPLO VENTILADO NÁPOLES PRETO E-27    ",0,1.5955380000000001,0]
[136,126,"PINO MACHO 90º 20A BIPOLAR PRETO INDIVIDUAL",null,null,null,null,1,1.7660019481550409,1.5955380000000001,1,15,1.51956,5.0000000000000044E-2,7.5978000000000004E-2,1.5955380000000001,null,"SPOT SIMPLES TRANSLUCIDO NÁPOLES BRANCO E-27",0,1.5955380000000001,0]
[137,162,"PINO MACHO 90º 10A TRIPOLAR BRANCO GRANEL",null,null,null,null,1,1.7660019481550409,1.9198620000000002,1,15,1.8284400000000001,5.0000000000000044E-2,9.1422000000000003E-2,1.9198620000000002,null,"SPOT SIMPLES TRANSLUCIDO NÁPOLES PRETO E-27",0,1.9198620000000002,0]
[138,163,"PINO MACHO 90º 10A TRIPOLAR PRETO GRANEL",null,null,null,null,1.25,3.074493522310084,1.9198620000000002,1,15,1.8284400000000001,5.0000000000000044E-2,9.1422000000000003E-2,1.9198620000000002,3211,"SPOT DUPLO TRANSLUCIDO NÁPOLES BRANCO E-27",0,1.9198620000000002,0]
[139,165,"PINO MACHO 90º 10A TRIPOLAR BRANCO INDIVIDUAL",null,null,null,null,1.25,3.074493522310084,2.0990340000000001,1,15,1.99908,5.0000000000000044E-2,9.9954000000000001E-2,2.0990340000000001,null,"SPOT DUPLO TRANSLUCIDO NÁPOLES PRETO E-27",0,2.0990340000000001,0]
[140,166,"PINO MACHO 90º 10A TRIPOLAR PRETO INDIVIDUAL",null,null,null,null,null,0,2.0990340000000001,1,15,1.99908,5.0000000000000044E-2,9.9954000000000001E-2,2.0990340000000001,621,"EXTENSÃO ENERGY BIPOLAR BRANCA 2 MTS 2P 10A/250V~",2.297444,-0.19840999999999998,2.4812395199999999]
[141,172,"PINO MACHO 90º 20A TRIPOLAR BRANCO GRANEL",null,null,null,null,null,2.7959999999999998,1.9924379999999999,1,15,1.8975599999999999,5.0000000000000044E-2,9.4878000000000004E-2,1.9924379999999999,622,"EXTENSÃO ENERGY BIPOLAR BRANCA 3 MTS 2P 10A/250V~",2.7201719999999998,-0.72773399999999988,2.9377857599999997]
[142,173,"PINO MACHO 90º 20A TRIPOLAR PRETO GRANEL",null,null,null,null,null,3.7040000000000002,1.9924379999999999,1,15,1.8975599999999999,5.0000000000000044E-2,9.4878000000000004E-2,1.9924379999999999,623,"EXTENSÃO ENERGY BIPOLAR BRANCA 5 MTS 2P 10A/250V~",3.6679180000000002,-1.6754800000000003,3.9613514400000005]
[143,175,"PINO MACHO 90º 20A TRIPOLAR BRANCO INDIVIDUAL",null,null,null,null,null,5.86,2.1716100000000003,1,15,2.0682,5.0000000000000044E-2,0.10341,2.1716100000000003,624,"EXTENSÃO ENERGY BIPOLAR BRANCA 10 MTS 2P 10A/250V~",5.8536380000000001,-3.6820279999999999,6.3219290400000006]
[144,176,"PINO MACHO 90º 20A TRIPOLAR PRETO INDIVIDUAL",null,null,null,null,null,0,2.1716100000000003,1,15,2.0682,5.0000000000000044E-2,0.10341,2.1716100000000003,625,"EXTENSÃO ENERGY BIPOLAR PRETA 2 MTS 2P 10A/250V~",2.297444,-0.12583399999999978,2.4812395199999999]
[145,null,null,null,null,null,null,null,2.7959999999999998,3.1434307631999996,1,15,2.9377857599999997,{"$f":"J151/M151-1","v":7.0000000000000062E-2},{"$f":"M151*8%","v":0.23502286079999998},3.1728086207999997,626,"EXTENSÃO ENERGY BIPOLAR PRETA 3 MTS 2P 10A/250V~",2.7201719999999998,0.45263662079999989,2.9377857599999997]
[146,null,null,null,null,null,null,null,3.7040000000000002,4.2386460408000008,1,15,3.9613514400000005,7.0000000000000062E-2,0.31690811520000006,4.2782595552000009,627,"EXTENSÃO ENERGY BIPOLAR PRETA 5 MTS 2P 10A/250V~",3.6679180000000002,0.61034155520000066,3.9613514400000005]
[147,null,null,null,null,null,null,null,5.86,6.7644640728000009,1,15,6.3219290400000006,7.0000000000000062E-2,0.50575432320000002,6.8276833632000002,628,"EXTENSÃO ENERGY BIPOLAR PRETA 10 MTS 2P 10A/250V~",5.8536380000000001,0.97404536320000012,6.3219290400000006]
[148,null,null,null,null,null,null,null,0,{"$f":"I154+H154","v":0},null,null,null,null,{"$f":"M154*6%","v":0},0]
[149,null,null,null,null,null,null,null,0,0,null,null,null,null,0]
[150,null,null,null,null,null,null,null,0,0,null,null,null,null,0]
[151,null,null,null,null,null,null,null,0,0,null,null,null,null,0]
[152,null,null,null,null,null,null,null,0,0,null,null,null,null,0]
[153,null,null,null,null,null,null,null,null,0,null,null,null,null,0]
[154,null,null,null,null,null,null,null,null,0]
[155,null,null,null,null,null,null,null,null,0]
[156,null,null,null,null,null,null,null,null,0]
[157,null,null,null,null,null,null,null,null,0]
[158,null,null,null,null,null,null,null,null,0]
[159,null,null,null,null,null,null,null,null,0]
[160,null,null,null,null,null,null,null,null,0]
[161,null,null,null,null,null,null,null,null,0]
[162,null,null,null,null,null,null,null,null,0]
[163,null,null,null,null,null,null,null,null,0]
[164,null,null,null,null,null,null,null,null,0]
[165,null,null,null,null,null,null,null,null,0]
[166,null,null,null,null,null,null,null,null,0]
[167,null,null,null,null,null,null,null,null,0]
[168,null,null,null,null,null,null,null,null,0]
[169,null,null,null,null,null,null,null,null,0]
[170,null,null,null,null,null,null,null,null,0]
[171,null,null,null,null,null,null,null,null,0]
[172,null,null,null,null,null,null,null,null,0]
[173,null,null,null,null,null,null,null,null,0]
[174,null,null,null,null,null,null,null,null,0]
[175,null,null,null,null,null,null,null,null,0]
[176,null,null,null,null,null,null,null,null,0]
[177,null,null,null,null,null,null,null,null,0]
[178,null,null,null,null,null,null,null,null,0]
[179,null,null,null,null,null,null,null,null,0]
[180,null,null,null,null,null,null,null,null,0]
[181,null,null,null,null,null,null,null,null,0]
[182,null,null,null,null,null,null,null,null,0]
[183,null,null,null,null,null,null,null,null,0]
[184,null,null,null,null,null,null,null,null,0]
[185,null,null,null,null,null,null,null,null,0]
[186,null,null,null,null,null,null,null,null,0]
[187,null,null,null,null,null,null,null,null,0]
[188,null,null,null,null,null,null,null,null,0]
[189,null,null,null,null,null,null,null,null,0]
[190,null,null,null,null,null,null,null,null,0]
[191,null,null,null,null,null,null,null,null,0]
[192,null,null,null,null,null,null,null,null,0]
[193,null,null,null,null,null,null,null,null,0]
[194,null,null,null,null,null,null,null,null,{"$f":"I200+H200","v":0}]
[195,null,null,null,null,null,null,null,null,0]
[196,null,null,null,null,null,null,null,null,0]
[197,null,null,null,null,null,null,null,null,0]
[198,null,null,null,null,null,null,null,null,0]
[199,null,null,null,null,null,null,null,null,0]
[200,null,null,null,null,null,null,null,null,0]
[201,null,null,null,null,null,null,null,null,0]
[202,null,null,null,null,null,null,null,null,0]
[203,null,null,null,null,null,null,null,null,0]
[204,null,null,null,null,null,null,null,null,0]
[205,null,null,null,null,null,null,null,null,0]
[206,null,null,null,null,null,null,null,null,0]
[207,null,null,null,null,null,null,null,null,0]
[208,null,null,null,null,null,null,null,null,0]
[209,null,null,null,null,null,null,null,null,0]
[210,null,null,null,null,null,null,null,null,0]
[211,null,null,null,null,null,null,null,null,0]
[212,null,null,null,null,null,null,null,null,0]
[213,null,null,null,null,null,null,null,null,{"$f":"I219+H219","v":0}]
[214,null,null,null,null,null,null,null,null,0]
[215,null,null,null,null,null,null,null,null,0]
[216,null,null,null,null,null,null,null,null,0]
[217,null,null,null,null,null,null,null,null,0]
[218,null,null,null,null,null,null,null,null,0]
[219,null,null,null,null,null,null,null,null,0]
[220,null,null,null,null,null,null,null,null,0]
[221,null,null,null,null,null,null,null,null,0]
[222,null,null,null,null,null,null,null,null,0]
[223,null,null,null,null,null,null,null,null,0]
[224,null,null,null,null,null,null,null,null,0]
[225,null,null,null,null,null,null,null,null,0]
[226,null,null,null,null,null,null,null,null,0]
[227,null,null,null,null,null,null,null,null,0]
[228,null,null,null,null,null,null,null,null,0]
[229,null,null,null,null,null,null,null,null,0]
[230,null,null,null,null,null,null,null,null,0]
[231,null,null,null,null,null,null,null,null,0]
[232,null,null,null,null,null,null,null,null,0]
[233,null,null,null,null,null,null,null,null,0]
[234,null,null,null,null,null,null,null,null,0]
[235,null,null,null,null,null,null,null,null,0]
[236,null,null,null,null,null,null,null,null,0]
[237,null,null,null,null,null,null,null,null,0]
[238,null,null,null,null,null,null,null,null,0]
[239,null,null,null,null,null,null,null,null,0]
[240,null,null,null,null,null,null,null,null,0]
[241,null,null,null,null,null,null,null,null,0]
[242,null,null,null,null,null,null,null,null,0]
[243,null,null,null,null,null,null,null,null,0]
[244,null,null,null,null,null,null,null,null,0]
[245,null,null,null,null,null,null,null,null,0]
[246,null,null,null,null,null,null,null,null,0]
[247,null,null,null,null,null,null,null,null,0]
[248,null,null,null,null,null,null,null,null,0]
[249,null,null,null,null,null,null,null,null,0]
[250,null,null,null,null,null,null,null,null,0]
[251,null,null,null,null,null,null,null,null,0]
[252,null,null,null,null,null,null,null,null,0]
[253,null,null,null,null,null,null,null,null,0]
[254,null,null,null,null,null,null,null,null,0]
[255,null,null,null,null,null,null,null,null,0]
[256,null,null,null,null,null,null,null,null,0]
[257,null,null,null,null,null,null,null,null,0]
[258,null,null,null,null,null,null,null,null,{"$f":"I264+H264","v":0}]
[259,null,null,null,null,null,null,null,null,0]
[260,null,null,null,null,null,null,null,null,0]
[261,null,null,null,null,null,null,null,null,0]
[262,null,null,null,null,null,null,null,null,0]
[263,null,null,null,null,null,null,null,null,0]
[264,null,null,null,null,null,null,null,null,0]
[265,null,null,null,null,null,null,null,null,0]
[266,null,null,null,null,null,null,null,null,0]
[267,null,null,null,null,null,null,null,null,0]
[268,null,null,null,null,null,null,null,null,0]
[269,null,null,null,null,null,null,null,null,0]
[270,null,null,null,null,null,null,null,null,0]
[271,null,null,null,null,null,null,null,null,0]
[272,null,null,null,null,null,null,null,null,0]
[273,null,null,null,null,null,null,null,null,0]
[274,null,null,null,null,null,null,null,null,0]
[275,null,null,null,null,null,null,null,null,0]
[276,null,null,null,null,null,null,null,null,0]
[277,null,null,null,null,null,null,null,null,0]
[278,null,null,null,null,null,null,null,null,0]
[279,null,null,null,null,null,null,null,null,0]
[280,null,null,null,null,null,null,null,null,0]
[281,null,null,null,null,null,null,null,null,0]
[282,null,null,null,null,null,null,null,null,0]
[283,null,null,null,null,null,null,null,null,0]
[284,null,null,null,null,null,null,null,null,0]
[285,null,null,null,null,null,null,null,null,0]
[286,null,null,null,null,null,null,null,null,0]
[287,null,null,null,null,null,null,null,null,0]
[288,null,null,null,null,null,null,null,null,0]
[289,null,null,null,null,null,null,null,null,0]
[290,null,null,null,null,null,null,null,null,0]
[291,null,null,null,null,null,null,null,null,0]
[292,null,null,null,null,null,null,null,null,0]
[293,null,null,null,null,null,null,null,null,0]
[294,null,null,null,null,null,null,null,null,0]
[295,null,null,null,null,null,null,null,null,0]
[296,null,null,null,null,null,null,null,null,0]
[297,null,null,null,null,null,null,null,null,0]
[298,null,null,null,null,null,null,null,null,0]
[299,null,null,null,null,null,null,null,null,0]
[300,null,null,null,null,null,null,null,null,0]
[301,null,null,null,null,null,null,null,null,0]
[302,null,null,null,null,null,null,null,null,0]
[303,null,null,null,null,null,null,null,null,0]
[304,null,null,null,null,null,null,null,null,0]
[305,null,null,null,null,null,null,null,null,0]
[306,null,null,null,null,null,null,null,null,0]
[307,null,null,null,null,null,null,null,null,0]
[308,null,null,null,null,null,null,null,null,0]
[309,null,null,null,null,null,null,null,null,0]
[310,null,null,null,null,null,null,null,null,0]
[311,null,null,null,null,null,null,null,null,0]
[312,null,null,null,null,null,null,null,null,0]
[313,null,null,null,null,null,null,null,null,0]
[314,null,null,null,null,null,null,null,null,0]
[315,null,null,null,null,null,null,null,null,0]
[316,null,null,null,null,null,null,null,null,0]
[317,null,null,null,null,null,null,null,null,0]
[318,null,null,null,null,null,null,null,null,0]
[319,null,null,null,null,null,null,null,null,0]
[320,null,null,null,null,null,null,null,null,0]
[321,null,null,null,null,null,null,null,null,0]
[322,null,null,null,null,null,null,null,null,{"$f":"I328+H328","v":0}]
[323,null,null,null,null,null,null,null,null,0]
[324,null,null,null,null,null,null,null,null,0]
[325,null,null,null,null,null,null,null,null,0]
[326,null,null,null,null,null,null,null,null,0]
[327,null,null,null,null,null,null,null,null,0]
[328,null,null,null,null,null,null,null,null,0]
[329,null,null,null,null,null,null,null,null,0]
[330,null,null,null,null,null,null,null,null,0]
[331,null,null,null,null,null,null,null,null,0]
[332,null,null,null,null,null,null,null,null,0]
[333,null,null,null,null,null,null,null,null,0]
[334,null,null,null,null,null,null,null,null,0]
[335,null,null,null,null,null,null,null,null,0]
[336,null,null,null,null,null,null,null,null,0]
[337,null,null,null,null,null,null,null,null,0]
[338,null,null,null,null,null,null,null,null,0]
[339,null,null,null,null,null,null,null,null,0]
[340,null,null,null,null,null,null,null,null,0]
[341,null,null,null,null,null,null,null,null,0]
[342,null,null,null,null,null,null,null,null,0]
[343,null,null,null,null,null,null,null,null,0]
[344,null,null,null,null,null,null,null,null,0]
[345,null,null,null,null,null,null,null,null,0]
[346,null,null,null,null,null,null,null,null,0]
[347,null,null,null,null,null,null,null,null,0]
[348,null,null,null,null,null,null,null,null,0]
[349,null,null,null,null,null,null,null,null,0]
[350,null,null,null,null,null,null,null,null,0]
[351,null,null,null,null,null,null,null,null,0]
[352,null,null,null,null,null,null,null,null,0]
[353,null,null,null,null,null,null,null,null,0]
[354,null,null,null,null,null,null,null,null,0]
[355,null,null,null,null,null,null,null,null,0]
[356,null,null,null,null,null,null,null,null,0]
[357,null,null,null,null,null,null,null,null,0]
[358,null,null,null,null,null,null,null,null,0]
[359,null,null,null,null,null,null,null,null,0]
[360,null,null,null,null,null,null,null,null,0]
[361,null,null,null,null,null,null,null,null,0]
[362,null,null,null,null,null,null,null,null,0]
[363,null,null,null,null,null,null,null,null,0]
[364,null,null,null,null,null,null,null,null,0]
[365,null,null,null,null,null,null,null,null,0]
[366,null,null,null,null,null,null,null,null,0]
[367,null,null,null,null,null,null,null,null,0]
[368,null,null,null,null,null,null,null,null,0]
[369,null,null,null,null,null,null,null,null,0]
[370,null,null,null,null,null,null,null,null,0]
[371,null,null,null,null,null,null,null,null,0]
[372,null,null,null,null,null,null,null,null,0]
[373,null,null,null,null,null,null,null,null,0]
[374,null,null,null,null,null,null,null,null,0]
[375,null,null,null,null,null,null,null,null,0]
[376,null,null,null,null,null,null,null,null,0]
[377,null,null,null,null,null,null,null,null,0]
[378,null,null,null,null,null,null,null,null,0]
[379,null,null,null,null,null,null,null,null,0]
[380,null,null,null,null,null,null,null,null,0]
[381,null,null,null,null,null,null,null,null,0]
[382,null,null,null,null,null,null,null,null,0]
[383,null,null,null,null,null,null,null,null,0]
[384,null,null,null,null,null,null,null,null,0]
[385,null,null,null,null,null,null,null,null,0]
[386,null,null,null,null,null,null,null,null,{"$f":"I392+H392","v":0}]
[387,null,null,null,null,null,null,null,null,0]
[388,null,null,null,null,null,null,null,null,0]
[389,null,null,null,null,null,null,null,null,0]
[390,null,null,null,null,null,null,null,null,0]
[391,null,null,null,null,null,null,null,null,0]
[392,null,null,null,null,null,null,null,null,0]
[393,null,null,null,null,null,null,null,null,0]
[394,null,null,null,null,null,null,null,null,0]
[395,null,null,null,null,null,null,null,null,0]
[396,null,null,null,null,null,null,null,null,0]
[397,null,null,null,null,null,null,null,null,0]
[398,null,null,null,null,null,null,null,null,0]
[399,null,null,null,null,null,null,null,null,0]
[400,null,null,null,null,null,null,null,null,0]
[401,null,null,null,null,null,null,null,null,0]
[402,null,null,null,null,null,null,null,null,0]
[403,null,null,null,null,null,null,null,null,0]
[404,null,null,null,null,null,null,null,null,0]
[405,null,null,null,null,null,null,null,null,0]
[406,null,null,null,null,null,null,null,null,0]
[407,null,null,null,null,null,null,null,null,0]
[408,null,null,null,null,null,null,null,null,0]
[409,null,null,null,null,null,null,null,null,0]
[410,null,null,null,null,null,null,null,null,0]
[411,null,null,null,null,null,null,null,null,0]
[412,null,null,null,null,null,null,null,null,0]
[413,null,null,null,null,null,null,null,null,0]
[414,null,null,null,null,null,null,null,null,0]
[415,null,null,null,null,null,null,null,null,0]
[416,null,null,null,null,null,null,null,null,0]
[417,null,null,null,null,null,null,null,null,0]
[418,null,null,null,null,null,null,null,null,0]
[419,null,null,null,null,null,null,null,null,0]
[420,null,null,null,null,null,null,null,null,0]
[421,null,null,null,null,null,null,null,null,0]
[422,null,null,null,null,null,null,null,null,0]
[423,null,null,null,null,null,null,null,null,0]
[424,null,null,null,null,null,null,null,null,0]
[425,null,null,null,null,null,null,null,null,0]
[426,null,null,null,null,null,null,null,null,0]
[427,null,null,null,null,null,null,null,null,0]
[428,null,null,null,null,null,null,null,null,0]
[429,null,null,null,null,null,null,null,null,0]
[430,null,null,null,null,null,null,null,null,0]
[431,null,null,null,null,null,null,null,null,0]
[432,null,null,null,null,null,null,null,null,0]
[433,null,null,null,null,null,null,null,null,0]
[434,null,null,null,null,null,null,null,null,0]
[435,null,null,null,null,null,null,null,null,0]
[436,null,null,null,null,null,null,null,null,0]
[437,null,null,null,null,null,null,null,null,0]
[438,null,null,null,null,null,null,null,null,0]
[439,null,null,null,null,null,null,null,null,0]
[440,null,null,null,null,null,null,null,null,0]
[441,null,null,null,null,null,null,null,null,0]
[442,null,null,null,null,null,null,null,null,0]
[443,null,null,null,null,null,null,null,null,0]
[444,null,null,null,null,null,null,null,null,0]
[445,null,null,null,null,null,null,null,null,0]
[446,null,null,null,null,null,null,null,null,0]
[447,null,null,null,null,null,null,null,null,0]
[448,null,null,null,null,null,null,null,null,0]
[449,null,null,null,null,null,null,null,null,0]
[450,null,null,null,null,null,null,null,null,{"$f":"I456+H456","v":0}]

{"sheet":"Aferi (Pedido) ","index":4,"n_rows":500,"n_cols":43,"rows_kept":500,"cut":false,"hidden":false,"merged":[[0,5,0,11],[11,1,11,5],[11,7,11,8],[11,10,11,11],[10,1,10,7],[10,9,10,11],[14,2,14,5],[14,7,14,11],[13,9,13,11],[13,6,13,7],[1,0,2,4],[1,5,1,6],[2,5,2,6],[12,1,12,4],[13,1,13,4],[1,7,1,11],[9,2,9,11],[12,6,12,11],[3,1,6,11],[2,7,2,8],[2,10,2,11],[17,1,17,2],[16,0,16,1],[14,0,14,1],[15,0,15,1],[18,0,18,1],[18,2,18,5],[18,6,18,7],[15,3,15,7],[24,1,24,2],[23,21,23,30],[23,4,24,4],[23,5,24,5],[20,3,21,4],[23,6,24,6],[23,7,24,7],[23,8,24,8],[23,9,24,9],[23,11,24,11],[23,10,24,10],[20,7,20,11],[21,7,21,11],[22,6,22,11],[23,0,23,3],[22,0,22,5],[14,15,14,20],[17,15,17,20],[18,16,18,20],[16,3,16,7],[17,3,17,7],[19,8,19,11],[15,8,15,11],[16,8,16,11],[17,8,17,11],[18,8,18,11],[48,1,48,2],[49,1,49,2],[36,1,36,2],[37,1,37,2],[38,1,38,2],[39,1,39,2],[42,1,42,2],[43,1,43,2],[40,1,40,2],[41,1,41,2],[44,1,44,2],[45,1,45,2],[46,1,46,2],[47,1,47,2],[34,1,34,2],[35,1,35,2],[25,1,25,2],[26,1,26,2],[27,1,27,2],[28,1,28,2],[29,1,29,2],[30,1,30,2],[31,1,31,2],[32,1,32,2],[33,1,33,2],[60,1,60,2],[61,1,61,2],[50,1,50,2],[51,1,51,2],[52,1,52,2],[53,1,53,2],[54,1,54,2],[55,1,55,2],[56,1,56,2],[57,1,57,2],[58,1,58,2],[59,1,59,2],[62,1,62,2],[63,1,63,2],[64,1,64,2],[65,1,65,2],[68,1,68,2],[69,1,69,2],[66,1,66,2],[67,1,67,2],[70,1,70,2],[71,1,71,2],[74,1,74,2],[75,1,75,2],[72,1,72,2],[73,1,73,2],[90,1,90,2],[91,1,91,2],[76,1,76,2],[77,1,77,2],[78,1,78,2],[79,1,79,2],[80,1,80,2],[81,1,81,2],[86,1,86,2],[87,1,87,2],[88,1,88,2],[89,1,89,2],[82,1,82,2],[83,1,83,2],[84,1,84,2],[85,1,85,2],[108,1,108,2],[109,1,109,2],[110,1,110,2],[111,1,111,2],[92,1,92,2],[93,1,93,2],[94,1,94,2],[95,1,95,2],[100,1,100,2],[96,1,96,2],[97,1,97,2],[98,1,98,2],[99,1,99,2],[101,1,101,2],[102,1,102,2],[107,1,107,2],[103,1,103,2],[104,1,104,2],[105,1,105,2],[106,1,106,2],[116,1,116,2],[117,1,117,2],[118,1,118,2],[119,1,119,2],[112,1,112,2],[113,1,113,2],[114,1,114,2],[115,1,115,2],[124,1,124,2],[125,1,125,2],[126,1,126,2],[127,1,127,2],[120,1,120,2],[121,1,121,2],[122,1,122,2],[123,1,123,2],[132,1,132,2],[133,1,133,2],[134,1,134,2],[135,1,135,2],[128,1,128,2],[129,1,129,2],[130,1,130,2],[131,1,131,2],[140,1,140,2],[141,1,141,2],[142,1,142,2],[152,1,152,2],[153,1,153,2],[154,1,154,2],[155,1,155,2],[164,1,164,2],[143,1,143,2],[136,1,136,2],[137,1,137,2],[138,1,138,2],[139,1,139,2],[148,1,148,2],[149,1,149,2],[150,1,150,2],[151,1,151,2],[144,1,144,2],[145,1,145,2],[146,1,146,2],[147,1,147,2],[160,1,160,2],[161,1,161,2],[162,1,162,2],[163,1,163,2],[172,1,172,2],[173,1,173,2],[156,1,156,2],[157,1,157,2],[158,1,158,2],[159,1,159,2],[188,1,188,2],[189,1,189,2],[190,1,190,2],[183,1,183,2],[176,1,176,2],[174,1,174,2],[175,1,175,2],[168,1,168,2],[169,1,169,2],[170,1,170,2],[171,1,171,2],[180,1,180,2],[181,1,181,2],[182,1,182,2],[177,1,177,2],[178,1,178,2],[179,1,179,2],[165,1,165,2],[225,1,225,2],[216,1,216,2],[217,1,217,2],[218,1,218,2],[219,1,219,2],[220,1,220,2],[205,1,205,2],[206,1,206,2],[207,1,207,2],[221,1,221,2],[212,1,212,2],[213,1,213,2],[214,1,214,2],[215,1,215,2],[208,1,208,2],[209,1,209,2],[224,1,224,2],[166,1,166,2],[167,1,167,2],[222,1,222,2],[223,1,223,2],[196,1,196,2],[197,1,197,2],[198,1,198,2],[199,1,199,2],[192,1,192,2],[193,1,193,2],[194,1,194,2],[195,1,195,2],[204,1,204,2],[200,1,200,2],[201,1,201,2],[202,1,202,2],[203,1,203,2],[210,1,210,2],[211,1,211,2],[191,1,191,2],[184,1,184,2],[185,1,185,2],[186,1,186,2],[187,1,187,2],[226,1,226,2],[227,1,227,2],[228,1,228,2],[229,1,229,2],[230,1,230,2],[231,1,231,2],[232,1,232,2],[233,1,233,2],[234,1,234,2],[235,1,235,2],[236,1,236,2],[237,1,237,2],[238,1,238,2],[239,1,239,2],[240,1,240,2],[241,1,241,2],[242,1,242,2],[243,1,243,2],[244,1,244,2],[245,1,245,2],[246,1,246,2],[247,1,247,2],[248,1,248,2],[249,1,249,2],[250,1,250,2],[251,1,251,2],[252,1,252,2],[253,1,253,2],[254,1,254,2],[255,1,255,2],[256,1,256,2],[257,1,257,2],[258,1,258,2],[259,1,259,2],[260,1,260,2],[261,1,261,2],[262,1,262,2],[263,1,263,2],[264,1,264,2],[265,1,265,2],[266,1,266,2],[267,1,267,2],[268,1,268,2],[269,1,269,2],[270,1,270,2],[271,1,271,2],[272,1,272,2],[273,1,273,2],[274,1,274,2],[275,1,275,2],[276,1,276,2],[277,1,277,2],[278,1,278,2],[279,1,279,2],[280,1,280,2],[281,1,281,2],[282,1,282,2],[283,1,283,2],[284,1,284,2],[285,1,285,2],[286,1,286,2],[287,1,287,2],[288,1,288,2],[289,1,289,2],[290,1,290,2],[291,1,291,2],[292,1,292,2],[293,1,293,2],[294,1,294,2],[295,1,295,2],[296,1,296,2],[297,1,297,2],[298,1,298,2],[299,1,299,2],[300,1,300,2],[301,1,301,2],[302,1,302,2],[303,1,303,2],[304,1,304,2],[305,1,305,2],[306,1,306,2],[307,1,307,2],[308,1,308,2],[309,1,309,2],[310,1,310,2],[311,1,311,2],[312,1,312,2],[313,1,313,2],[314,1,314,2],[315,1,315,2],[316,1,316,2],[317,1,317,2],[318,1,318,2],[319,1,319,2],[320,1,320,2],[321,1,321,2],[322,1,322,2],[323,1,323,2],[324,1,324,2],[325,1,325,2],[326,1,326,2],[327,1,327,2],[328,1,328,2],[329,1,329,2],[330,1,330,2],[331,1,331,2],[332,1,332,2],[333,1,333,2],[334,1,334,2],[335,1,335,2],[336,1,336,2],[337,1,337,2],[338,1,338,2],[339,1,339,2],[340,1,340,2],[341,1,341,2],[342,1,342,2],[343,1,343,2],[344,1,344,2],[345,1,345,2],[346,1,346,2],[347,1,347,2],[348,1,348,2],[349,1,349,2],[350,1,350,2],[351,1,351,2],[352,1,352,2],[353,1,353,2],[354,1,354,2],[355,1,355,2],[356,1,356,2],[357,1,357,2],[358,1,358,2],[359,1,359,2],[360,1,360,2],[361,1,361,2],[362,1,362,2],[363,1,363,2],[364,1,364,2],[365,1,365,2],[366,1,366,2],[367,1,367,2],[368,1,368,2],[369,1,369,2],[370,1,370,2],[371,1,371,2],[372,1,372,2],[373,1,373,2],[374,1,374,2],[375,1,375,2],[376,1,376,2],[377,1,377,2],[378,1,378,2],[379,1,379,2],[380,1,380,2],[381,1,381,2],[382,1,382,2],[383,1,383,2],[384,1,384,2],[385,1,385,2],[386,1,386,2],[387,1,387,2],[388,1,388,2],[389,1,389,2],[390,1,390,2],[391,1,391,2],[392,1,392,2],[393,1,393,2],[394,1,394,2],[395,1,395,2],[396,1,396,2],[397,1,397,2],[398,1,398,2],[399,1,399,2],[400,1,400,2],[401,1,401,2],[402,1,402,2],[403,1,403,2],[404,1,404,2],[405,1,405,2],[406,1,406,2],[407,1,407,2],[408,1,408,2],[409,1,409,2],[410,1,410,2],[411,1,411,2],[412,1,412,2],[413,1,413,2],[414,1,414,2],[415,1,415,2],[416,1,416,2],[417,1,417,2],[418,1,418,2],[419,1,419,2],[420,1,420,2],[421,1,421,2],[422,1,422,2],[423,1,423,2],[424,1,424,2],[425,1,425,2],[426,1,426,2],[427,1,427,2],[428,1,428,2],[429,1,429,2],[430,1,430,2],[431,1,431,2],[432,1,432,2],[433,1,433,2],[434,1,434,2],[435,1,435,2],[436,1,436,2],[437,1,437,2],[438,1,438,2],[439,1,439,2],[440,1,440,2],[441,1,441,2],[442,1,442,2],[443,1,443,2],[444,1,444,2],[445,1,445,2],[446,1,446,2],[447,1,447,2],[448,1,448,2],[449,1,449,2],[450,1,450,2],[451,1,451,2],[452,1,452,2],[453,1,453,2],[454,1,454,2],[455,1,455,2],[456,1,456,2],[457,1,457,2],[458,1,458,2],[459,1,459,2],[460,1,460,2],[461,1,461,2],[462,1,462,2],[463,1,463,2],[464,1,464,2],[465,1,465,2],[466,1,466,2],[467,1,467,2],[468,1,468,2],[469,1,469,2],[470,1,470,2],[471,1,471,2],[472,1,472,2],[473,1,473,2],[474,1,474,2],[475,1,475,2],[476,1,476,2],[477,1,477,2],[478,1,478,2],[479,1,479,2],[480,1,480,2],[481,1,481,2],[482,1,482,2],[483,1,483,2],[484,1,484,2],[485,1,485,2],[486,1,486,2],[496,1,496,2],[497,1,497,2],[498,1,498,2],[499,1,499,2],[487,1,487,2],[488,1,488,2],[489,1,489,2],[490,1,490,2],[491,1,491,2],[492,1,492,2],[493,1,493,2],[494,1,494,2],[495,1,495,2]]}
[null,null,null,null,null,"Pedido de Venda"]
[null,null,null,null,null,"Representante",null,"DENIZE REPRESENTAÇÕES"]
[null,null,null,null,null,"Data",null,"2025-04-24",null,"Versão","07.11.24 / 10.05.25"]
[null,"1/2!!"]
[]
["Obs."]
[]
[]
[]
["Cliente",null,"O.S.J. COMERCIO DE UTILIDADES LTDA"]
["Endereço","AV AUGUSTO CALMON, 1252 - CENTRO CEP 29900-060 LINHARES - Espírito Santo",null,null,null,null,null,null,"Bairro"]
["Cidade",null,null,null,null,null,"Estado",null,null,"CEP:"]
["CNPJ","07.336.094/0001-13",null,null,null,"IE","082.317.99-2"]
["Fone","027 9 8158-6009",null,null,null,"Contato","JOAQUIM",null,"Email ","grupoutilidades@bol.com.br"]
["Transportadora",null,"TRANSPORTADORA CONTINENTAL LT",null,null,null,"Fone"," 2085-7220"]
["Data de Entrega",null,"2025-04-25","Valor Total Pedido",null,null,null,null,{"$f":"SUM(I17:J18)","v":5154.0694999999996}]
["Forma de Pagamento",null,"BOLETO ","IPI",null,null,null,null,{"$f":"SUM(M26:M500)","v":215.1695}]
["Identifica",{"$f":"'Aferi (Variáveis)'!A12&\"-\"&'Aferi (Variáveis)'!B12&\"-\"&'Aferi (Variáveis)'!C12&\"-\"&'Aferi (Variáveis)'!D12&\"-\"&'Aferi (Variáveis)'!E12","v":"50-São Paulo-7-5-70"},null,"Valor Total dos Produtos",null,null,null,null,{"$f":"SUM(J26:J500)","v":4938.8999999999996}]
["Email Nota Fiscal",null,"grupoutilidades@bol.com.br"]
[null,null,null,"Preço Médio","MC Desejada :",null,5,null,{"$f":"IF(I19>0,I16/I19,0)","v":0}]
["Caminhão","Pedido","Saldo","Margem de contribuição",null,null,{"$f":"SUM(O26:O500)","v":741.71338653748023},"Prazo de Pagamento ",null,null,null,null,null,null,null,null,null,null,null,null,null,null,null,null,null,null,null,null,null,null,null,null,null,null,null,null,null,null,{"$f":"(G20*4)/100","v":0.2},"mc esperada"]
[null,{"$f":"SUM(P26:P500)","v":0.37398399999999993},{"$f":"IF(A22>0,A22-B22,0)","v":0},null,null,"%",{"$f":"IF(TODAY()>AK26,0,(IF(I18>0,(G21/I18)*100/4,0)))","v":3.754446266058638},{"$f":"'Aferi (Variáveis)'!A6&\"-\"&'Aferi (Variáveis)'!B6&\"-\"&'Aferi (Variáveis)'!C6&\"-\"&'Aferi (Variáveis)'!D6&\"-\"&'Aferi (Variáveis)'!E6&\"-\"&'Aferi (Variáveis)'!A8&\"-\"&'Aferi (Variáveis)'!B8&\"-\"&'Aferi (Variáveis)'!C8&\"-\"&'Aferi (Variáveis)'!D8&\"-\"&'Aferi (Variáveis)'!E8","v":"30-40-50-60-70-----"},null,null,null,null,null,null,null,null,null,null,null,null,null,{"$f":"IF('Aferi (Variáveis)'!$F$20=\"Venda para Exportar\",0,IF('Aferi (Variáveis)'!$F$20=\"ALC\",0,IF('Aferi (Variáveis)'!$F$20=\"ZFM\",0,IF('Aferi (Variáveis)'!$F$20=\"Exportação\",0,IF('Aferi (Variáveis)'!$F$20=\"AO\",7,'Aferi (Variáveis)'!$F$20)))))","v":7},1.08,{"$f":"IF('Aferi (Variáveis)'!$C$12=\"ZFM\",0,IF('Aferi (Variáveis)'!$C$12=\"Exportação\",0,3))","v":3},{"$f":"IF('Aferi (Variáveis)'!$C$12=\"ZFM\",0,IF('Aferi (Variáveis)'!$C$12=\"Exportação\",0,0.65))","v":0.65},1.2,null,null,null,null,null,null,null,null,null,null,null,null,{"$f":"(SUM(V22:AE22)/100)*AN22","v":9.0509999999999993E-2},{"$f":"'Aferi (Variáveis)'!E12%","v":0.7}]
[{"$f":"IF(G22<>0,IF(G22<5,\"Pedido Reprovado\",\"Pedido Aprovado\"),\"\")","v":"Pedido Reprovado"},null,null,null,null,null,"Pedido",null,null,null,null,null,null,null,null,null,null,null,null,null,null,null,null,null,null,null,0.5,0,{"$f":"SUMIF('Tabela de Fretes'!$A$4:$A$42,'Aferi (Variáveis)'!$K$24,'Tabela de Fretes'!$B$4:$B$42)*100","v":2},{"$f":"3/45*'Aferi (Variáveis)'!$A$12","v":3.3333333333333335},{"$f":"'Aferi (Variáveis)'!$D$12","v":5},null,null,null,null,null,null,null,{"$f":"SUM(V23:AE23)/100","v":0.10833333333333334}]
["Produtos",null,null,null,"Valor proposto","% M. C.","Quantidade na Embal.","Embal. Pedidas","Quantidade Peças","Valor Parcial","IPI","Valor com IPI ",null,null,null,null,null,null,null,null,null,"Cálculos",null,null,null,null,null,null,null,null,null,null,null,null,null,null,null,null,{"$f":"SUM(AM21:AM23)","v":0.39884333333333333}]
["Referência:","Descrição",null,null,null,null,null,null,null,null,null,null,"IPI","Valor Total do Produto","Vr. M. C.","Cubagem","BD","IPI","IPI Total","Valor Base","Base Total","ICMS","CS","COFINS","PIS","IRPJ"," 0,5% para troca","Pro-labore","Frete","PDD","Comissão","Parcial","$ MC","% MC","Preço mínimo de venda %",null,null,"TT Fixo R$","preço MC","Imp.NF","Imp.Prod.","saldo mc"]
[702,{"$f":"IF(Q26<>0,VLOOKUP(Q26,'Custo Básico dos Produtos'!$A$7:$J$480,3),\"\")","v":"FILTRO DE LINHA BIVOLT FULL ENERGY BRANCO 4T  FLOW PACK"},null,{"$f":"SUMIF('Custo Básico dos Produtos'!$A$7:$A$480,Q26,'Custo Básico dos Produtos'!$J$7:$J$480)","v":9.836746759862999},15.11,{"$f":"IF(A26=\"\",0,IF(TODAY()<$AK$26,IF(E26>0,IF(H26>0,IF(AH26>=AI26,AH26,)/4),0)))","v":3.7536903929026026},{"$f":"IF(B26=\"\",0,SUMIF('Cadastro de Produtos em Linha'!$B$7:$B$457,A26,'Cadastro de Produtos em Linha'!$D$7:$D$457))","v":20},1,{"$f":"IF(F26=\"\",0,IF(F26>=AI26,G26*H26,0))","v":20},{"$f":"IF(F26=\"\",0,I26*E26)","v":302.2},{"$f":"IF('Aferi (Variáveis)'!$C$12=\"ALC\",0,IF('Aferi (Variáveis)'!$C$12=\"ZFM\",0,IF('Aferi (Variáveis)'!$C$12=\"Exportação\",0,IF('Aferi (Variáveis)'!$C$12=\"Venda para Exportar\",0,IF('Aferi (Variáveis)'!$C$12=\"AO\",0,SUMIF('Custo Básico dos Produtos'!$A$7:$A$480,Q26,'Custo Básico dos Produtos'!$L$7:$L$480))))))","v":15},{"$f":"J26+M26","v":333.93099999999998},{"$f":"S26","v":31.730999999999998},{"$f":"J26+M26","v":333.93099999999998},{"$f":"IF(I26>0,AG26*I26,0)","v":45.374609469406657},{"$f":"SUMIF('Cadastro de Produtos em Linha'!$A$6:$A$457,Q26,'Cadastro de Produtos em Linha'!$E$6:$E$457)*H26","v":2.1735999999999998E-2},{"$f":"IF(TODAY()<$AK$26,IF(A26<>\"\",SUMIF('Custo Básico dos Produtos'!$B$7:$B$457,A26,'Custo Básico dos Produtos'!$A$7:$A$457),0),0)","v":91},{"$f":"IF('Aferi (Variáveis)'!$C$12=\"Venda para Exportar\",0,IF('Aferi (Variáveis)'!$C$12=\"ALC\",0,IF('Aferi (Variáveis)'!$C$12=\"ZFM\",0,IF('Aferi (Variáveis)'!$C$12=\"Exportação\",0,IF('Aferi (Variáveis)'!$C$12=\"AO\",0,E26/(100+(0*'Aferi (Variáveis)'!$K$12/100))*100*K26%/100*'Aferi (Variáveis)'!$K$12)))))","v":1.5865499999999999},{"$f":"I26*R26","v":31.730999999999998},{"$f":"(E26*'Aferi (Variáveis)'!$K$12/100)","v":10.577},{"$f":"IF(I26>0,T26*I26,0)","v":211.54},{"$f":"IF('Aferi (Variáveis)'!$F$20=\"Venda para Exportar\",0,IF('Aferi (Variáveis)'!$F$20=\"ALC\",0,IF('Aferi (Variáveis)'!$F$20=\"ZFM\",0,IF('Aferi (Variáveis)'!$F$20=\"Exportação\",0,IF('Aferi (Variáveis)'!$F$20=\"AO\",7*T26/100,T26*'Aferi (Variáveis)'!$F$20/100)))))","v":0.74038999999999999},{"$f":"T26*(W$22/100)","v":0.1142316},{"$f":"IF('Aferi (Variáveis)'!$C$12=\"ZFM\",0,IF('Aferi (Variáveis)'!$C$12=\"Exportação\",0,3*T26/100))","v":0.31731000000000004},{"$f":"IF('Aferi (Variáveis)'!$C$12=\"ZFM\",0,IF('Aferi (Variáveis)'!$C$12=\"Exportação\",0,0.65*T26/100))","v":6.8750499999999992E-2},{"$f":"T26*(Z$22/100)","v":0.12692400000000001},{"$f":"E26*(AA$23/100)","v":7.5549999999999992E-2},{"$f":"E26*(AB$23/100)","v":0},{"$f":"IF(A26<>\"\",E26*(AC$23/100),0)","v":0.30219999999999997},{"$f":"E26*($AD$23/100)","v":0.5036666666666666},{"$f":"E26*(AE$23/100)","v":0.75550000000000006},{"$f":"SUM(V26:AE26)","v":3.0045227666666667},{"$f":"E26-AF26-D26","v":2.2687304734703329},{"$f":"IF(AG26<>0,AG26/(E26)*100,0)","v":15.014761571610411},{"$f":"SUMIF('Custo Básico dos Produtos'!$B$7:$B$480,A26,'Custo Básico dos Produtos'!$K$7:$K$480)","v":1},null,"2025-05-10",{"$f":"D26","v":9.836746759862999},{"$f":"AL26/(1-AM$24)","v":16.363033640475859},{"$f":"AM26*AM$22","v":1.48101817479947},{"$f":"AM26*AM$23","v":1.772661977718218},{"$f":"AM26-SUM(AN26:AO26)-AL26","v":3.2726067280951714},{"$f":"IFERROR(AP26/AM26,0)","v":0.19999999999999998}]
[706,{"$f":"IF(Q27<>0,VLOOKUP(Q27,'Custo Básico dos Produtos'!$A$7:$J$480,3),\"\")","v":"FILTRO DE LINHA BIVOLT FULL ENERGY PRETO 4T  FLOW PACK"},null,{"$f":"SUMIF('Custo Básico dos Produtos'!$A$7:$A$480,Q27,'Custo Básico dos Produtos'!$J$7:$J$480)","v":9.836746759862999},15.11,{"$f":"IF(A27=\"\",0,IF(TODAY()<$AK$26,IF(E27>0,IF(H27>0,IF(AH27>=AI27,AH27,)/4),0)))","v":3.7536903929026026},{"$f":"IF(B27=\"\",0,SUMIF('Cadastro de Produtos em Linha'!$B$7:$B$457,A27,'Cadastro de Produtos em Linha'!$D$7:$D$457))","v":20},1,20,302.2,{"$f":"IF('Aferi (Variáveis)'!$C$12=\"ALC\",0,IF('Aferi (Variáveis)'!$C$12=\"ZFM\",0,IF('Aferi (Variáveis)'!$C$12=\"Exportação\",0,IF('Aferi (Variáveis)'!$C$12=\"Venda para Exportar\",0,IF('Aferi (Variáveis)'!$C$12=\"AO\",0,SUMIF('Custo Básico dos Produtos'!$A$7:$A$480,Q27,'Custo Básico dos Produtos'!$L$7:$L$480))))))","v":15},{"$f":"J27+M27","v":333.93099999999998},31.730999999999998,{"$f":"J27+M27","v":333.93099999999998},45.374609469406657,{"$f":"SUMIF('Cadastro de Produtos em Linha'!$A$6:$A$457,Q27,'Cadastro de Produtos em Linha'!$E$6:$E$457)*H27","v":2.1735999999999998E-2},{"$f":"IF(TODAY()<$AK$26,IF(A27<>\"\",SUMIF('Custo Básico dos Produtos'!$B$7:$B$457,A27,'Custo Básico dos Produtos'!$A$7:$A$457),0),0)","v":95},{"$f":"IF('Aferi (Variáveis)'!$C$12=\"Venda para Exportar\",0,IF('Aferi (Variáveis)'!$C$12=\"ALC\",0,IF('Aferi (Variáveis)'!$C$12=\"ZFM\",0,IF('Aferi (Variáveis)'!$C$12=\"Exportação\",0,IF('Aferi (Variáveis)'!$C$12=\"AO\",0,E27/(100+(0*'Aferi (Variáveis)'!$K$12/100))*100*K27%/100*'Aferi (Variáveis)'!$K$12)))))","v":1.5865499999999999},31.730999999999998,{"$f":"(E27*'Aferi (Variáveis)'!$K$12/100)","v":10.577},211.54,{"$f":"IF('Aferi (Variáveis)'!$F$20=\"Venda para Exportar\",0,IF('Aferi (Variáveis)'!$F$20=\"ALC\",0,IF('Aferi (Variáveis)'!$F$20=\"ZFM\",0,IF('Aferi (Variáveis)'!$F$20=\"Exportação\",0,IF('Aferi (Variáveis)'!$F$20=\"AO\",7*T27/100,T27*'Aferi (Variáveis)'!$F$20/100)))))","v":0.74038999999999999},0.1142316,{"$f":"IF('Aferi (Variáveis)'!$C$12=\"ZFM\",0,IF('Aferi (Variáveis)'!$C$12=\"Exportação\",0,3*T27/100))","v":0.31731000000000004},{"$f":"IF('Aferi (Variáveis)'!$C$12=\"ZFM\",0,IF('Aferi (Variáveis)'!$C$12=\"Exportação\",0,0.65*T27/100))","v":6.8750499999999992E-2},0.12692400000000001,{"$f":"E27*(AA$23/100)","v":7.5549999999999992E-2},{"$f":"E27*(AB$23/100)","v":0},{"$f":"IF(A27<>\"\",E27*(AC$23/100),0)","v":0.30219999999999997},{"$f":"E27*($AD$23/100)","v":0.5036666666666666},{"$f":"E27*(AE$23/100)","v":0.75550000000000006},{"$f":"SUM(V27:AE27)","v":3.0045227666666667},2.2687304734703329,15.014761571610411,{"$f":"SUMIF('Custo Básico dos Produtos'!$B$7:$B$480,A27,'Custo Básico dos Produtos'!$K$7:$K$480)","v":1},null,null,{"$f":"D27","v":9.836746759862999},{"$f":"AL27/(1-AM$24)","v":16.363033640475859},{"$f":"AM27*AM$22","v":1.48101817479947},{"$f":"AM27*AM$23","v":1.772661977718218},{"$f":"AM27-SUM(AN27:AO27)-AL27","v":3.2726067280951714},{"$f":"IFERROR(AP27/AM27,0)","v":0.19999999999999998}]
[602,{"$f":"IF(Q28<>0,VLOOKUP(Q28,'Custo Básico dos Produtos'!$A$7:$J$480,3),\"\")","v":"EXTENSAO COMPACT BIPOLAR BRANCA 3 MTS  "},null,{"$f":"SUMIF('Custo Básico dos Produtos'!$A$7:$A$480,Q28,'Custo Básico dos Produtos'!$J$7:$J$480)","v":5.8313387159999994},8.9600000000000009,{"$f":"IF(A28=\"\",0,IF(TODAY()<$AK$26,IF(E28>0,IF(H28>0,IF(AH28>=AI28,AH28,)/4),0)))","v":3.7584403385416714},{"$f":"IF(B28=\"\",0,SUMIF('Cadastro de Produtos em Linha'!$B$7:$B$457,A28,'Cadastro de Produtos em Linha'!$D$7:$D$457))","v":20},2,40,358.40000000000003,{"$f":"IF('Aferi (Variáveis)'!$C$12=\"ALC\",0,IF('Aferi (Variáveis)'!$C$12=\"ZFM\",0,IF('Aferi (Variáveis)'!$C$12=\"Exportação\",0,IF('Aferi (Variáveis)'!$C$12=\"Venda para Exportar\",0,IF('Aferi (Variáveis)'!$C$12=\"AO\",0,SUMIF('Custo Básico dos Produtos'!$A$7:$A$480,Q28,'Custo Básico dos Produtos'!$L$7:$L$480))))))","v":5},370.94400000000002,12.544000000000002,370.94400000000002,53.881000693333405,{"$f":"SUMIF('Cadastro de Produtos em Linha'!$A$6:$A$457,Q28,'Cadastro de Produtos em Linha'!$E$6:$E$457)*H28","v":3.4000000000000002E-2},{"$f":"IF(TODAY()<$AK$26,IF(A28<>\"\",SUMIF('Custo Básico dos Produtos'!$B$7:$B$457,A28,'Custo Básico dos Produtos'!$A$7:$A$457),0),0)","v":67},{"$f":"IF('Aferi (Variáveis)'!$C$12=\"Venda para Exportar\",0,IF('Aferi (Variáveis)'!$C$12=\"ALC\",0,IF('Aferi (Variáveis)'!$C$12=\"ZFM\",0,IF('Aferi (Variáveis)'!$C$12=\"Exportação\",0,IF('Aferi (Variáveis)'!$C$12=\"AO\",0,E28/(100+(0*'Aferi (Variáveis)'!$K$12/100))*100*K28%/100*'Aferi (Variáveis)'!$K$12)))))","v":0.31360000000000005},12.544000000000002,{"$f":"(E28*'Aferi (Variáveis)'!$K$12/100)","v":6.2720000000000002},250.88,{"$f":"IF('Aferi (Variáveis)'!$F$20=\"Venda para Exportar\",0,IF('Aferi (Variáveis)'!$F$20=\"ALC\",0,IF('Aferi (Variáveis)'!$F$20=\"ZFM\",0,IF('Aferi (Variáveis)'!$F$20=\"Exportação\",0,IF('Aferi (Variáveis)'!$F$20=\"AO\",7*T28/100,T28*'Aferi (Variáveis)'!$F$20/100)))))","v":0.43904000000000004},6.7737600000000009E-2,{"$f":"IF('Aferi (Variáveis)'!$C$12=\"ZFM\",0,IF('Aferi (Variáveis)'!$C$12=\"Exportação\",0,3*T28/100))","v":0.18816000000000002},{"$f":"IF('Aferi (Variáveis)'!$C$12=\"ZFM\",0,IF('Aferi (Variáveis)'!$C$12=\"Exportação\",0,0.65*T28/100))","v":4.0768000000000006E-2},7.5263999999999998E-2,{"$f":"E28*(AA$23/100)","v":4.4800000000000006E-2},0,0.17920000000000003,0.29866666666666669,0.44800000000000006,1.7816362666666667,1.3470250173333351,15.033761354166685,{"$f":"SUMIF('Custo Básico dos Produtos'!$B$7:$B$480,A28,'Custo Básico dos Produtos'!$K$7:$K$480)","v":1},null,null,{"$f":"D28","v":5.8313387159999994},9.7001980337904143,0.87796492403837034,1.0508547869939615,1.9400396067580825,0.19999999999999996]
[606,{"$f":"IF(Q29<>0,VLOOKUP(Q29,'Custo Básico dos Produtos'!$A$7:$J$480,3),\"\")","v":"EXTENSAO COMPACT BIPOLAR PRETA 3 MTS  "},null,{"$f":"SUMIF('Custo Básico dos Produtos'!$A$7:$A$480,Q29,'Custo Básico dos Produtos'!$J$7:$J$480)","v":5.8313387159999994},8.9600000000000009,3.7584403385416714,{"$f":"IF(B29=\"\",0,SUMIF('Cadastro de Produtos em Linha'!$B$7:$B$457,A29,'Cadastro de Produtos em Linha'!$D$7:$D$457))","v":20},2,40,358.40000000000003,{"$f":"IF('Aferi (Variáveis)'!$C$12=\"ALC\",0,IF('Aferi (Variáveis)'!$C$12=\"ZFM\",0,IF('Aferi (Variáveis)'!$C$12=\"Exportação\",0,IF('Aferi (Variáveis)'!$C$12=\"Venda para Exportar\",0,IF('Aferi (Variáveis)'!$C$12=\"AO\",0,SUMIF('Custo Básico dos Produtos'!$A$7:$A$480,Q29,'Custo Básico dos Produtos'!$L$7:$L$480))))))","v":5},370.94400000000002,12.544000000000002,370.94400000000002,53.881000693333405,{"$f":"SUMIF('Cadastro de Produtos em Linha'!$A$6:$A$457,Q29,'Cadastro de Produtos em Linha'!$E$6:$E$457)*H29","v":3.4000000000000002E-2},{"$f":"IF(TODAY()<$AK$26,IF(A29<>\"\",SUMIF('Custo Básico dos Produtos'!$B$7:$B$457,A29,'Custo Básico dos Produtos'!$A$7:$A$457),0),0)","v":71},{"$f":"IF('Aferi (Variáveis)'!$C$12=\"Venda para Exportar\",0,IF('Aferi (Variáveis)'!$C$12=\"ALC\",0,IF('Aferi (Variáveis)'!$C$12=\"ZFM\",0,IF('Aferi (Variáveis)'!$C$12=\"Exportação\",0,IF('Aferi (Variáveis)'!$C$12=\"AO\",0,E29/(100+(0*'Aferi (Variáveis)'!$K$12/100))*100*K29%/100*'Aferi (Variáveis)'!$K$12)))))","v":0.31360000000000005},12.544000000000002,{"$f":"(E29*'Aferi (Variáveis)'!$K$12/100)","v":6.2720000000000002},250.88,{"$f":"IF('Aferi (Variáveis)'!$F$20=\"Venda para Exportar\",0,IF('Aferi (Variáveis)'!$F$20=\"ALC\",0,IF('Aferi (Variáveis)'!$F$20=\"ZFM\",0,IF('Aferi (Variáveis)'!$F$20=\"Exportação\",0,IF('Aferi (Variáveis)'!$F$20=\"AO\",7*T29/100,T29*'Aferi (Variáveis)'!$F$20/100)))))","v":0.43904000000000004},6.7737600000000009E-2,{"$f":"IF('Aferi (Variáveis)'!$C$12=\"ZFM\",0,IF('Aferi (Variáveis)'!$C$12=\"Exportação\",0,3*T29/100))","v":0.18816000000000002},{"$f":"IF('Aferi (Variáveis)'!$C$12=\"ZFM\",0,IF('Aferi (Variáveis)'!$C$12=\"Exportação\",0,0.65*T29/100))","v":4.0768000000000006E-2},7.5263999999999998E-2,4.4800000000000006E-2,0,0.17920000000000003,0.29866666666666669,0.44800000000000006,1.7816362666666667,1.3470250173333351,15.033761354166685,{"$f":"SUMIF('Custo Básico dos Produtos'!$B$7:$B$480,A29,'Custo Básico dos Produtos'!$K$7:$K$480)","v":1},null,null,5.8313387159999994,9.7001980337904143,0.87796492403837034,1.0508547869939615,1.9400396067580825,0.19999999999999996]
[603,{"$f":"IF(Q30<>0,VLOOKUP(Q30,'Custo Básico dos Produtos'!$A$7:$J$480,3),\"\")","v":"EXTENSAO COMPACT BIPOLAR BRANCA 5 MTS  "},null,{"$f":"SUMIF('Custo Básico dos Produtos'!$A$7:$A$480,Q30,'Custo Básico dos Produtos'!$J$7:$J$480)","v":7.8651949319999996},12.08,3.7516092742825622,{"$f":"IF(B30=\"\",0,SUMIF('Cadastro de Produtos em Linha'!$B$7:$B$457,A30,'Cadastro de Produtos em Linha'!$D$7:$D$457))","v":20},2,40,483.2,{"$f":"IF('Aferi (Variáveis)'!$C$12=\"ALC\",0,IF('Aferi (Variáveis)'!$C$12=\"ZFM\",0,IF('Aferi (Variáveis)'!$C$12=\"Exportação\",0,IF('Aferi (Variáveis)'!$C$12=\"Venda para Exportar\",0,IF('Aferi (Variáveis)'!$C$12=\"AO\",0,SUMIF('Custo Básico dos Produtos'!$A$7:$A$480,Q30,'Custo Básico dos Produtos'!$L$7:$L$480))))))","v":5},500.11199999999997,16.912000000000003,500.11199999999997,72.511104053333355,{"$f":"SUMIF('Cadastro de Produtos em Linha'!$A$6:$A$457,Q30,'Cadastro de Produtos em Linha'!$E$6:$E$457)*H30","v":0.04},{"$f":"IF(TODAY()<$AK$26,IF(A30<>\"\",SUMIF('Custo Básico dos Produtos'!$B$7:$B$457,A30,'Custo Básico dos Produtos'!$A$7:$A$457),0),0)","v":68},{"$f":"IF('Aferi (Variáveis)'!$C$12=\"Venda para Exportar\",0,IF('Aferi (Variáveis)'!$C$12=\"ALC\",0,IF('Aferi (Variáveis)'!$C$12=\"ZFM\",0,IF('Aferi (Variáveis)'!$C$12=\"Exportação\",0,IF('Aferi (Variáveis)'!$C$12=\"AO\",0,E30/(100+(0*'Aferi (Variáveis)'!$K$12/100))*100*K30%/100*'Aferi (Variáveis)'!$K$12)))))","v":0.42280000000000006},16.912000000000003,{"$f":"(E30*'Aferi (Variáveis)'!$K$12/100)","v":8.4559999999999995},338.24,{"$f":"IF('Aferi (Variáveis)'!$F$20=\"Venda para Exportar\",0,IF('Aferi (Variáveis)'!$F$20=\"ALC\",0,IF('Aferi (Variáveis)'!$F$20=\"ZFM\",0,IF('Aferi (Variáveis)'!$F$20=\"Exportação\",0,IF('Aferi (Variáveis)'!$F$20=\"AO\",7*T30/100,T30*'Aferi (Variáveis)'!$F$20/100)))))","v":0.59191999999999989},9.1324799999999998E-2,{"$f":"IF('Aferi (Variáveis)'!$C$12=\"ZFM\",0,IF('Aferi (Variáveis)'!$C$12=\"Exportação\",0,3*T30/100))","v":0.25367999999999996},{"$f":"IF('Aferi (Variáveis)'!$C$12=\"ZFM\",0,IF('Aferi (Variáveis)'!$C$12=\"Exportação\",0,0.65*T30/100))","v":5.4963999999999992E-2},0.10147199999999999,6.0400000000000002E-2,0,0.24160000000000001,0.40266666666666667,0.60400000000000009,2.4020274666666666,1.8127776013333339,15.006437097130249,{"$f":"SUMIF('Custo Básico dos Produtos'!$B$7:$B$480,A30,'Custo Básico dos Produtos'!$K$7:$K$480)","v":1},null,null,7.8651949319999996,13.083436262316534,1.1841818161022695,1.4173722617509579,2.616687252463306,0.19999999999999996]
[607,{"$f":"IF(Q31<>0,VLOOKUP(Q31,'Custo Básico dos Produtos'!$A$7:$J$480,3),\"\")","v":"EXTENSAO COMPACT BIPOLAR PRETA 5 MTS  "},null,{"$f":"SUMIF('Custo Básico dos Produtos'!$A$7:$A$480,Q31,'Custo Básico dos Produtos'!$J$7:$J$480)","v":7.8651949319999996},12.08,3.7516092742825622,{"$f":"IF(B31=\"\",0,SUMIF('Cadastro de Produtos em Linha'!$B$7:$B$457,A31,'Cadastro de Produtos em Linha'!$D$7:$D$457))","v":20},3,60,724.8,{"$f":"IF('Aferi (Variáveis)'!$C$12=\"ALC\",0,IF('Aferi (Variáveis)'!$C$12=\"ZFM\",0,IF('Aferi (Variáveis)'!$C$12=\"Exportação\",0,IF('Aferi (Variáveis)'!$C$12=\"Venda para Exportar\",0,IF('Aferi (Variáveis)'!$C$12=\"AO\",0,SUMIF('Custo Básico dos Produtos'!$A$7:$A$480,Q31,'Custo Básico dos Produtos'!$L$7:$L$480))))))","v":5},750.16800000000001,25.368000000000002,750.16800000000001,108.76665608000003,{"$f":"SUMIF('Cadastro de Produtos em Linha'!$A$6:$A$457,Q31,'Cadastro de Produtos em Linha'!$E$6:$E$457)*H31","v":0.06},{"$f":"IF(TODAY()<$AK$26,IF(A31<>\"\",SUMIF('Custo Básico dos Produtos'!$B$7:$B$457,A31,'Custo Básico dos Produtos'!$A$7:$A$457),0),0)","v":72},{"$f":"IF('Aferi (Variáveis)'!$C$12=\"Venda para Exportar\",0,IF('Aferi (Variáveis)'!$C$12=\"ALC\",0,IF('Aferi (Variáveis)'!$C$12=\"ZFM\",0,IF('Aferi (Variáveis)'!$C$12=\"Exportação\",0,IF('Aferi (Variáveis)'!$C$12=\"AO\",0,E31/(100+(0*'Aferi (Variáveis)'!$K$12/100))*100*K31%/100*'Aferi (Variáveis)'!$K$12)))))","v":0.42280000000000006},25.368000000000002,{"$f":"(E31*'Aferi (Variáveis)'!$K$12/100)","v":8.4559999999999995},507.35999999999996,{"$f":"IF('Aferi (Variáveis)'!$F$20=\"Venda para Exportar\",0,IF('Aferi (Variáveis)'!$F$20=\"ALC\",0,IF('Aferi (Variáveis)'!$F$20=\"ZFM\",0,IF('Aferi (Variáveis)'!$F$20=\"Exportação\",0,IF('Aferi (Variáveis)'!$F$20=\"AO\",7*T31/100,T31*'Aferi (Variáveis)'!$F$20/100)))))","v":0.59191999999999989},9.1324799999999998E-2,{"$f":"IF('Aferi (Variáveis)'!$C$12=\"ZFM\",0,IF('Aferi (Variáveis)'!$C$12=\"Exportação\",0,3*T31/100))","v":0.25367999999999996},{"$f":"IF('Aferi (Variáveis)'!$C$12=\"ZFM\",0,IF('Aferi (Variáveis)'!$C$12=\"Exportação\",0,0.65*T31/100))","v":5.4963999999999992E-2},0.10147199999999999,6.0400000000000002E-2,0,0.24160000000000001,0.40266666666666667,0.60400000000000009,2.4020274666666666,1.8127776013333339,15.006437097130249,{"$f":"SUMIF('Custo Básico dos Produtos'!$B$7:$B$480,A31,'Custo Básico dos Produtos'!$K$7:$K$480)","v":1},null,null,7.8651949319999996,13.083436262316534,1.1841818161022695,1.4173722617509579,2.616687252463306,0.19999999999999996]
[604,{"$f":"IF(Q32<>0,VLOOKUP(Q32,'Custo Básico dos Produtos'!$A$7:$J$480,3),\"\")","v":"EXTENSAO COMPACT BIPOLAR BRANCA 10 MTS  "},null,{"$f":"SUMIF('Custo Básico dos Produtos'!$A$7:$A$480,Q32,'Custo Básico dos Produtos'!$J$7:$J$480)","v":12.833713407599999},19.71,3.7507413652968058,{"$f":"IF(B32=\"\",0,SUMIF('Cadastro de Produtos em Linha'!$B$7:$B$457,A32,'Cadastro de Produtos em Linha'!$D$7:$D$457))","v":15},1,15,295.65000000000003,{"$f":"IF('Aferi (Variáveis)'!$C$12=\"ALC\",0,IF('Aferi (Variáveis)'!$C$12=\"ZFM\",0,IF('Aferi (Variáveis)'!$C$12=\"Exportação\",0,IF('Aferi (Variáveis)'!$C$12=\"Venda para Exportar\",0,IF('Aferi (Variáveis)'!$C$12=\"AO\",0,SUMIF('Custo Básico dos Produtos'!$A$7:$A$480,Q32,'Custo Básico dos Produtos'!$L$7:$L$480))))))","v":5},305.99775000000005,10.347750000000001,305.99775000000005,44.356267386000027,{"$f":"SUMIF('Cadastro de Produtos em Linha'!$A$6:$A$457,Q32,'Cadastro de Produtos em Linha'!$E$6:$E$457)*H32","v":0.02},{"$f":"IF(TODAY()<$AK$26,IF(A32<>\"\",SUMIF('Custo Básico dos Produtos'!$B$7:$B$457,A32,'Custo Básico dos Produtos'!$A$7:$A$457),0),0)","v":69},{"$f":"IF('Aferi (Variáveis)'!$C$12=\"Venda para Exportar\",0,IF('Aferi (Variáveis)'!$C$12=\"ALC\",0,IF('Aferi (Variáveis)'!$C$12=\"ZFM\",0,IF('Aferi (Variáveis)'!$C$12=\"Exportação\",0,IF('Aferi (Variáveis)'!$C$12=\"AO\",0,E32/(100+(0*'Aferi (Variáveis)'!$K$12/100))*100*K32%/100*'Aferi (Variáveis)'!$K$12)))))","v":0.68985000000000007},10.347750000000001,{"$f":"(E32*'Aferi (Variáveis)'!$K$12/100)","v":13.797000000000001},206.95500000000001,{"$f":"IF('Aferi (Variáveis)'!$F$20=\"Venda para Exportar\",0,IF('Aferi (Variáveis)'!$F$20=\"ALC\",0,IF('Aferi (Variáveis)'!$F$20=\"ZFM\",0,IF('Aferi (Variáveis)'!$F$20=\"Exportação\",0,IF('Aferi (Variáveis)'!$F$20=\"AO\",7*T32/100,T32*'Aferi (Variáveis)'!$F$20/100)))))","v":0.96579000000000004},0.14900760000000002,{"$f":"IF('Aferi (Variáveis)'!$C$12=\"ZFM\",0,IF('Aferi (Variáveis)'!$C$12=\"Exportação\",0,3*T32/100))","v":0.41391000000000006},{"$f":"IF('Aferi (Variáveis)'!$C$12=\"ZFM\",0,IF('Aferi (Variáveis)'!$C$12=\"Exportação\",0,0.65*T32/100))","v":8.9680499999999996E-2},0.16556400000000002,9.8550000000000013E-2,0,0.39420000000000005,0.65700000000000003,0.98550000000000004,3.9192021000000001,2.9570844924000017,15.002965461187223,{"$f":"SUMIF('Custo Básico dos Produtos'!$B$7:$B$480,A32,'Custo Básico dos Produtos'!$K$7:$K$480)","v":1},null,null,12.833713407599999,21.348367437661839,1.932240736782773,2.3127398057466992,4.2696734875323674,0.19999999999999998]
[608,{"$f":"IF(Q33<>0,VLOOKUP(Q33,'Custo Básico dos Produtos'!$A$7:$J$480,3),\"\")","v":"EXTENSAO COMPACT BIPOLAR PRETA 10 MTS  "},null,{"$f":"SUMIF('Custo Básico dos Produtos'!$A$7:$A$480,Q33,'Custo Básico dos Produtos'!$J$7:$J$480)","v":12.833713407599999},19.71,3.7507413652968058,{"$f":"IF(B33=\"\",0,SUMIF('Cadastro de Produtos em Linha'!$B$7:$B$457,A33,'Cadastro de Produtos em Linha'!$D$7:$D$457))","v":15},1,15,295.65000000000003,{"$f":"IF('Aferi (Variáveis)'!$C$12=\"ALC\",0,IF('Aferi (Variáveis)'!$C$12=\"ZFM\",0,IF('Aferi (Variáveis)'!$C$12=\"Exportação\",0,IF('Aferi (Variáveis)'!$C$12=\"Venda para Exportar\",0,IF('Aferi (Variáveis)'!$C$12=\"AO\",0,SUMIF('Custo Básico dos Produtos'!$A$7:$A$480,Q33,'Custo Básico dos Produtos'!$L$7:$L$480))))))","v":5},305.99775000000005,10.347750000000001,305.99775000000005,44.356267386000027,{"$f":"SUMIF('Cadastro de Produtos em Linha'!$A$6:$A$457,Q33,'Cadastro de Produtos em Linha'!$E$6:$E$457)*H33","v":0.02},{"$f":"IF(TODAY()<$AK$26,IF(A33<>\"\",SUMIF('Custo Básico dos Produtos'!$B$7:$B$457,A33,'Custo Básico dos Produtos'!$A$7:$A$457),0),0)","v":73},{"$f":"IF('Aferi (Variáveis)'!$C$12=\"Venda para Exportar\",0,IF('Aferi (Variáveis)'!$C$12=\"ALC\",0,IF('Aferi (Variáveis)'!$C$12=\"ZFM\",0,IF('Aferi (Variáveis)'!$C$12=\"Exportação\",0,IF('Aferi (Variáveis)'!$C$12=\"AO\",0,E33/(100+(0*'Aferi (Variáveis)'!$K$12/100))*100*K33%/100*'Aferi (Variáveis)'!$K$12)))))","v":0.68985000000000007},10.347750000000001,{"$f":"(E33*'Aferi (Variáveis)'!$K$12/100)","v":13.797000000000001},206.95500000000001,{"$f":"IF('Aferi (Variáveis)'!$F$20=\"Venda para Exportar\",0,IF('Aferi (Variáveis)'!$F$20=\"ALC\",0,IF('Aferi (Variáveis)'!$F$20=\"ZFM\",0,IF('Aferi (Variáveis)'!$F$20=\"Exportação\",0,IF('Aferi (Variáveis)'!$F$20=\"AO\",7*T33/100,T33*'Aferi (Variáveis)'!$F$20/100)))))","v":0.96579000000000004},0.14900760000000002,{"$f":"IF('Aferi (Variáveis)'!$C$12=\"ZFM\",0,IF('Aferi (Variáveis)'!$C$12=\"Exportação\",0,3*T33/100))","v":0.41391000000000006},{"$f":"IF('Aferi (Variáveis)'!$C$12=\"ZFM\",0,IF('Aferi (Variáveis)'!$C$12=\"Exportação\",0,0.65*T33/100))","v":8.9680499999999996E-2},0.16556400000000002,9.8550000000000013E-2,0,0.39420000000000005,0.65700000000000003,0.98550000000000004,3.9192021000000001,2.9570844924000017,15.002965461187223,{"$f":"SUMIF('Custo Básico dos Produtos'!$B$7:$B$480,A33,'Custo Básico dos Produtos'!$K$7:$K$480)","v":1},null,null,12.833713407599999,21.348367437661839,1.932240736782773,2.3127398057466992,4.2696734875323674,0.19999999999999998]
[652,{"$f":"IF(Q34<>0,VLOOKUP(Q34,'Custo Básico dos Produtos'!$A$7:$J$480,3),\"\")","v":"EXTENSAO COMPACT TRIPOLAR BRANCA 3 MTS  "},null,{"$f":"SUMIF('Custo Básico dos Produtos'!$A$7:$A$480,Q34,'Custo Básico dos Produtos'!$J$7:$J$480)","v":8.6702181299999985},13.32,3.7559847409909932,{"$f":"IF(B34=\"\",0,SUMIF('Cadastro de Produtos em Linha'!$B$7:$B$457,A34,'Cadastro de Produtos em Linha'!$D$7:$D$457))","v":20},2,40,532.79999999999995,{"$f":"IF('Aferi (Variáveis)'!$C$12=\"ALC\",0,IF('Aferi (Variáveis)'!$C$12=\"ZFM\",0,IF('Aferi (Variáveis)'!$C$12=\"Exportação\",0,IF('Aferi (Variáveis)'!$C$12=\"Venda para Exportar\",0,IF('Aferi (Variáveis)'!$C$12=\"AO\",0,SUMIF('Custo Básico dos Produtos'!$A$7:$A$480,Q34,'Custo Básico dos Produtos'!$L$7:$L$480))))))","v":5},551.44799999999998,18.648000000000003,551.44799999999998,80.047546800000049,{"$f":"SUMIF('Cadastro de Produtos em Linha'!$A$6:$A$457,Q34,'Cadastro de Produtos em Linha'!$E$6:$E$457)*H34","v":3.952E-2},{"$f":"IF(TODAY()<$AK$26,IF(A34<>\"\",SUMIF('Custo Básico dos Produtos'!$B$7:$B$457,A34,'Custo Básico dos Produtos'!$A$7:$A$457),0),0)","v":79},{"$f":"IF('Aferi (Variáveis)'!$C$12=\"Venda para Exportar\",0,IF('Aferi (Variáveis)'!$C$12=\"ALC\",0,IF('Aferi (Variáveis)'!$C$12=\"ZFM\",0,IF('Aferi (Variáveis)'!$C$12=\"Exportação\",0,IF('Aferi (Variáveis)'!$C$12=\"AO\",0,E34/(100+(0*'Aferi (Variáveis)'!$K$12/100))*100*K34%/100*'Aferi (Variáveis)'!$K$12)))))","v":0.46620000000000011},18.648000000000003,{"$f":"(E34*'Aferi (Variáveis)'!$K$12/100)","v":9.3239999999999998},372.96,{"$f":"IF('Aferi (Variáveis)'!$F$20=\"Venda para Exportar\",0,IF('Aferi (Variáveis)'!$F$20=\"ALC\",0,IF('Aferi (Variáveis)'!$F$20=\"ZFM\",0,IF('Aferi (Variáveis)'!$F$20=\"Exportação\",0,IF('Aferi (Variáveis)'!$F$20=\"AO\",7*T34/100,T34*'Aferi (Variáveis)'!$F$20/100)))))","v":0.65268000000000004},0.1006992,{"$f":"IF('Aferi (Variáveis)'!$C$12=\"ZFM\",0,IF('Aferi (Variáveis)'!$C$12=\"Exportação\",0,3*T34/100))","v":0.27972000000000002},{"$f":"IF('Aferi (Variáveis)'!$C$12=\"ZFM\",0,IF('Aferi (Variáveis)'!$C$12=\"Exportação\",0,0.65*T34/100))","v":6.0606E-2},0.111888,6.6600000000000006E-2,0,0.26640000000000003,0.44400000000000001,0.66600000000000004,2.6485932000000001,2.0011886700000012,15.023938963963973,{"$f":"SUMIF('Custo Básico dos Produtos'!$B$7:$B$480,A34,'Custo Básico dos Produtos'!$K$7:$K$480)","v":1},null,null,8.6702181299999985,14.422560059219169,1.3053859109599268,1.5624440064154099,2.8845120118438334,0.19999999999999998]
[656,{"$f":"IF(Q35<>0,VLOOKUP(Q35,'Custo Básico dos Produtos'!$A$7:$J$480,3),\"\")","v":"EXTENSAO COMPACT TRIPOLAR PRETA 3 MTS  "},null,{"$f":"SUMIF('Custo Básico dos Produtos'!$A$7:$A$480,Q35,'Custo Básico dos Produtos'!$J$7:$J$480)","v":8.6702181299999985},13.32,3.7559847409909932,{"$f":"IF(B35=\"\",0,SUMIF('Cadastro de Produtos em Linha'!$B$7:$B$457,A35,'Cadastro de Produtos em Linha'!$D$7:$D$457))","v":20},2,40,532.79999999999995,{"$f":"IF('Aferi (Variáveis)'!$C$12=\"ALC\",0,IF('Aferi (Variáveis)'!$C$12=\"ZFM\",0,IF('Aferi (Variáveis)'!$C$12=\"Exportação\",0,IF('Aferi (Variáveis)'!$C$12=\"Venda para Exportar\",0,IF('Aferi (Variáveis)'!$C$12=\"AO\",0,SUMIF('Custo Básico dos Produtos'!$A$7:$A$480,Q35,'Custo Básico dos Produtos'!$L$7:$L$480))))))","v":5},551.44799999999998,18.648000000000003,551.44799999999998,80.047546800000049,{"$f":"SUMIF('Cadastro de Produtos em Linha'!$A$6:$A$457,Q35,'Cadastro de Produtos em Linha'!$E$6:$E$457)*H35","v":3.952E-2},{"$f":"IF(TODAY()<$AK$26,IF(A35<>\"\",SUMIF('Custo Básico dos Produtos'!$B$7:$B$457,A35,'Custo Básico dos Produtos'!$A$7:$A$457),0),0)","v":83},{"$f":"IF('Aferi (Variáveis)'!$C$12=\"Venda para Exportar\",0,IF('Aferi (Variáveis)'!$C$12=\"ALC\",0,IF('Aferi (Variáveis)'!$C$12=\"ZFM\",0,IF('Aferi (Variáveis)'!$C$12=\"Exportação\",0,IF('Aferi (Variáveis)'!$C$12=\"AO\",0,E35/(100+(0*'Aferi (Variáveis)'!$K$12/100))*100*K35%/100*'Aferi (Variáveis)'!$K$12)))))","v":0.46620000000000011},18.648000000000003,{"$f":"(E35*'Aferi (Variáveis)'!$K$12/100)","v":9.3239999999999998},372.96,{"$f":"IF('Aferi (Variáveis)'!$F$20=\"Venda para Exportar\",0,IF('Aferi (Variáveis)'!$F$20=\"ALC\",0,IF('Aferi (Variáveis)'!$F$20=\"ZFM\",0,IF('Aferi (Variáveis)'!$F$20=\"Exportação\",0,IF('Aferi (Variáveis)'!$F$20=\"AO\",7*T35/100,T35*'Aferi (Variáveis)'!$F$20/100)))))","v":0.65268000000000004},0.1006992,{"$f":"IF('Aferi (Variáveis)'!$C$12=\"ZFM\",0,IF('Aferi (Variáveis)'!$C$12=\"Exportação\",0,3*T35/100))","v":0.27972000000000002},{"$f":"IF('Aferi (Variáveis)'!$C$12=\"ZFM\",0,IF('Aferi (Variáveis)'!$C$12=\"Exportação\",0,0.65*T35/100))","v":6.0606E-2},0.111888,6.6600000000000006E-2,0,0.26640000000000003,0.44400000000000001,0.66600000000000004,2.6485932000000001,2.0011886700000012,15.023938963963973,{"$f":"SUMIF('Custo Básico dos Produtos'!$B$7:$B$480,A35,'Custo Básico dos Produtos'!$K$7:$K$480)","v":1},null,null,8.6702181299999985,14.422560059219169,1.3053859109599268,1.5624440064154099,2.8845120118438334,0.19999999999999998]
[653,{"$f":"IF(Q36<>0,VLOOKUP(Q36,'Custo Básico dos Produtos'!$A$7:$J$480,3),\"\")","v":"EXTENSAO COMPACT TRIPOLAR BRANCA 5 MTS  "},null,{"$f":"SUMIF('Custo Básico dos Produtos'!$A$7:$A$480,Q36,'Custo Básico dos Produtos'!$J$7:$J$480)","v":12.249849024},18.82,3.7565348600779322,{"$f":"IF(B36=\"\",0,SUMIF('Cadastro de Produtos em Linha'!$B$7:$B$457,A36,'Cadastro de Produtos em Linha'!$D$7:$D$457))","v":20},1,20,376.4,{"$f":"IF('Aferi (Variáveis)'!$C$12=\"ALC\",0,IF('Aferi (Variáveis)'!$C$12=\"ZFM\",0,IF('Aferi (Variáveis)'!$C$12=\"Exportação\",0,IF('Aferi (Variáveis)'!$C$12=\"Venda para Exportar\",0,IF('Aferi (Variáveis)'!$C$12=\"AO\",0,SUMIF('Custo Básico dos Produtos'!$A$7:$A$480,Q36,'Custo Básico dos Produtos'!$L$7:$L$480))))))","v":5},389.57399999999996,13.173999999999999,389.57399999999996,56.558388853333348,{"$f":"SUMIF('Cadastro de Produtos em Linha'!$A$6:$A$457,Q36,'Cadastro de Produtos em Linha'!$E$6:$E$457)*H36","v":2.1735999999999998E-2},{"$f":"IF(TODAY()<$AK$26,IF(A36<>\"\",SUMIF('Custo Básico dos Produtos'!$B$7:$B$457,A36,'Custo Básico dos Produtos'!$A$7:$A$457),0),0)","v":80},{"$f":"IF('Aferi (Variáveis)'!$C$12=\"Venda para Exportar\",0,IF('Aferi (Variáveis)'!$C$12=\"ALC\",0,IF('Aferi (Variáveis)'!$C$12=\"ZFM\",0,IF('Aferi (Variáveis)'!$C$12=\"Exportação\",0,IF('Aferi (Variáveis)'!$C$12=\"AO\",0,E36/(100+(0*'Aferi (Variáveis)'!$K$12/100))*100*K36%/100*'Aferi (Variáveis)'!$K$12)))))","v":0.65869999999999995},13.173999999999999,{"$f":"(E36*'Aferi (Variáveis)'!$K$12/100)","v":13.174000000000001},263.48,{"$f":"IF('Aferi (Variáveis)'!$F$20=\"Venda para Exportar\",0,IF('Aferi (Variáveis)'!$F$20=\"ALC\",0,IF('Aferi (Variáveis)'!$F$20=\"ZFM\",0,IF('Aferi (Variáveis)'!$F$20=\"Exportação\",0,IF('Aferi (Variáveis)'!$F$20=\"AO\",7*T36/100,T36*'Aferi (Variáveis)'!$F$20/100)))))","v":0.92218},0.14227920000000002,{"$f":"IF('Aferi (Variáveis)'!$C$12=\"ZFM\",0,IF('Aferi (Variáveis)'!$C$12=\"Exportação\",0,3*T36/100))","v":0.39522000000000007},{"$f":"IF('Aferi (Variáveis)'!$C$12=\"ZFM\",0,IF('Aferi (Variáveis)'!$C$12=\"Exportação\",0,0.65*T36/100))","v":8.5630999999999999E-2},0.15808800000000001,9.4100000000000003E-2,0,0.37640000000000001,0.6273333333333333,0.94100000000000006,3.7422315333333334,2.8279194426666674,15.026139440311729,{"$f":"SUMIF('Custo Básico dos Produtos'!$B$7:$B$480,A36,'Custo Básico dos Produtos'!$K$7:$K$480)","v":1},null,null,12.249849024,20.377132456874801,1.8443342586717382,2.2075226828281034,4.0754264913749587,0.19999999999999993]
[657,{"$f":"IF(Q37<>0,VLOOKUP(Q37,'Custo Básico dos Produtos'!$A$7:$J$480,3),\"\")","v":"EXTENSAO COMPACT TRIPOLAR PRETA 5 MTS  "},null,{"$f":"SUMIF('Custo Básico dos Produtos'!$A$7:$A$480,Q37,'Custo Básico dos Produtos'!$J$7:$J$480)","v":12.249849024},18.82,3.7565348600779322,{"$f":"IF(B37=\"\",0,SUMIF('Cadastro de Produtos em Linha'!$B$7:$B$457,A37,'Cadastro de Produtos em Linha'!$D$7:$D$457))","v":20},1,20,376.4,{"$f":"IF('Aferi (Variáveis)'!$C$12=\"ALC\",0,IF('Aferi (Variáveis)'!$C$12=\"ZFM\",0,IF('Aferi (Variáveis)'!$C$12=\"Exportação\",0,IF('Aferi (Variáveis)'!$C$12=\"Venda para Exportar\",0,IF('Aferi (Variáveis)'!$C$12=\"AO\",0,SUMIF('Custo Básico dos Produtos'!$A$7:$A$480,Q37,'Custo Básico dos Produtos'!$L$7:$L$480))))))","v":5},389.57399999999996,13.173999999999999,389.57399999999996,56.558388853333348,{"$f":"SUMIF('Cadastro de Produtos em Linha'!$A$6:$A$457,Q37,'Cadastro de Produtos em Linha'!$E$6:$E$457)*H37","v":2.1735999999999998E-2},{"$f":"IF(TODAY()<$AK$26,IF(A37<>\"\",SUMIF('Custo Básico dos Produtos'!$B$7:$B$457,A37,'Custo Básico dos Produtos'!$A$7:$A$457),0),0)","v":84},{"$f":"IF('Aferi (Variáveis)'!$C$12=\"Venda para Exportar\",0,IF('Aferi (Variáveis)'!$C$12=\"ALC\",0,IF('Aferi (Variáveis)'!$C$12=\"ZFM\",0,IF('Aferi (Variáveis)'!$C$12=\"Exportação\",0,IF('Aferi (Variáveis)'!$C$12=\"AO\",0,E37/(100+(0*'Aferi (Variáveis)'!$K$12/100))*100*K37%/100*'Aferi (Variáveis)'!$K$12)))))","v":0.65869999999999995},13.173999999999999,{"$f":"(E37*'Aferi (Variáveis)'!$K$12/100)","v":13.174000000000001},263.48,{"$f":"IF('Aferi (Variáveis)'!$F$20=\"Venda para Exportar\",0,IF('Aferi (Variáveis)'!$F$20=\"ALC\",0,IF('Aferi (Variáveis)'!$F$20=\"ZFM\",0,IF('Aferi (Variáveis)'!$F$20=\"Exportação\",0,IF('Aferi (Variáveis)'!$F$20=\"AO\",7*T37/100,T37*'Aferi (Variáveis)'!$F$20/100)))))","v":0.92218},0.14227920000000002,{"$f":"IF('Aferi (Variáveis)'!$C$12=\"ZFM\",0,IF('Aferi (Variáveis)'!$C$12=\"Exportação\",0,3*T37/100))","v":0.39522000000000007},{"$f":"IF('Aferi (Variáveis)'!$C$12=\"ZFM\",0,IF('Aferi (Variáveis)'!$C$12=\"Exportação\",0,0.65*T37/100))","v":8.5630999999999999E-2},0.15808800000000001,9.4100000000000003E-2,0,0.37640000000000001,0.6273333333333333,0.94100000000000006,3.7422315333333334,2.8279194426666674,15.026139440311729,{"$f":"SUMIF('Custo Básico dos Produtos'!$B$7:$B$480,A37,'Custo Básico dos Produtos'!$K$7:$K$480)","v":1},null,null,12.249849024,20.377132456874801,1.8443342586717382,2.2075226828281034,4.0754264913749587,0.19999999999999993]
[null,{"$f":"IF(Q38<>0,VLOOKUP(Q38,'Custo Básico dos Produtos'!$A$7:$J$480,3),\"\")","v":""},null,{"$f":"SUMIF('Custo Básico dos Produtos'!$A$7:$A$480,Q38,'Custo Básico dos Produtos'!$J$7:$J$480)","v":0},null,0,{"$f":"IF(B38=\"\",0,SUMIF('Cadastro de Produtos em Linha'!$B$7:$B$457,A38,'Cadastro de Produtos em Linha'!$D$7:$D$457))","v":0},null,0,0,{"$f":"IF('Aferi (Variáveis)'!$C$12=\"ALC\",0,IF('Aferi (Variáveis)'!$C$12=\"ZFM\",0,IF('Aferi (Variáveis)'!$C$12=\"Exportação\",0,IF('Aferi (Variáveis)'!$C$12=\"Venda para Exportar\",0,IF('Aferi (Variáveis)'!$C$12=\"AO\",0,SUMIF('Custo Básico dos Produtos'!$A$7:$A$480,Q38,'Custo Básico dos Produtos'!$L$7:$L$480))))))","v":0},0,0,0,0,{"$f":"SUMIF('Cadastro de Produtos em Linha'!$A$6:$A$457,Q38,'Cadastro de Produtos em Linha'!$E$6:$E$457)*H38","v":0},{"$f":"IF(TODAY()<$AK$26,IF(A38<>\"\",SUMIF('Custo Básico dos Produtos'!$B$7:$B$457,A38,'Custo Básico dos Produtos'!$A$7:$A$457),0),0)","v":0},{"$f":"IF('Aferi (Variáveis)'!$C$12=\"Venda para Exportar\",0,IF('Aferi (Variáveis)'!$C$12=\"ALC\",0,IF('Aferi (Variáveis)'!$C$12=\"ZFM\",0,IF('Aferi (Variáveis)'!$C$12=\"Exportação\",0,IF('Aferi (Variáveis)'!$C$12=\"AO\",0,E38/(100+(0*'Aferi (Variáveis)'!$K$12/100))*100*K38%/100*'Aferi (Variáveis)'!$K$12)))))","v":0},0,{"$f":"(E38*'Aferi (Variáveis)'!$K$12/100)","v":0},0,{"$f":"IF('Aferi (Variáveis)'!$F$20=\"Venda para Exportar\",0,IF('Aferi (Variáveis)'!$F$20=\"ALC\",0,IF('Aferi (Variáveis)'!$F$20=\"ZFM\",0,IF('Aferi (Variáveis)'!$F$20=\"Exportação\",0,IF('Aferi (Variáveis)'!$F$20=\"AO\",7*T38/100,T38*'Aferi (Variáveis)'!$F$20/100)))))","v":0},0,{"$f":"IF('Aferi (Variáveis)'!$C$12=\"ZFM\",0,IF('Aferi (Variáveis)'!$C$12=\"Exportação\",0,3*T38/100))","v":0},{"$f":"IF('Aferi (Variáveis)'!$C$12=\"ZFM\",0,IF('Aferi (Variáveis)'!$C$12=\"Exportação\",0,0.65*T38/100))","v":0},0,0,0,0,0,0,0,0,0,{"$f":"SUMIF('Custo Básico dos Produtos'!$B$7:$B$480,A38,'Custo Básico dos Produtos'!$K$7:$K$480)","v":0},null,null,0,0,0,0,0,0]
[null,{"$f":"IF(Q39<>0,VLOOKUP(Q39,'Custo Básico dos Produtos'!$A$7:$J$480,3),\"\")","v":""},null,{"$f":"SUMIF('Custo Básico dos Produtos'!$A$7:$A$480,Q39,'Custo Básico dos Produtos'!$J$7:$J$480)","v":0},null,0,{"$f":"IF(B39=\"\",0,SUMIF('Cadastro de Produtos em Linha'!$B$7:$B$457,A39,'Cadastro de Produtos em Linha'!$D$7:$D$457))","v":0},null,0,0,{"$f":"IF('Aferi (Variáveis)'!$C$12=\"ALC\",0,IF('Aferi (Variáveis)'!$C$12=\"ZFM\",0,IF('Aferi (Variáveis)'!$C$12=\"Exportação\",0,IF('Aferi (Variáveis)'!$C$12=\"Venda para Exportar\",0,IF('Aferi (Variáveis)'!$C$12=\"AO\",0,SUMIF('Custo Básico dos Produtos'!$A$7:$A$480,Q39,'Custo Básico dos Produtos'!$L$7:$L$480))))))","v":0},0,0,0,0,{"$f":"SUMIF('Cadastro de Produtos em Linha'!$A$6:$A$457,Q39,'Cadastro de Produtos em Linha'!$E$6:$E$457)*H39","v":0},{"$f":"IF(TODAY()<$AK$26,IF(A39<>\"\",SUMIF('Custo Básico dos Produtos'!$B$7:$B$457,A39,'Custo Básico dos Produtos'!$A$7:$A$457),0),0)","v":0},{"$f":"IF('Aferi (Variáveis)'!$C$12=\"Venda para Exportar\",0,IF('Aferi (Variáveis)'!$C$12=\"ALC\",0,IF('Aferi (Variáveis)'!$C$12=\"ZFM\",0,IF('Aferi (Variáveis)'!$C$12=\"Exportação\",0,IF('Aferi (Variáveis)'!$C$12=\"AO\",0,E39/(100+(0*'Aferi (Variáveis)'!$K$12/100))*100*K39%/100*'Aferi (Variáveis)'!$K$12)))))","v":0},0,{"$f":"(E39*'Aferi (Variáveis)'!$K$12/100)","v":0},0,{"$f":"IF('Aferi (Variáveis)'!$F$20=\"Venda para Exportar\",0,IF('Aferi (Variáveis)'!$F$20=\"ALC\",0,IF('Aferi (Variáveis)'!$F$20=\"ZFM\",0,IF('Aferi (Variáveis)'!$F$20=\"Exportação\",0,IF('Aferi (Variáveis)'!$F$20=\"AO\",7*T39/100,T39*'Aferi (Variáveis)'!$F$20/100)))))","v":0},0,{"$f":"IF('Aferi (Variáveis)'!$C$12=\"ZFM\",0,IF('Aferi (Variáveis)'!$C$12=\"Exportação\",0,3*T39/100))","v":0},{"$f":"IF('Aferi (Variáveis)'!$C$12=\"ZFM\",0,IF('Aferi (Variáveis)'!$C$12=\"Exportação\",0,0.65*T39/100))","v":0},0,0,0,0,0,0,0,0,0,{"$f":"SUMIF('Custo Básico dos Produtos'!$B$7:$B$480,A39,'Custo Básico dos Produtos'!$K$7:$K$480)","v":0},null,null,0,0,0,0,0,0]
[null,{"$f":"IF(Q40<>0,VLOOKUP(Q40,'Custo Básico dos Produtos'!$A$7:$J$480,3),\"\")","v":""},null,{"$f":"SUMIF('Custo Básico dos Produtos'!$A$7:$A$480,Q40,'Custo Básico dos Produtos'!$J$7:$J$480)","v":0},null,0,{"$f":"IF(B40=\"\",0,SUMIF('Cadastro de Produtos em Linha'!$B$7:$B$457,A40,'Cadastro de Produtos em Linha'!$D$7:$D$457))","v":0},null,0,0,{"$f":"IF('Aferi (Variáveis)'!$C$12=\"ALC\",0,IF('Aferi (Variáveis)'!$C$12=\"ZFM\",0,IF('Aferi (Variáveis)'!$C$12=\"Exportação\",0,IF('Aferi (Variáveis)'!$C$12=\"Venda para Exportar\",0,IF('Aferi (Variáveis)'!$C$12=\"AO\",0,SUMIF('Custo Básico dos Produtos'!$A$7:$A$480,Q40,'Custo Básico dos Produtos'!$L$7:$L$480))))))","v":0},0,0,0,0,{"$f":"SUMIF('Cadastro de Produtos em Linha'!$A$6:$A$457,Q40,'Cadastro de Produtos em Linha'!$E$6:$E$457)*H40","v":0},{"$f":"IF(TODAY()<$AK$26,IF(A40<>\"\",SUMIF('Custo Básico dos Produtos'!$B$7:$B$457,A40,'Custo Básico dos Produtos'!$A$7:$A$457),0),0)","v":0},{"$f":"IF('Aferi (Variáveis)'!$C$12=\"Venda para Exportar\",0,IF('Aferi (Variáveis)'!$C$12=\"ALC\",0,IF('Aferi (Variáveis)'!$C$12=\"ZFM\",0,IF('Aferi (Variáveis)'!$C$12=\"Exportação\",0,IF('Aferi (Variáveis)'!$C$12=\"AO\",0,E40/(100+(0*'Aferi (Variáveis)'!$K$12/100))*100*K40%/100*'Aferi (Variáveis)'!$K$12)))))","v":0},0,{"$f":"(E40*'Aferi (Variáveis)'!$K$12/100)","v":0},0,{"$f":"IF('Aferi (Variáveis)'!$F$20=\"Venda para Exportar\",0,IF('Aferi (Variáveis)'!$F$20=\"ALC\",0,IF('Aferi (Variáveis)'!$F$20=\"ZFM\",0,IF('Aferi (Variáveis)'!$F$20=\"Exportação\",0,IF('Aferi (Variáveis)'!$F$20=\"AO\",7*T40/100,T40*'Aferi (Variáveis)'!$F$20/100)))))","v":0},0,{"$f":"IF('Aferi (Variáveis)'!$C$12=\"ZFM\",0,IF('Aferi (Variáveis)'!$C$12=\"Exportação\",0,3*T40/100))","v":0},{"$f":"IF('Aferi (Variáveis)'!$C$12=\"ZFM\",0,IF('Aferi (Variáveis)'!$C$12=\"Exportação\",0,0.65*T40/100))","v":0},0,0,0,0,0,0,0,0,0,{"$f":"SUMIF('Custo Básico dos Produtos'!$B$7:$B$480,A40,'Custo Básico dos Produtos'!$K$7:$K$480)","v":0},null,null,0,0,0,0,0,0]
[null,{"$f":"IF(Q41<>0,VLOOKUP(Q41,'Custo Básico dos Produtos'!$A$7:$J$480,3),\"\")","v":""},null,{"$f":"SUMIF('Custo Básico dos Produtos'!$A$7:$A$480,Q41,'Custo Básico dos Produtos'!$J$7:$J$480)","v":0},null,0,{"$f":"IF(B41=\"\",0,SUMIF('Cadastro de Produtos em Linha'!$B$7:$B$457,A41,'Cadastro de Produtos em Linha'!$D$7:$D$457))","v":0},null,0,0,{"$f":"IF('Aferi (Variáveis)'!$C$12=\"ALC\",0,IF('Aferi (Variáveis)'!$C$12=\"ZFM\",0,IF('Aferi (Variáveis)'!$C$12=\"Exportação\",0,IF('Aferi (Variáveis)'!$C$12=\"Venda para Exportar\",0,IF('Aferi (Variáveis)'!$C$12=\"AO\",0,SUMIF('Custo Básico dos Produtos'!$A$7:$A$480,Q41,'Custo Básico dos Produtos'!$L$7:$L$480))))))","v":0},0,0,0,0,{"$f":"SUMIF('Cadastro de Produtos em Linha'!$A$6:$A$457,Q41,'Cadastro de Produtos em Linha'!$E$6:$E$457)*H41","v":0},{"$f":"IF(TODAY()<$AK$26,IF(A41<>\"\",SUMIF('Custo Básico dos Produtos'!$B$7:$B$457,A41,'Custo Básico dos Produtos'!$A$7:$A$457),0),0)","v":0},{"$f":"IF('Aferi (Variáveis)'!$C$12=\"Venda para Exportar\",0,IF('Aferi (Variáveis)'!$C$12=\"ALC\",0,IF('Aferi (Variáveis)'!$C$12=\"ZFM\",0,IF('Aferi (Variáveis)'!$C$12=\"Exportação\",0,IF('Aferi (Variáveis)'!$C$12=\"AO\",0,E41/(100+(0*'Aferi (Variáveis)'!$K$12/100))*100*K41%/100*'Aferi (Variáveis)'!$K$12)))))","v":0},0,{"$f":"(E41*'Aferi (Variáveis)'!$K$12/100)","v":0},0,{"$f":"IF('Aferi (Variáveis)'!$F$20=\"Venda para Exportar\",0,IF('Aferi (Variáveis)'!$F$20=\"ALC\",0,IF('Aferi (Variáveis)'!$F$20=\"ZFM\",0,IF('Aferi (Variáveis)'!$F$20=\"Exportação\",0,IF('Aferi (Variáveis)'!$F$20=\"AO\",7*T41/100,T41*'Aferi (Variáveis)'!$F$20/100)))))","v":0},0,{"$f":"IF('Aferi (Variáveis)'!$C$12=\"ZFM\",0,IF('Aferi (Variáveis)'!$C$12=\"Exportação\",0,3*T41/100))","v":0},{"$f":"IF('Aferi (Variáveis)'!$C$12=\"ZFM\",0,IF('Aferi (Variáveis)'!$C$12=\"Exportação\",0,0.65*T41/100))","v":0},0,0,0,0,0,0,0,0,0,{"$f":"SUMIF('Custo Básico dos Produtos'!$B$7:$B$480,A41,'Custo Básico dos Produtos'!$K$7:$K$480)","v":0},null,null,0,0,0,0,0,0]
[null,{"$f":"IF(Q42<>0,VLOOKUP(Q42,'Custo Básico dos Produtos'!$A$7:$J$480,3),\"\")","v":""},null,{"$f":"SUMIF('Custo Básico dos Produtos'!$A$7:$A$480,Q42,'Custo Básico dos Produtos'!$J$7:$J$480)","v":0},null,0,{"$f":"IF(B42=\"\",0,SUMIF('Cadastro de Produtos em Linha'!$B$7:$B$457,A42,'Cadastro de Produtos em Linha'!$D$7:$D$457))","v":0},null,0,0,{"$f":"IF('Aferi (Variáveis)'!$C$12=\"ALC\",0,IF('Aferi (Variáveis)'!$C$12=\"ZFM\",0,IF('Aferi (Variáveis)'!$C$12=\"Exportação\",0,IF('Aferi (Variáveis)'!$C$12=\"Venda para Exportar\",0,IF('Aferi (Variáveis)'!$C$12=\"AO\",0,SUMIF('Custo Básico dos Produtos'!$A$7:$A$480,Q42,'Custo Básico dos Produtos'!$L$7:$L$480))))))","v":0},0,0,0,0,{"$f":"SUMIF('Cadastro de Produtos em Linha'!$A$6:$A$457,Q42,'Cadastro de Produtos em Linha'!$E$6:$E$457)*H42","v":0},{"$f":"IF(TODAY()<$AK$26,IF(A42<>\"\",SUMIF('Custo Básico dos Produtos'!$B$7:$B$457,A42,'Custo Básico dos Produtos'!$A$7:$A$457),0),0)","v":0},{"$f":"IF('Aferi (Variáveis)'!$C$12=\"Venda para Exportar\",0,IF('Aferi (Variáveis)'!$C$12=\"ALC\",0,IF('Aferi (Variáveis)'!$C$12=\"ZFM\",0,IF('Aferi (Variáveis)'!$C$12=\"Exportação\",0,IF('Aferi (Variáveis)'!$C$12=\"AO\",0,E42/(100+(0*'Aferi (Variáveis)'!$K$12/100))*100*K42%/100*'Aferi (Variáveis)'!$K$12)))))","v":0},0,{"$f":"(E42*'Aferi (Variáveis)'!$K$12/100)","v":0},0,{"$f":"IF('Aferi (Variáveis)'!$F$20=\"Venda para Exportar\",0,IF('Aferi (Variáveis)'!$F$20=\"ALC\",0,IF('Aferi (Variáveis)'!$F$20=\"ZFM\",0,IF('Aferi (Variáveis)'!$F$20=\"Exportação\",0,IF('Aferi (Variáveis)'!$F$20=\"AO\",7*T42/100,T42*'Aferi (Variáveis)'!$F$20/100)))))","v":0},0,{"$f":"IF('Aferi (Variáveis)'!$C$12=\"ZFM\",0,IF('Aferi (Variáveis)'!$C$12=\"Exportação\",0,3*T42/100))","v":0},{"$f":"IF('Aferi (Variáveis)'!$C$12=\"ZFM\",0,IF('Aferi (Variáveis)'!$C$12=\"Exportação\",0,0.65*T42/100))","v":0},0,0,0,0,0,0,0,0,0,{"$f":"SUMIF('Custo Básico dos Produtos'!$B$7:$B$480,A42,'Custo Básico dos Produtos'!$K$7:$K$480)","v":0},null,null,0,0,0,0,0,0]
[null,{"$f":"IF(Q43<>0,VLOOKUP(Q43,'Custo Básico dos Produtos'!$A$7:$J$480,3),\"\")","v":""},null,{"$f":"SUMIF('Custo Básico dos Produtos'!$A$7:$A$480,Q43,'Custo Básico dos Produtos'!$J$7:$J$480)","v":0},null,0,{"$f":"IF(B43=\"\",0,SUMIF('Cadastro de Produtos em Linha'!$B$7:$B$457,A43,'Cadastro de Produtos em Linha'!$D$7:$D$457))","v":0},null,0,0,{"$f":"IF('Aferi (Variáveis)'!$C$12=\"ALC\",0,IF('Aferi (Variáveis)'!$C$12=\"ZFM\",0,IF('Aferi (Variáveis)'!$C$12=\"Exportação\",0,IF('Aferi (Variáveis)'!$C$12=\"Venda para Exportar\",0,IF('Aferi (Variáveis)'!$C$12=\"AO\",0,SUMIF('Custo Básico dos Produtos'!$A$7:$A$480,Q43,'Custo Básico dos Produtos'!$L$7:$L$480))))))","v":0},0,0,0,0,{"$f":"SUMIF('Cadastro de Produtos em Linha'!$A$6:$A$457,Q43,'Cadastro de Produtos em Linha'!$E$6:$E$457)*H43","v":0},{"$f":"IF(TODAY()<$AK$26,IF(A43<>\"\",SUMIF('Custo Básico dos Produtos'!$B$7:$B$457,A43,'Custo Básico dos Produtos'!$A$7:$A$457),0),0)","v":0},{"$f":"IF('Aferi (Variáveis)'!$C$12=\"Venda para Exportar\",0,IF('Aferi (Variáveis)'!$C$12=\"ALC\",0,IF('Aferi (Variáveis)'!$C$12=\"ZFM\",0,IF('Aferi (Variáveis)'!$C$12=\"Exportação\",0,IF('Aferi (Variáveis)'!$C$12=\"AO\",0,E43/(100+(0*'Aferi (Variáveis)'!$K$12/100))*100*K43%/100*'Aferi (Variáveis)'!$K$12)))))","v":0},0,{"$f":"(E43*'Aferi (Variáveis)'!$K$12/100)","v":0},0,{"$f":"IF('Aferi (Variáveis)'!$F$20=\"Venda para Exportar\",0,IF('Aferi (Variáveis)'!$F$20=\"ALC\",0,IF('Aferi (Variáveis)'!$F$20=\"ZFM\",0,IF('Aferi (Variáveis)'!$F$20=\"Exportação\",0,IF('Aferi (Variáveis)'!$F$20=\"AO\",7*T43/100,T43*'Aferi (Variáveis)'!$F$20/100)))))","v":0},0,{"$f":"IF('Aferi (Variáveis)'!$C$12=\"ZFM\",0,IF('Aferi (Variáveis)'!$C$12=\"Exportação\",0,3*T43/100))","v":0},{"$f":"IF('Aferi (Variáveis)'!$C$12=\"ZFM\",0,IF('Aferi (Variáveis)'!$C$12=\"Exportação\",0,0.65*T43/100))","v":0},0,0,0,0,0,0,0,0,0,{"$f":"SUMIF('Custo Básico dos Produtos'!$B$7:$B$480,A43,'Custo Básico dos Produtos'!$K$7:$K$480)","v":0},null,null,0,0,0,0,0,0]
[null,{"$f":"IF(Q44<>0,VLOOKUP(Q44,'Custo Básico dos Produtos'!$A$7:$J$480,3),\"\")","v":""},null,{"$f":"SUMIF('Custo Básico dos Produtos'!$A$7:$A$480,Q44,'Custo Básico dos Produtos'!$J$7:$J$480)","v":0},null,0,{"$f":"IF(B44=\"\",0,SUMIF('Cadastro de Produtos em Linha'!$B$7:$B$457,A44,'Cadastro de Produtos em Linha'!$D$7:$D$457))","v":0},null,0,0,{"$f":"IF('Aferi (Variáveis)'!$C$12=\"ALC\",0,IF('Aferi (Variáveis)'!$C$12=\"ZFM\",0,IF('Aferi (Variáveis)'!$C$12=\"Exportação\",0,IF('Aferi (Variáveis)'!$C$12=\"Venda para Exportar\",0,IF('Aferi (Variáveis)'!$C$12=\"AO\",0,SUMIF('Custo Básico dos Produtos'!$A$7:$A$480,Q44,'Custo Básico dos Produtos'!$L$7:$L$480))))))","v":0},0,0,0,0,{"$f":"SUMIF('Cadastro de Produtos em Linha'!$A$6:$A$457,Q44,'Cadastro de Produtos em Linha'!$E$6:$E$457)*H44","v":0},{"$f":"IF(TODAY()<$AK$26,IF(A44<>\"\",SUMIF('Custo Básico dos Produtos'!$B$7:$B$457,A44,'Custo Básico dos Produtos'!$A$7:$A$457),0),0)","v":0},{"$f":"IF('Aferi (Variáveis)'!$C$12=\"Venda para Exportar\",0,IF('Aferi (Variáveis)'!$C$12=\"ALC\",0,IF('Aferi (Variáveis)'!$C$12=\"ZFM\",0,IF('Aferi (Variáveis)'!$C$12=\"Exportação\",0,IF('Aferi (Variáveis)'!$C$12=\"AO\",0,E44/(100+(0*'Aferi (Variáveis)'!$K$12/100))*100*K44%/100*'Aferi (Variáveis)'!$K$12)))))","v":0},0,{"$f":"(E44*'Aferi (Variáveis)'!$K$12/100)","v":0},0,{"$f":"IF('Aferi (Variáveis)'!$F$20=\"Venda para Exportar\",0,IF('Aferi (Variáveis)'!$F$20=\"ALC\",0,IF('Aferi (Variáveis)'!$F$20=\"ZFM\",0,IF('Aferi (Variáveis)'!$F$20=\"Exportação\",0,IF('Aferi (Variáveis)'!$F$20=\"AO\",7*T44/100,T44*'Aferi (Variáveis)'!$F$20/100)))))","v":0},0,{"$f":"IF('Aferi (Variáveis)'!$C$12=\"ZFM\",0,IF('Aferi (Variáveis)'!$C$12=\"Exportação\",0,3*T44/100))","v":0},{"$f":"IF('Aferi (Variáveis)'!$C$12=\"ZFM\",0,IF('Aferi (Variáveis)'!$C$12=\"Exportação\",0,0.65*T44/100))","v":0},0,0,0,0,0,0,0,0,0,{"$f":"SUMIF('Custo Básico dos Produtos'!$B$7:$B$480,A44,'Custo Básico dos Produtos'!$K$7:$K$480)","v":0},null,null,0,0,0,0,0,0]
[null,{"$f":"IF(Q45<>0,VLOOKUP(Q45,'Custo Básico dos Produtos'!$A$7:$J$480,3),\"\")","v":""},null,{"$f":"SUMIF('Custo Básico dos Produtos'!$A$7:$A$480,Q45,'Custo Básico dos Produtos'!$J$7:$J$480)","v":0},null,0,{"$f":"IF(B45=\"\",0,SUMIF('Cadastro de Produtos em Linha'!$B$7:$B$457,A45,'Cadastro de Produtos em Linha'!$D$7:$D$457))","v":0},null,0,0,{"$f":"IF('Aferi (Variáveis)'!$C$12=\"ALC\",0,IF('Aferi (Variáveis)'!$C$12=\"ZFM\",0,IF('Aferi (Variáveis)'!$C$12=\"Exportação\",0,IF('Aferi (Variáveis)'!$C$12=\"Venda para Exportar\",0,IF('Aferi (Variáveis)'!$C$12=\"AO\",0,SUMIF('Custo Básico dos Produtos'!$A$7:$A$480,Q45,'Custo Básico dos Produtos'!$L$7:$L$480))))))","v":0},0,0,0,0,{"$f":"SUMIF('Cadastro de Produtos em Linha'!$A$6:$A$457,Q45,'Cadastro de Produtos em Linha'!$E$6:$E$457)*H45","v":0},{"$f":"IF(TODAY()<$AK$26,IF(A45<>\"\",SUMIF('Custo Básico dos Produtos'!$B$7:$B$457,A45,'Custo Básico dos Produtos'!$A$7:$A$457),0),0)","v":0},{"$f":"IF('Aferi (Variáveis)'!$C$12=\"Venda para Exportar\",0,IF('Aferi (Variáveis)'!$C$12=\"ALC\",0,IF('Aferi (Variáveis)'!$C$12=\"ZFM\",0,IF('Aferi (Variáveis)'!$C$12=\"Exportação\",0,IF('Aferi (Variáveis)'!$C$12=\"AO\",0,E45/(100+(0*'Aferi (Variáveis)'!$K$12/100))*100*K45%/100*'Aferi (Variáveis)'!$K$12)))))","v":0},0,{"$f":"(E45*'Aferi (Variáveis)'!$K$12/100)","v":0},0,{"$f":"IF('Aferi (Variáveis)'!$F$20=\"Venda para Exportar\",0,IF('Aferi (Variáveis)'!$F$20=\"ALC\",0,IF('Aferi (Variáveis)'!$F$20=\"ZFM\",0,IF('Aferi (Variáveis)'!$F$20=\"Exportação\",0,IF('Aferi (Variáveis)'!$F$20=\"AO\",7*T45/100,T45*'Aferi (Variáveis)'!$F$20/100)))))","v":0},0,{"$f":"IF('Aferi (Variáveis)'!$C$12=\"ZFM\",0,IF('Aferi (Variáveis)'!$C$12=\"Exportação\",0,3*T45/100))","v":0},{"$f":"IF('Aferi (Variáveis)'!$C$12=\"ZFM\",0,IF('Aferi (Variáveis)'!$C$12=\"Exportação\",0,0.65*T45/100))","v":0},0,0,0,0,0,0,0,0,0,{"$f":"SUMIF('Custo Básico dos Produtos'!$B$7:$B$480,A45,'Custo Básico dos Produtos'!$K$7:$K$480)","v":0},null,null,0,0,0,0,0,0]
[null,{"$f":"IF(Q46<>0,VLOOKUP(Q46,'Custo Básico dos Produtos'!$A$7:$J$480,3),\"\")","v":""},null,{"$f":"SUMIF('Custo Básico dos Produtos'!$A$7:$A$480,Q46,'Custo Básico dos Produtos'!$J$7:$J$480)","v":0},null,0,{"$f":"IF(B46=\"\",0,SUMIF('Cadastro de Produtos em Linha'!$B$7:$B$457,A46,'Cadastro de Produtos em Linha'!$D$7:$D$457))","v":0},null,0,0,{"$f":"IF('Aferi (Variáveis)'!$C$12=\"ALC\",0,IF('Aferi (Variáveis)'!$C$12=\"ZFM\",0,IF('Aferi (Variáveis)'!$C$12=\"Exportação\",0,IF('Aferi (Variáveis)'!$C$12=\"Venda para Exportar\",0,IF('Aferi (Variáveis)'!$C$12=\"AO\",0,SUMIF('Custo Básico dos Produtos'!$A$7:$A$480,Q46,'Custo Básico dos Produtos'!$L$7:$L$480))))))","v":0},0,0,0,0,{"$f":"SUMIF('Cadastro de Produtos em Linha'!$A$6:$A$457,Q46,'Cadastro de Produtos em Linha'!$E$6:$E$457)*H46","v":0},{"$f":"IF(TODAY()<$AK$26,IF(A46<>\"\",SUMIF('Custo Básico dos Produtos'!$B$7:$B$457,A46,'Custo Básico dos Produtos'!$A$7:$A$457),0),0)","v":0},{"$f":"IF('Aferi (Variáveis)'!$C$12=\"Venda para Exportar\",0,IF('Aferi (Variáveis)'!$C$12=\"ALC\",0,IF('Aferi (Variáveis)'!$C$12=\"ZFM\",0,IF('Aferi (Variáveis)'!$C$12=\"Exportação\",0,IF('Aferi (Variáveis)'!$C$12=\"AO\",0,E46/(100+(0*'Aferi (Variáveis)'!$K$12/100))*100*K46%/100*'Aferi (Variáveis)'!$K$12)))))","v":0},0,{"$f":"(E46*'Aferi (Variáveis)'!$K$12/100)","v":0},0,{"$f":"IF('Aferi (Variáveis)'!$F$20=\"Venda para Exportar\",0,IF('Aferi (Variáveis)'!$F$20=\"ALC\",0,IF('Aferi (Variáveis)'!$F$20=\"ZFM\",0,IF('Aferi (Variáveis)'!$F$20=\"Exportação\",0,IF('Aferi (Variáveis)'!$F$20=\"AO\",7*T46/100,T46*'Aferi (Variáveis)'!$F$20/100)))))","v":0},0,{"$f":"IF('Aferi (Variáveis)'!$C$12=\"ZFM\",0,IF('Aferi (Variáveis)'!$C$12=\"Exportação\",0,3*T46/100))","v":0},{"$f":"IF('Aferi (Variáveis)'!$C$12=\"ZFM\",0,IF('Aferi (Variáveis)'!$C$12=\"Exportação\",0,0.65*T46/100))","v":0},0,0,0,0,0,0,0,0,0,{"$f":"SUMIF('Custo Básico dos Produtos'!$B$7:$B$480,A46,'Custo Básico dos Produtos'!$K$7:$K$480)","v":0},null,null,0,0,0,0,0,0]
[null,{"$f":"IF(Q47<>0,VLOOKUP(Q47,'Custo Básico dos Produtos'!$A$7:$J$480,3),\"\")","v":""},null,{"$f":"SUMIF('Custo Básico dos Produtos'!$A$7:$A$480,Q47,'Custo Básico dos Produtos'!$J$7:$J$480)","v":0},null,0,{"$f":"IF(B47=\"\",0,SUMIF('Cadastro de Produtos em Linha'!$B$7:$B$457,A47,'Cadastro de Produtos em Linha'!$D$7:$D$457))","v":0},null,0,0,{"$f":"IF('Aferi (Variáveis)'!$C$12=\"ALC\",0,IF('Aferi (Variáveis)'!$C$12=\"ZFM\",0,IF('Aferi (Variáveis)'!$C$12=\"Exportação\",0,IF('Aferi (Variáveis)'!$C$12=\"Venda para Exportar\",0,IF('Aferi (Variáveis)'!$C$12=\"AO\",0,SUMIF('Custo Básico dos Produtos'!$A$7:$A$480,Q47,'Custo Básico dos Produtos'!$L$7:$L$480))))))","v":0},0,0,0,0,{"$f":"SUMIF('Cadastro de Produtos em Linha'!$A$6:$A$457,Q47,'Cadastro de Produtos em Linha'!$E$6:$E$457)*H47","v":0},{"$f":"IF(TODAY()<$AK$26,IF(A47<>\"\",SUMIF('Custo Básico dos Produtos'!$B$7:$B$457,A47,'Custo Básico dos Produtos'!$A$7:$A$457),0),0)","v":0},{"$f":"IF('Aferi (Variáveis)'!$C$12=\"Venda para Exportar\",0,IF('Aferi (Variáveis)'!$C$12=\"ALC\",0,IF('Aferi (Variáveis)'!$C$12=\"ZFM\",0,IF('Aferi (Variáveis)'!$C$12=\"Exportação\",0,IF('Aferi (Variáveis)'!$C$12=\"AO\",0,E47/(100+(0*'Aferi (Variáveis)'!$K$12/100))*100*K47%/100*'Aferi (Variáveis)'!$K$12)))))","v":0},0,{"$f":"(E47*'Aferi (Variáveis)'!$K$12/100)","v":0},0,{"$f":"IF('Aferi (Variáveis)'!$F$20=\"Venda para Exportar\",0,IF('Aferi (Variáveis)'!$F$20=\"ALC\",0,IF('Aferi (Variáveis)'!$F$20=\"ZFM\",0,IF('Aferi (Variáveis)'!$F$20=\"Exportação\",0,IF('Aferi (Variáveis)'!$F$20=\"AO\",7*T47/100,T47*'Aferi (Variáveis)'!$F$20/100)))))","v":0},0,{"$f":"IF('Aferi (Variáveis)'!$C$12=\"ZFM\",0,IF('Aferi (Variáveis)'!$C$12=\"Exportação\",0,3*T47/100))","v":0},{"$f":"IF('Aferi (Variáveis)'!$C$12=\"ZFM\",0,IF('Aferi (Variáveis)'!$C$12=\"Exportação\",0,0.65*T47/100))","v":0},0,0,0,0,0,0,0,0,0,{"$f":"SUMIF('Custo Básico dos Produtos'!$B$7:$B$480,A47,'Custo Básico dos Produtos'!$K$7:$K$480)","v":0},null,null,0,0,0,0,0,0]
[null,{"$f":"IF(Q48<>0,VLOOKUP(Q48,'Custo Básico dos Produtos'!$A$7:$J$480,3),\"\")","v":""},null,{"$f":"SUMIF('Custo Básico dos Produtos'!$A$7:$A$480,Q48,'Custo Básico dos Produtos'!$J$7:$J$480)","v":0},null,0,{"$f":"IF(B48=\"\",0,SUMIF('Cadastro de Produtos em Linha'!$B$7:$B$457,A48,'Cadastro de Produtos em Linha'!$D$7:$D$457))","v":0},null,0,0,{"$f":"IF('Aferi (Variáveis)'!$C$12=\"ALC\",0,IF('Aferi (Variáveis)'!$C$12=\"ZFM\",0,IF('Aferi (Variáveis)'!$C$12=\"Exportação\",0,IF('Aferi (Variáveis)'!$C$12=\"Venda para Exportar\",0,IF('Aferi (Variáveis)'!$C$12=\"AO\",0,SUMIF('Custo Básico dos Produtos'!$A$7:$A$480,Q48,'Custo Básico dos Produtos'!$L$7:$L$480))))))","v":0},0,0,0,0,{"$f":"SUMIF('Cadastro de Produtos em Linha'!$A$6:$A$457,Q48,'Cadastro de Produtos em Linha'!$E$6:$E$457)*H48","v":0},{"$f":"IF(TODAY()<$AK$26,IF(A48<>\"\",SUMIF('Custo Básico dos Produtos'!$B$7:$B$457,A48,'Custo Básico dos Produtos'!$A$7:$A$457),0),0)","v":0},{"$f":"IF('Aferi (Variáveis)'!$C$12=\"Venda para Exportar\",0,IF('Aferi (Variáveis)'!$C$12=\"ALC\",0,IF('Aferi (Variáveis)'!$C$12=\"ZFM\",0,IF('Aferi (Variáveis)'!$C$12=\"Exportação\",0,IF('Aferi (Variáveis)'!$C$12=\"AO\",0,E48/(100+(0*'Aferi (Variáveis)'!$K$12/100))*100*K48%/100*'Aferi (Variáveis)'!$K$12)))))","v":0},0,{"$f":"(E48*'Aferi (Variáveis)'!$K$12/100)","v":0},0,{"$f":"IF('Aferi (Variáveis)'!$F$20=\"Venda para Exportar\",0,IF('Aferi (Variáveis)'!$F$20=\"ALC\",0,IF('Aferi (Variáveis)'!$F$20=\"ZFM\",0,IF('Aferi (Variáveis)'!$F$20=\"Exportação\",0,IF('Aferi (Variáveis)'!$F$20=\"AO\",7*T48/100,T48*'Aferi (Variáveis)'!$F$20/100)))))","v":0},0,{"$f":"IF('Aferi (Variáveis)'!$C$12=\"ZFM\",0,IF('Aferi (Variáveis)'!$C$12=\"Exportação\",0,3*T48/100))","v":0},{"$f":"IF('Aferi (Variáveis)'!$C$12=\"ZFM\",0,IF('Aferi (Variáveis)'!$C$12=\"Exportação\",0,0.65*T48/100))","v":0},0,0,0,0,0,0,0,0,0,{"$f":"SUMIF('Custo Básico dos Produtos'!$B$7:$B$480,A48,'Custo Básico dos Produtos'!$K$7:$K$480)","v":0},null,null,0,0,0,0,0,0]
[null,{"$f":"IF(Q49<>0,VLOOKUP(Q49,'Custo Básico dos Produtos'!$A$7:$J$480,3),\"\")","v":""},null,{"$f":"SUMIF('Custo Básico dos Produtos'!$A$7:$A$480,Q49,'Custo Básico dos Produtos'!$J$7:$J$480)","v":0},null,0,{"$f":"IF(B49=\"\",0,SUMIF('Cadastro de Produtos em Linha'!$B$7:$B$457,A49,'Cadastro de Produtos em Linha'!$D$7:$D$457))","v":0},null,0,0,{"$f":"IF('Aferi (Variáveis)'!$C$12=\"ALC\",0,IF('Aferi (Variáveis)'!$C$12=\"ZFM\",0,IF('Aferi (Variáveis)'!$C$12=\"Exportação\",0,IF('Aferi (Variáveis)'!$C$12=\"Venda para Exportar\",0,IF('Aferi (Variáveis)'!$C$12=\"AO\",0,SUMIF('Custo Básico dos Produtos'!$A$7:$A$480,Q49,'Custo Básico dos Produtos'!$L$7:$L$480))))))","v":0},0,0,0,0,{"$f":"SUMIF('Cadastro de Produtos em Linha'!$A$6:$A$457,Q49,'Cadastro de Produtos em Linha'!$E$6:$E$457)*H49","v":0},{"$f":"IF(TODAY()<$AK$26,IF(A49<>\"\",SUMIF('Custo Básico dos Produtos'!$B$7:$B$457,A49,'Custo Básico dos Produtos'!$A$7:$A$457),0),0)","v":0},{"$f":"IF('Aferi (Variáveis)'!$C$12=\"Venda para Exportar\",0,IF('Aferi (Variáveis)'!$C$12=\"ALC\",0,IF('Aferi (Variáveis)'!$C$12=\"ZFM\",0,IF('Aferi (Variáveis)'!$C$12=\"Exportação\",0,IF('Aferi (Variáveis)'!$C$12=\"AO\",0,E49/(100+(0*'Aferi (Variáveis)'!$K$12/100))*100*K49%/100*'Aferi (Variáveis)'!$K$12)))))","v":0},0,{"$f":"(E49*'Aferi (Variáveis)'!$K$12/100)","v":0},0,{"$f":"IF('Aferi (Variáveis)'!$F$20=\"Venda para Exportar\",0,IF('Aferi (Variáveis)'!$F$20=\"ALC\",0,IF('Aferi (Variáveis)'!$F$20=\"ZFM\",0,IF('Aferi (Variáveis)'!$F$20=\"Exportação\",0,IF('Aferi (Variáveis)'!$F$20=\"AO\",7*T49/100,T49*'Aferi (Variáveis)'!$F$20/100)))))","v":0},0,{"$f":"IF('Aferi (Variáveis)'!$C$12=\"ZFM\",0,IF('Aferi (Variáveis)'!$C$12=\"Exportação\",0,3*T49/100))","v":0},{"$f":"IF('Aferi (Variáveis)'!$C$12=\"ZFM\",0,IF('Aferi (Variáveis)'!$C$12=\"Exportação\",0,0.65*T49/100))","v":0},0,0,0,0,0,0,0,0,0,{"$f":"SUMIF('Custo Básico dos Produtos'!$B$7:$B$480,A49,'Custo Básico dos Produtos'!$K$7:$K$480)","v":0},null,null,0,0,0,0,0,0]
[null,{"$f":"IF(Q50<>0,VLOOKUP(Q50,'Custo Básico dos Produtos'!$A$7:$J$480,3),\"\")","v":""},null,{"$f":"SUMIF('Custo Básico dos Produtos'!$A$7:$A$480,Q50,'Custo Básico dos Produtos'!$J$7:$J$480)","v":0},null,0,{"$f":"IF(B50=\"\",0,SUMIF('Cadastro de Produtos em Linha'!$B$7:$B$457,A50,'Cadastro de Produtos em Linha'!$D$7:$D$457))","v":0},null,0,0,{"$f":"IF('Aferi (Variáveis)'!$C$12=\"ALC\",0,IF('Aferi (Variáveis)'!$C$12=\"ZFM\",0,IF('Aferi (Variáveis)'!$C$12=\"Exportação\",0,IF('Aferi (Variáveis)'!$C$12=\"Venda para Exportar\",0,IF('Aferi (Variáveis)'!$C$12=\"AO\",0,SUMIF('Custo Básico dos Produtos'!$A$7:$A$480,Q50,'Custo Básico dos Produtos'!$L$7:$L$480))))))","v":0},0,0,0,0,{"$f":"SUMIF('Cadastro de Produtos em Linha'!$A$6:$A$457,Q50,'Cadastro de Produtos em Linha'!$E$6:$E$457)*H50","v":0},{"$f":"IF(TODAY()<$AK$26,IF(A50<>\"\",SUMIF('Custo Básico dos Produtos'!$B$7:$B$457,A50,'Custo Básico dos Produtos'!$A$7:$A$457),0),0)","v":0},{"$f":"IF('Aferi (Variáveis)'!$C$12=\"Venda para Exportar\",0,IF('Aferi (Variáveis)'!$C$12=\"ALC\",0,IF('Aferi (Variáveis)'!$C$12=\"ZFM\",0,IF('Aferi (Variáveis)'!$C$12=\"Exportação\",0,IF('Aferi (Variáveis)'!$C$12=\"AO\",0,E50/(100+(0*'Aferi (Variáveis)'!$K$12/100))*100*K50%/100*'Aferi (Variáveis)'!$K$12)))))","v":0},0,{"$f":"(E50*'Aferi (Variáveis)'!$K$12/100)","v":0},0,{"$f":"IF('Aferi (Variáveis)'!$F$20=\"Venda para Exportar\",0,IF('Aferi (Variáveis)'!$F$20=\"ALC\",0,IF('Aferi (Variáveis)'!$F$20=\"ZFM\",0,IF('Aferi (Variáveis)'!$F$20=\"Exportação\",0,IF('Aferi (Variáveis)'!$F$20=\"AO\",7*T50/100,T50*'Aferi (Variáveis)'!$F$20/100)))))","v":0},0,{"$f":"IF('Aferi (Variáveis)'!$C$12=\"ZFM\",0,IF('Aferi (Variáveis)'!$C$12=\"Exportação\",0,3*T50/100))","v":0},{"$f":"IF('Aferi (Variáveis)'!$C$12=\"ZFM\",0,IF('Aferi (Variáveis)'!$C$12=\"Exportação\",0,0.65*T50/100))","v":0},0,0,0,0,0,0,0,0,0,{"$f":"SUMIF('Custo Básico dos Produtos'!$B$7:$B$480,A50,'Custo Básico dos Produtos'!$K$7:$K$480)","v":0},null,null,0,0,0,0,0,0]
[null,{"$f":"IF(Q51<>0,VLOOKUP(Q51,'Custo Básico dos Produtos'!$A$7:$J$480,3),\"\")","v":""},null,{"$f":"SUMIF('Custo Básico dos Produtos'!$A$7:$A$480,Q51,'Custo Básico dos Produtos'!$J$7:$J$480)","v":0},null,0,{"$f":"IF(B51=\"\",0,SUMIF('Cadastro de Produtos em Linha'!$B$7:$B$457,A51,'Cadastro de Produtos em Linha'!$D$7:$D$457))","v":0},null,0,0,{"$f":"IF('Aferi (Variáveis)'!$C$12=\"ALC\",0,IF('Aferi (Variáveis)'!$C$12=\"ZFM\",0,IF('Aferi (Variáveis)'!$C$12=\"Exportação\",0,IF('Aferi (Variáveis)'!$C$12=\"Venda para Exportar\",0,IF('Aferi (Variáveis)'!$C$12=\"AO\",0,SUMIF('Custo Básico dos Produtos'!$A$7:$A$480,Q51,'Custo Básico dos Produtos'!$L$7:$L$480))))))","v":0},0,0,0,0,{"$f":"SUMIF('Cadastro de Produtos em Linha'!$A$6:$A$457,Q51,'Cadastro de Produtos em Linha'!$E$6:$E$457)*H51","v":0},{"$f":"IF(TODAY()<$AK$26,IF(A51<>\"\",SUMIF('Custo Básico dos Produtos'!$B$7:$B$457,A51,'Custo Básico dos Produtos'!$A$7:$A$457),0),0)","v":0},{"$f":"IF('Aferi (Variáveis)'!$C$12=\"Venda para Exportar\",0,IF('Aferi (Variáveis)'!$C$12=\"ALC\",0,IF('Aferi (Variáveis)'!$C$12=\"ZFM\",0,IF('Aferi (Variáveis)'!$C$12=\"Exportação\",0,IF('Aferi (Variáveis)'!$C$12=\"AO\",0,E51/(100+(0*'Aferi (Variáveis)'!$K$12/100))*100*K51%/100*'Aferi (Variáveis)'!$K$12)))))","v":0},0,{"$f":"(E51*'Aferi (Variáveis)'!$K$12/100)","v":0},0,{"$f":"IF('Aferi (Variáveis)'!$F$20=\"Venda para Exportar\",0,IF('Aferi (Variáveis)'!$F$20=\"ALC\",0,IF('Aferi (Variáveis)'!$F$20=\"ZFM\",0,IF('Aferi (Variáveis)'!$F$20=\"Exportação\",0,IF('Aferi (Variáveis)'!$F$20=\"AO\",7*T51/100,T51*'Aferi (Variáveis)'!$F$20/100)))))","v":0},0,{"$f":"IF('Aferi (Variáveis)'!$C$12=\"ZFM\",0,IF('Aferi (Variáveis)'!$C$12=\"Exportação\",0,3*T51/100))","v":0},{"$f":"IF('Aferi (Variáveis)'!$C$12=\"ZFM\",0,IF('Aferi (Variáveis)'!$C$12=\"Exportação\",0,0.65*T51/100))","v":0},0,0,0,0,0,0,0,0,0,{"$f":"SUMIF('Custo Básico dos Produtos'!$B$7:$B$480,A51,'Custo Básico dos Produtos'!$K$7:$K$480)","v":0},null,null,0,0,0,0,0,0]
[null,{"$f":"IF(Q52<>0,VLOOKUP(Q52,'Custo Básico dos Produtos'!$A$7:$J$480,3),\"\")","v":""},null,{"$f":"SUMIF('Custo Básico dos Produtos'!$A$7:$A$480,Q52,'Custo Básico dos Produtos'!$J$7:$J$480)","v":0},null,0,{"$f":"IF(B52=\"\",0,SUMIF('Cadastro de Produtos em Linha'!$B$7:$B$457,A52,'Cadastro de Produtos em Linha'!$D$7:$D$457))","v":0},null,0,0,{"$f":"IF('Aferi (Variáveis)'!$C$12=\"ALC\",0,IF('Aferi (Variáveis)'!$C$12=\"ZFM\",0,IF('Aferi (Variáveis)'!$C$12=\"Exportação\",0,IF('Aferi (Variáveis)'!$C$12=\"Venda para Exportar\",0,IF('Aferi (Variáveis)'!$C$12=\"AO\",0,SUMIF('Custo Básico dos Produtos'!$A$7:$A$480,Q52,'Custo Básico dos Produtos'!$L$7:$L$480))))))","v":0},0,0,0,0,{"$f":"SUMIF('Cadastro de Produtos em Linha'!$A$6:$A$457,Q52,'Cadastro de Produtos em Linha'!$E$6:$E$457)*H52","v":0},{"$f":"IF(TODAY()<$AK$26,IF(A52<>\"\",SUMIF('Custo Básico dos Produtos'!$B$7:$B$457,A52,'Custo Básico dos Produtos'!$A$7:$A$457),0),0)","v":0},{"$f":"IF('Aferi (Variáveis)'!$C$12=\"Venda para Exportar\",0,IF('Aferi (Variáveis)'!$C$12=\"ALC\",0,IF('Aferi (Variáveis)'!$C$12=\"ZFM\",0,IF('Aferi (Variáveis)'!$C$12=\"Exportação\",0,IF('Aferi (Variáveis)'!$C$12=\"AO\",0,E52/(100+(0*'Aferi (Variáveis)'!$K$12/100))*100*K52%/100*'Aferi (Variáveis)'!$K$12)))))","v":0},0,{"$f":"(E52*'Aferi (Variáveis)'!$K$12/100)","v":0},0,{"$f":"IF('Aferi (Variáveis)'!$F$20=\"Venda para Exportar\",0,IF('Aferi (Variáveis)'!$F$20=\"ALC\",0,IF('Aferi (Variáveis)'!$F$20=\"ZFM\",0,IF('Aferi (Variáveis)'!$F$20=\"Exportação\",0,IF('Aferi (Variáveis)'!$F$20=\"AO\",7*T52/100,T52*'Aferi (Variáveis)'!$F$20/100)))))","v":0},0,{"$f":"IF('Aferi (Variáveis)'!$C$12=\"ZFM\",0,IF('Aferi (Variáveis)'!$C$12=\"Exportação\",0,3*T52/100))","v":0},{"$f":"IF('Aferi (Variáveis)'!$C$12=\"ZFM\",0,IF('Aferi (Variáveis)'!$C$12=\"Exportação\",0,0.65*T52/100))","v":0},0,0,0,0,0,0,0,0,0,{"$f":"SUMIF('Custo Básico dos Produtos'!$B$7:$B$480,A52,'Custo Básico dos Produtos'!$K$7:$K$480)","v":0},null,null,0,0,0,0,0,0]
[null,{"$f":"IF(Q53<>0,VLOOKUP(Q53,'Custo Básico dos Produtos'!$A$7:$J$480,3),\"\")","v":""},null,{"$f":"SUMIF('Custo Básico dos Produtos'!$A$7:$A$480,Q53,'Custo Básico dos Produtos'!$J$7:$J$480)","v":0},null,0,{"$f":"IF(B53=\"\",0,SUMIF('Cadastro de Produtos em Linha'!$B$7:$B$457,A53,'Cadastro de Produtos em Linha'!$D$7:$D$457))","v":0},null,0,0,{"$f":"IF('Aferi (Variáveis)'!$C$12=\"ALC\",0,IF('Aferi (Variáveis)'!$C$12=\"ZFM\",0,IF('Aferi (Variáveis)'!$C$12=\"Exportação\",0,IF('Aferi (Variáveis)'!$C$12=\"Venda para Exportar\",0,IF('Aferi (Variáveis)'!$C$12=\"AO\",0,SUMIF('Custo Básico dos Produtos'!$A$7:$A$480,Q53,'Custo Básico dos Produtos'!$L$7:$L$480))))))","v":0},0,0,0,0,{"$f":"SUMIF('Cadastro de Produtos em Linha'!$A$6:$A$457,Q53,'Cadastro de Produtos em Linha'!$E$6:$E$457)*H53","v":0},{"$f":"IF(TODAY()<$AK$26,IF(A53<>\"\",SUMIF('Custo Básico dos Produtos'!$B$7:$B$457,A53,'Custo Básico dos Produtos'!$A$7:$A$457),0),0)","v":0},{"$f":"IF('Aferi (Variáveis)'!$C$12=\"Venda para Exportar\",0,IF('Aferi (Variáveis)'!$C$12=\"ALC\",0,IF('Aferi (Variáveis)'!$C$12=\"ZFM\",0,IF('Aferi (Variáveis)'!$C$12=\"Exportação\",0,IF('Aferi (Variáveis)'!$C$12=\"AO\",0,E53/(100+(0*'Aferi (Variáveis)'!$K$12/100))*100*K53%/100*'Aferi (Variáveis)'!$K$12)))))","v":0},0,{"$f":"(E53*'Aferi (Variáveis)'!$K$12/100)","v":0},0,{"$f":"IF('Aferi (Variáveis)'!$F$20=\"Venda para Exportar\",0,IF('Aferi (Variáveis)'!$F$20=\"ALC\",0,IF('Aferi (Variáveis)'!$F$20=\"ZFM\",0,IF('Aferi (Variáveis)'!$F$20=\"Exportação\",0,IF('Aferi (Variáveis)'!$F$20=\"AO\",7*T53/100,T53*'Aferi (Variáveis)'!$F$20/100)))))","v":0},0,{"$f":"IF('Aferi (Variáveis)'!$C$12=\"ZFM\",0,IF('Aferi (Variáveis)'!$C$12=\"Exportação\",0,3*T53/100))","v":0},{"$f":"IF('Aferi (Variáveis)'!$C$12=\"ZFM\",0,IF('Aferi (Variáveis)'!$C$12=\"Exportação\",0,0.65*T53/100))","v":0},0,0,0,0,0,0,0,0,0,{"$f":"SUMIF('Custo Básico dos Produtos'!$B$7:$B$480,A53,'Custo Básico dos Produtos'!$K$7:$K$480)","v":0},null,null,0,0,0,0,0,0]
[null,{"$f":"IF(Q54<>0,VLOOKUP(Q54,'Custo Básico dos Produtos'!$A$7:$J$480,3),\"\")","v":""},null,{"$f":"SUMIF('Custo Básico dos Produtos'!$A$7:$A$480,Q54,'Custo Básico dos Produtos'!$J$7:$J$480)","v":0},null,0,{"$f":"IF(B54=\"\",0,SUMIF('Cadastro de Produtos em Linha'!$B$7:$B$457,A54,'Cadastro de Produtos em Linha'!$D$7:$D$457))","v":0},null,0,0,{"$f":"IF('Aferi (Variáveis)'!$C$12=\"ALC\",0,IF('Aferi (Variáveis)'!$C$12=\"ZFM\",0,IF('Aferi (Variáveis)'!$C$12=\"Exportação\",0,IF('Aferi (Variáveis)'!$C$12=\"Venda para Exportar\",0,IF('Aferi (Variáveis)'!$C$12=\"AO\",0,SUMIF('Custo Básico dos Produtos'!$A$7:$A$480,Q54,'Custo Básico dos Produtos'!$L$7:$L$480))))))","v":0},0,0,0,0,{"$f":"SUMIF('Cadastro de Produtos em Linha'!$A$6:$A$457,Q54,'Cadastro de Produtos em Linha'!$E$6:$E$457)*H54","v":0},{"$f":"IF(TODAY()<$AK$26,IF(A54<>\"\",SUMIF('Custo Básico dos Produtos'!$B$7:$B$457,A54,'Custo Básico dos Produtos'!$A$7:$A$457),0),0)","v":0},{"$f":"IF('Aferi (Variáveis)'!$C$12=\"Venda para Exportar\",0,IF('Aferi (Variáveis)'!$C$12=\"ALC\",0,IF('Aferi (Variáveis)'!$C$12=\"ZFM\",0,IF('Aferi (Variáveis)'!$C$12=\"Exportação\",0,IF('Aferi (Variáveis)'!$C$12=\"AO\",0,E54/(100+(0*'Aferi (Variáveis)'!$K$12/100))*100*K54%/100*'Aferi (Variáveis)'!$K$12)))))","v":0},0,{"$f":"(E54*'Aferi (Variáveis)'!$K$12/100)","v":0},0,{"$f":"IF('Aferi (Variáveis)'!$F$20=\"Venda para Exportar\",0,IF('Aferi (Variáveis)'!$F$20=\"ALC\",0,IF('Aferi (Variáveis)'!$F$20=\"ZFM\",0,IF('Aferi (Variáveis)'!$F$20=\"Exportação\",0,IF('Aferi (Variáveis)'!$F$20=\"AO\",7*T54/100,T54*'Aferi (Variáveis)'!$F$20/100)))))","v":0},0,{"$f":"IF('Aferi (Variáveis)'!$C$12=\"ZFM\",0,IF('Aferi (Variáveis)'!$C$12=\"Exportação\",0,3*T54/100))","v":0},{"$f":"IF('Aferi (Variáveis)'!$C$12=\"ZFM\",0,IF('Aferi (Variáveis)'!$C$12=\"Exportação\",0,0.65*T54/100))","v":0},0,0,0,0,0,0,0,0,0,{"$f":"SUMIF('Custo Básico dos Produtos'!$B$7:$B$480,A54,'Custo Básico dos Produtos'!$K$7:$K$480)","v":0},null,null,0,0,0,0,0,0]
[null,{"$f":"IF(Q55<>0,VLOOKUP(Q55,'Custo Básico dos Produtos'!$A$7:$J$480,3),\"\")","v":""},null,{"$f":"SUMIF('Custo Básico dos Produtos'!$A$7:$A$480,Q55,'Custo Básico dos Produtos'!$J$7:$J$480)","v":0},null,0,{"$f":"IF(B55=\"\",0,SUMIF('Cadastro de Produtos em Linha'!$B$7:$B$457,A55,'Cadastro de Produtos em Linha'!$D$7:$D$457))","v":0},null,0,0,{"$f":"IF('Aferi (Variáveis)'!$C$12=\"ALC\",0,IF('Aferi (Variáveis)'!$C$12=\"ZFM\",0,IF('Aferi (Variáveis)'!$C$12=\"Exportação\",0,IF('Aferi (Variáveis)'!$C$12=\"Venda para Exportar\",0,IF('Aferi (Variáveis)'!$C$12=\"AO\",0,SUMIF('Custo Básico dos Produtos'!$A$7:$A$480,Q55,'Custo Básico dos Produtos'!$L$7:$L$480))))))","v":0},0,0,0,0,{"$f":"SUMIF('Cadastro de Produtos em Linha'!$A$6:$A$457,Q55,'Cadastro de Produtos em Linha'!$E$6:$E$457)*H55","v":0},{"$f":"IF(TODAY()<$AK$26,IF(A55<>\"\",SUMIF('Custo Básico dos Produtos'!$B$7:$B$457,A55,'Custo Básico dos Produtos'!$A$7:$A$457),0),0)","v":0},{"$f":"IF('Aferi (Variáveis)'!$C$12=\"Venda para Exportar\",0,IF('Aferi (Variáveis)'!$C$12=\"ALC\",0,IF('Aferi (Variáveis)'!$C$12=\"ZFM\",0,IF('Aferi (Variáveis)'!$C$12=\"Exportação\",0,IF('Aferi (Variáveis)'!$C$12=\"AO\",0,E55/(100+(0*'Aferi (Variáveis)'!$K$12/100))*100*K55%/100*'Aferi (Variáveis)'!$K$12)))))","v":0},0,{"$f":"(E55*'Aferi (Variáveis)'!$K$12/100)","v":0},0,{"$f":"IF('Aferi (Variáveis)'!$F$20=\"Venda para Exportar\",0,IF('Aferi (Variáveis)'!$F$20=\"ALC\",0,IF('Aferi (Variáveis)'!$F$20=\"ZFM\",0,IF('Aferi (Variáveis)'!$F$20=\"Exportação\",0,IF('Aferi (Variáveis)'!$F$20=\"AO\",7*T55/100,T55*'Aferi (Variáveis)'!$F$20/100)))))","v":0},0,{"$f":"IF('Aferi (Variáveis)'!$C$12=\"ZFM\",0,IF('Aferi (Variáveis)'!$C$12=\"Exportação\",0,3*T55/100))","v":0},{"$f":"IF('Aferi (Variáveis)'!$C$12=\"ZFM\",0,IF('Aferi (Variáveis)'!$C$12=\"Exportação\",0,0.65*T55/100))","v":0},0,0,0,0,0,0,0,0,0,{"$f":"SUMIF('Custo Básico dos Produtos'!$B$7:$B$480,A55,'Custo Básico dos Produtos'!$K$7:$K$480)","v":0},null,null,0,0,0,0,0,0]
[null,{"$f":"IF(Q56<>0,VLOOKUP(Q56,'Custo Básico dos Produtos'!$A$7:$J$480,3),\"\")","v":""},null,{"$f":"SUMIF('Custo Básico dos Produtos'!$A$7:$A$480,Q56,'Custo Básico dos Produtos'!$J$7:$J$480)","v":0},null,0,{"$f":"IF(B56=\"\",0,SUMIF('Cadastro de Produtos em Linha'!$B$7:$B$457,A56,'Cadastro de Produtos em Linha'!$D$7:$D$457))","v":0},null,0,0,{"$f":"IF('Aferi (Variáveis)'!$C$12=\"ALC\",0,IF('Aferi (Variáveis)'!$C$12=\"ZFM\",0,IF('Aferi (Variáveis)'!$C$12=\"Exportação\",0,IF('Aferi (Variáveis)'!$C$12=\"Venda para Exportar\",0,IF('Aferi (Variáveis)'!$C$12=\"AO\",0,SUMIF('Custo Básico dos Produtos'!$A$7:$A$480,Q56,'Custo Básico dos Produtos'!$L$7:$L$480))))))","v":0},0,0,0,0,{"$f":"SUMIF('Cadastro de Produtos em Linha'!$A$6:$A$457,Q56,'Cadastro de Produtos em Linha'!$E$6:$E$457)*H56","v":0},{"$f":"IF(TODAY()<$AK$26,IF(A56<>\"\",SUMIF('Custo Básico dos Produtos'!$B$7:$B$457,A56,'Custo Básico dos Produtos'!$A$7:$A$457),0),0)","v":0},{"$f":"IF('Aferi (Variáveis)'!$C$12=\"Venda para Exportar\",0,IF('Aferi (Variáveis)'!$C$12=\"ALC\",0,IF('Aferi (Variáveis)'!$C$12=\"ZFM\",0,IF('Aferi (Variáveis)'!$C$12=\"Exportação\",0,IF('Aferi (Variáveis)'!$C$12=\"AO\",0,E56/(100+(0*'Aferi (Variáveis)'!$K$12/100))*100*K56%/100*'Aferi (Variáveis)'!$K$12)))))","v":0},0,{"$f":"(E56*'Aferi (Variáveis)'!$K$12/100)","v":0},0,{"$f":"IF('Aferi (Variáveis)'!$F$20=\"Venda para Exportar\",0,IF('Aferi (Variáveis)'!$F$20=\"ALC\",0,IF('Aferi (Variáveis)'!$F$20=\"ZFM\",0,IF('Aferi (Variáveis)'!$F$20=\"Exportação\",0,IF('Aferi (Variáveis)'!$F$20=\"AO\",7*T56/100,T56*'Aferi (Variáveis)'!$F$20/100)))))","v":0},0,{"$f":"IF('Aferi (Variáveis)'!$C$12=\"ZFM\",0,IF('Aferi (Variáveis)'!$C$12=\"Exportação\",0,3*T56/100))","v":0},{"$f":"IF('Aferi (Variáveis)'!$C$12=\"ZFM\",0,IF('Aferi (Variáveis)'!$C$12=\"Exportação\",0,0.65*T56/100))","v":0},0,0,0,0,0,0,0,0,0,{"$f":"SUMIF('Custo Básico dos Produtos'!$B$7:$B$480,A56,'Custo Básico dos Produtos'!$K$7:$K$480)","v":0},null,null,0,0,0,0,0,0]
[null,{"$f":"IF(Q57<>0,VLOOKUP(Q57,'Custo Básico dos Produtos'!$A$7:$J$480,3),\"\")","v":""},null,{"$f":"SUMIF('Custo Básico dos Produtos'!$A$7:$A$480,Q57,'Custo Básico dos Produtos'!$J$7:$J$480)","v":0},null,0,{"$f":"IF(B57=\"\",0,SUMIF('Cadastro de Produtos em Linha'!$B$7:$B$457,A57,'Cadastro de Produtos em Linha'!$D$7:$D$457))","v":0},null,0,0,{"$f":"IF('Aferi (Variáveis)'!$C$12=\"ALC\",0,IF('Aferi (Variáveis)'!$C$12=\"ZFM\",0,IF('Aferi (Variáveis)'!$C$12=\"Exportação\",0,IF('Aferi (Variáveis)'!$C$12=\"Venda para Exportar\",0,IF('Aferi (Variáveis)'!$C$12=\"AO\",0,SUMIF('Custo Básico dos Produtos'!$A$7:$A$480,Q57,'Custo Básico dos Produtos'!$L$7:$L$480))))))","v":0},0,0,0,0,{"$f":"SUMIF('Cadastro de Produtos em Linha'!$A$6:$A$457,Q57,'Cadastro de Produtos em Linha'!$E$6:$E$457)*H57","v":0},{"$f":"IF(TODAY()<$AK$26,IF(A57<>\"\",SUMIF('Custo Básico dos Produtos'!$B$7:$B$457,A57,'Custo Básico dos Produtos'!$A$7:$A$457),0),0)","v":0},{"$f":"IF('Aferi (Variáveis)'!$C$12=\"Venda para Exportar\",0,IF('Aferi (Variáveis)'!$C$12=\"ALC\",0,IF('Aferi (Variáveis)'!$C$12=\"ZFM\",0,IF('Aferi (Variáveis)'!$C$12=\"Exportação\",0,IF('Aferi (Variáveis)'!$C$12=\"AO\",0,E57/(100+(0*'Aferi (Variáveis)'!$K$12/100))*100*K57%/100*'Aferi (Variáveis)'!$K$12)))))","v":0},0,{"$f":"(E57*'Aferi (Variáveis)'!$K$12/100)","v":0},0,{"$f":"IF('Aferi (Variáveis)'!$F$20=\"Venda para Exportar\",0,IF('Aferi (Variáveis)'!$F$20=\"ALC\",0,IF('Aferi (Variáveis)'!$F$20=\"ZFM\",0,IF('Aferi (Variáveis)'!$F$20=\"Exportação\",0,IF('Aferi (Variáveis)'!$F$20=\"AO\",7*T57/100,T57*'Aferi (Variáveis)'!$F$20/100)))))","v":0},0,{"$f":"IF('Aferi (Variáveis)'!$C$12=\"ZFM\",0,IF('Aferi (Variáveis)'!$C$12=\"Exportação\",0,3*T57/100))","v":0},{"$f":"IF('Aferi (Variáveis)'!$C$12=\"ZFM\",0,IF('Aferi (Variáveis)'!$C$12=\"Exportação\",0,0.65*T57/100))","v":0},0,0,0,0,0,0,0,0,0,{"$f":"SUMIF('Custo Básico dos Produtos'!$B$7:$B$480,A57,'Custo Básico dos Produtos'!$K$7:$K$480)","v":0},null,null,0,0,0,0,0,0]
[null,{"$f":"IF(Q58<>0,VLOOKUP(Q58,'Custo Básico dos Produtos'!$A$7:$J$480,3),\"\")","v":""},null,{"$f":"SUMIF('Custo Básico dos Produtos'!$A$7:$A$480,Q58,'Custo Básico dos Produtos'!$J$7:$J$480)","v":0},null,0,{"$f":"IF(B58=\"\",0,SUMIF('Cadastro de Produtos em Linha'!$B$7:$B$457,A58,'Cadastro de Produtos em Linha'!$D$7:$D$457))","v":0},null,{"$f":"IF(F58=\"\",0,IF(F58>=AI58,G58*H58,0))","v":0},{"$f":"IF(F58=\"\",0,I58*E58)","v":0},{"$f":"IF('Aferi (Variáveis)'!$C$12=\"ALC\",0,IF('Aferi (Variáveis)'!$C$12=\"ZFM\",0,IF('Aferi (Variáveis)'!$C$12=\"Exportação\",0,IF('Aferi (Variáveis)'!$C$12=\"Venda para Exportar\",0,IF('Aferi (Variáveis)'!$C$12=\"AO\",0,SUMIF('Custo Básico dos Produtos'!$A$7:$A$480,Q58,'Custo Básico dos Produtos'!$L$7:$L$480))))))","v":0},0,0,0,0,{"$f":"SUMIF('Cadastro de Produtos em Linha'!$A$6:$A$457,Q58,'Cadastro de Produtos em Linha'!$E$6:$E$457)*H58","v":0},{"$f":"IF(TODAY()<$AK$26,IF(A58<>\"\",SUMIF('Custo Básico dos Produtos'!$B$7:$B$457,A58,'Custo Básico dos Produtos'!$A$7:$A$457),0),0)","v":0},{"$f":"IF('Aferi (Variáveis)'!$C$12=\"Venda para Exportar\",0,IF('Aferi (Variáveis)'!$C$12=\"ALC\",0,IF('Aferi (Variáveis)'!$C$12=\"ZFM\",0,IF('Aferi (Variáveis)'!$C$12=\"Exportação\",0,IF('Aferi (Variáveis)'!$C$12=\"AO\",0,E58/(100+(0*'Aferi (Variáveis)'!$K$12/100))*100*K58%/100*'Aferi (Variáveis)'!$K$12)))))","v":0},0,{"$f":"(E58*'Aferi (Variáveis)'!$K$12/100)","v":0},0,{"$f":"IF('Aferi (Variáveis)'!$F$20=\"Venda para Exportar\",0,IF('Aferi (Variáveis)'!$F$20=\"ALC\",0,IF('Aferi (Variáveis)'!$F$20=\"ZFM\",0,IF('Aferi (Variáveis)'!$F$20=\"Exportação\",0,IF('Aferi (Variáveis)'!$F$20=\"AO\",7*T58/100,T58*'Aferi (Variáveis)'!$F$20/100)))))","v":0},0,{"$f":"IF('Aferi (Variáveis)'!$C$12=\"ZFM\",0,IF('Aferi (Variáveis)'!$C$12=\"Exportação\",0,3*T58/100))","v":0},{"$f":"IF('Aferi (Variáveis)'!$C$12=\"ZFM\",0,IF('Aferi (Variáveis)'!$C$12=\"Exportação\",0,0.65*T58/100))","v":0},0,0,0,0,0,0,0,0,0,{"$f":"SUMIF('Custo Básico dos Produtos'!$B$7:$B$480,A58,'Custo Básico dos Produtos'!$K$7:$K$480)","v":0},null,null,0,0,0,0,0,0]
[null,{"$f":"IF(Q59<>0,VLOOKUP(Q59,'Custo Básico dos Produtos'!$A$7:$J$480,3),\"\")","v":""},null,{"$f":"SUMIF('Custo Básico dos Produtos'!$A$7:$A$480,Q59,'Custo Básico dos Produtos'!$J$7:$J$480)","v":0},null,0,{"$f":"IF(B59=\"\",0,SUMIF('Cadastro de Produtos em Linha'!$B$7:$B$457,A59,'Cadastro de Produtos em Linha'!$D$7:$D$457))","v":0},null,0,0,{"$f":"IF('Aferi (Variáveis)'!$C$12=\"ALC\",0,IF('Aferi (Variáveis)'!$C$12=\"ZFM\",0,IF('Aferi (Variáveis)'!$C$12=\"Exportação\",0,IF('Aferi (Variáveis)'!$C$12=\"Venda para Exportar\",0,IF('Aferi (Variáveis)'!$C$12=\"AO\",0,SUMIF('Custo Básico dos Produtos'!$A$7:$A$480,Q59,'Custo Básico dos Produtos'!$L$7:$L$480))))))","v":0},0,0,0,0,{"$f":"SUMIF('Cadastro de Produtos em Linha'!$A$6:$A$457,Q59,'Cadastro de Produtos em Linha'!$E$6:$E$457)*H59","v":0},{"$f":"IF(TODAY()<$AK$26,IF(A59<>\"\",SUMIF('Custo Básico dos Produtos'!$B$7:$B$457,A59,'Custo Básico dos Produtos'!$A$7:$A$457),0),0)","v":0},{"$f":"IF('Aferi (Variáveis)'!$C$12=\"Venda para Exportar\",0,IF('Aferi (Variáveis)'!$C$12=\"ALC\",0,IF('Aferi (Variáveis)'!$C$12=\"ZFM\",0,IF('Aferi (Variáveis)'!$C$12=\"Exportação\",0,IF('Aferi (Variáveis)'!$C$12=\"AO\",0,E59/(100+(0*'Aferi (Variáveis)'!$K$12/100))*100*K59%/100*'Aferi (Variáveis)'!$K$12)))))","v":0},0,{"$f":"(E59*'Aferi (Variáveis)'!$K$12/100)","v":0},0,{"$f":"IF('Aferi (Variáveis)'!$F$20=\"Venda para Exportar\",0,IF('Aferi (Variáveis)'!$F$20=\"ALC\",0,IF('Aferi (Variáveis)'!$F$20=\"ZFM\",0,IF('Aferi (Variáveis)'!$F$20=\"Exportação\",0,IF('Aferi (Variáveis)'!$F$20=\"AO\",7*T59/100,T59*'Aferi (Variáveis)'!$F$20/100)))))","v":0},0,{"$f":"IF('Aferi (Variáveis)'!$C$12=\"ZFM\",0,IF('Aferi (Variáveis)'!$C$12=\"Exportação\",0,3*T59/100))","v":0},{"$f":"IF('Aferi (Variáveis)'!$C$12=\"ZFM\",0,IF('Aferi (Variáveis)'!$C$12=\"Exportação\",0,0.65*T59/100))","v":0},0,0,0,0,0,0,0,0,0,{"$f":"SUMIF('Custo Básico dos Produtos'!$B$7:$B$480,A59,'Custo Básico dos Produtos'!$K$7:$K$480)","v":0},null,null,0,0,0,0,0,0]
[null,{"$f":"IF(Q60<>0,VLOOKUP(Q60,'Custo Básico dos Produtos'!$A$7:$J$480,3),\"\")","v":""},null,{"$f":"SUMIF('Custo Básico dos Produtos'!$A$7:$A$480,Q60,'Custo Básico dos Produtos'!$J$7:$J$480)","v":0},null,0,{"$f":"IF(B60=\"\",0,SUMIF('Cadastro de Produtos em Linha'!$B$7:$B$457,A60,'Cadastro de Produtos em Linha'!$D$7:$D$457))","v":0},null,0,0,{"$f":"IF('Aferi (Variáveis)'!$C$12=\"ALC\",0,IF('Aferi (Variáveis)'!$C$12=\"ZFM\",0,IF('Aferi (Variáveis)'!$C$12=\"Exportação\",0,IF('Aferi (Variáveis)'!$C$12=\"Venda para Exportar\",0,IF('Aferi (Variáveis)'!$C$12=\"AO\",0,SUMIF('Custo Básico dos Produtos'!$A$7:$A$480,Q60,'Custo Básico dos Produtos'!$L$7:$L$480))))))","v":0},0,0,0,0,{"$f":"SUMIF('Cadastro de Produtos em Linha'!$A$6:$A$457,Q60,'Cadastro de Produtos em Linha'!$E$6:$E$457)*H60","v":0},{"$f":"IF(TODAY()<$AK$26,IF(A60<>\"\",SUMIF('Custo Básico dos Produtos'!$B$7:$B$457,A60,'Custo Básico dos Produtos'!$A$7:$A$457),0),0)","v":0},{"$f":"IF('Aferi (Variáveis)'!$C$12=\"Venda para Exportar\",0,IF('Aferi (Variáveis)'!$C$12=\"ALC\",0,IF('Aferi (Variáveis)'!$C$12=\"ZFM\",0,IF('Aferi (Variáveis)'!$C$12=\"Exportação\",0,IF('Aferi (Variáveis)'!$C$12=\"AO\",0,E60/(100+(0*'Aferi (Variáveis)'!$K$12/100))*100*K60%/100*'Aferi (Variáveis)'!$K$12)))))","v":0},0,{"$f":"(E60*'Aferi (Variáveis)'!$K$12/100)","v":0},0,{"$f":"IF('Aferi (Variáveis)'!$F$20=\"Venda para Exportar\",0,IF('Aferi (Variáveis)'!$F$20=\"ALC\",0,IF('Aferi (Variáveis)'!$F$20=\"ZFM\",0,IF('Aferi (Variáveis)'!$F$20=\"Exportação\",0,IF('Aferi (Variáveis)'!$F$20=\"AO\",7*T60/100,T60*'Aferi (Variáveis)'!$F$20/100)))))","v":0},0,{"$f":"IF('Aferi (Variáveis)'!$C$12=\"ZFM\",0,IF('Aferi (Variáveis)'!$C$12=\"Exportação\",0,3*T60/100))","v":0},{"$f":"IF('Aferi (Variáveis)'!$C$12=\"ZFM\",0,IF('Aferi (Variáveis)'!$C$12=\"Exportação\",0,0.65*T60/100))","v":0},0,0,0,0,0,0,0,0,0,{"$f":"SUMIF('Custo Básico dos Produtos'!$B$7:$B$480,A60,'Custo Básico dos Produtos'!$K$7:$K$480)","v":0},null,null,0,0,0,0,0,0]
[null,{"$f":"IF(Q61<>0,VLOOKUP(Q61,'Custo Básico dos Produtos'!$A$7:$J$480,3),\"\")","v":""},null,{"$f":"SUMIF('Custo Básico dos Produtos'!$A$7:$A$480,Q61,'Custo Básico dos Produtos'!$J$7:$J$480)","v":0},null,0,{"$f":"IF(B61=\"\",0,SUMIF('Cadastro de Produtos em Linha'!$B$7:$B$457,A61,'Cadastro de Produtos em Linha'!$D$7:$D$457))","v":0},null,0,0,{"$f":"IF('Aferi (Variáveis)'!$C$12=\"ALC\",0,IF('Aferi (Variáveis)'!$C$12=\"ZFM\",0,IF('Aferi (Variáveis)'!$C$12=\"Exportação\",0,IF('Aferi (Variáveis)'!$C$12=\"Venda para Exportar\",0,IF('Aferi (Variáveis)'!$C$12=\"AO\",0,SUMIF('Custo Básico dos Produtos'!$A$7:$A$480,Q61,'Custo Básico dos Produtos'!$L$7:$L$480))))))","v":0},0,0,0,0,{"$f":"SUMIF('Cadastro de Produtos em Linha'!$A$6:$A$457,Q61,'Cadastro de Produtos em Linha'!$E$6:$E$457)*H61","v":0},{"$f":"IF(TODAY()<$AK$26,IF(A61<>\"\",SUMIF('Custo Básico dos Produtos'!$B$7:$B$457,A61,'Custo Básico dos Produtos'!$A$7:$A$457),0),0)","v":0},{"$f":"IF('Aferi (Variáveis)'!$C$12=\"Venda para Exportar\",0,IF('Aferi (Variáveis)'!$C$12=\"ALC\",0,IF('Aferi (Variáveis)'!$C$12=\"ZFM\",0,IF('Aferi (Variáveis)'!$C$12=\"Exportação\",0,IF('Aferi (Variáveis)'!$C$12=\"AO\",0,E61/(100+(0*'Aferi (Variáveis)'!$K$12/100))*100*K61%/100*'Aferi (Variáveis)'!$K$12)))))","v":0},0,{"$f":"(E61*'Aferi (Variáveis)'!$K$12/100)","v":0},0,{"$f":"IF('Aferi (Variáveis)'!$F$20=\"Venda para Exportar\",0,IF('Aferi (Variáveis)'!$F$20=\"ALC\",0,IF('Aferi (Variáveis)'!$F$20=\"ZFM\",0,IF('Aferi (Variáveis)'!$F$20=\"Exportação\",0,IF('Aferi (Variáveis)'!$F$20=\"AO\",7*T61/100,T61*'Aferi (Variáveis)'!$F$20/100)))))","v":0},0,{"$f":"IF('Aferi (Variáveis)'!$C$12=\"ZFM\",0,IF('Aferi (Variáveis)'!$C$12=\"Exportação\",0,3*T61/100))","v":0},{"$f":"IF('Aferi (Variáveis)'!$C$12=\"ZFM\",0,IF('Aferi (Variáveis)'!$C$12=\"Exportação\",0,0.65*T61/100))","v":0},0,0,0,0,0,0,0,0,0,{"$f":"SUMIF('Custo Básico dos Produtos'!$B$7:$B$480,A61,'Custo Básico dos Produtos'!$K$7:$K$480)","v":0},null,null,0,0,0,0,0,0]
[null,{"$f":"IF(Q62<>0,VLOOKUP(Q62,'Custo Básico dos Produtos'!$A$7:$J$480,3),\"\")","v":""},null,{"$f":"SUMIF('Custo Básico dos Produtos'!$A$7:$A$480,Q62,'Custo Básico dos Produtos'!$J$7:$J$480)","v":0},null,0,{"$f":"IF(B62=\"\",0,SUMIF('Cadastro de Produtos em Linha'!$B$7:$B$457,A62,'Cadastro de Produtos em Linha'!$D$7:$D$457))","v":0},null,0,0,{"$f":"IF('Aferi (Variáveis)'!$C$12=\"ALC\",0,IF('Aferi (Variáveis)'!$C$12=\"ZFM\",0,IF('Aferi (Variáveis)'!$C$12=\"Exportação\",0,IF('Aferi (Variáveis)'!$C$12=\"Venda para Exportar\",0,IF('Aferi (Variáveis)'!$C$12=\"AO\",0,SUMIF('Custo Básico dos Produtos'!$A$7:$A$480,Q62,'Custo Básico dos Produtos'!$L$7:$L$480))))))","v":0},0,0,0,0,{"$f":"SUMIF('Cadastro de Produtos em Linha'!$A$6:$A$457,Q62,'Cadastro de Produtos em Linha'!$E$6:$E$457)*H62","v":0},{"$f":"IF(TODAY()<$AK$26,IF(A62<>\"\",SUMIF('Custo Básico dos Produtos'!$B$7:$B$457,A62,'Custo Básico dos Produtos'!$A$7:$A$457),0),0)","v":0},{"$f":"IF('Aferi (Variáveis)'!$C$12=\"Venda para Exportar\",0,IF('Aferi (Variáveis)'!$C$12=\"ALC\",0,IF('Aferi (Variáveis)'!$C$12=\"ZFM\",0,IF('Aferi (Variáveis)'!$C$12=\"Exportação\",0,IF('Aferi (Variáveis)'!$C$12=\"AO\",0,E62/(100+(0*'Aferi (Variáveis)'!$K$12/100))*100*K62%/100*'Aferi (Variáveis)'!$K$12)))))","v":0},0,{"$f":"(E62*'Aferi (Variáveis)'!$K$12/100)","v":0},0,{"$f":"IF('Aferi (Variáveis)'!$F$20=\"Venda para Exportar\",0,IF('Aferi (Variáveis)'!$F$20=\"ALC\",0,IF('Aferi (Variáveis)'!$F$20=\"ZFM\",0,IF('Aferi (Variáveis)'!$F$20=\"Exportação\",0,IF('Aferi (Variáveis)'!$F$20=\"AO\",7*T62/100,T62*'Aferi (Variáveis)'!$F$20/100)))))","v":0},0,{"$f":"IF('Aferi (Variáveis)'!$C$12=\"ZFM\",0,IF('Aferi (Variáveis)'!$C$12=\"Exportação\",0,3*T62/100))","v":0},{"$f":"IF('Aferi (Variáveis)'!$C$12=\"ZFM\",0,IF('Aferi (Variáveis)'!$C$12=\"Exportação\",0,0.65*T62/100))","v":0},0,0,0,0,0,0,0,0,0,{"$f":"SUMIF('Custo Básico dos Produtos'!$B$7:$B$480,A62,'Custo Básico dos Produtos'!$K$7:$K$480)","v":0},null,null,0,0,0,0,0,0]
[null,{"$f":"IF(Q63<>0,VLOOKUP(Q63,'Custo Básico dos Produtos'!$A$7:$J$480,3),\"\")","v":""},null,{"$f":"SUMIF('Custo Básico dos Produtos'!$A$7:$A$480,Q63,'Custo Básico dos Produtos'!$J$7:$J$480)","v":0},null,0,{"$f":"IF(B63=\"\",0,SUMIF('Cadastro de Produtos em Linha'!$B$7:$B$457,A63,'Cadastro de Produtos em Linha'!$D$7:$D$457))","v":0},null,0,0,{"$f":"IF('Aferi (Variáveis)'!$C$12=\"ALC\",0,IF('Aferi (Variáveis)'!$C$12=\"ZFM\",0,IF('Aferi (Variáveis)'!$C$12=\"Exportação\",0,IF('Aferi (Variáveis)'!$C$12=\"Venda para Exportar\",0,IF('Aferi (Variáveis)'!$C$12=\"AO\",0,SUMIF('Custo Básico dos Produtos'!$A$7:$A$480,Q63,'Custo Básico dos Produtos'!$L$7:$L$480))))))","v":0},0,0,0,0,{"$f":"SUMIF('Cadastro de Produtos em Linha'!$A$6:$A$457,Q63,'Cadastro de Produtos em Linha'!$E$6:$E$457)*H63","v":0},{"$f":"IF(TODAY()<$AK$26,IF(A63<>\"\",SUMIF('Custo Básico dos Produtos'!$B$7:$B$457,A63,'Custo Básico dos Produtos'!$A$7:$A$457),0),0)","v":0},{"$f":"IF('Aferi (Variáveis)'!$C$12=\"Venda para Exportar\",0,IF('Aferi (Variáveis)'!$C$12=\"ALC\",0,IF('Aferi (Variáveis)'!$C$12=\"ZFM\",0,IF('Aferi (Variáveis)'!$C$12=\"Exportação\",0,IF('Aferi (Variáveis)'!$C$12=\"AO\",0,E63/(100+(0*'Aferi (Variáveis)'!$K$12/100))*100*K63%/100*'Aferi (Variáveis)'!$K$12)))))","v":0},0,{"$f":"(E63*'Aferi (Variáveis)'!$K$12/100)","v":0},0,{"$f":"IF('Aferi (Variáveis)'!$F$20=\"Venda para Exportar\",0,IF('Aferi (Variáveis)'!$F$20=\"ALC\",0,IF('Aferi (Variáveis)'!$F$20=\"ZFM\",0,IF('Aferi (Variáveis)'!$F$20=\"Exportação\",0,IF('Aferi (Variáveis)'!$F$20=\"AO\",7*T63/100,T63*'Aferi (Variáveis)'!$F$20/100)))))","v":0},0,{"$f":"IF('Aferi (Variáveis)'!$C$12=\"ZFM\",0,IF('Aferi (Variáveis)'!$C$12=\"Exportação\",0,3*T63/100))","v":0},{"$f":"IF('Aferi (Variáveis)'!$C$12=\"ZFM\",0,IF('Aferi (Variáveis)'!$C$12=\"Exportação\",0,0.65*T63/100))","v":0},0,0,0,0,0,0,0,0,0,{"$f":"SUMIF('Custo Básico dos Produtos'!$B$7:$B$480,A63,'Custo Básico dos Produtos'!$K$7:$K$480)","v":0},null,null,0,0,0,0,0,0]
[null,{"$f":"IF(Q64<>0,VLOOKUP(Q64,'Custo Básico dos Produtos'!$A$7:$J$480,3),\"\")","v":""},null,{"$f":"SUMIF('Custo Básico dos Produtos'!$A$7:$A$480,Q64,'Custo Básico dos Produtos'!$J$7:$J$480)","v":0},null,0,{"$f":"IF(B64=\"\",0,SUMIF('Cadastro de Produtos em Linha'!$B$7:$B$457,A64,'Cadastro de Produtos em Linha'!$D$7:$D$457))","v":0},null,0,0,{"$f":"IF('Aferi (Variáveis)'!$C$12=\"ALC\",0,IF('Aferi (Variáveis)'!$C$12=\"ZFM\",0,IF('Aferi (Variáveis)'!$C$12=\"Exportação\",0,IF('Aferi (Variáveis)'!$C$12=\"Venda para Exportar\",0,IF('Aferi (Variáveis)'!$C$12=\"AO\",0,SUMIF('Custo Básico dos Produtos'!$A$7:$A$480,Q64,'Custo Básico dos Produtos'!$L$7:$L$480))))))","v":0},0,0,0,0,{"$f":"SUMIF('Cadastro de Produtos em Linha'!$A$6:$A$457,Q64,'Cadastro de Produtos em Linha'!$E$6:$E$457)*H64","v":0},{"$f":"IF(TODAY()<$AK$26,IF(A64<>\"\",SUMIF('Custo Básico dos Produtos'!$B$7:$B$457,A64,'Custo Básico dos Produtos'!$A$7:$A$457),0),0)","v":0},{"$f":"IF('Aferi (Variáveis)'!$C$12=\"Venda para Exportar\",0,IF('Aferi (Variáveis)'!$C$12=\"ALC\",0,IF('Aferi (Variáveis)'!$C$12=\"ZFM\",0,IF('Aferi (Variáveis)'!$C$12=\"Exportação\",0,IF('Aferi (Variáveis)'!$C$12=\"AO\",0,E64/(100+(0*'Aferi (Variáveis)'!$K$12/100))*100*K64%/100*'Aferi (Variáveis)'!$K$12)))))","v":0},0,{"$f":"(E64*'Aferi (Variáveis)'!$K$12/100)","v":0},0,{"$f":"IF('Aferi (Variáveis)'!$F$20=\"Venda para Exportar\",0,IF('Aferi (Variáveis)'!$F$20=\"ALC\",0,IF('Aferi (Variáveis)'!$F$20=\"ZFM\",0,IF('Aferi (Variáveis)'!$F$20=\"Exportação\",0,IF('Aferi (Variáveis)'!$F$20=\"AO\",7*T64/100,T64*'Aferi (Variáveis)'!$F$20/100)))))","v":0},0,{"$f":"IF('Aferi (Variáveis)'!$C$12=\"ZFM\",0,IF('Aferi (Variáveis)'!$C$12=\"Exportação\",0,3*T64/100))","v":0},{"$f":"IF('Aferi (Variáveis)'!$C$12=\"ZFM\",0,IF('Aferi (Variáveis)'!$C$12=\"Exportação\",0,0.65*T64/100))","v":0},0,0,0,0,0,0,0,0,0,{"$f":"SUMIF('Custo Básico dos Produtos'!$B$7:$B$480,A64,'Custo Básico dos Produtos'!$K$7:$K$480)","v":0},null,null,0,0,0,0,0,0]
[null,{"$f":"IF(Q65<>0,VLOOKUP(Q65,'Custo Básico dos Produtos'!$A$7:$J$480,3),\"\")","v":""},null,{"$f":"SUMIF('Custo Básico dos Produtos'!$A$7:$A$480,Q65,'Custo Básico dos Produtos'!$J$7:$J$480)","v":0},null,0,{"$f":"IF(B65=\"\",0,SUMIF('Cadastro de Produtos em Linha'!$B$7:$B$457,A65,'Cadastro de Produtos em Linha'!$D$7:$D$457))","v":0},null,0,0,{"$f":"IF('Aferi (Variáveis)'!$C$12=\"ALC\",0,IF('Aferi (Variáveis)'!$C$12=\"ZFM\",0,IF('Aferi (Variáveis)'!$C$12=\"Exportação\",0,IF('Aferi (Variáveis)'!$C$12=\"Venda para Exportar\",0,IF('Aferi (Variáveis)'!$C$12=\"AO\",0,SUMIF('Custo Básico dos Produtos'!$A$7:$A$480,Q65,'Custo Básico dos Produtos'!$L$7:$L$480))))))","v":0},0,0,0,0,{"$f":"SUMIF('Cadastro de Produtos em Linha'!$A$6:$A$457,Q65,'Cadastro de Produtos em Linha'!$E$6:$E$457)*H65","v":0},{"$f":"IF(TODAY()<$AK$26,IF(A65<>\"\",SUMIF('Custo Básico dos Produtos'!$B$7:$B$457,A65,'Custo Básico dos Produtos'!$A$7:$A$457),0),0)","v":0},{"$f":"IF('Aferi (Variáveis)'!$C$12=\"Venda para Exportar\",0,IF('Aferi (Variáveis)'!$C$12=\"ALC\",0,IF('Aferi (Variáveis)'!$C$12=\"ZFM\",0,IF('Aferi (Variáveis)'!$C$12=\"Exportação\",0,IF('Aferi (Variáveis)'!$C$12=\"AO\",0,E65/(100+(0*'Aferi (Variáveis)'!$K$12/100))*100*K65%/100*'Aferi (Variáveis)'!$K$12)))))","v":0},0,{"$f":"(E65*'Aferi (Variáveis)'!$K$12/100)","v":0},0,{"$f":"IF('Aferi (Variáveis)'!$F$20=\"Venda para Exportar\",0,IF('Aferi (Variáveis)'!$F$20=\"ALC\",0,IF('Aferi (Variáveis)'!$F$20=\"ZFM\",0,IF('Aferi (Variáveis)'!$F$20=\"Exportação\",0,IF('Aferi (Variáveis)'!$F$20=\"AO\",7*T65/100,T65*'Aferi (Variáveis)'!$F$20/100)))))","v":0},0,{"$f":"IF('Aferi (Variáveis)'!$C$12=\"ZFM\",0,IF('Aferi (Variáveis)'!$C$12=\"Exportação\",0,3*T65/100))","v":0},{"$f":"IF('Aferi (Variáveis)'!$C$12=\"ZFM\",0,IF('Aferi (Variáveis)'!$C$12=\"Exportação\",0,0.65*T65/100))","v":0},0,0,0,0,0,0,0,0,0,{"$f":"SUMIF('Custo Básico dos Produtos'!$B$7:$B$480,A65,'Custo Básico dos Produtos'!$K$7:$K$480)","v":0},null,null,0,0,0,0,0,0]
[null,{"$f":"IF(Q66<>0,VLOOKUP(Q66,'Custo Básico dos Produtos'!$A$7:$J$480,3),\"\")","v":""},null,{"$f":"SUMIF('Custo Básico dos Produtos'!$A$7:$A$480,Q66,'Custo Básico dos Produtos'!$J$7:$J$480)","v":0},null,0,{"$f":"IF(B66=\"\",0,SUMIF('Cadastro de Produtos em Linha'!$B$7:$B$457,A66,'Cadastro de Produtos em Linha'!$D$7:$D$457))","v":0},null,0,0,{"$f":"IF('Aferi (Variáveis)'!$C$12=\"ALC\",0,IF('Aferi (Variáveis)'!$C$12=\"ZFM\",0,IF('Aferi (Variáveis)'!$C$12=\"Exportação\",0,IF('Aferi (Variáveis)'!$C$12=\"Venda para Exportar\",0,IF('Aferi (Variáveis)'!$C$12=\"AO\",0,SUMIF('Custo Básico dos Produtos'!$A$7:$A$480,Q66,'Custo Básico dos Produtos'!$L$7:$L$480))))))","v":0},0,0,0,0,{"$f":"SUMIF('Cadastro de Produtos em Linha'!$A$6:$A$457,Q66,'Cadastro de Produtos em Linha'!$E$6:$E$457)*H66","v":0},{"$f":"IF(TODAY()<$AK$26,IF(A66<>\"\",SUMIF('Custo Básico dos Produtos'!$B$7:$B$457,A66,'Custo Básico dos Produtos'!$A$7:$A$457),0),0)","v":0},{"$f":"IF('Aferi (Variáveis)'!$C$12=\"Venda para Exportar\",0,IF('Aferi (Variáveis)'!$C$12=\"ALC\",0,IF('Aferi (Variáveis)'!$C$12=\"ZFM\",0,IF('Aferi (Variáveis)'!$C$12=\"Exportação\",0,IF('Aferi (Variáveis)'!$C$12=\"AO\",0,E66/(100+(0*'Aferi (Variáveis)'!$K$12/100))*100*K66%/100*'Aferi (Variáveis)'!$K$12)))))","v":0},0,{"$f":"(E66*'Aferi (Variáveis)'!$K$12/100)","v":0},0,{"$f":"IF('Aferi (Variáveis)'!$F$20=\"Venda para Exportar\",0,IF('Aferi (Variáveis)'!$F$20=\"ALC\",0,IF('Aferi (Variáveis)'!$F$20=\"ZFM\",0,IF('Aferi (Variáveis)'!$F$20=\"Exportação\",0,IF('Aferi (Variáveis)'!$F$20=\"AO\",7*T66/100,T66*'Aferi (Variáveis)'!$F$20/100)))))","v":0},0,{"$f":"IF('Aferi (Variáveis)'!$C$12=\"ZFM\",0,IF('Aferi (Variáveis)'!$C$12=\"Exportação\",0,3*T66/100))","v":0},{"$f":"IF('Aferi (Variáveis)'!$C$12=\"ZFM\",0,IF('Aferi (Variáveis)'!$C$12=\"Exportação\",0,0.65*T66/100))","v":0},0,0,0,0,0,0,0,0,0,{"$f":"SUMIF('Custo Básico dos Produtos'!$B$7:$B$480,A66,'Custo Básico dos Produtos'!$K$7:$K$480)","v":0},null,null,0,0,0,0,0,0]
[null,{"$f":"IF(Q67<>0,VLOOKUP(Q67,'Custo Básico dos Produtos'!$A$7:$J$480,3),\"\")","v":""},null,{"$f":"SUMIF('Custo Básico dos Produtos'!$A$7:$A$480,Q67,'Custo Básico dos Produtos'!$J$7:$J$480)","v":0},null,0,{"$f":"IF(B67=\"\",0,SUMIF('Cadastro de Produtos em Linha'!$B$7:$B$457,A67,'Cadastro de Produtos em Linha'!$D$7:$D$457))","v":0},null,0,0,{"$f":"IF('Aferi (Variáveis)'!$C$12=\"ALC\",0,IF('Aferi (Variáveis)'!$C$12=\"ZFM\",0,IF('Aferi (Variáveis)'!$C$12=\"Exportação\",0,IF('Aferi (Variáveis)'!$C$12=\"Venda para Exportar\",0,IF('Aferi (Variáveis)'!$C$12=\"AO\",0,SUMIF('Custo Básico dos Produtos'!$A$7:$A$480,Q67,'Custo Básico dos Produtos'!$L$7:$L$480))))))","v":0},0,0,0,0,{"$f":"SUMIF('Cadastro de Produtos em Linha'!$A$6:$A$457,Q67,'Cadastro de Produtos em Linha'!$E$6:$E$457)*H67","v":0},{"$f":"IF(TODAY()<$AK$26,IF(A67<>\"\",SUMIF('Custo Básico dos Produtos'!$B$7:$B$457,A67,'Custo Básico dos Produtos'!$A$7:$A$457),0),0)","v":0},{"$f":"IF('Aferi (Variáveis)'!$C$12=\"Venda para Exportar\",0,IF('Aferi (Variáveis)'!$C$12=\"ALC\",0,IF('Aferi (Variáveis)'!$C$12=\"ZFM\",0,IF('Aferi (Variáveis)'!$C$12=\"Exportação\",0,IF('Aferi (Variáveis)'!$C$12=\"AO\",0,E67/(100+(0*'Aferi (Variáveis)'!$K$12/100))*100*K67%/100*'Aferi (Variáveis)'!$K$12)))))","v":0},0,{"$f":"(E67*'Aferi (Variáveis)'!$K$12/100)","v":0},0,{"$f":"IF('Aferi (Variáveis)'!$F$20=\"Venda para Exportar\",0,IF('Aferi (Variáveis)'!$F$20=\"ALC\",0,IF('Aferi (Variáveis)'!$F$20=\"ZFM\",0,IF('Aferi (Variáveis)'!$F$20=\"Exportação\",0,IF('Aferi (Variáveis)'!$F$20=\"AO\",7*T67/100,T67*'Aferi (Variáveis)'!$F$20/100)))))","v":0},0,{"$f":"IF('Aferi (Variáveis)'!$C$12=\"ZFM\",0,IF('Aferi (Variáveis)'!$C$12=\"Exportação\",0,3*T67/100))","v":0},{"$f":"IF('Aferi (Variáveis)'!$C$12=\"ZFM\",0,IF('Aferi (Variáveis)'!$C$12=\"Exportação\",0,0.65*T67/100))","v":0},0,0,0,0,0,0,0,0,0,{"$f":"SUMIF('Custo Básico dos Produtos'!$B$7:$B$480,A67,'Custo Básico dos Produtos'!$K$7:$K$480)","v":0},null,null,0,0,0,0,0,0]
[null,{"$f":"IF(Q68<>0,VLOOKUP(Q68,'Custo Básico dos Produtos'!$A$7:$J$480,3),\"\")","v":""},null,{"$f":"SUMIF('Custo Básico dos Produtos'!$A$7:$A$480,Q68,'Custo Básico dos Produtos'!$J$7:$J$480)","v":0},null,0,{"$f":"IF(B68=\"\",0,SUMIF('Cadastro de Produtos em Linha'!$B$7:$B$457,A68,'Cadastro de Produtos em Linha'!$D$7:$D$457))","v":0},null,0,0,{"$f":"IF('Aferi (Variáveis)'!$C$12=\"ALC\",0,IF('Aferi (Variáveis)'!$C$12=\"ZFM\",0,IF('Aferi (Variáveis)'!$C$12=\"Exportação\",0,IF('Aferi (Variáveis)'!$C$12=\"Venda para Exportar\",0,IF('Aferi (Variáveis)'!$C$12=\"AO\",0,SUMIF('Custo Básico dos Produtos'!$A$7:$A$480,Q68,'Custo Básico dos Produtos'!$L$7:$L$480))))))","v":0},0,0,0,0,{"$f":"SUMIF('Cadastro de Produtos em Linha'!$A$6:$A$457,Q68,'Cadastro de Produtos em Linha'!$E$6:$E$457)*H68","v":0},{"$f":"IF(TODAY()<$AK$26,IF(A68<>\"\",SUMIF('Custo Básico dos Produtos'!$B$7:$B$457,A68,'Custo Básico dos Produtos'!$A$7:$A$457),0),0)","v":0},{"$f":"IF('Aferi (Variáveis)'!$C$12=\"Venda para Exportar\",0,IF('Aferi (Variáveis)'!$C$12=\"ALC\",0,IF('Aferi (Variáveis)'!$C$12=\"ZFM\",0,IF('Aferi (Variáveis)'!$C$12=\"Exportação\",0,IF('Aferi (Variáveis)'!$C$12=\"AO\",0,E68/(100+(0*'Aferi (Variáveis)'!$K$12/100))*100*K68%/100*'Aferi (Variáveis)'!$K$12)))))","v":0},0,{"$f":"(E68*'Aferi (Variáveis)'!$K$12/100)","v":0},0,{"$f":"IF('Aferi (Variáveis)'!$F$20=\"Venda para Exportar\",0,IF('Aferi (Variáveis)'!$F$20=\"ALC\",0,IF('Aferi (Variáveis)'!$F$20=\"ZFM\",0,IF('Aferi (Variáveis)'!$F$20=\"Exportação\",0,IF('Aferi (Variáveis)'!$F$20=\"AO\",7*T68/100,T68*'Aferi (Variáveis)'!$F$20/100)))))","v":0},0,{"$f":"IF('Aferi (Variáveis)'!$C$12=\"ZFM\",0,IF('Aferi (Variáveis)'!$C$12=\"Exportação\",0,3*T68/100))","v":0},{"$f":"IF('Aferi (Variáveis)'!$C$12=\"ZFM\",0,IF('Aferi (Variáveis)'!$C$12=\"Exportação\",0,0.65*T68/100))","v":0},0,0,0,0,0,0,0,0,0,{"$f":"SUMIF('Custo Básico dos Produtos'!$B$7:$B$480,A68,'Custo Básico dos Produtos'!$K$7:$K$480)","v":0},null,null,0,0,0,0,0,0]
[null,{"$f":"IF(Q69<>0,VLOOKUP(Q69,'Custo Básico dos Produtos'!$A$7:$J$480,3),\"\")","v":""},null,{"$f":"SUMIF('Custo Básico dos Produtos'!$A$7:$A$480,Q69,'Custo Básico dos Produtos'!$J$7:$J$480)","v":0},null,0,{"$f":"IF(B69=\"\",0,SUMIF('Cadastro de Produtos em Linha'!$B$7:$B$457,A69,'Cadastro de Produtos em Linha'!$D$7:$D$457))","v":0},null,0,0,{"$f":"IF('Aferi (Variáveis)'!$C$12=\"ALC\",0,IF('Aferi (Variáveis)'!$C$12=\"ZFM\",0,IF('Aferi (Variáveis)'!$C$12=\"Exportação\",0,IF('Aferi (Variáveis)'!$C$12=\"Venda para Exportar\",0,IF('Aferi (Variáveis)'!$C$12=\"AO\",0,SUMIF('Custo Básico dos Produtos'!$A$7:$A$480,Q69,'Custo Básico dos Produtos'!$L$7:$L$480))))))","v":0},0,0,0,0,{"$f":"SUMIF('Cadastro de Produtos em Linha'!$A$6:$A$457,Q69,'Cadastro de Produtos em Linha'!$E$6:$E$457)*H69","v":0},{"$f":"IF(TODAY()<$AK$26,IF(A69<>\"\",SUMIF('Custo Básico dos Produtos'!$B$7:$B$457,A69,'Custo Básico dos Produtos'!$A$7:$A$457),0),0)","v":0},{"$f":"IF('Aferi (Variáveis)'!$C$12=\"Venda para Exportar\",0,IF('Aferi (Variáveis)'!$C$12=\"ALC\",0,IF('Aferi (Variáveis)'!$C$12=\"ZFM\",0,IF('Aferi (Variáveis)'!$C$12=\"Exportação\",0,IF('Aferi (Variáveis)'!$C$12=\"AO\",0,E69/(100+(0*'Aferi (Variáveis)'!$K$12/100))*100*K69%/100*'Aferi (Variáveis)'!$K$12)))))","v":0},0,{"$f":"(E69*'Aferi (Variáveis)'!$K$12/100)","v":0},0,{"$f":"IF('Aferi (Variáveis)'!$F$20=\"Venda para Exportar\",0,IF('Aferi (Variáveis)'!$F$20=\"ALC\",0,IF('Aferi (Variáveis)'!$F$20=\"ZFM\",0,IF('Aferi (Variáveis)'!$F$20=\"Exportação\",0,IF('Aferi (Variáveis)'!$F$20=\"AO\",7*T69/100,T69*'Aferi (Variáveis)'!$F$20/100)))))","v":0},0,{"$f":"IF('Aferi (Variáveis)'!$C$12=\"ZFM\",0,IF('Aferi (Variáveis)'!$C$12=\"Exportação\",0,3*T69/100))","v":0},{"$f":"IF('Aferi (Variáveis)'!$C$12=\"ZFM\",0,IF('Aferi (Variáveis)'!$C$12=\"Exportação\",0,0.65*T69/100))","v":0},0,0,0,0,0,0,0,0,0,{"$f":"SUMIF('Custo Básico dos Produtos'!$B$7:$B$480,A69,'Custo Básico dos Produtos'!$K$7:$K$480)","v":0},null,null,0,0,0,0,0,0]
[null,{"$f":"IF(Q70<>0,VLOOKUP(Q70,'Custo Básico dos Produtos'!$A$7:$J$480,3),\"\")","v":""},null,{"$f":"SUMIF('Custo Básico dos Produtos'!$A$7:$A$480,Q70,'Custo Básico dos Produtos'!$J$7:$J$480)","v":0},null,0,{"$f":"IF(B70=\"\",0,SUMIF('Cadastro de Produtos em Linha'!$B$7:$B$457,A70,'Cadastro de Produtos em Linha'!$D$7:$D$457))","v":0},null,0,0,{"$f":"IF('Aferi (Variáveis)'!$C$12=\"ALC\",0,IF('Aferi (Variáveis)'!$C$12=\"ZFM\",0,IF('Aferi (Variáveis)'!$C$12=\"Exportação\",0,IF('Aferi (Variáveis)'!$C$12=\"Venda para Exportar\",0,IF('Aferi (Variáveis)'!$C$12=\"AO\",0,SUMIF('Custo Básico dos Produtos'!$A$7:$A$480,Q70,'Custo Básico dos Produtos'!$L$7:$L$480))))))","v":0},0,0,0,0,{"$f":"SUMIF('Cadastro de Produtos em Linha'!$A$6:$A$457,Q70,'Cadastro de Produtos em Linha'!$E$6:$E$457)*H70","v":0},{"$f":"IF(TODAY()<$AK$26,IF(A70<>\"\",SUMIF('Custo Básico dos Produtos'!$B$7:$B$457,A70,'Custo Básico dos Produtos'!$A$7:$A$457),0),0)","v":0},{"$f":"IF('Aferi (Variáveis)'!$C$12=\"Venda para Exportar\",0,IF('Aferi (Variáveis)'!$C$12=\"ALC\",0,IF('Aferi (Variáveis)'!$C$12=\"ZFM\",0,IF('Aferi (Variáveis)'!$C$12=\"Exportação\",0,IF('Aferi (Variáveis)'!$C$12=\"AO\",0,E70/(100+(0*'Aferi (Variáveis)'!$K$12/100))*100*K70%/100*'Aferi (Variáveis)'!$K$12)))))","v":0},0,{"$f":"(E70*'Aferi (Variáveis)'!$K$12/100)","v":0},0,{"$f":"IF('Aferi (Variáveis)'!$F$20=\"Venda para Exportar\",0,IF('Aferi (Variáveis)'!$F$20=\"ALC\",0,IF('Aferi (Variáveis)'!$F$20=\"ZFM\",0,IF('Aferi (Variáveis)'!$F$20=\"Exportação\",0,IF('Aferi (Variáveis)'!$F$20=\"AO\",7*T70/100,T70*'Aferi (Variáveis)'!$F$20/100)))))","v":0},0,{"$f":"IF('Aferi (Variáveis)'!$C$12=\"ZFM\",0,IF('Aferi (Variáveis)'!$C$12=\"Exportação\",0,3*T70/100))","v":0},{"$f":"IF('Aferi (Variáveis)'!$C$12=\"ZFM\",0,IF('Aferi (Variáveis)'!$C$12=\"Exportação\",0,0.65*T70/100))","v":0},0,0,0,0,0,0,0,0,0,{"$f":"SUMIF('Custo Básico dos Produtos'!$B$7:$B$480,A70,'Custo Básico dos Produtos'!$K$7:$K$480)","v":0},null,null,0,0,0,0,0,0]
[null,{"$f":"IF(Q71<>0,VLOOKUP(Q71,'Custo Básico dos Produtos'!$A$7:$J$480,3),\"\")","v":""},null,{"$f":"SUMIF('Custo Básico dos Produtos'!$A$7:$A$480,Q71,'Custo Básico dos Produtos'!$J$7:$J$480)","v":0},null,0,{"$f":"IF(B71=\"\",0,SUMIF('Cadastro de Produtos em Linha'!$B$7:$B$457,A71,'Cadastro de Produtos em Linha'!$D$7:$D$457))","v":0},null,0,0,{"$f":"IF('Aferi (Variáveis)'!$C$12=\"ALC\",0,IF('Aferi (Variáveis)'!$C$12=\"ZFM\",0,IF('Aferi (Variáveis)'!$C$12=\"Exportação\",0,IF('Aferi (Variáveis)'!$C$12=\"Venda para Exportar\",0,IF('Aferi (Variáveis)'!$C$12=\"AO\",0,SUMIF('Custo Básico dos Produtos'!$A$7:$A$480,Q71,'Custo Básico dos Produtos'!$L$7:$L$480))))))","v":0},0,0,0,0,{"$f":"SUMIF('Cadastro de Produtos em Linha'!$A$6:$A$457,Q71,'Cadastro de Produtos em Linha'!$E$6:$E$457)*H71","v":0},{"$f":"IF(TODAY()<$AK$26,IF(A71<>\"\",SUMIF('Custo Básico dos Produtos'!$B$7:$B$457,A71,'Custo Básico dos Produtos'!$A$7:$A$457),0),0)","v":0},{"$f":"IF('Aferi (Variáveis)'!$C$12=\"Venda para Exportar\",0,IF('Aferi (Variáveis)'!$C$12=\"ALC\",0,IF('Aferi (Variáveis)'!$C$12=\"ZFM\",0,IF('Aferi (Variáveis)'!$C$12=\"Exportação\",0,IF('Aferi (Variáveis)'!$C$12=\"AO\",0,E71/(100+(0*'Aferi (Variáveis)'!$K$12/100))*100*K71%/100*'Aferi (Variáveis)'!$K$12)))))","v":0},0,{"$f":"(E71*'Aferi (Variáveis)'!$K$12/100)","v":0},0,{"$f":"IF('Aferi (Variáveis)'!$F$20=\"Venda para Exportar\",0,IF('Aferi (Variáveis)'!$F$20=\"ALC\",0,IF('Aferi (Variáveis)'!$F$20=\"ZFM\",0,IF('Aferi (Variáveis)'!$F$20=\"Exportação\",0,IF('Aferi (Variáveis)'!$F$20=\"AO\",7*T71/100,T71*'Aferi (Variáveis)'!$F$20/100)))))","v":0},0,{"$f":"IF('Aferi (Variáveis)'!$C$12=\"ZFM\",0,IF('Aferi (Variáveis)'!$C$12=\"Exportação\",0,3*T71/100))","v":0},{"$f":"IF('Aferi (Variáveis)'!$C$12=\"ZFM\",0,IF('Aferi (Variáveis)'!$C$12=\"Exportação\",0,0.65*T71/100))","v":0},0,0,0,0,0,0,0,0,0,{"$f":"SUMIF('Custo Básico dos Produtos'!$B$7:$B$480,A71,'Custo Básico dos Produtos'!$K$7:$K$480)","v":0},null,null,0,0,0,0,0,0]
[null,{"$f":"IF(Q72<>0,VLOOKUP(Q72,'Custo Básico dos Produtos'!$A$7:$J$480,3),\"\")","v":""},null,{"$f":"SUMIF('Custo Básico dos Produtos'!$A$7:$A$480,Q72,'Custo Básico dos Produtos'!$J$7:$J$480)","v":0},null,0,{"$f":"IF(B72=\"\",0,SUMIF('Cadastro de Produtos em Linha'!$B$7:$B$457,A72,'Cadastro de Produtos em Linha'!$D$7:$D$457))","v":0},null,0,0,{"$f":"IF('Aferi (Variáveis)'!$C$12=\"ALC\",0,IF('Aferi (Variáveis)'!$C$12=\"ZFM\",0,IF('Aferi (Variáveis)'!$C$12=\"Exportação\",0,IF('Aferi (Variáveis)'!$C$12=\"Venda para Exportar\",0,IF('Aferi (Variáveis)'!$C$12=\"AO\",0,SUMIF('Custo Básico dos Produtos'!$A$7:$A$480,Q72,'Custo Básico dos Produtos'!$L$7:$L$480))))))","v":0},0,0,0,0,{"$f":"SUMIF('Cadastro de Produtos em Linha'!$A$6:$A$457,Q72,'Cadastro de Produtos em Linha'!$E$6:$E$457)*H72","v":0},{"$f":"IF(TODAY()<$AK$26,IF(A72<>\"\",SUMIF('Custo Básico dos Produtos'!$B$7:$B$457,A72,'Custo Básico dos Produtos'!$A$7:$A$457),0),0)","v":0},{"$f":"IF('Aferi (Variáveis)'!$C$12=\"Venda para Exportar\",0,IF('Aferi (Variáveis)'!$C$12=\"ALC\",0,IF('Aferi (Variáveis)'!$C$12=\"ZFM\",0,IF('Aferi (Variáveis)'!$C$12=\"Exportação\",0,IF('Aferi (Variáveis)'!$C$12=\"AO\",0,E72/(100+(0*'Aferi (Variáveis)'!$K$12/100))*100*K72%/100*'Aferi (Variáveis)'!$K$12)))))","v":0},0,{"$f":"(E72*'Aferi (Variáveis)'!$K$12/100)","v":0},0,{"$f":"IF('Aferi (Variáveis)'!$F$20=\"Venda para Exportar\",0,IF('Aferi (Variáveis)'!$F$20=\"ALC\",0,IF('Aferi (Variáveis)'!$F$20=\"ZFM\",0,IF('Aferi (Variáveis)'!$F$20=\"Exportação\",0,IF('Aferi (Variáveis)'!$F$20=\"AO\",7*T72/100,T72*'Aferi (Variáveis)'!$F$20/100)))))","v":0},0,{"$f":"IF('Aferi (Variáveis)'!$C$12=\"ZFM\",0,IF('Aferi (Variáveis)'!$C$12=\"Exportação\",0,3*T72/100))","v":0},{"$f":"IF('Aferi (Variáveis)'!$C$12=\"ZFM\",0,IF('Aferi (Variáveis)'!$C$12=\"Exportação\",0,0.65*T72/100))","v":0},0,0,0,0,0,0,0,0,0,{"$f":"SUMIF('Custo Básico dos Produtos'!$B$7:$B$480,A72,'Custo Básico dos Produtos'!$K$7:$K$480)","v":0},null,null,0,0,0,0,0,0]
[null,{"$f":"IF(Q73<>0,VLOOKUP(Q73,'Custo Básico dos Produtos'!$A$7:$J$480,3),\"\")","v":""},null,{"$f":"SUMIF('Custo Básico dos Produtos'!$A$7:$A$480,Q73,'Custo Básico dos Produtos'!$J$7:$J$480)","v":0},null,0,{"$f":"IF(B73=\"\",0,SUMIF('Cadastro de Produtos em Linha'!$B$7:$B$457,A73,'Cadastro de Produtos em Linha'!$D$7:$D$457))","v":0},null,0,0,{"$f":"IF('Aferi (Variáveis)'!$C$12=\"ALC\",0,IF('Aferi (Variáveis)'!$C$12=\"ZFM\",0,IF('Aferi (Variáveis)'!$C$12=\"Exportação\",0,IF('Aferi (Variáveis)'!$C$12=\"Venda para Exportar\",0,IF('Aferi (Variáveis)'!$C$12=\"AO\",0,SUMIF('Custo Básico dos Produtos'!$A$7:$A$480,Q73,'Custo Básico dos Produtos'!$L$7:$L$480))))))","v":0},0,0,0,0,{"$f":"SUMIF('Cadastro de Produtos em Linha'!$A$6:$A$457,Q73,'Cadastro de Produtos em Linha'!$E$6:$E$457)*H73","v":0},{"$f":"IF(TODAY()<$AK$26,IF(A73<>\"\",SUMIF('Custo Básico dos Produtos'!$B$7:$B$457,A73,'Custo Básico dos Produtos'!$A$7:$A$457),0),0)","v":0},{"$f":"IF('Aferi (Variáveis)'!$C$12=\"Venda para Exportar\",0,IF('Aferi (Variáveis)'!$C$12=\"ALC\",0,IF('Aferi (Variáveis)'!$C$12=\"ZFM\",0,IF('Aferi (Variáveis)'!$C$12=\"Exportação\",0,IF('Aferi (Variáveis)'!$C$12=\"AO\",0,E73/(100+(0*'Aferi (Variáveis)'!$K$12/100))*100*K73%/100*'Aferi (Variáveis)'!$K$12)))))","v":0},0,{"$f":"(E73*'Aferi (Variáveis)'!$K$12/100)","v":0},0,{"$f":"IF('Aferi (Variáveis)'!$F$20=\"Venda para Exportar\",0,IF('Aferi (Variáveis)'!$F$20=\"ALC\",0,IF('Aferi (Variáveis)'!$F$20=\"ZFM\",0,IF('Aferi (Variáveis)'!$F$20=\"Exportação\",0,IF('Aferi (Variáveis)'!$F$20=\"AO\",7*T73/100,T73*'Aferi (Variáveis)'!$F$20/100)))))","v":0},0,{"$f":"IF('Aferi (Variáveis)'!$C$12=\"ZFM\",0,IF('Aferi (Variáveis)'!$C$12=\"Exportação\",0,3*T73/100))","v":0},{"$f":"IF('Aferi (Variáveis)'!$C$12=\"ZFM\",0,IF('Aferi (Variáveis)'!$C$12=\"Exportação\",0,0.65*T73/100))","v":0},0,0,0,0,0,0,0,0,0,{"$f":"SUMIF('Custo Básico dos Produtos'!$B$7:$B$480,A73,'Custo Básico dos Produtos'!$K$7:$K$480)","v":0},null,null,0,0,0,0,0,0]
[null,{"$f":"IF(Q74<>0,VLOOKUP(Q74,'Custo Básico dos Produtos'!$A$7:$J$480,3),\"\")","v":""},null,{"$f":"SUMIF('Custo Básico dos Produtos'!$A$7:$A$480,Q74,'Custo Básico dos Produtos'!$J$7:$J$480)","v":0},null,0,{"$f":"IF(B74=\"\",0,SUMIF('Cadastro de Produtos em Linha'!$B$7:$B$457,A74,'Cadastro de Produtos em Linha'!$D$7:$D$457))","v":0},null,0,0,{"$f":"IF('Aferi (Variáveis)'!$C$12=\"ALC\",0,IF('Aferi (Variáveis)'!$C$12=\"ZFM\",0,IF('Aferi (Variáveis)'!$C$12=\"Exportação\",0,IF('Aferi (Variáveis)'!$C$12=\"Venda para Exportar\",0,IF('Aferi (Variáveis)'!$C$12=\"AO\",0,SUMIF('Custo Básico dos Produtos'!$A$7:$A$480,Q74,'Custo Básico dos Produtos'!$L$7:$L$480))))))","v":0},0,0,0,0,{"$f":"SUMIF('Cadastro de Produtos em Linha'!$A$6:$A$457,Q74,'Cadastro de Produtos em Linha'!$E$6:$E$457)*H74","v":0},{"$f":"IF(TODAY()<$AK$26,IF(A74<>\"\",SUMIF('Custo Básico dos Produtos'!$B$7:$B$457,A74,'Custo Básico dos Produtos'!$A$7:$A$457),0),0)","v":0},{"$f":"IF('Aferi (Variáveis)'!$C$12=\"Venda para Exportar\",0,IF('Aferi (Variáveis)'!$C$12=\"ALC\",0,IF('Aferi (Variáveis)'!$C$12=\"ZFM\",0,IF('Aferi (Variáveis)'!$C$12=\"Exportação\",0,IF('Aferi (Variáveis)'!$C$12=\"AO\",0,E74/(100+(0*'Aferi (Variáveis)'!$K$12/100))*100*K74%/100*'Aferi (Variáveis)'!$K$12)))))","v":0},0,{"$f":"(E74*'Aferi (Variáveis)'!$K$12/100)","v":0},0,{"$f":"IF('Aferi (Variáveis)'!$F$20=\"Venda para Exportar\",0,IF('Aferi (Variáveis)'!$F$20=\"ALC\",0,IF('Aferi (Variáveis)'!$F$20=\"ZFM\",0,IF('Aferi (Variáveis)'!$F$20=\"Exportação\",0,IF('Aferi (Variáveis)'!$F$20=\"AO\",7*T74/100,T74*'Aferi (Variáveis)'!$F$20/100)))))","v":0},0,{"$f":"IF('Aferi (Variáveis)'!$C$12=\"ZFM\",0,IF('Aferi (Variáveis)'!$C$12=\"Exportação\",0,3*T74/100))","v":0},{"$f":"IF('Aferi (Variáveis)'!$C$12=\"ZFM\",0,IF('Aferi (Variáveis)'!$C$12=\"Exportação\",0,0.65*T74/100))","v":0},0,0,0,0,0,0,0,0,0,{"$f":"SUMIF('Custo Básico dos Produtos'!$B$7:$B$480,A74,'Custo Básico dos Produtos'!$K$7:$K$480)","v":0},null,null,0,0,0,0,0,0]
[null,{"$f":"IF(Q75<>0,VLOOKUP(Q75,'Custo Básico dos Produtos'!$A$7:$J$480,3),\"\")","v":""},null,{"$f":"SUMIF('Custo Básico dos Produtos'!$A$7:$A$480,Q75,'Custo Básico dos Produtos'!$J$7:$J$480)","v":0},null,0,{"$f":"IF(B75=\"\",0,SUMIF('Cadastro de Produtos em Linha'!$B$7:$B$457,A75,'Cadastro de Produtos em Linha'!$D$7:$D$457))","v":0},null,0,0,{"$f":"IF('Aferi (Variáveis)'!$C$12=\"ALC\",0,IF('Aferi (Variáveis)'!$C$12=\"ZFM\",0,IF('Aferi (Variáveis)'!$C$12=\"Exportação\",0,IF('Aferi (Variáveis)'!$C$12=\"Venda para Exportar\",0,IF('Aferi (Variáveis)'!$C$12=\"AO\",0,SUMIF('Custo Básico dos Produtos'!$A$7:$A$480,Q75,'Custo Básico dos Produtos'!$L$7:$L$480))))))","v":0},0,0,0,0,{"$f":"SUMIF('Cadastro de Produtos em Linha'!$A$6:$A$457,Q75,'Cadastro de Produtos em Linha'!$E$6:$E$457)*H75","v":0},{"$f":"IF(TODAY()<$AK$26,IF(A75<>\"\",SUMIF('Custo Básico dos Produtos'!$B$7:$B$457,A75,'Custo Básico dos Produtos'!$A$7:$A$457),0),0)","v":0},{"$f":"IF('Aferi (Variáveis)'!$C$12=\"Venda para Exportar\",0,IF('Aferi (Variáveis)'!$C$12=\"ALC\",0,IF('Aferi (Variáveis)'!$C$12=\"ZFM\",0,IF('Aferi (Variáveis)'!$C$12=\"Exportação\",0,IF('Aferi (Variáveis)'!$C$12=\"AO\",0,E75/(100+(0*'Aferi (Variáveis)'!$K$12/100))*100*K75%/100*'Aferi (Variáveis)'!$K$12)))))","v":0},0,{"$f":"(E75*'Aferi (Variáveis)'!$K$12/100)","v":0},0,{"$f":"IF('Aferi (Variáveis)'!$F$20=\"Venda para Exportar\",0,IF('Aferi (Variáveis)'!$F$20=\"ALC\",0,IF('Aferi (Variáveis)'!$F$20=\"ZFM\",0,IF('Aferi (Variáveis)'!$F$20=\"Exportação\",0,IF('Aferi (Variáveis)'!$F$20=\"AO\",7*T75/100,T75*'Aferi (Variáveis)'!$F$20/100)))))","v":0},0,{"$f":"IF('Aferi (Variáveis)'!$C$12=\"ZFM\",0,IF('Aferi (Variáveis)'!$C$12=\"Exportação\",0,3*T75/100))","v":0},{"$f":"IF('Aferi (Variáveis)'!$C$12=\"ZFM\",0,IF('Aferi (Variáveis)'!$C$12=\"Exportação\",0,0.65*T75/100))","v":0},0,0,0,0,0,0,0,0,0,{"$f":"SUMIF('Custo Básico dos Produtos'!$B$7:$B$480,A75,'Custo Básico dos Produtos'!$K$7:$K$480)","v":0},null,null,0,0,0,0,0,0]
[null,{"$f":"IF(Q76<>0,VLOOKUP(Q76,'Custo Básico dos Produtos'!$A$7:$J$480,3),\"\")","v":""},null,{"$f":"SUMIF('Custo Básico dos Produtos'!$A$7:$A$480,Q76,'Custo Básico dos Produtos'!$J$7:$J$480)","v":0},null,0,{"$f":"IF(B76=\"\",0,SUMIF('Cadastro de Produtos em Linha'!$B$7:$B$457,A76,'Cadastro de Produtos em Linha'!$D$7:$D$457))","v":0},null,0,0,{"$f":"IF('Aferi (Variáveis)'!$C$12=\"ALC\",0,IF('Aferi (Variáveis)'!$C$12=\"ZFM\",0,IF('Aferi (Variáveis)'!$C$12=\"Exportação\",0,IF('Aferi (Variáveis)'!$C$12=\"Venda para Exportar\",0,IF('Aferi (Variáveis)'!$C$12=\"AO\",0,SUMIF('Custo Básico dos Produtos'!$A$7:$A$480,Q76,'Custo Básico dos Produtos'!$L$7:$L$480))))))","v":0},0,0,0,0,{"$f":"SUMIF('Cadastro de Produtos em Linha'!$A$6:$A$457,Q76,'Cadastro de Produtos em Linha'!$E$6:$E$457)*H76","v":0},{"$f":"IF(TODAY()<$AK$26,IF(A76<>\"\",SUMIF('Custo Básico dos Produtos'!$B$7:$B$457,A76,'Custo Básico dos Produtos'!$A$7:$A$457),0),0)","v":0},{"$f":"IF('Aferi (Variáveis)'!$C$12=\"Venda para Exportar\",0,IF('Aferi (Variáveis)'!$C$12=\"ALC\",0,IF('Aferi (Variáveis)'!$C$12=\"ZFM\",0,IF('Aferi (Variáveis)'!$C$12=\"Exportação\",0,IF('Aferi (Variáveis)'!$C$12=\"AO\",0,E76/(100+(0*'Aferi (Variáveis)'!$K$12/100))*100*K76%/100*'Aferi (Variáveis)'!$K$12)))))","v":0},0,{"$f":"(E76*'Aferi (Variáveis)'!$K$12/100)","v":0},0,{"$f":"IF('Aferi (Variáveis)'!$F$20=\"Venda para Exportar\",0,IF('Aferi (Variáveis)'!$F$20=\"ALC\",0,IF('Aferi (Variáveis)'!$F$20=\"ZFM\",0,IF('Aferi (Variáveis)'!$F$20=\"Exportação\",0,IF('Aferi (Variáveis)'!$F$20=\"AO\",7*T76/100,T76*'Aferi (Variáveis)'!$F$20/100)))))","v":0},0,{"$f":"IF('Aferi (Variáveis)'!$C$12=\"ZFM\",0,IF('Aferi (Variáveis)'!$C$12=\"Exportação\",0,3*T76/100))","v":0},{"$f":"IF('Aferi (Variáveis)'!$C$12=\"ZFM\",0,IF('Aferi (Variáveis)'!$C$12=\"Exportação\",0,0.65*T76/100))","v":0},0,0,0,0,0,0,0,0,0,{"$f":"SUMIF('Custo Básico dos Produtos'!$B$7:$B$480,A76,'Custo Básico dos Produtos'!$K$7:$K$480)","v":0},null,null,0,0,0,0,0,0]
[null,{"$f":"IF(Q77<>0,VLOOKUP(Q77,'Custo Básico dos Produtos'!$A$7:$J$480,3),\"\")","v":""},null,{"$f":"SUMIF('Custo Básico dos Produtos'!$A$7:$A$480,Q77,'Custo Básico dos Produtos'!$J$7:$J$480)","v":0},null,0,{"$f":"IF(B77=\"\",0,SUMIF('Cadastro de Produtos em Linha'!$B$7:$B$457,A77,'Cadastro de Produtos em Linha'!$D$7:$D$457))","v":0},null,0,0,{"$f":"IF('Aferi (Variáveis)'!$C$12=\"ALC\",0,IF('Aferi (Variáveis)'!$C$12=\"ZFM\",0,IF('Aferi (Variáveis)'!$C$12=\"Exportação\",0,IF('Aferi (Variáveis)'!$C$12=\"Venda para Exportar\",0,IF('Aferi (Variáveis)'!$C$12=\"AO\",0,SUMIF('Custo Básico dos Produtos'!$A$7:$A$480,Q77,'Custo Básico dos Produtos'!$L$7:$L$480))))))","v":0},0,0,0,0,{"$f":"SUMIF('Cadastro de Produtos em Linha'!$A$6:$A$457,Q77,'Cadastro de Produtos em Linha'!$E$6:$E$457)*H77","v":0},{"$f":"IF(TODAY()<$AK$26,IF(A77<>\"\",SUMIF('Custo Básico dos Produtos'!$B$7:$B$457,A77,'Custo Básico dos Produtos'!$A$7:$A$457),0),0)","v":0},{"$f":"IF('Aferi (Variáveis)'!$C$12=\"Venda para Exportar\",0,IF('Aferi (Variáveis)'!$C$12=\"ALC\",0,IF('Aferi (Variáveis)'!$C$12=\"ZFM\",0,IF('Aferi (Variáveis)'!$C$12=\"Exportação\",0,IF('Aferi (Variáveis)'!$C$12=\"AO\",0,E77/(100+(0*'Aferi (Variáveis)'!$K$12/100))*100*K77%/100*'Aferi (Variáveis)'!$K$12)))))","v":0},0,{"$f":"(E77*'Aferi (Variáveis)'!$K$12/100)","v":0},0,{"$f":"IF('Aferi (Variáveis)'!$F$20=\"Venda para Exportar\",0,IF('Aferi (Variáveis)'!$F$20=\"ALC\",0,IF('Aferi (Variáveis)'!$F$20=\"ZFM\",0,IF('Aferi (Variáveis)'!$F$20=\"Exportação\",0,IF('Aferi (Variáveis)'!$F$20=\"AO\",7*T77/100,T77*'Aferi (Variáveis)'!$F$20/100)))))","v":0},0,{"$f":"IF('Aferi (Variáveis)'!$C$12=\"ZFM\",0,IF('Aferi (Variáveis)'!$C$12=\"Exportação\",0,3*T77/100))","v":0},{"$f":"IF('Aferi (Variáveis)'!$C$12=\"ZFM\",0,IF('Aferi (Variáveis)'!$C$12=\"Exportação\",0,0.65*T77/100))","v":0},0,0,0,0,0,0,0,0,0,{"$f":"SUMIF('Custo Básico dos Produtos'!$B$7:$B$480,A77,'Custo Básico dos Produtos'!$K$7:$K$480)","v":0},null,null,0,0,0,0,0,0]
[null,{"$f":"IF(Q78<>0,VLOOKUP(Q78,'Custo Básico dos Produtos'!$A$7:$J$480,3),\"\")","v":""},null,{"$f":"SUMIF('Custo Básico dos Produtos'!$A$7:$A$480,Q78,'Custo Básico dos Produtos'!$J$7:$J$480)","v":0},null,0,{"$f":"IF(B78=\"\",0,SUMIF('Cadastro de Produtos em Linha'!$B$7:$B$457,A78,'Cadastro de Produtos em Linha'!$D$7:$D$457))","v":0},null,0,0,{"$f":"IF('Aferi (Variáveis)'!$C$12=\"ALC\",0,IF('Aferi (Variáveis)'!$C$12=\"ZFM\",0,IF('Aferi (Variáveis)'!$C$12=\"Exportação\",0,IF('Aferi (Variáveis)'!$C$12=\"Venda para Exportar\",0,IF('Aferi (Variáveis)'!$C$12=\"AO\",0,SUMIF('Custo Básico dos Produtos'!$A$7:$A$480,Q78,'Custo Básico dos Produtos'!$L$7:$L$480))))))","v":0},0,0,0,0,{"$f":"SUMIF('Cadastro de Produtos em Linha'!$A$6:$A$457,Q78,'Cadastro de Produtos em Linha'!$E$6:$E$457)*H78","v":0},{"$f":"IF(TODAY()<$AK$26,IF(A78<>\"\",SUMIF('Custo Básico dos Produtos'!$B$7:$B$457,A78,'Custo Básico dos Produtos'!$A$7:$A$457),0),0)","v":0},{"$f":"IF('Aferi (Variáveis)'!$C$12=\"Venda para Exportar\",0,IF('Aferi (Variáveis)'!$C$12=\"ALC\",0,IF('Aferi (Variáveis)'!$C$12=\"ZFM\",0,IF('Aferi (Variáveis)'!$C$12=\"Exportação\",0,IF('Aferi (Variáveis)'!$C$12=\"AO\",0,E78/(100+(0*'Aferi (Variáveis)'!$K$12/100))*100*K78%/100*'Aferi (Variáveis)'!$K$12)))))","v":0},0,{"$f":"(E78*'Aferi (Variáveis)'!$K$12/100)","v":0},0,{"$f":"IF('Aferi (Variáveis)'!$F$20=\"Venda para Exportar\",0,IF('Aferi (Variáveis)'!$F$20=\"ALC\",0,IF('Aferi (Variáveis)'!$F$20=\"ZFM\",0,IF('Aferi (Variáveis)'!$F$20=\"Exportação\",0,IF('Aferi (Variáveis)'!$F$20=\"AO\",7*T78/100,T78*'Aferi (Variáveis)'!$F$20/100)))))","v":0},0,{"$f":"IF('Aferi (Variáveis)'!$C$12=\"ZFM\",0,IF('Aferi (Variáveis)'!$C$12=\"Exportação\",0,3*T78/100))","v":0},{"$f":"IF('Aferi (Variáveis)'!$C$12=\"ZFM\",0,IF('Aferi (Variáveis)'!$C$12=\"Exportação\",0,0.65*T78/100))","v":0},0,0,0,0,0,0,0,0,0,{"$f":"SUMIF('Custo Básico dos Produtos'!$B$7:$B$480,A78,'Custo Básico dos Produtos'!$K$7:$K$480)","v":0},null,null,0,0,0,0,0,0]
[null,{"$f":"IF(Q79<>0,VLOOKUP(Q79,'Custo Básico dos Produtos'!$A$7:$J$480,3),\"\")","v":""},null,{"$f":"SUMIF('Custo Básico dos Produtos'!$A$7:$A$480,Q79,'Custo Básico dos Produtos'!$J$7:$J$480)","v":0},null,0,{"$f":"IF(B79=\"\",0,SUMIF('Cadastro de Produtos em Linha'!$B$7:$B$457,A79,'Cadastro de Produtos em Linha'!$D$7:$D$457))","v":0},null,0,0,{"$f":"IF('Aferi (Variáveis)'!$C$12=\"ALC\",0,IF('Aferi (Variáveis)'!$C$12=\"ZFM\",0,IF('Aferi (Variáveis)'!$C$12=\"Exportação\",0,IF('Aferi (Variáveis)'!$C$12=\"Venda para Exportar\",0,IF('Aferi (Variáveis)'!$C$12=\"AO\",0,SUMIF('Custo Básico dos Produtos'!$A$7:$A$480,Q79,'Custo Básico dos Produtos'!$L$7:$L$480))))))","v":0},0,0,0,0,{"$f":"SUMIF('Cadastro de Produtos em Linha'!$A$6:$A$457,Q79,'Cadastro de Produtos em Linha'!$E$6:$E$457)*H79","v":0},{"$f":"IF(TODAY()<$AK$26,IF(A79<>\"\",SUMIF('Custo Básico dos Produtos'!$B$7:$B$457,A79,'Custo Básico dos Produtos'!$A$7:$A$457),0),0)","v":0},{"$f":"IF('Aferi (Variáveis)'!$C$12=\"Venda para Exportar\",0,IF('Aferi (Variáveis)'!$C$12=\"ALC\",0,IF('Aferi (Variáveis)'!$C$12=\"ZFM\",0,IF('Aferi (Variáveis)'!$C$12=\"Exportação\",0,IF('Aferi (Variáveis)'!$C$12=\"AO\",0,E79/(100+(0*'Aferi (Variáveis)'!$K$12/100))*100*K79%/100*'Aferi (Variáveis)'!$K$12)))))","v":0},0,{"$f":"(E79*'Aferi (Variáveis)'!$K$12/100)","v":0},0,{"$f":"IF('Aferi (Variáveis)'!$F$20=\"Venda para Exportar\",0,IF('Aferi (Variáveis)'!$F$20=\"ALC\",0,IF('Aferi (Variáveis)'!$F$20=\"ZFM\",0,IF('Aferi (Variáveis)'!$F$20=\"Exportação\",0,IF('Aferi (Variáveis)'!$F$20=\"AO\",7*T79/100,T79*'Aferi (Variáveis)'!$F$20/100)))))","v":0},0,{"$f":"IF('Aferi (Variáveis)'!$C$12=\"ZFM\",0,IF('Aferi (Variáveis)'!$C$12=\"Exportação\",0,3*T79/100))","v":0},{"$f":"IF('Aferi (Variáveis)'!$C$12=\"ZFM\",0,IF('Aferi (Variáveis)'!$C$12=\"Exportação\",0,0.65*T79/100))","v":0},0,0,0,0,0,0,0,0,0,{"$f":"SUMIF('Custo Básico dos Produtos'!$B$7:$B$480,A79,'Custo Básico dos Produtos'!$K$7:$K$480)","v":0},null,null,0,0,0,0,0,0]
[null,{"$f":"IF(Q80<>0,VLOOKUP(Q80,'Custo Básico dos Produtos'!$A$7:$J$480,3),\"\")","v":""},null,{"$f":"SUMIF('Custo Básico dos Produtos'!$A$7:$A$480,Q80,'Custo Básico dos Produtos'!$J$7:$J$480)","v":0},null,0,{"$f":"IF(B80=\"\",0,SUMIF('Cadastro de Produtos em Linha'!$B$7:$B$457,A80,'Cadastro de Produtos em Linha'!$D$7:$D$457))","v":0},null,0,0,{"$f":"IF('Aferi (Variáveis)'!$C$12=\"ALC\",0,IF('Aferi (Variáveis)'!$C$12=\"ZFM\",0,IF('Aferi (Variáveis)'!$C$12=\"Exportação\",0,IF('Aferi (Variáveis)'!$C$12=\"Venda para Exportar\",0,IF('Aferi (Variáveis)'!$C$12=\"AO\",0,SUMIF('Custo Básico dos Produtos'!$A$7:$A$480,Q80,'Custo Básico dos Produtos'!$L$7:$L$480))))))","v":0},0,0,0,0,{"$f":"SUMIF('Cadastro de Produtos em Linha'!$A$6:$A$457,Q80,'Cadastro de Produtos em Linha'!$E$6:$E$457)*H80","v":0},{"$f":"IF(TODAY()<$AK$26,IF(A80<>\"\",SUMIF('Custo Básico dos Produtos'!$B$7:$B$457,A80,'Custo Básico dos Produtos'!$A$7:$A$457),0),0)","v":0},{"$f":"IF('Aferi (Variáveis)'!$C$12=\"Venda para Exportar\",0,IF('Aferi (Variáveis)'!$C$12=\"ALC\",0,IF('Aferi (Variáveis)'!$C$12=\"ZFM\",0,IF('Aferi (Variáveis)'!$C$12=\"Exportação\",0,IF('Aferi (Variáveis)'!$C$12=\"AO\",0,E80/(100+(0*'Aferi (Variáveis)'!$K$12/100))*100*K80%/100*'Aferi (Variáveis)'!$K$12)))))","v":0},0,{"$f":"(E80*'Aferi (Variáveis)'!$K$12/100)","v":0},0,{"$f":"IF('Aferi (Variáveis)'!$F$20=\"Venda para Exportar\",0,IF('Aferi (Variáveis)'!$F$20=\"ALC\",0,IF('Aferi (Variáveis)'!$F$20=\"ZFM\",0,IF('Aferi (Variáveis)'!$F$20=\"Exportação\",0,IF('Aferi (Variáveis)'!$F$20=\"AO\",7*T80/100,T80*'Aferi (Variáveis)'!$F$20/100)))))","v":0},0,{"$f":"IF('Aferi (Variáveis)'!$C$12=\"ZFM\",0,IF('Aferi (Variáveis)'!$C$12=\"Exportação\",0,3*T80/100))","v":0},{"$f":"IF('Aferi (Variáveis)'!$C$12=\"ZFM\",0,IF('Aferi (Variáveis)'!$C$12=\"Exportação\",0,0.65*T80/100))","v":0},0,0,0,0,0,0,0,0,0,{"$f":"SUMIF('Custo Básico dos Produtos'!$B$7:$B$480,A80,'Custo Básico dos Produtos'!$K$7:$K$480)","v":0},null,null,0,0,0,0,0,0]
[null,{"$f":"IF(Q81<>0,VLOOKUP(Q81,'Custo Básico dos Produtos'!$A$7:$J$480,3),\"\")","v":""},null,{"$f":"SUMIF('Custo Básico dos Produtos'!$A$7:$A$480,Q81,'Custo Básico dos Produtos'!$J$7:$J$480)","v":0},null,0,{"$f":"IF(B81=\"\",0,SUMIF('Cadastro de Produtos em Linha'!$B$7:$B$457,A81,'Cadastro de Produtos em Linha'!$D$7:$D$457))","v":0},null,0,0,{"$f":"IF('Aferi (Variáveis)'!$C$12=\"ALC\",0,IF('Aferi (Variáveis)'!$C$12=\"ZFM\",0,IF('Aferi (Variáveis)'!$C$12=\"Exportação\",0,IF('Aferi (Variáveis)'!$C$12=\"Venda para Exportar\",0,IF('Aferi (Variáveis)'!$C$12=\"AO\",0,SUMIF('Custo Básico dos Produtos'!$A$7:$A$480,Q81,'Custo Básico dos Produtos'!$L$7:$L$480))))))","v":0},0,0,0,0,{"$f":"SUMIF('Cadastro de Produtos em Linha'!$A$6:$A$457,Q81,'Cadastro de Produtos em Linha'!$E$6:$E$457)*H81","v":0},{"$f":"IF(TODAY()<$AK$26,IF(A81<>\"\",SUMIF('Custo Básico dos Produtos'!$B$7:$B$457,A81,'Custo Básico dos Produtos'!$A$7:$A$457),0),0)","v":0},{"$f":"IF('Aferi (Variáveis)'!$C$12=\"Venda para Exportar\",0,IF('Aferi (Variáveis)'!$C$12=\"ALC\",0,IF('Aferi (Variáveis)'!$C$12=\"ZFM\",0,IF('Aferi (Variáveis)'!$C$12=\"Exportação\",0,IF('Aferi (Variáveis)'!$C$12=\"AO\",0,E81/(100+(0*'Aferi (Variáveis)'!$K$12/100))*100*K81%/100*'Aferi (Variáveis)'!$K$12)))))","v":0},0,{"$f":"(E81*'Aferi (Variáveis)'!$K$12/100)","v":0},0,{"$f":"IF('Aferi (Variáveis)'!$F$20=\"Venda para Exportar\",0,IF('Aferi (Variáveis)'!$F$20=\"ALC\",0,IF('Aferi (Variáveis)'!$F$20=\"ZFM\",0,IF('Aferi (Variáveis)'!$F$20=\"Exportação\",0,IF('Aferi (Variáveis)'!$F$20=\"AO\",7*T81/100,T81*'Aferi (Variáveis)'!$F$20/100)))))","v":0},0,{"$f":"IF('Aferi (Variáveis)'!$C$12=\"ZFM\",0,IF('Aferi (Variáveis)'!$C$12=\"Exportação\",0,3*T81/100))","v":0},{"$f":"IF('Aferi (Variáveis)'!$C$12=\"ZFM\",0,IF('Aferi (Variáveis)'!$C$12=\"Exportação\",0,0.65*T81/100))","v":0},0,0,0,0,0,0,0,0,0,{"$f":"SUMIF('Custo Básico dos Produtos'!$B$7:$B$480,A81,'Custo Básico dos Produtos'!$K$7:$K$480)","v":0},null,null,0,0,0,0,0,0]
[null,{"$f":"IF(Q82<>0,VLOOKUP(Q82,'Custo Básico dos Produtos'!$A$7:$J$480,3),\"\")","v":""},null,{"$f":"SUMIF('Custo Básico dos Produtos'!$A$7:$A$480,Q82,'Custo Básico dos Produtos'!$J$7:$J$480)","v":0},null,0,{"$f":"IF(B82=\"\",0,SUMIF('Cadastro de Produtos em Linha'!$B$7:$B$457,A82,'Cadastro de Produtos em Linha'!$D$7:$D$457))","v":0},null,0,0,{"$f":"IF('Aferi (Variáveis)'!$C$12=\"ALC\",0,IF('Aferi (Variáveis)'!$C$12=\"ZFM\",0,IF('Aferi (Variáveis)'!$C$12=\"Exportação\",0,IF('Aferi (Variáveis)'!$C$12=\"Venda para Exportar\",0,IF('Aferi (Variáveis)'!$C$12=\"AO\",0,SUMIF('Custo Básico dos Produtos'!$A$7:$A$480,Q82,'Custo Básico dos Produtos'!$L$7:$L$480))))))","v":0},0,0,0,0,{"$f":"SUMIF('Cadastro de Produtos em Linha'!$A$6:$A$457,Q82,'Cadastro de Produtos em Linha'!$E$6:$E$457)*H82","v":0},{"$f":"IF(TODAY()<$AK$26,IF(A82<>\"\",SUMIF('Custo Básico dos Produtos'!$B$7:$B$457,A82,'Custo Básico dos Produtos'!$A$7:$A$457),0),0)","v":0},{"$f":"IF('Aferi (Variáveis)'!$C$12=\"Venda para Exportar\",0,IF('Aferi (Variáveis)'!$C$12=\"ALC\",0,IF('Aferi (Variáveis)'!$C$12=\"ZFM\",0,IF('Aferi (Variáveis)'!$C$12=\"Exportação\",0,IF('Aferi (Variáveis)'!$C$12=\"AO\",0,E82/(100+(0*'Aferi (Variáveis)'!$K$12/100))*100*K82%/100*'Aferi (Variáveis)'!$K$12)))))","v":0},0,{"$f":"(E82*'Aferi (Variáveis)'!$K$12/100)","v":0},0,{"$f":"IF('Aferi (Variáveis)'!$F$20=\"Venda para Exportar\",0,IF('Aferi (Variáveis)'!$F$20=\"ALC\",0,IF('Aferi (Variáveis)'!$F$20=\"ZFM\",0,IF('Aferi (Variáveis)'!$F$20=\"Exportação\",0,IF('Aferi (Variáveis)'!$F$20=\"AO\",7*T82/100,T82*'Aferi (Variáveis)'!$F$20/100)))))","v":0},0,{"$f":"IF('Aferi (Variáveis)'!$C$12=\"ZFM\",0,IF('Aferi (Variáveis)'!$C$12=\"Exportação\",0,3*T82/100))","v":0},{"$f":"IF('Aferi (Variáveis)'!$C$12=\"ZFM\",0,IF('Aferi (Variáveis)'!$C$12=\"Exportação\",0,0.65*T82/100))","v":0},0,0,0,0,0,0,0,0,0,{"$f":"SUMIF('Custo Básico dos Produtos'!$B$7:$B$480,A82,'Custo Básico dos Produtos'!$K$7:$K$480)","v":0},null,null,0,0,0,0,0,0]
[null,{"$f":"IF(Q83<>0,VLOOKUP(Q83,'Custo Básico dos Produtos'!$A$7:$J$480,3),\"\")","v":""},null,{"$f":"SUMIF('Custo Básico dos Produtos'!$A$7:$A$480,Q83,'Custo Básico dos Produtos'!$J$7:$J$480)","v":0},null,0,{"$f":"IF(B83=\"\",0,SUMIF('Cadastro de Produtos em Linha'!$B$7:$B$457,A83,'Cadastro de Produtos em Linha'!$D$7:$D$457))","v":0},null,0,0,{"$f":"IF('Aferi (Variáveis)'!$C$12=\"ALC\",0,IF('Aferi (Variáveis)'!$C$12=\"ZFM\",0,IF('Aferi (Variáveis)'!$C$12=\"Exportação\",0,IF('Aferi (Variáveis)'!$C$12=\"Venda para Exportar\",0,IF('Aferi (Variáveis)'!$C$12=\"AO\",0,SUMIF('Custo Básico dos Produtos'!$A$7:$A$480,Q83,'Custo Básico dos Produtos'!$L$7:$L$480))))))","v":0},0,0,0,0,{"$f":"SUMIF('Cadastro de Produtos em Linha'!$A$6:$A$457,Q83,'Cadastro de Produtos em Linha'!$E$6:$E$457)*H83","v":0},{"$f":"IF(TODAY()<$AK$26,IF(A83<>\"\",SUMIF('Custo Básico dos Produtos'!$B$7:$B$457,A83,'Custo Básico dos Produtos'!$A$7:$A$457),0),0)","v":0},{"$f":"IF('Aferi (Variáveis)'!$C$12=\"Venda para Exportar\",0,IF('Aferi (Variáveis)'!$C$12=\"ALC\",0,IF('Aferi (Variáveis)'!$C$12=\"ZFM\",0,IF('Aferi (Variáveis)'!$C$12=\"Exportação\",0,IF('Aferi (Variáveis)'!$C$12=\"AO\",0,E83/(100+(0*'Aferi (Variáveis)'!$K$12/100))*100*K83%/100*'Aferi (Variáveis)'!$K$12)))))","v":0},0,{"$f":"(E83*'Aferi (Variáveis)'!$K$12/100)","v":0},0,{"$f":"IF('Aferi (Variáveis)'!$F$20=\"Venda para Exportar\",0,IF('Aferi (Variáveis)'!$F$20=\"ALC\",0,IF('Aferi (Variáveis)'!$F$20=\"ZFM\",0,IF('Aferi (Variáveis)'!$F$20=\"Exportação\",0,IF('Aferi (Variáveis)'!$F$20=\"AO\",7*T83/100,T83*'Aferi (Variáveis)'!$F$20/100)))))","v":0},0,{"$f":"IF('Aferi (Variáveis)'!$C$12=\"ZFM\",0,IF('Aferi (Variáveis)'!$C$12=\"Exportação\",0,3*T83/100))","v":0},{"$f":"IF('Aferi (Variáveis)'!$C$12=\"ZFM\",0,IF('Aferi (Variáveis)'!$C$12=\"Exportação\",0,0.65*T83/100))","v":0},0,0,0,0,0,0,0,0,0,{"$f":"SUMIF('Custo Básico dos Produtos'!$B$7:$B$480,A83,'Custo Básico dos Produtos'!$K$7:$K$480)","v":0},null,null,0,0,0,0,0,0]
[null,{"$f":"IF(Q84<>0,VLOOKUP(Q84,'Custo Básico dos Produtos'!$A$7:$J$480,3),\"\")","v":""},null,{"$f":"SUMIF('Custo Básico dos Produtos'!$A$7:$A$480,Q84,'Custo Básico dos Produtos'!$J$7:$J$480)","v":0},null,0,{"$f":"IF(B84=\"\",0,SUMIF('Cadastro de Produtos em Linha'!$B$7:$B$457,A84,'Cadastro de Produtos em Linha'!$D$7:$D$457))","v":0},null,0,0,{"$f":"IF('Aferi (Variáveis)'!$C$12=\"ALC\",0,IF('Aferi (Variáveis)'!$C$12=\"ZFM\",0,IF('Aferi (Variáveis)'!$C$12=\"Exportação\",0,IF('Aferi (Variáveis)'!$C$12=\"Venda para Exportar\",0,IF('Aferi (Variáveis)'!$C$12=\"AO\",0,SUMIF('Custo Básico dos Produtos'!$A$7:$A$480,Q84,'Custo Básico dos Produtos'!$L$7:$L$480))))))","v":0},0,0,0,0,{"$f":"SUMIF('Cadastro de Produtos em Linha'!$A$6:$A$457,Q84,'Cadastro de Produtos em Linha'!$E$6:$E$457)*H84","v":0},{"$f":"IF(TODAY()<$AK$26,IF(A84<>\"\",SUMIF('Custo Básico dos Produtos'!$B$7:$B$457,A84,'Custo Básico dos Produtos'!$A$7:$A$457),0),0)","v":0},{"$f":"IF('Aferi (Variáveis)'!$C$12=\"Venda para Exportar\",0,IF('Aferi (Variáveis)'!$C$12=\"ALC\",0,IF('Aferi (Variáveis)'!$C$12=\"ZFM\",0,IF('Aferi (Variáveis)'!$C$12=\"Exportação\",0,IF('Aferi (Variáveis)'!$C$12=\"AO\",0,E84/(100+(0*'Aferi (Variáveis)'!$K$12/100))*100*K84%/100*'Aferi (Variáveis)'!$K$12)))))","v":0},0,{"$f":"(E84*'Aferi (Variáveis)'!$K$12/100)","v":0},0,{"$f":"IF('Aferi (Variáveis)'!$F$20=\"Venda para Exportar\",0,IF('Aferi (Variáveis)'!$F$20=\"ALC\",0,IF('Aferi (Variáveis)'!$F$20=\"ZFM\",0,IF('Aferi (Variáveis)'!$F$20=\"Exportação\",0,IF('Aferi (Variáveis)'!$F$20=\"AO\",7*T84/100,T84*'Aferi (Variáveis)'!$F$20/100)))))","v":0},0,{"$f":"IF('Aferi (Variáveis)'!$C$12=\"ZFM\",0,IF('Aferi (Variáveis)'!$C$12=\"Exportação\",0,3*T84/100))","v":0},{"$f":"IF('Aferi (Variáveis)'!$C$12=\"ZFM\",0,IF('Aferi (Variáveis)'!$C$12=\"Exportação\",0,0.65*T84/100))","v":0},0,0,0,0,0,0,0,0,0,{"$f":"SUMIF('Custo Básico dos Produtos'!$B$7:$B$480,A84,'Custo Básico dos Produtos'!$K$7:$K$480)","v":0},null,null,0,0,0,0,0,0]
[null,{"$f":"IF(Q85<>0,VLOOKUP(Q85,'Custo Básico dos Produtos'!$A$7:$J$480,3),\"\")","v":""},null,{"$f":"SUMIF('Custo Básico dos Produtos'!$A$7:$A$480,Q85,'Custo Básico dos Produtos'!$J$7:$J$480)","v":0},null,0,{"$f":"IF(B85=\"\",0,SUMIF('Cadastro de Produtos em Linha'!$B$7:$B$457,A85,'Cadastro de Produtos em Linha'!$D$7:$D$457))","v":0},null,0,0,{"$f":"IF('Aferi (Variáveis)'!$C$12=\"ALC\",0,IF('Aferi (Variáveis)'!$C$12=\"ZFM\",0,IF('Aferi (Variáveis)'!$C$12=\"Exportação\",0,IF('Aferi (Variáveis)'!$C$12=\"Venda para Exportar\",0,IF('Aferi (Variáveis)'!$C$12=\"AO\",0,SUMIF('Custo Básico dos Produtos'!$A$7:$A$480,Q85,'Custo Básico dos Produtos'!$L$7:$L$480))))))","v":0},0,0,0,0,{"$f":"SUMIF('Cadastro de Produtos em Linha'!$A$6:$A$457,Q85,'Cadastro de Produtos em Linha'!$E$6:$E$457)*H85","v":0},{"$f":"IF(TODAY()<$AK$26,IF(A85<>\"\",SUMIF('Custo Básico dos Produtos'!$B$7:$B$457,A85,'Custo Básico dos Produtos'!$A$7:$A$457),0),0)","v":0},{"$f":"IF('Aferi (Variáveis)'!$C$12=\"Venda para Exportar\",0,IF('Aferi (Variáveis)'!$C$12=\"ALC\",0,IF('Aferi (Variáveis)'!$C$12=\"ZFM\",0,IF('Aferi (Variáveis)'!$C$12=\"Exportação\",0,IF('Aferi (Variáveis)'!$C$12=\"AO\",0,E85/(100+(0*'Aferi (Variáveis)'!$K$12/100))*100*K85%/100*'Aferi (Variáveis)'!$K$12)))))","v":0},0,{"$f":"(E85*'Aferi (Variáveis)'!$K$12/100)","v":0},0,{"$f":"IF('Aferi (Variáveis)'!$F$20=\"Venda para Exportar\",0,IF('Aferi (Variáveis)'!$F$20=\"ALC\",0,IF('Aferi (Variáveis)'!$F$20=\"ZFM\",0,IF('Aferi (Variáveis)'!$F$20=\"Exportação\",0,IF('Aferi (Variáveis)'!$F$20=\"AO\",7*T85/100,T85*'Aferi (Variáveis)'!$F$20/100)))))","v":0},0,{"$f":"IF('Aferi (Variáveis)'!$C$12=\"ZFM\",0,IF('Aferi (Variáveis)'!$C$12=\"Exportação\",0,3*T85/100))","v":0},{"$f":"IF('Aferi (Variáveis)'!$C$12=\"ZFM\",0,IF('Aferi (Variáveis)'!$C$12=\"Exportação\",0,0.65*T85/100))","v":0},0,0,0,0,0,0,0,0,0,{"$f":"SUMIF('Custo Básico dos Produtos'!$B$7:$B$480,A85,'Custo Básico dos Produtos'!$K$7:$K$480)","v":0},null,null,0,0,0,0,0,0]
[null,{"$f":"IF(Q86<>0,VLOOKUP(Q86,'Custo Básico dos Produtos'!$A$7:$J$480,3),\"\")","v":""},null,{"$f":"SUMIF('Custo Básico dos Produtos'!$A$7:$A$480,Q86,'Custo Básico dos Produtos'!$J$7:$J$480)","v":0},null,0,{"$f":"IF(B86=\"\",0,SUMIF('Cadastro de Produtos em Linha'!$B$7:$B$457,A86,'Cadastro de Produtos em Linha'!$D$7:$D$457))","v":0},null,0,0,{"$f":"IF('Aferi (Variáveis)'!$C$12=\"ALC\",0,IF('Aferi (Variáveis)'!$C$12=\"ZFM\",0,IF('Aferi (Variáveis)'!$C$12=\"Exportação\",0,IF('Aferi (Variáveis)'!$C$12=\"Venda para Exportar\",0,IF('Aferi (Variáveis)'!$C$12=\"AO\",0,SUMIF('Custo Básico dos Produtos'!$A$7:$A$480,Q86,'Custo Básico dos Produtos'!$L$7:$L$480))))))","v":0},0,0,0,0,{"$f":"SUMIF('Cadastro de Produtos em Linha'!$A$6:$A$457,Q86,'Cadastro de Produtos em Linha'!$E$6:$E$457)*H86","v":0},{"$f":"IF(TODAY()<$AK$26,IF(A86<>\"\",SUMIF('Custo Básico dos Produtos'!$B$7:$B$457,A86,'Custo Básico dos Produtos'!$A$7:$A$457),0),0)","v":0},{"$f":"IF('Aferi (Variáveis)'!$C$12=\"Venda para Exportar\",0,IF('Aferi (Variáveis)'!$C$12=\"ALC\",0,IF('Aferi (Variáveis)'!$C$12=\"ZFM\",0,IF('Aferi (Variáveis)'!$C$12=\"Exportação\",0,IF('Aferi (Variáveis)'!$C$12=\"AO\",0,E86/(100+(0*'Aferi (Variáveis)'!$K$12/100))*100*K86%/100*'Aferi (Variáveis)'!$K$12)))))","v":0},0,{"$f":"(E86*'Aferi (Variáveis)'!$K$12/100)","v":0},0,{"$f":"IF('Aferi (Variáveis)'!$F$20=\"Venda para Exportar\",0,IF('Aferi (Variáveis)'!$F$20=\"ALC\",0,IF('Aferi (Variáveis)'!$F$20=\"ZFM\",0,IF('Aferi (Variáveis)'!$F$20=\"Exportação\",0,IF('Aferi (Variáveis)'!$F$20=\"AO\",7*T86/100,T86*'Aferi (Variáveis)'!$F$20/100)))))","v":0},0,{"$f":"IF('Aferi (Variáveis)'!$C$12=\"ZFM\",0,IF('Aferi (Variáveis)'!$C$12=\"Exportação\",0,3*T86/100))","v":0},{"$f":"IF('Aferi (Variáveis)'!$C$12=\"ZFM\",0,IF('Aferi (Variáveis)'!$C$12=\"Exportação\",0,0.65*T86/100))","v":0},0,0,0,0,0,0,0,0,0,{"$f":"SUMIF('Custo Básico dos Produtos'!$B$7:$B$480,A86,'Custo Básico dos Produtos'!$K$7:$K$480)","v":0},null,null,0,0,0,0,0,0]
[null,{"$f":"IF(Q87<>0,VLOOKUP(Q87,'Custo Básico dos Produtos'!$A$7:$J$480,3),\"\")","v":""},null,{"$f":"SUMIF('Custo Básico dos Produtos'!$A$7:$A$480,Q87,'Custo Básico dos Produtos'!$J$7:$J$480)","v":0},null,0,{"$f":"IF(B87=\"\",0,SUMIF('Cadastro de Produtos em Linha'!$B$7:$B$457,A87,'Cadastro de Produtos em Linha'!$D$7:$D$457))","v":0},null,0,0,{"$f":"IF('Aferi (Variáveis)'!$C$12=\"ALC\",0,IF('Aferi (Variáveis)'!$C$12=\"ZFM\",0,IF('Aferi (Variáveis)'!$C$12=\"Exportação\",0,IF('Aferi (Variáveis)'!$C$12=\"Venda para Exportar\",0,IF('Aferi (Variáveis)'!$C$12=\"AO\",0,SUMIF('Custo Básico dos Produtos'!$A$7:$A$480,Q87,'Custo Básico dos Produtos'!$L$7:$L$480))))))","v":0},0,0,0,0,{"$f":"SUMIF('Cadastro de Produtos em Linha'!$A$6:$A$457,Q87,'Cadastro de Produtos em Linha'!$E$6:$E$457)*H87","v":0},{"$f":"IF(TODAY()<$AK$26,IF(A87<>\"\",SUMIF('Custo Básico dos Produtos'!$B$7:$B$457,A87,'Custo Básico dos Produtos'!$A$7:$A$457),0),0)","v":0},{"$f":"IF('Aferi (Variáveis)'!$C$12=\"Venda para Exportar\",0,IF('Aferi (Variáveis)'!$C$12=\"ALC\",0,IF('Aferi (Variáveis)'!$C$12=\"ZFM\",0,IF('Aferi (Variáveis)'!$C$12=\"Exportação\",0,IF('Aferi (Variáveis)'!$C$12=\"AO\",0,E87/(100+(0*'Aferi (Variáveis)'!$K$12/100))*100*K87%/100*'Aferi (Variáveis)'!$K$12)))))","v":0},0,{"$f":"(E87*'Aferi (Variáveis)'!$K$12/100)","v":0},0,{"$f":"IF('Aferi (Variáveis)'!$F$20=\"Venda para Exportar\",0,IF('Aferi (Variáveis)'!$F$20=\"ALC\",0,IF('Aferi (Variáveis)'!$F$20=\"ZFM\",0,IF('Aferi (Variáveis)'!$F$20=\"Exportação\",0,IF('Aferi (Variáveis)'!$F$20=\"AO\",7*T87/100,T87*'Aferi (Variáveis)'!$F$20/100)))))","v":0},0,{"$f":"IF('Aferi (Variáveis)'!$C$12=\"ZFM\",0,IF('Aferi (Variáveis)'!$C$12=\"Exportação\",0,3*T87/100))","v":0},{"$f":"IF('Aferi (Variáveis)'!$C$12=\"ZFM\",0,IF('Aferi (Variáveis)'!$C$12=\"Exportação\",0,0.65*T87/100))","v":0},0,0,0,0,0,0,0,0,0,{"$f":"SUMIF('Custo Básico dos Produtos'!$B$7:$B$480,A87,'Custo Básico dos Produtos'!$K$7:$K$480)","v":0},null,null,0,0,0,0,0,0]
[null,{"$f":"IF(Q88<>0,VLOOKUP(Q88,'Custo Básico dos Produtos'!$A$7:$J$480,3),\"\")","v":""},null,{"$f":"SUMIF('Custo Básico dos Produtos'!$A$7:$A$480,Q88,'Custo Básico dos Produtos'!$J$7:$J$480)","v":0},null,0,{"$f":"IF(B88=\"\",0,SUMIF('Cadastro de Produtos em Linha'!$B$7:$B$457,A88,'Cadastro de Produtos em Linha'!$D$7:$D$457))","v":0},null,0,0,{"$f":"IF('Aferi (Variáveis)'!$C$12=\"ALC\",0,IF('Aferi (Variáveis)'!$C$12=\"ZFM\",0,IF('Aferi (Variáveis)'!$C$12=\"Exportação\",0,IF('Aferi (Variáveis)'!$C$12=\"Venda para Exportar\",0,IF('Aferi (Variáveis)'!$C$12=\"AO\",0,SUMIF('Custo Básico dos Produtos'!$A$7:$A$480,Q88,'Custo Básico dos Produtos'!$L$7:$L$480))))))","v":0},0,0,0,0,{"$f":"SUMIF('Cadastro de Produtos em Linha'!$A$6:$A$457,Q88,'Cadastro de Produtos em Linha'!$E$6:$E$457)*H88","v":0},{"$f":"IF(TODAY()<$AK$26,IF(A88<>\"\",SUMIF('Custo Básico dos Produtos'!$B$7:$B$457,A88,'Custo Básico dos Produtos'!$A$7:$A$457),0),0)","v":0},{"$f":"IF('Aferi (Variáveis)'!$C$12=\"Venda para Exportar\",0,IF('Aferi (Variáveis)'!$C$12=\"ALC\",0,IF('Aferi (Variáveis)'!$C$12=\"ZFM\",0,IF('Aferi (Variáveis)'!$C$12=\"Exportação\",0,IF('Aferi (Variáveis)'!$C$12=\"AO\",0,E88/(100+(0*'Aferi (Variáveis)'!$K$12/100))*100*K88%/100*'Aferi (Variáveis)'!$K$12)))))","v":0},0,{"$f":"(E88*'Aferi (Variáveis)'!$K$12/100)","v":0},0,{"$f":"IF('Aferi (Variáveis)'!$F$20=\"Venda para Exportar\",0,IF('Aferi (Variáveis)'!$F$20=\"ALC\",0,IF('Aferi (Variáveis)'!$F$20=\"ZFM\",0,IF('Aferi (Variáveis)'!$F$20=\"Exportação\",0,IF('Aferi (Variáveis)'!$F$20=\"AO\",7*T88/100,T88*'Aferi (Variáveis)'!$F$20/100)))))","v":0},0,{"$f":"IF('Aferi (Variáveis)'!$C$12=\"ZFM\",0,IF('Aferi (Variáveis)'!$C$12=\"Exportação\",0,3*T88/100))","v":0},{"$f":"IF('Aferi (Variáveis)'!$C$12=\"ZFM\",0,IF('Aferi (Variáveis)'!$C$12=\"Exportação\",0,0.65*T88/100))","v":0},0,0,0,0,0,0,0,0,0,{"$f":"SUMIF('Custo Básico dos Produtos'!$B$7:$B$480,A88,'Custo Básico dos Produtos'!$K$7:$K$480)","v":0},null,null,0,0,0,0,0,0]
[null,{"$f":"IF(Q89<>0,VLOOKUP(Q89,'Custo Básico dos Produtos'!$A$7:$J$480,3),\"\")","v":""},null,{"$f":"SUMIF('Custo Básico dos Produtos'!$A$7:$A$480,Q89,'Custo Básico dos Produtos'!$J$7:$J$480)","v":0},null,0,{"$f":"IF(B89=\"\",0,SUMIF('Cadastro de Produtos em Linha'!$B$7:$B$457,A89,'Cadastro de Produtos em Linha'!$D$7:$D$457))","v":0},null,0,0,{"$f":"IF('Aferi (Variáveis)'!$C$12=\"ALC\",0,IF('Aferi (Variáveis)'!$C$12=\"ZFM\",0,IF('Aferi (Variáveis)'!$C$12=\"Exportação\",0,IF('Aferi (Variáveis)'!$C$12=\"Venda para Exportar\",0,IF('Aferi (Variáveis)'!$C$12=\"AO\",0,SUMIF('Custo Básico dos Produtos'!$A$7:$A$480,Q89,'Custo Básico dos Produtos'!$L$7:$L$480))))))","v":0},0,0,0,0,{"$f":"SUMIF('Cadastro de Produtos em Linha'!$A$6:$A$457,Q89,'Cadastro de Produtos em Linha'!$E$6:$E$457)*H89","v":0},{"$f":"IF(TODAY()<$AK$26,IF(A89<>\"\",SUMIF('Custo Básico dos Produtos'!$B$7:$B$457,A89,'Custo Básico dos Produtos'!$A$7:$A$457),0),0)","v":0},{"$f":"IF('Aferi (Variáveis)'!$C$12=\"Venda para Exportar\",0,IF('Aferi (Variáveis)'!$C$12=\"ALC\",0,IF('Aferi (Variáveis)'!$C$12=\"ZFM\",0,IF('Aferi (Variáveis)'!$C$12=\"Exportação\",0,IF('Aferi (Variáveis)'!$C$12=\"AO\",0,E89/(100+(0*'Aferi (Variáveis)'!$K$12/100))*100*K89%/100*'Aferi (Variáveis)'!$K$12)))))","v":0},0,{"$f":"(E89*'Aferi (Variáveis)'!$K$12/100)","v":0},0,{"$f":"IF('Aferi (Variáveis)'!$F$20=\"Venda para Exportar\",0,IF('Aferi (Variáveis)'!$F$20=\"ALC\",0,IF('Aferi (Variáveis)'!$F$20=\"ZFM\",0,IF('Aferi (Variáveis)'!$F$20=\"Exportação\",0,IF('Aferi (Variáveis)'!$F$20=\"AO\",7*T89/100,T89*'Aferi (Variáveis)'!$F$20/100)))))","v":0},0,{"$f":"IF('Aferi (Variáveis)'!$C$12=\"ZFM\",0,IF('Aferi (Variáveis)'!$C$12=\"Exportação\",0,3*T89/100))","v":0},{"$f":"IF('Aferi (Variáveis)'!$C$12=\"ZFM\",0,IF('Aferi (Variáveis)'!$C$12=\"Exportação\",0,0.65*T89/100))","v":0},0,0,0,0,0,0,0,0,0,{"$f":"SUMIF('Custo Básico dos Produtos'!$B$7:$B$480,A89,'Custo Básico dos Produtos'!$K$7:$K$480)","v":0},null,null,0,0,0,0,0,0]
[null,{"$f":"IF(Q90<>0,VLOOKUP(Q90,'Custo Básico dos Produtos'!$A$7:$J$480,3),\"\")","v":""},null,{"$f":"SUMIF('Custo Básico dos Produtos'!$A$7:$A$480,Q90,'Custo Básico dos Produtos'!$J$7:$J$480)","v":0},null,0,{"$f":"IF(B90=\"\",0,SUMIF('Cadastro de Produtos em Linha'!$B$7:$B$457,A90,'Cadastro de Produtos em Linha'!$D$7:$D$457))","v":0},null,{"$f":"IF(F90=\"\",0,IF(F90>=AI90,G90*H90,0))","v":0},{"$f":"IF(F90=\"\",0,I90*E90)","v":0},{"$f":"IF('Aferi (Variáveis)'!$C$12=\"ALC\",0,IF('Aferi (Variáveis)'!$C$12=\"ZFM\",0,IF('Aferi (Variáveis)'!$C$12=\"Exportação\",0,IF('Aferi (Variáveis)'!$C$12=\"Venda para Exportar\",0,IF('Aferi (Variáveis)'!$C$12=\"AO\",0,SUMIF('Custo Básico dos Produtos'!$A$7:$A$480,Q90,'Custo Básico dos Produtos'!$L$7:$L$480))))))","v":0},0,0,0,{"$f":"IF(I90>0,AG90*I90,0)","v":0},{"$f":"SUMIF('Cadastro de Produtos em Linha'!$A$6:$A$457,Q90,'Cadastro de Produtos em Linha'!$E$6:$E$457)*H90","v":0},{"$f":"IF(TODAY()<$AK$26,IF(A90<>\"\",SUMIF('Custo Básico dos Produtos'!$B$7:$B$457,A90,'Custo Básico dos Produtos'!$A$7:$A$457),0),0)","v":0},{"$f":"IF('Aferi (Variáveis)'!$C$12=\"Venda para Exportar\",0,IF('Aferi (Variáveis)'!$C$12=\"ALC\",0,IF('Aferi (Variáveis)'!$C$12=\"ZFM\",0,IF('Aferi (Variáveis)'!$C$12=\"Exportação\",0,IF('Aferi (Variáveis)'!$C$12=\"AO\",0,E90/(100+(0*'Aferi (Variáveis)'!$K$12/100))*100*K90%/100*'Aferi (Variáveis)'!$K$12)))))","v":0},{"$f":"I90*R90","v":0},{"$f":"(E90*'Aferi (Variáveis)'!$K$12/100)","v":0},{"$f":"IF(I90>0,T90*I90,0)","v":0},{"$f":"IF('Aferi (Variáveis)'!$F$20=\"Venda para Exportar\",0,IF('Aferi (Variáveis)'!$F$20=\"ALC\",0,IF('Aferi (Variáveis)'!$F$20=\"ZFM\",0,IF('Aferi (Variáveis)'!$F$20=\"Exportação\",0,IF('Aferi (Variáveis)'!$F$20=\"AO\",7*T90/100,T90*'Aferi (Variáveis)'!$F$20/100)))))","v":0},{"$f":"T90*(W$22/100)","v":0},{"$f":"IF('Aferi (Variáveis)'!$C$12=\"ZFM\",0,IF('Aferi (Variáveis)'!$C$12=\"Exportação\",0,3*T90/100))","v":0},{"$f":"IF('Aferi (Variáveis)'!$C$12=\"ZFM\",0,IF('Aferi (Variáveis)'!$C$12=\"Exportação\",0,0.65*T90/100))","v":0},{"$f":"T90*(Z$22/100)","v":0},0,0,0,0,0,0,{"$f":"E90-AF90-D90","v":0},{"$f":"IF(AG90<>0,AG90/(E90)*100,0)","v":0},{"$f":"SUMIF('Custo Básico dos Produtos'!$B$7:$B$480,A90,'Custo Básico dos Produtos'!$K$7:$K$480)","v":0},null,null,0,0,0,0,0,0]
[null,{"$f":"IF(Q91<>0,VLOOKUP(Q91,'Custo Básico dos Produtos'!$A$7:$J$480,3),\"\")","v":""},null,{"$f":"SUMIF('Custo Básico dos Produtos'!$A$7:$A$480,Q91,'Custo Básico dos Produtos'!$J$7:$J$480)","v":0},null,0,{"$f":"IF(B91=\"\",0,SUMIF('Cadastro de Produtos em Linha'!$B$7:$B$457,A91,'Cadastro de Produtos em Linha'!$D$7:$D$457))","v":0},null,0,0,{"$f":"IF('Aferi (Variáveis)'!$C$12=\"ALC\",0,IF('Aferi (Variáveis)'!$C$12=\"ZFM\",0,IF('Aferi (Variáveis)'!$C$12=\"Exportação\",0,IF('Aferi (Variáveis)'!$C$12=\"Venda para Exportar\",0,IF('Aferi (Variáveis)'!$C$12=\"AO\",0,SUMIF('Custo Básico dos Produtos'!$A$7:$A$480,Q91,'Custo Básico dos Produtos'!$L$7:$L$480))))))","v":0},{"$f":"J91+M91","v":0},{"$f":"S91","v":0},{"$f":"J91+M91","v":0},0,{"$f":"SUMIF('Cadastro de Produtos em Linha'!$A$6:$A$457,Q91,'Cadastro de Produtos em Linha'!$E$6:$E$457)*H91","v":0},{"$f":"IF(TODAY()<$AK$26,IF(A91<>\"\",SUMIF('Custo Básico dos Produtos'!$B$7:$B$457,A91,'Custo Básico dos Produtos'!$A$7:$A$457),0),0)","v":0},{"$f":"IF('Aferi (Variáveis)'!$C$12=\"Venda para Exportar\",0,IF('Aferi (Variáveis)'!$C$12=\"ALC\",0,IF('Aferi (Variáveis)'!$C$12=\"ZFM\",0,IF('Aferi (Variáveis)'!$C$12=\"Exportação\",0,IF('Aferi (Variáveis)'!$C$12=\"AO\",0,E91/(100+(0*'Aferi (Variáveis)'!$K$12/100))*100*K91%/100*'Aferi (Variáveis)'!$K$12)))))","v":0},0,{"$f":"(E91*'Aferi (Variáveis)'!$K$12/100)","v":0},0,{"$f":"IF('Aferi (Variáveis)'!$F$20=\"Venda para Exportar\",0,IF('Aferi (Variáveis)'!$F$20=\"ALC\",0,IF('Aferi (Variáveis)'!$F$20=\"ZFM\",0,IF('Aferi (Variáveis)'!$F$20=\"Exportação\",0,IF('Aferi (Variáveis)'!$F$20=\"AO\",7*T91/100,T91*'Aferi (Variáveis)'!$F$20/100)))))","v":0},0,{"$f":"IF('Aferi (Variáveis)'!$C$12=\"ZFM\",0,IF('Aferi (Variáveis)'!$C$12=\"Exportação\",0,3*T91/100))","v":0},{"$f":"IF('Aferi (Variáveis)'!$C$12=\"ZFM\",0,IF('Aferi (Variáveis)'!$C$12=\"Exportação\",0,0.65*T91/100))","v":0},0,0,{"$f":"E91*(AB$23/100)","v":0},{"$f":"IF(A91<>\"\",E91*(AC$23/100),0)","v":0},{"$f":"E91*($AD$23/100)","v":0},{"$f":"E91*(AE$23/100)","v":0},{"$f":"SUM(V91:AE91)","v":0},0,0,{"$f":"SUMIF('Custo Básico dos Produtos'!$B$7:$B$480,A91,'Custo Básico dos Produtos'!$K$7:$K$480)","v":0},null,null,{"$f":"D91","v":0},{"$f":"AL91/(1-AM$24)","v":0},{"$f":"AM91*AM$22","v":0},{"$f":"AM91*AM$23","v":0},{"$f":"AM91-SUM(AN91:AO91)-AL91","v":0},{"$f":"IFERROR(AP91/AM91,0)","v":0}]
[null,{"$f":"IF(Q92<>0,VLOOKUP(Q92,'Custo Básico dos Produtos'!$A$7:$J$480,3),\"\")","v":""},null,{"$f":"SUMIF('Custo Básico dos Produtos'!$A$7:$A$480,Q92,'Custo Básico dos Produtos'!$J$7:$J$480)","v":0},null,{"$f":"IF(A92=\"\",0,IF(TODAY()<$AK$26,IF(E92>0,IF(H92>0,IF(AH92>=AI92,AH92,)/4),0)))","v":0},{"$f":"IF(B92=\"\",0,SUMIF('Cadastro de Produtos em Linha'!$B$7:$B$457,A92,'Cadastro de Produtos em Linha'!$D$7:$D$457))","v":0},null,0,0,{"$f":"IF('Aferi (Variáveis)'!$C$12=\"ALC\",0,IF('Aferi (Variáveis)'!$C$12=\"ZFM\",0,IF('Aferi (Variáveis)'!$C$12=\"Exportação\",0,IF('Aferi (Variáveis)'!$C$12=\"Venda para Exportar\",0,IF('Aferi (Variáveis)'!$C$12=\"AO\",0,SUMIF('Custo Básico dos Produtos'!$A$7:$A$480,Q92,'Custo Básico dos Produtos'!$L$7:$L$480))))))","v":0},0,0,0,0,{"$f":"SUMIF('Cadastro de Produtos em Linha'!$A$6:$A$457,Q92,'Cadastro de Produtos em Linha'!$E$6:$E$457)*H92","v":0},{"$f":"IF(TODAY()<$AK$26,IF(A92<>\"\",SUMIF('Custo Básico dos Produtos'!$B$7:$B$457,A92,'Custo Básico dos Produtos'!$A$7:$A$457),0),0)","v":0},{"$f":"IF('Aferi (Variáveis)'!$C$12=\"Venda para Exportar\",0,IF('Aferi (Variáveis)'!$C$12=\"ALC\",0,IF('Aferi (Variáveis)'!$C$12=\"ZFM\",0,IF('Aferi (Variáveis)'!$C$12=\"Exportação\",0,IF('Aferi (Variáveis)'!$C$12=\"AO\",0,E92/(100+(0*'Aferi (Variáveis)'!$K$12/100))*100*K92%/100*'Aferi (Variáveis)'!$K$12)))))","v":0},0,{"$f":"(E92*'Aferi (Variáveis)'!$K$12/100)","v":0},0,{"$f":"IF('Aferi (Variáveis)'!$F$20=\"Venda para Exportar\",0,IF('Aferi (Variáveis)'!$F$20=\"ALC\",0,IF('Aferi (Variáveis)'!$F$20=\"ZFM\",0,IF('Aferi (Variáveis)'!$F$20=\"Exportação\",0,IF('Aferi (Variáveis)'!$F$20=\"AO\",7*T92/100,T92*'Aferi (Variáveis)'!$F$20/100)))))","v":0},0,{"$f":"IF('Aferi (Variáveis)'!$C$12=\"ZFM\",0,IF('Aferi (Variáveis)'!$C$12=\"Exportação\",0,3*T92/100))","v":0},{"$f":"IF('Aferi (Variáveis)'!$C$12=\"ZFM\",0,IF('Aferi (Variáveis)'!$C$12=\"Exportação\",0,0.65*T92/100))","v":0},0,{"$f":"E92*(AA$23/100)","v":0},0,0,0,0,0,0,0,{"$f":"SUMIF('Custo Básico dos Produtos'!$B$7:$B$480,A92,'Custo Básico dos Produtos'!$K$7:$K$480)","v":0},null,null,0,0,0,0,0,0]
[null,{"$f":"IF(Q93<>0,VLOOKUP(Q93,'Custo Básico dos Produtos'!$A$7:$J$480,3),\"\")","v":""},null,{"$f":"SUMIF('Custo Básico dos Produtos'!$A$7:$A$480,Q93,'Custo Básico dos Produtos'!$J$7:$J$480)","v":0},null,0,{"$f":"IF(B93=\"\",0,SUMIF('Cadastro de Produtos em Linha'!$B$7:$B$457,A93,'Cadastro de Produtos em Linha'!$D$7:$D$457))","v":0},null,0,0,{"$f":"IF('Aferi (Variáveis)'!$C$12=\"ALC\",0,IF('Aferi (Variáveis)'!$C$12=\"ZFM\",0,IF('Aferi (Variáveis)'!$C$12=\"Exportação\",0,IF('Aferi (Variáveis)'!$C$12=\"Venda para Exportar\",0,IF('Aferi (Variáveis)'!$C$12=\"AO\",0,SUMIF('Custo Básico dos Produtos'!$A$7:$A$480,Q93,'Custo Básico dos Produtos'!$L$7:$L$480))))))","v":0},0,0,0,0,{"$f":"SUMIF('Cadastro de Produtos em Linha'!$A$6:$A$457,Q93,'Cadastro de Produtos em Linha'!$E$6:$E$457)*H93","v":0},{"$f":"IF(TODAY()<$AK$26,IF(A93<>\"\",SUMIF('Custo Básico dos Produtos'!$B$7:$B$457,A93,'Custo Básico dos Produtos'!$A$7:$A$457),0),0)","v":0},{"$f":"IF('Aferi (Variáveis)'!$C$12=\"Venda para Exportar\",0,IF('Aferi (Variáveis)'!$C$12=\"ALC\",0,IF('Aferi (Variáveis)'!$C$12=\"ZFM\",0,IF('Aferi (Variáveis)'!$C$12=\"Exportação\",0,IF('Aferi (Variáveis)'!$C$12=\"AO\",0,E93/(100+(0*'Aferi (Variáveis)'!$K$12/100))*100*K93%/100*'Aferi (Variáveis)'!$K$12)))))","v":0},0,{"$f":"(E93*'Aferi (Variáveis)'!$K$12/100)","v":0},0,{"$f":"IF('Aferi (Variáveis)'!$F$20=\"Venda para Exportar\",0,IF('Aferi (Variáveis)'!$F$20=\"ALC\",0,IF('Aferi (Variáveis)'!$F$20=\"ZFM\",0,IF('Aferi (Variáveis)'!$F$20=\"Exportação\",0,IF('Aferi (Variáveis)'!$F$20=\"AO\",7*T93/100,T93*'Aferi (Variáveis)'!$F$20/100)))))","v":0},0,{"$f":"IF('Aferi (Variáveis)'!$C$12=\"ZFM\",0,IF('Aferi (Variáveis)'!$C$12=\"Exportação\",0,3*T93/100))","v":0},{"$f":"IF('Aferi (Variáveis)'!$C$12=\"ZFM\",0,IF('Aferi (Variáveis)'!$C$12=\"Exportação\",0,0.65*T93/100))","v":0},0,0,0,0,0,0,0,0,0,{"$f":"SUMIF('Custo Básico dos Produtos'!$B$7:$B$480,A93,'Custo Básico dos Produtos'!$K$7:$K$480)","v":0},null,null,0,0,0,0,0,0]
[null,{"$f":"IF(Q94<>0,VLOOKUP(Q94,'Custo Básico dos Produtos'!$A$7:$J$480,3),\"\")","v":""},null,{"$f":"SUMIF('Custo Básico dos Produtos'!$A$7:$A$480,Q94,'Custo Básico dos Produtos'!$J$7:$J$480)","v":0},null,0,{"$f":"IF(B94=\"\",0,SUMIF('Cadastro de Produtos em Linha'!$B$7:$B$457,A94,'Cadastro de Produtos em Linha'!$D$7:$D$457))","v":0},null,0,0,{"$f":"IF('Aferi (Variáveis)'!$C$12=\"ALC\",0,IF('Aferi (Variáveis)'!$C$12=\"ZFM\",0,IF('Aferi (Variáveis)'!$C$12=\"Exportação\",0,IF('Aferi (Variáveis)'!$C$12=\"Venda para Exportar\",0,IF('Aferi (Variáveis)'!$C$12=\"AO\",0,SUMIF('Custo Básico dos Produtos'!$A$7:$A$480,Q94,'Custo Básico dos Produtos'!$L$7:$L$480))))))","v":0},0,0,0,0,{"$f":"SUMIF('Cadastro de Produtos em Linha'!$A$6:$A$457,Q94,'Cadastro de Produtos em Linha'!$E$6:$E$457)*H94","v":0},{"$f":"IF(TODAY()<$AK$26,IF(A94<>\"\",SUMIF('Custo Básico dos Produtos'!$B$7:$B$457,A94,'Custo Básico dos Produtos'!$A$7:$A$457),0),0)","v":0},{"$f":"IF('Aferi (Variáveis)'!$C$12=\"Venda para Exportar\",0,IF('Aferi (Variáveis)'!$C$12=\"ALC\",0,IF('Aferi (Variáveis)'!$C$12=\"ZFM\",0,IF('Aferi (Variáveis)'!$C$12=\"Exportação\",0,IF('Aferi (Variáveis)'!$C$12=\"AO\",0,E94/(100+(0*'Aferi (Variáveis)'!$K$12/100))*100*K94%/100*'Aferi (Variáveis)'!$K$12)))))","v":0},0,{"$f":"(E94*'Aferi (Variáveis)'!$K$12/100)","v":0},0,{"$f":"IF('Aferi (Variáveis)'!$F$20=\"Venda para Exportar\",0,IF('Aferi (Variáveis)'!$F$20=\"ALC\",0,IF('Aferi (Variáveis)'!$F$20=\"ZFM\",0,IF('Aferi (Variáveis)'!$F$20=\"Exportação\",0,IF('Aferi (Variáveis)'!$F$20=\"AO\",7*T94/100,T94*'Aferi (Variáveis)'!$F$20/100)))))","v":0},0,{"$f":"IF('Aferi (Variáveis)'!$C$12=\"ZFM\",0,IF('Aferi (Variáveis)'!$C$12=\"Exportação\",0,3*T94/100))","v":0},{"$f":"IF('Aferi (Variáveis)'!$C$12=\"ZFM\",0,IF('Aferi (Variáveis)'!$C$12=\"Exportação\",0,0.65*T94/100))","v":0},0,0,0,0,0,0,0,0,0,{"$f":"SUMIF('Custo Básico dos Produtos'!$B$7:$B$480,A94,'Custo Básico dos Produtos'!$K$7:$K$480)","v":0},null,null,0,0,0,0,0,0]
[null,{"$f":"IF(Q95<>0,VLOOKUP(Q95,'Custo Básico dos Produtos'!$A$7:$J$480,3),\"\")","v":""},null,{"$f":"SUMIF('Custo Básico dos Produtos'!$A$7:$A$480,Q95,'Custo Básico dos Produtos'!$J$7:$J$480)","v":0},null,0,{"$f":"IF(B95=\"\",0,SUMIF('Cadastro de Produtos em Linha'!$B$7:$B$457,A95,'Cadastro de Produtos em Linha'!$D$7:$D$457))","v":0},null,0,0,{"$f":"IF('Aferi (Variáveis)'!$C$12=\"ALC\",0,IF('Aferi (Variáveis)'!$C$12=\"ZFM\",0,IF('Aferi (Variáveis)'!$C$12=\"Exportação\",0,IF('Aferi (Variáveis)'!$C$12=\"Venda para Exportar\",0,IF('Aferi (Variáveis)'!$C$12=\"AO\",0,SUMIF('Custo Básico dos Produtos'!$A$7:$A$480,Q95,'Custo Básico dos Produtos'!$L$7:$L$480))))))","v":0},0,0,0,0,{"$f":"SUMIF('Cadastro de Produtos em Linha'!$A$6:$A$457,Q95,'Cadastro de Produtos em Linha'!$E$6:$E$457)*H95","v":0},{"$f":"IF(TODAY()<$AK$26,IF(A95<>\"\",SUMIF('Custo Básico dos Produtos'!$B$7:$B$457,A95,'Custo Básico dos Produtos'!$A$7:$A$457),0),0)","v":0},{"$f":"IF('Aferi (Variáveis)'!$C$12=\"Venda para Exportar\",0,IF('Aferi (Variáveis)'!$C$12=\"ALC\",0,IF('Aferi (Variáveis)'!$C$12=\"ZFM\",0,IF('Aferi (Variáveis)'!$C$12=\"Exportação\",0,IF('Aferi (Variáveis)'!$C$12=\"AO\",0,E95/(100+(0*'Aferi (Variáveis)'!$K$12/100))*100*K95%/100*'Aferi (Variáveis)'!$K$12)))))","v":0},0,{"$f":"(E95*'Aferi (Variáveis)'!$K$12/100)","v":0},0,{"$f":"IF('Aferi (Variáveis)'!$F$20=\"Venda para Exportar\",0,IF('Aferi (Variáveis)'!$F$20=\"ALC\",0,IF('Aferi (Variáveis)'!$F$20=\"ZFM\",0,IF('Aferi (Variáveis)'!$F$20=\"Exportação\",0,IF('Aferi (Variáveis)'!$F$20=\"AO\",7*T95/100,T95*'Aferi (Variáveis)'!$F$20/100)))))","v":0},0,{"$f":"IF('Aferi (Variáveis)'!$C$12=\"ZFM\",0,IF('Aferi (Variáveis)'!$C$12=\"Exportação\",0,3*T95/100))","v":0},{"$f":"IF('Aferi (Variáveis)'!$C$12=\"ZFM\",0,IF('Aferi (Variáveis)'!$C$12=\"Exportação\",0,0.65*T95/100))","v":0},0,0,0,0,0,0,0,0,0,{"$f":"SUMIF('Custo Básico dos Produtos'!$B$7:$B$480,A95,'Custo Básico dos Produtos'!$K$7:$K$480)","v":0},null,null,0,0,0,0,0,0]
[null,{"$f":"IF(Q96<>0,VLOOKUP(Q96,'Custo Básico dos Produtos'!$A$7:$J$480,3),\"\")","v":""},null,{"$f":"SUMIF('Custo Básico dos Produtos'!$A$7:$A$480,Q96,'Custo Básico dos Produtos'!$J$7:$J$480)","v":0},null,0,{"$f":"IF(B96=\"\",0,SUMIF('Cadastro de Produtos em Linha'!$B$7:$B$457,A96,'Cadastro de Produtos em Linha'!$D$7:$D$457))","v":0},null,0,0,{"$f":"IF('Aferi (Variáveis)'!$C$12=\"ALC\",0,IF('Aferi (Variáveis)'!$C$12=\"ZFM\",0,IF('Aferi (Variáveis)'!$C$12=\"Exportação\",0,IF('Aferi (Variáveis)'!$C$12=\"Venda para Exportar\",0,IF('Aferi (Variáveis)'!$C$12=\"AO\",0,SUMIF('Custo Básico dos Produtos'!$A$7:$A$480,Q96,'Custo Básico dos Produtos'!$L$7:$L$480))))))","v":0},0,0,0,0,{"$f":"SUMIF('Cadastro de Produtos em Linha'!$A$6:$A$457,Q96,'Cadastro de Produtos em Linha'!$E$6:$E$457)*H96","v":0},{"$f":"IF(TODAY()<$AK$26,IF(A96<>\"\",SUMIF('Custo Básico dos Produtos'!$B$7:$B$457,A96,'Custo Básico dos Produtos'!$A$7:$A$457),0),0)","v":0},{"$f":"IF('Aferi (Variáveis)'!$C$12=\"Venda para Exportar\",0,IF('Aferi (Variáveis)'!$C$12=\"ALC\",0,IF('Aferi (Variáveis)'!$C$12=\"ZFM\",0,IF('Aferi (Variáveis)'!$C$12=\"Exportação\",0,IF('Aferi (Variáveis)'!$C$12=\"AO\",0,E96/(100+(0*'Aferi (Variáveis)'!$K$12/100))*100*K96%/100*'Aferi (Variáveis)'!$K$12)))))","v":0},0,{"$f":"(E96*'Aferi (Variáveis)'!$K$12/100)","v":0},0,{"$f":"IF('Aferi (Variáveis)'!$F$20=\"Venda para Exportar\",0,IF('Aferi (Variáveis)'!$F$20=\"ALC\",0,IF('Aferi (Variáveis)'!$F$20=\"ZFM\",0,IF('Aferi (Variáveis)'!$F$20=\"Exportação\",0,IF('Aferi (Variáveis)'!$F$20=\"AO\",7*T96/100,T96*'Aferi (Variáveis)'!$F$20/100)))))","v":0},0,{"$f":"IF('Aferi (Variáveis)'!$C$12=\"ZFM\",0,IF('Aferi (Variáveis)'!$C$12=\"Exportação\",0,3*T96/100))","v":0},{"$f":"IF('Aferi (Variáveis)'!$C$12=\"ZFM\",0,IF('Aferi (Variáveis)'!$C$12=\"Exportação\",0,0.65*T96/100))","v":0},0,0,0,0,0,0,0,0,0,{"$f":"SUMIF('Custo Básico dos Produtos'!$B$7:$B$480,A96,'Custo Básico dos Produtos'!$K$7:$K$480)","v":0},null,null,0,0,0,0,0,0]
[null,{"$f":"IF(Q97<>0,VLOOKUP(Q97,'Custo Básico dos Produtos'!$A$7:$J$480,3),\"\")","v":""},null,{"$f":"SUMIF('Custo Básico dos Produtos'!$A$7:$A$480,Q97,'Custo Básico dos Produtos'!$J$7:$J$480)","v":0},null,0,{"$f":"IF(B97=\"\",0,SUMIF('Cadastro de Produtos em Linha'!$B$7:$B$457,A97,'Cadastro de Produtos em Linha'!$D$7:$D$457))","v":0},null,0,0,{"$f":"IF('Aferi (Variáveis)'!$C$12=\"ALC\",0,IF('Aferi (Variáveis)'!$C$12=\"ZFM\",0,IF('Aferi (Variáveis)'!$C$12=\"Exportação\",0,IF('Aferi (Variáveis)'!$C$12=\"Venda para Exportar\",0,IF('Aferi (Variáveis)'!$C$12=\"AO\",0,SUMIF('Custo Básico dos Produtos'!$A$7:$A$480,Q97,'Custo Básico dos Produtos'!$L$7:$L$480))))))","v":0},0,0,0,0,{"$f":"SUMIF('Cadastro de Produtos em Linha'!$A$6:$A$457,Q97,'Cadastro de Produtos em Linha'!$E$6:$E$457)*H97","v":0},{"$f":"IF(TODAY()<$AK$26,IF(A97<>\"\",SUMIF('Custo Básico dos Produtos'!$B$7:$B$457,A97,'Custo Básico dos Produtos'!$A$7:$A$457),0),0)","v":0},{"$f":"IF('Aferi (Variáveis)'!$C$12=\"Venda para Exportar\",0,IF('Aferi (Variáveis)'!$C$12=\"ALC\",0,IF('Aferi (Variáveis)'!$C$12=\"ZFM\",0,IF('Aferi (Variáveis)'!$C$12=\"Exportação\",0,IF('Aferi (Variáveis)'!$C$12=\"AO\",0,E97/(100+(0*'Aferi (Variáveis)'!$K$12/100))*100*K97%/100*'Aferi (Variáveis)'!$K$12)))))","v":0},0,{"$f":"(E97*'Aferi (Variáveis)'!$K$12/100)","v":0},0,{"$f":"IF('Aferi (Variáveis)'!$F$20=\"Venda para Exportar\",0,IF('Aferi (Variáveis)'!$F$20=\"ALC\",0,IF('Aferi (Variáveis)'!$F$20=\"ZFM\",0,IF('Aferi (Variáveis)'!$F$20=\"Exportação\",0,IF('Aferi (Variáveis)'!$F$20=\"AO\",7*T97/100,T97*'Aferi (Variáveis)'!$F$20/100)))))","v":0},0,{"$f":"IF('Aferi (Variáveis)'!$C$12=\"ZFM\",0,IF('Aferi (Variáveis)'!$C$12=\"Exportação\",0,3*T97/100))","v":0},{"$f":"IF('Aferi (Variáveis)'!$C$12=\"ZFM\",0,IF('Aferi (Variáveis)'!$C$12=\"Exportação\",0,0.65*T97/100))","v":0},0,0,0,0,0,0,0,0,0,{"$f":"SUMIF('Custo Básico dos Produtos'!$B$7:$B$480,A97,'Custo Básico dos Produtos'!$K$7:$K$480)","v":0},null,null,0,0,0,0,0,0]
[null,{"$f":"IF(Q98<>0,VLOOKUP(Q98,'Custo Básico dos Produtos'!$A$7:$J$480,3),\"\")","v":""},null,{"$f":"SUMIF('Custo Básico dos Produtos'!$A$7:$A$480,Q98,'Custo Básico dos Produtos'!$J$7:$J$480)","v":0},null,0,{"$f":"IF(B98=\"\",0,SUMIF('Cadastro de Produtos em Linha'!$B$7:$B$457,A98,'Cadastro de Produtos em Linha'!$D$7:$D$457))","v":0},null,0,0,{"$f":"IF('Aferi (Variáveis)'!$C$12=\"ALC\",0,IF('Aferi (Variáveis)'!$C$12=\"ZFM\",0,IF('Aferi (Variáveis)'!$C$12=\"Exportação\",0,IF('Aferi (Variáveis)'!$C$12=\"Venda para Exportar\",0,IF('Aferi (Variáveis)'!$C$12=\"AO\",0,SUMIF('Custo Básico dos Produtos'!$A$7:$A$480,Q98,'Custo Básico dos Produtos'!$L$7:$L$480))))))","v":0},0,0,0,0,{"$f":"SUMIF('Cadastro de Produtos em Linha'!$A$6:$A$457,Q98,'Cadastro de Produtos em Linha'!$E$6:$E$457)*H98","v":0},{"$f":"IF(TODAY()<$AK$26,IF(A98<>\"\",SUMIF('Custo Básico dos Produtos'!$B$7:$B$457,A98,'Custo Básico dos Produtos'!$A$7:$A$457),0),0)","v":0},{"$f":"IF('Aferi (Variáveis)'!$C$12=\"Venda para Exportar\",0,IF('Aferi (Variáveis)'!$C$12=\"ALC\",0,IF('Aferi (Variáveis)'!$C$12=\"ZFM\",0,IF('Aferi (Variáveis)'!$C$12=\"Exportação\",0,IF('Aferi (Variáveis)'!$C$12=\"AO\",0,E98/(100+(0*'Aferi (Variáveis)'!$K$12/100))*100*K98%/100*'Aferi (Variáveis)'!$K$12)))))","v":0},0,{"$f":"(E98*'Aferi (Variáveis)'!$K$12/100)","v":0},0,{"$f":"IF('Aferi (Variáveis)'!$F$20=\"Venda para Exportar\",0,IF('Aferi (Variáveis)'!$F$20=\"ALC\",0,IF('Aferi (Variáveis)'!$F$20=\"ZFM\",0,IF('Aferi (Variáveis)'!$F$20=\"Exportação\",0,IF('Aferi (Variáveis)'!$F$20=\"AO\",7*T98/100,T98*'Aferi (Variáveis)'!$F$20/100)))))","v":0},0,{"$f":"IF('Aferi (Variáveis)'!$C$12=\"ZFM\",0,IF('Aferi (Variáveis)'!$C$12=\"Exportação\",0,3*T98/100))","v":0},{"$f":"IF('Aferi (Variáveis)'!$C$12=\"ZFM\",0,IF('Aferi (Variáveis)'!$C$12=\"Exportação\",0,0.65*T98/100))","v":0},0,0,0,0,0,0,0,0,0,{"$f":"SUMIF('Custo Básico dos Produtos'!$B$7:$B$480,A98,'Custo Básico dos Produtos'!$K$7:$K$480)","v":0},null,null,0,0,0,0,0,0]
[null,{"$f":"IF(Q99<>0,VLOOKUP(Q99,'Custo Básico dos Produtos'!$A$7:$J$480,3),\"\")","v":""},null,{"$f":"SUMIF('Custo Básico dos Produtos'!$A$7:$A$480,Q99,'Custo Básico dos Produtos'!$J$7:$J$480)","v":0},null,0,{"$f":"IF(B99=\"\",0,SUMIF('Cadastro de Produtos em Linha'!$B$7:$B$457,A99,'Cadastro de Produtos em Linha'!$D$7:$D$457))","v":0},null,0,0,{"$f":"IF('Aferi (Variáveis)'!$C$12=\"ALC\",0,IF('Aferi (Variáveis)'!$C$12=\"ZFM\",0,IF('Aferi (Variáveis)'!$C$12=\"Exportação\",0,IF('Aferi (Variáveis)'!$C$12=\"Venda para Exportar\",0,IF('Aferi (Variáveis)'!$C$12=\"AO\",0,SUMIF('Custo Básico dos Produtos'!$A$7:$A$480,Q99,'Custo Básico dos Produtos'!$L$7:$L$480))))))","v":0},0,0,0,0,{"$f":"SUMIF('Cadastro de Produtos em Linha'!$A$6:$A$457,Q99,'Cadastro de Produtos em Linha'!$E$6:$E$457)*H99","v":0},{"$f":"IF(TODAY()<$AK$26,IF(A99<>\"\",SUMIF('Custo Básico dos Produtos'!$B$7:$B$457,A99,'Custo Básico dos Produtos'!$A$7:$A$457),0),0)","v":0},{"$f":"IF('Aferi (Variáveis)'!$C$12=\"Venda para Exportar\",0,IF('Aferi (Variáveis)'!$C$12=\"ALC\",0,IF('Aferi (Variáveis)'!$C$12=\"ZFM\",0,IF('Aferi (Variáveis)'!$C$12=\"Exportação\",0,IF('Aferi (Variáveis)'!$C$12=\"AO\",0,E99/(100+(0*'Aferi (Variáveis)'!$K$12/100))*100*K99%/100*'Aferi (Variáveis)'!$K$12)))))","v":0},0,{"$f":"(E99*'Aferi (Variáveis)'!$K$12/100)","v":0},0,{"$f":"IF('Aferi (Variáveis)'!$F$20=\"Venda para Exportar\",0,IF('Aferi (Variáveis)'!$F$20=\"ALC\",0,IF('Aferi (Variáveis)'!$F$20=\"ZFM\",0,IF('Aferi (Variáveis)'!$F$20=\"Exportação\",0,IF('Aferi (Variáveis)'!$F$20=\"AO\",7*T99/100,T99*'Aferi (Variáveis)'!$F$20/100)))))","v":0},0,{"$f":"IF('Aferi (Variáveis)'!$C$12=\"ZFM\",0,IF('Aferi (Variáveis)'!$C$12=\"Exportação\",0,3*T99/100))","v":0},{"$f":"IF('Aferi (Variáveis)'!$C$12=\"ZFM\",0,IF('Aferi (Variáveis)'!$C$12=\"Exportação\",0,0.65*T99/100))","v":0},0,0,0,0,0,0,0,0,0,{"$f":"SUMIF('Custo Básico dos Produtos'!$B$7:$B$480,A99,'Custo Básico dos Produtos'!$K$7:$K$480)","v":0},null,null,0,0,0,0,0,0]
[null,{"$f":"IF(Q100<>0,VLOOKUP(Q100,'Custo Básico dos Produtos'!$A$7:$J$480,3),\"\")","v":""},null,{"$f":"SUMIF('Custo Básico dos Produtos'!$A$7:$A$480,Q100,'Custo Básico dos Produtos'!$J$7:$J$480)","v":0},null,0,{"$f":"IF(B100=\"\",0,SUMIF('Cadastro de Produtos em Linha'!$B$7:$B$457,A100,'Cadastro de Produtos em Linha'!$D$7:$D$457))","v":0},null,0,0,{"$f":"IF('Aferi (Variáveis)'!$C$12=\"ALC\",0,IF('Aferi (Variáveis)'!$C$12=\"ZFM\",0,IF('Aferi (Variáveis)'!$C$12=\"Exportação\",0,IF('Aferi (Variáveis)'!$C$12=\"Venda para Exportar\",0,IF('Aferi (Variáveis)'!$C$12=\"AO\",0,SUMIF('Custo Básico dos Produtos'!$A$7:$A$480,Q100,'Custo Básico dos Produtos'!$L$7:$L$480))))))","v":0},0,0,0,0,{"$f":"SUMIF('Cadastro de Produtos em Linha'!$A$6:$A$457,Q100,'Cadastro de Produtos em Linha'!$E$6:$E$457)*H100","v":0},{"$f":"IF(TODAY()<$AK$26,IF(A100<>\"\",SUMIF('Custo Básico dos Produtos'!$B$7:$B$457,A100,'Custo Básico dos Produtos'!$A$7:$A$457),0),0)","v":0},{"$f":"IF('Aferi (Variáveis)'!$C$12=\"Venda para Exportar\",0,IF('Aferi (Variáveis)'!$C$12=\"ALC\",0,IF('Aferi (Variáveis)'!$C$12=\"ZFM\",0,IF('Aferi (Variáveis)'!$C$12=\"Exportação\",0,IF('Aferi (Variáveis)'!$C$12=\"AO\",0,E100/(100+(0*'Aferi (Variáveis)'!$K$12/100))*100*K100%/100*'Aferi (Variáveis)'!$K$12)))))","v":0},0,{"$f":"(E100*'Aferi (Variáveis)'!$K$12/100)","v":0},0,{"$f":"IF('Aferi (Variáveis)'!$F$20=\"Venda para Exportar\",0,IF('Aferi (Variáveis)'!$F$20=\"ALC\",0,IF('Aferi (Variáveis)'!$F$20=\"ZFM\",0,IF('Aferi (Variáveis)'!$F$20=\"Exportação\",0,IF('Aferi (Variáveis)'!$F$20=\"AO\",7*T100/100,T100*'Aferi (Variáveis)'!$F$20/100)))))","v":0},0,{"$f":"IF('Aferi (Variáveis)'!$C$12=\"ZFM\",0,IF('Aferi (Variáveis)'!$C$12=\"Exportação\",0,3*T100/100))","v":0},{"$f":"IF('Aferi (Variáveis)'!$C$12=\"ZFM\",0,IF('Aferi (Variáveis)'!$C$12=\"Exportação\",0,0.65*T100/100))","v":0},0,0,0,0,0,0,0,0,0,{"$f":"SUMIF('Custo Básico dos Produtos'!$B$7:$B$480,A100,'Custo Básico dos Produtos'!$K$7:$K$480)","v":0},null,null,0,0,0,0,0,0]
[null,{"$f":"IF(Q101<>0,VLOOKUP(Q101,'Custo Básico dos Produtos'!$A$7:$J$480,3),\"\")","v":""},null,{"$f":"SUMIF('Custo Básico dos Produtos'!$A$7:$A$480,Q101,'Custo Básico dos Produtos'!$J$7:$J$480)","v":0},null,0,{"$f":"IF(B101=\"\",0,SUMIF('Cadastro de Produtos em Linha'!$B$7:$B$457,A101,'Cadastro de Produtos em Linha'!$D$7:$D$457))","v":0},null,0,0,{"$f":"IF('Aferi (Variáveis)'!$C$12=\"ALC\",0,IF('Aferi (Variáveis)'!$C$12=\"ZFM\",0,IF('Aferi (Variáveis)'!$C$12=\"Exportação\",0,IF('Aferi (Variáveis)'!$C$12=\"Venda para Exportar\",0,IF('Aferi (Variáveis)'!$C$12=\"AO\",0,SUMIF('Custo Básico dos Produtos'!$A$7:$A$480,Q101,'Custo Básico dos Produtos'!$L$7:$L$480))))))","v":0},0,0,0,0,{"$f":"SUMIF('Cadastro de Produtos em Linha'!$A$6:$A$457,Q101,'Cadastro de Produtos em Linha'!$E$6:$E$457)*H101","v":0},{"$f":"IF(TODAY()<$AK$26,IF(A101<>\"\",SUMIF('Custo Básico dos Produtos'!$B$7:$B$457,A101,'Custo Básico dos Produtos'!$A$7:$A$457),0),0)","v":0},{"$f":"IF('Aferi (Variáveis)'!$C$12=\"Venda para Exportar\",0,IF('Aferi (Variáveis)'!$C$12=\"ALC\",0,IF('Aferi (Variáveis)'!$C$12=\"ZFM\",0,IF('Aferi (Variáveis)'!$C$12=\"Exportação\",0,IF('Aferi (Variáveis)'!$C$12=\"AO\",0,E101/(100+(0*'Aferi (Variáveis)'!$K$12/100))*100*K101%/100*'Aferi (Variáveis)'!$K$12)))))","v":0},0,{"$f":"(E101*'Aferi (Variáveis)'!$K$12/100)","v":0},0,{"$f":"IF('Aferi (Variáveis)'!$F$20=\"Venda para Exportar\",0,IF('Aferi (Variáveis)'!$F$20=\"ALC\",0,IF('Aferi (Variáveis)'!$F$20=\"ZFM\",0,IF('Aferi (Variáveis)'!$F$20=\"Exportação\",0,IF('Aferi (Variáveis)'!$F$20=\"AO\",7*T101/100,T101*'Aferi (Variáveis)'!$F$20/100)))))","v":0},0,{"$f":"IF('Aferi (Variáveis)'!$C$12=\"ZFM\",0,IF('Aferi (Variáveis)'!$C$12=\"Exportação\",0,3*T101/100))","v":0},{"$f":"IF('Aferi (Variáveis)'!$C$12=\"ZFM\",0,IF('Aferi (Variáveis)'!$C$12=\"Exportação\",0,0.65*T101/100))","v":0},0,0,0,0,0,0,0,0,0,{"$f":"SUMIF('Custo Básico dos Produtos'!$B$7:$B$480,A101,'Custo Básico dos Produtos'!$K$7:$K$480)","v":0},null,null,0,0,0,0,0,0]
[null,{"$f":"IF(Q102<>0,VLOOKUP(Q102,'Custo Básico dos Produtos'!$A$7:$J$480,3),\"\")","v":""},null,{"$f":"SUMIF('Custo Básico dos Produtos'!$A$7:$A$480,Q102,'Custo Básico dos Produtos'!$J$7:$J$480)","v":0},null,0,{"$f":"IF(B102=\"\",0,SUMIF('Cadastro de Produtos em Linha'!$B$7:$B$457,A102,'Cadastro de Produtos em Linha'!$D$7:$D$457))","v":0},null,0,0,{"$f":"IF('Aferi (Variáveis)'!$C$12=\"ALC\",0,IF('Aferi (Variáveis)'!$C$12=\"ZFM\",0,IF('Aferi (Variáveis)'!$C$12=\"Exportação\",0,IF('Aferi (Variáveis)'!$C$12=\"Venda para Exportar\",0,IF('Aferi (Variáveis)'!$C$12=\"AO\",0,SUMIF('Custo Básico dos Produtos'!$A$7:$A$480,Q102,'Custo Básico dos Produtos'!$L$7:$L$480))))))","v":0},0,0,0,0,{"$f":"SUMIF('Cadastro de Produtos em Linha'!$A$6:$A$457,Q102,'Cadastro de Produtos em Linha'!$E$6:$E$457)*H102","v":0},{"$f":"IF(TODAY()<$AK$26,IF(A102<>\"\",SUMIF('Custo Básico dos Produtos'!$B$7:$B$457,A102,'Custo Básico dos Produtos'!$A$7:$A$457),0),0)","v":0},{"$f":"IF('Aferi (Variáveis)'!$C$12=\"Venda para Exportar\",0,IF('Aferi (Variáveis)'!$C$12=\"ALC\",0,IF('Aferi (Variáveis)'!$C$12=\"ZFM\",0,IF('Aferi (Variáveis)'!$C$12=\"Exportação\",0,IF('Aferi (Variáveis)'!$C$12=\"AO\",0,E102/(100+(0*'Aferi (Variáveis)'!$K$12/100))*100*K102%/100*'Aferi (Variáveis)'!$K$12)))))","v":0},0,{"$f":"(E102*'Aferi (Variáveis)'!$K$12/100)","v":0},0,{"$f":"IF('Aferi (Variáveis)'!$F$20=\"Venda para Exportar\",0,IF('Aferi (Variáveis)'!$F$20=\"ALC\",0,IF('Aferi (Variáveis)'!$F$20=\"ZFM\",0,IF('Aferi (Variáveis)'!$F$20=\"Exportação\",0,IF('Aferi (Variáveis)'!$F$20=\"AO\",7*T102/100,T102*'Aferi (Variáveis)'!$F$20/100)))))","v":0},0,{"$f":"IF('Aferi (Variáveis)'!$C$12=\"ZFM\",0,IF('Aferi (Variáveis)'!$C$12=\"Exportação\",0,3*T102/100))","v":0},{"$f":"IF('Aferi (Variáveis)'!$C$12=\"ZFM\",0,IF('Aferi (Variáveis)'!$C$12=\"Exportação\",0,0.65*T102/100))","v":0},0,0,0,0,0,0,0,0,0,{"$f":"SUMIF('Custo Básico dos Produtos'!$B$7:$B$480,A102,'Custo Básico dos Produtos'!$K$7:$K$480)","v":0},null,null,0,0,0,0,0,0]
[null,{"$f":"IF(Q103<>0,VLOOKUP(Q103,'Custo Básico dos Produtos'!$A$7:$J$480,3),\"\")","v":""},null,{"$f":"SUMIF('Custo Básico dos Produtos'!$A$7:$A$480,Q103,'Custo Básico dos Produtos'!$J$7:$J$480)","v":0},null,0,{"$f":"IF(B103=\"\",0,SUMIF('Cadastro de Produtos em Linha'!$B$7:$B$457,A103,'Cadastro de Produtos em Linha'!$D$7:$D$457))","v":0},null,0,0,{"$f":"IF('Aferi (Variáveis)'!$C$12=\"ALC\",0,IF('Aferi (Variáveis)'!$C$12=\"ZFM\",0,IF('Aferi (Variáveis)'!$C$12=\"Exportação\",0,IF('Aferi (Variáveis)'!$C$12=\"Venda para Exportar\",0,IF('Aferi (Variáveis)'!$C$12=\"AO\",0,SUMIF('Custo Básico dos Produtos'!$A$7:$A$480,Q103,'Custo Básico dos Produtos'!$L$7:$L$480))))))","v":0},0,0,0,0,{"$f":"SUMIF('Cadastro de Produtos em Linha'!$A$6:$A$457,Q103,'Cadastro de Produtos em Linha'!$E$6:$E$457)*H103","v":0},{"$f":"IF(TODAY()<$AK$26,IF(A103<>\"\",SUMIF('Custo Básico dos Produtos'!$B$7:$B$457,A103,'Custo Básico dos Produtos'!$A$7:$A$457),0),0)","v":0},{"$f":"IF('Aferi (Variáveis)'!$C$12=\"Venda para Exportar\",0,IF('Aferi (Variáveis)'!$C$12=\"ALC\",0,IF('Aferi (Variáveis)'!$C$12=\"ZFM\",0,IF('Aferi (Variáveis)'!$C$12=\"Exportação\",0,IF('Aferi (Variáveis)'!$C$12=\"AO\",0,E103/(100+(0*'Aferi (Variáveis)'!$K$12/100))*100*K103%/100*'Aferi (Variáveis)'!$K$12)))))","v":0},0,{"$f":"(E103*'Aferi (Variáveis)'!$K$12/100)","v":0},0,{"$f":"IF('Aferi (Variáveis)'!$F$20=\"Venda para Exportar\",0,IF('Aferi (Variáveis)'!$F$20=\"ALC\",0,IF('Aferi (Variáveis)'!$F$20=\"ZFM\",0,IF('Aferi (Variáveis)'!$F$20=\"Exportação\",0,IF('Aferi (Variáveis)'!$F$20=\"AO\",7*T103/100,T103*'Aferi (Variáveis)'!$F$20/100)))))","v":0},0,{"$f":"IF('Aferi (Variáveis)'!$C$12=\"ZFM\",0,IF('Aferi (Variáveis)'!$C$12=\"Exportação\",0,3*T103/100))","v":0},{"$f":"IF('Aferi (Variáveis)'!$C$12=\"ZFM\",0,IF('Aferi (Variáveis)'!$C$12=\"Exportação\",0,0.65*T103/100))","v":0},0,0,0,0,0,0,0,0,0,{"$f":"SUMIF('Custo Básico dos Produtos'!$B$7:$B$480,A103,'Custo Básico dos Produtos'!$K$7:$K$480)","v":0},null,null,0,0,0,0,0,0]
[null,{"$f":"IF(Q104<>0,VLOOKUP(Q104,'Custo Básico dos Produtos'!$A$7:$J$480,3),\"\")","v":""},null,{"$f":"SUMIF('Custo Básico dos Produtos'!$A$7:$A$480,Q104,'Custo Básico dos Produtos'!$J$7:$J$480)","v":0},null,0,{"$f":"IF(B104=\"\",0,SUMIF('Cadastro de Produtos em Linha'!$B$7:$B$457,A104,'Cadastro de Produtos em Linha'!$D$7:$D$457))","v":0},null,0,0,{"$f":"IF('Aferi (Variáveis)'!$C$12=\"ALC\",0,IF('Aferi (Variáveis)'!$C$12=\"ZFM\",0,IF('Aferi (Variáveis)'!$C$12=\"Exportação\",0,IF('Aferi (Variáveis)'!$C$12=\"Venda para Exportar\",0,IF('Aferi (Variáveis)'!$C$12=\"AO\",0,SUMIF('Custo Básico dos Produtos'!$A$7:$A$480,Q104,'Custo Básico dos Produtos'!$L$7:$L$480))))))","v":0},0,0,0,0,{"$f":"SUMIF('Cadastro de Produtos em Linha'!$A$6:$A$457,Q104,'Cadastro de Produtos em Linha'!$E$6:$E$457)*H104","v":0},{"$f":"IF(TODAY()<$AK$26,IF(A104<>\"\",SUMIF('Custo Básico dos Produtos'!$B$7:$B$457,A104,'Custo Básico dos Produtos'!$A$7:$A$457),0),0)","v":0},{"$f":"IF('Aferi (Variáveis)'!$C$12=\"Venda para Exportar\",0,IF('Aferi (Variáveis)'!$C$12=\"ALC\",0,IF('Aferi (Variáveis)'!$C$12=\"ZFM\",0,IF('Aferi (Variáveis)'!$C$12=\"Exportação\",0,IF('Aferi (Variáveis)'!$C$12=\"AO\",0,E104/(100+(0*'Aferi (Variáveis)'!$K$12/100))*100*K104%/100*'Aferi (Variáveis)'!$K$12)))))","v":0},0,{"$f":"(E104*'Aferi (Variáveis)'!$K$12/100)","v":0},0,{"$f":"IF('Aferi (Variáveis)'!$F$20=\"Venda para Exportar\",0,IF('Aferi (Variáveis)'!$F$20=\"ALC\",0,IF('Aferi (Variáveis)'!$F$20=\"ZFM\",0,IF('Aferi (Variáveis)'!$F$20=\"Exportação\",0,IF('Aferi (Variáveis)'!$F$20=\"AO\",7*T104/100,T104*'Aferi (Variáveis)'!$F$20/100)))))","v":0},0,{"$f":"IF('Aferi (Variáveis)'!$C$12=\"ZFM\",0,IF('Aferi (Variáveis)'!$C$12=\"Exportação\",0,3*T104/100))","v":0},{"$f":"IF('Aferi (Variáveis)'!$C$12=\"ZFM\",0,IF('Aferi (Variáveis)'!$C$12=\"Exportação\",0,0.65*T104/100))","v":0},0,0,0,0,0,0,0,0,0,{"$f":"SUMIF('Custo Básico dos Produtos'!$B$7:$B$480,A104,'Custo Básico dos Produtos'!$K$7:$K$480)","v":0},null,null,0,0,0,0,0,0]
[null,{"$f":"IF(Q105<>0,VLOOKUP(Q105,'Custo Básico dos Produtos'!$A$7:$J$480,3),\"\")","v":""},null,{"$f":"SUMIF('Custo Básico dos Produtos'!$A$7:$A$480,Q105,'Custo Básico dos Produtos'!$J$7:$J$480)","v":0},null,0,{"$f":"IF(B105=\"\",0,SUMIF('Cadastro de Produtos em Linha'!$B$7:$B$457,A105,'Cadastro de Produtos em Linha'!$D$7:$D$457))","v":0},null,0,0,{"$f":"IF('Aferi (Variáveis)'!$C$12=\"ALC\",0,IF('Aferi (Variáveis)'!$C$12=\"ZFM\",0,IF('Aferi (Variáveis)'!$C$12=\"Exportação\",0,IF('Aferi (Variáveis)'!$C$12=\"Venda para Exportar\",0,IF('Aferi (Variáveis)'!$C$12=\"AO\",0,SUMIF('Custo Básico dos Produtos'!$A$7:$A$480,Q105,'Custo Básico dos Produtos'!$L$7:$L$480))))))","v":0},0,0,0,0,{"$f":"SUMIF('Cadastro de Produtos em Linha'!$A$6:$A$457,Q105,'Cadastro de Produtos em Linha'!$E$6:$E$457)*H105","v":0},{"$f":"IF(TODAY()<$AK$26,IF(A105<>\"\",SUMIF('Custo Básico dos Produtos'!$B$7:$B$457,A105,'Custo Básico dos Produtos'!$A$7:$A$457),0),0)","v":0},{"$f":"IF('Aferi (Variáveis)'!$C$12=\"Venda para Exportar\",0,IF('Aferi (Variáveis)'!$C$12=\"ALC\",0,IF('Aferi (Variáveis)'!$C$12=\"ZFM\",0,IF('Aferi (Variáveis)'!$C$12=\"Exportação\",0,IF('Aferi (Variáveis)'!$C$12=\"AO\",0,E105/(100+(0*'Aferi (Variáveis)'!$K$12/100))*100*K105%/100*'Aferi (Variáveis)'!$K$12)))))","v":0},0,{"$f":"(E105*'Aferi (Variáveis)'!$K$12/100)","v":0},0,{"$f":"IF('Aferi (Variáveis)'!$F$20=\"Venda para Exportar\",0,IF('Aferi (Variáveis)'!$F$20=\"ALC\",0,IF('Aferi (Variáveis)'!$F$20=\"ZFM\",0,IF('Aferi (Variáveis)'!$F$20=\"Exportação\",0,IF('Aferi (Variáveis)'!$F$20=\"AO\",7*T105/100,T105*'Aferi (Variáveis)'!$F$20/100)))))","v":0},0,{"$f":"IF('Aferi (Variáveis)'!$C$12=\"ZFM\",0,IF('Aferi (Variáveis)'!$C$12=\"Exportação\",0,3*T105/100))","v":0},{"$f":"IF('Aferi (Variáveis)'!$C$12=\"ZFM\",0,IF('Aferi (Variáveis)'!$C$12=\"Exportação\",0,0.65*T105/100))","v":0},0,0,0,0,0,0,0,0,0,{"$f":"SUMIF('Custo Básico dos Produtos'!$B$7:$B$480,A105,'Custo Básico dos Produtos'!$K$7:$K$480)","v":0},null,null,0,0,0,0,0,0]
[null,{"$f":"IF(Q106<>0,VLOOKUP(Q106,'Custo Básico dos Produtos'!$A$7:$J$480,3),\"\")","v":""},null,{"$f":"SUMIF('Custo Básico dos Produtos'!$A$7:$A$480,Q106,'Custo Básico dos Produtos'!$J$7:$J$480)","v":0},null,0,{"$f":"IF(B106=\"\",0,SUMIF('Cadastro de Produtos em Linha'!$B$7:$B$457,A106,'Cadastro de Produtos em Linha'!$D$7:$D$457))","v":0},null,0,0,{"$f":"IF('Aferi (Variáveis)'!$C$12=\"ALC\",0,IF('Aferi (Variáveis)'!$C$12=\"ZFM\",0,IF('Aferi (Variáveis)'!$C$12=\"Exportação\",0,IF('Aferi (Variáveis)'!$C$12=\"Venda para Exportar\",0,IF('Aferi (Variáveis)'!$C$12=\"AO\",0,SUMIF('Custo Básico dos Produtos'!$A$7:$A$480,Q106,'Custo Básico dos Produtos'!$L$7:$L$480))))))","v":0},0,0,0,0,{"$f":"SUMIF('Cadastro de Produtos em Linha'!$A$6:$A$457,Q106,'Cadastro de Produtos em Linha'!$E$6:$E$457)*H106","v":0},{"$f":"IF(TODAY()<$AK$26,IF(A106<>\"\",SUMIF('Custo Básico dos Produtos'!$B$7:$B$457,A106,'Custo Básico dos Produtos'!$A$7:$A$457),0),0)","v":0},{"$f":"IF('Aferi (Variáveis)'!$C$12=\"Venda para Exportar\",0,IF('Aferi (Variáveis)'!$C$12=\"ALC\",0,IF('Aferi (Variáveis)'!$C$12=\"ZFM\",0,IF('Aferi (Variáveis)'!$C$12=\"Exportação\",0,IF('Aferi (Variáveis)'!$C$12=\"AO\",0,E106/(100+(0*'Aferi (Variáveis)'!$K$12/100))*100*K106%/100*'Aferi (Variáveis)'!$K$12)))))","v":0},0,{"$f":"(E106*'Aferi (Variáveis)'!$K$12/100)","v":0},0,{"$f":"IF('Aferi (Variáveis)'!$F$20=\"Venda para Exportar\",0,IF('Aferi (Variáveis)'!$F$20=\"ALC\",0,IF('Aferi (Variáveis)'!$F$20=\"ZFM\",0,IF('Aferi (Variáveis)'!$F$20=\"Exportação\",0,IF('Aferi (Variáveis)'!$F$20=\"AO\",7*T106/100,T106*'Aferi (Variáveis)'!$F$20/100)))))","v":0},0,{"$f":"IF('Aferi (Variáveis)'!$C$12=\"ZFM\",0,IF('Aferi (Variáveis)'!$C$12=\"Exportação\",0,3*T106/100))","v":0},{"$f":"IF('Aferi (Variáveis)'!$C$12=\"ZFM\",0,IF('Aferi (Variáveis)'!$C$12=\"Exportação\",0,0.65*T106/100))","v":0},0,0,0,0,0,0,0,0,0,{"$f":"SUMIF('Custo Básico dos Produtos'!$B$7:$B$480,A106,'Custo Básico dos Produtos'!$K$7:$K$480)","v":0},null,null,0,0,0,0,0,0]
[null,{"$f":"IF(Q107<>0,VLOOKUP(Q107,'Custo Básico dos Produtos'!$A$7:$J$480,3),\"\")","v":""},null,{"$f":"SUMIF('Custo Básico dos Produtos'!$A$7:$A$480,Q107,'Custo Básico dos Produtos'!$J$7:$J$480)","v":0},null,0,{"$f":"IF(B107=\"\",0,SUMIF('Cadastro de Produtos em Linha'!$B$7:$B$457,A107,'Cadastro de Produtos em Linha'!$D$7:$D$457))","v":0},null,0,0,{"$f":"IF('Aferi (Variáveis)'!$C$12=\"ALC\",0,IF('Aferi (Variáveis)'!$C$12=\"ZFM\",0,IF('Aferi (Variáveis)'!$C$12=\"Exportação\",0,IF('Aferi (Variáveis)'!$C$12=\"Venda para Exportar\",0,IF('Aferi (Variáveis)'!$C$12=\"AO\",0,SUMIF('Custo Básico dos Produtos'!$A$7:$A$480,Q107,'Custo Básico dos Produtos'!$L$7:$L$480))))))","v":0},0,0,0,0,{"$f":"SUMIF('Cadastro de Produtos em Linha'!$A$6:$A$457,Q107,'Cadastro de Produtos em Linha'!$E$6:$E$457)*H107","v":0},{"$f":"IF(TODAY()<$AK$26,IF(A107<>\"\",SUMIF('Custo Básico dos Produtos'!$B$7:$B$457,A107,'Custo Básico dos Produtos'!$A$7:$A$457),0),0)","v":0},{"$f":"IF('Aferi (Variáveis)'!$C$12=\"Venda para Exportar\",0,IF('Aferi (Variáveis)'!$C$12=\"ALC\",0,IF('Aferi (Variáveis)'!$C$12=\"ZFM\",0,IF('Aferi (Variáveis)'!$C$12=\"Exportação\",0,IF('Aferi (Variáveis)'!$C$12=\"AO\",0,E107/(100+(0*'Aferi (Variáveis)'!$K$12/100))*100*K107%/100*'Aferi (Variáveis)'!$K$12)))))","v":0},0,{"$f":"(E107*'Aferi (Variáveis)'!$K$12/100)","v":0},0,{"$f":"IF('Aferi (Variáveis)'!$F$20=\"Venda para Exportar\",0,IF('Aferi (Variáveis)'!$F$20=\"ALC\",0,IF('Aferi (Variáveis)'!$F$20=\"ZFM\",0,IF('Aferi (Variáveis)'!$F$20=\"Exportação\",0,IF('Aferi (Variáveis)'!$F$20=\"AO\",7*T107/100,T107*'Aferi (Variáveis)'!$F$20/100)))))","v":0},0,{"$f":"IF('Aferi (Variáveis)'!$C$12=\"ZFM\",0,IF('Aferi (Variáveis)'!$C$12=\"Exportação\",0,3*T107/100))","v":0},{"$f":"IF('Aferi (Variáveis)'!$C$12=\"ZFM\",0,IF('Aferi (Variáveis)'!$C$12=\"Exportação\",0,0.65*T107/100))","v":0},0,0,0,0,0,0,0,0,0,{"$f":"SUMIF('Custo Básico dos Produtos'!$B$7:$B$480,A107,'Custo Básico dos Produtos'!$K$7:$K$480)","v":0},null,null,0,0,0,0,0,0]
[null,{"$f":"IF(Q108<>0,VLOOKUP(Q108,'Custo Básico dos Produtos'!$A$7:$J$480,3),\"\")","v":""},null,{"$f":"SUMIF('Custo Básico dos Produtos'!$A$7:$A$480,Q108,'Custo Básico dos Produtos'!$J$7:$J$480)","v":0},null,0,{"$f":"IF(B108=\"\",0,SUMIF('Cadastro de Produtos em Linha'!$B$7:$B$457,A108,'Cadastro de Produtos em Linha'!$D$7:$D$457))","v":0},null,0,0,{"$f":"IF('Aferi (Variáveis)'!$C$12=\"ALC\",0,IF('Aferi (Variáveis)'!$C$12=\"ZFM\",0,IF('Aferi (Variáveis)'!$C$12=\"Exportação\",0,IF('Aferi (Variáveis)'!$C$12=\"Venda para Exportar\",0,IF('Aferi (Variáveis)'!$C$12=\"AO\",0,SUMIF('Custo Básico dos Produtos'!$A$7:$A$480,Q108,'Custo Básico dos Produtos'!$L$7:$L$480))))))","v":0},0,0,0,0,{"$f":"SUMIF('Cadastro de Produtos em Linha'!$A$6:$A$457,Q108,'Cadastro de Produtos em Linha'!$E$6:$E$457)*H108","v":0},{"$f":"IF(TODAY()<$AK$26,IF(A108<>\"\",SUMIF('Custo Básico dos Produtos'!$B$7:$B$457,A108,'Custo Básico dos Produtos'!$A$7:$A$457),0),0)","v":0},{"$f":"IF('Aferi (Variáveis)'!$C$12=\"Venda para Exportar\",0,IF('Aferi (Variáveis)'!$C$12=\"ALC\",0,IF('Aferi (Variáveis)'!$C$12=\"ZFM\",0,IF('Aferi (Variáveis)'!$C$12=\"Exportação\",0,IF('Aferi (Variáveis)'!$C$12=\"AO\",0,E108/(100+(0*'Aferi (Variáveis)'!$K$12/100))*100*K108%/100*'Aferi (Variáveis)'!$K$12)))))","v":0},0,{"$f":"(E108*'Aferi (Variáveis)'!$K$12/100)","v":0},0,{"$f":"IF('Aferi (Variáveis)'!$F$20=\"Venda para Exportar\",0,IF('Aferi (Variáveis)'!$F$20=\"ALC\",0,IF('Aferi (Variáveis)'!$F$20=\"ZFM\",0,IF('Aferi (Variáveis)'!$F$20=\"Exportação\",0,IF('Aferi (Variáveis)'!$F$20=\"AO\",7*T108/100,T108*'Aferi (Variáveis)'!$F$20/100)))))","v":0},0,{"$f":"IF('Aferi (Variáveis)'!$C$12=\"ZFM\",0,IF('Aferi (Variáveis)'!$C$12=\"Exportação\",0,3*T108/100))","v":0},{"$f":"IF('Aferi (Variáveis)'!$C$12=\"ZFM\",0,IF('Aferi (Variáveis)'!$C$12=\"Exportação\",0,0.65*T108/100))","v":0},0,0,0,0,0,0,0,0,0,{"$f":"SUMIF('Custo Básico dos Produtos'!$B$7:$B$480,A108,'Custo Básico dos Produtos'!$K$7:$K$480)","v":0},null,null,0,0,0,0,0,0]
[null,{"$f":"IF(Q109<>0,VLOOKUP(Q109,'Custo Básico dos Produtos'!$A$7:$J$480,3),\"\")","v":""},null,{"$f":"SUMIF('Custo Básico dos Produtos'!$A$7:$A$480,Q109,'Custo Básico dos Produtos'!$J$7:$J$480)","v":0},null,0,{"$f":"IF(B109=\"\",0,SUMIF('Cadastro de Produtos em Linha'!$B$7:$B$457,A109,'Cadastro de Produtos em Linha'!$D$7:$D$457))","v":0},null,0,0,{"$f":"IF('Aferi (Variáveis)'!$C$12=\"ALC\",0,IF('Aferi (Variáveis)'!$C$12=\"ZFM\",0,IF('Aferi (Variáveis)'!$C$12=\"Exportação\",0,IF('Aferi (Variáveis)'!$C$12=\"Venda para Exportar\",0,IF('Aferi (Variáveis)'!$C$12=\"AO\",0,SUMIF('Custo Básico dos Produtos'!$A$7:$A$480,Q109,'Custo Básico dos Produtos'!$L$7:$L$480))))))","v":0},0,0,0,0,{"$f":"SUMIF('Cadastro de Produtos em Linha'!$A$6:$A$457,Q109,'Cadastro de Produtos em Linha'!$E$6:$E$457)*H109","v":0},{"$f":"IF(TODAY()<$AK$26,IF(A109<>\"\",SUMIF('Custo Básico dos Produtos'!$B$7:$B$457,A109,'Custo Básico dos Produtos'!$A$7:$A$457),0),0)","v":0},{"$f":"IF('Aferi (Variáveis)'!$C$12=\"Venda para Exportar\",0,IF('Aferi (Variáveis)'!$C$12=\"ALC\",0,IF('Aferi (Variáveis)'!$C$12=\"ZFM\",0,IF('Aferi (Variáveis)'!$C$12=\"Exportação\",0,IF('Aferi (Variáveis)'!$C$12=\"AO\",0,E109/(100+(0*'Aferi (Variáveis)'!$K$12/100))*100*K109%/100*'Aferi (Variáveis)'!$K$12)))))","v":0},0,{"$f":"(E109*'Aferi (Variáveis)'!$K$12/100)","v":0},0,{"$f":"IF('Aferi (Variáveis)'!$F$20=\"Venda para Exportar\",0,IF('Aferi (Variáveis)'!$F$20=\"ALC\",0,IF('Aferi (Variáveis)'!$F$20=\"ZFM\",0,IF('Aferi (Variáveis)'!$F$20=\"Exportação\",0,IF('Aferi (Variáveis)'!$F$20=\"AO\",7*T109/100,T109*'Aferi (Variáveis)'!$F$20/100)))))","v":0},0,{"$f":"IF('Aferi (Variáveis)'!$C$12=\"ZFM\",0,IF('Aferi (Variáveis)'!$C$12=\"Exportação\",0,3*T109/100))","v":0},{"$f":"IF('Aferi (Variáveis)'!$C$12=\"ZFM\",0,IF('Aferi (Variáveis)'!$C$12=\"Exportação\",0,0.65*T109/100))","v":0},0,0,0,0,0,0,0,0,0,{"$f":"SUMIF('Custo Básico dos Produtos'!$B$7:$B$480,A109,'Custo Básico dos Produtos'!$K$7:$K$480)","v":0},null,null,0,0,0,0,0,0]
[null,{"$f":"IF(Q110<>0,VLOOKUP(Q110,'Custo Básico dos Produtos'!$A$7:$J$480,3),\"\")","v":""},null,{"$f":"SUMIF('Custo Básico dos Produtos'!$A$7:$A$480,Q110,'Custo Básico dos Produtos'!$J$7:$J$480)","v":0},null,0,{"$f":"IF(B110=\"\",0,SUMIF('Cadastro de Produtos em Linha'!$B$7:$B$457,A110,'Cadastro de Produtos em Linha'!$D$7:$D$457))","v":0},null,0,0,{"$f":"IF('Aferi (Variáveis)'!$C$12=\"ALC\",0,IF('Aferi (Variáveis)'!$C$12=\"ZFM\",0,IF('Aferi (Variáveis)'!$C$12=\"Exportação\",0,IF('Aferi (Variáveis)'!$C$12=\"Venda para Exportar\",0,IF('Aferi (Variáveis)'!$C$12=\"AO\",0,SUMIF('Custo Básico dos Produtos'!$A$7:$A$480,Q110,'Custo Básico dos Produtos'!$L$7:$L$480))))))","v":0},0,0,0,0,{"$f":"SUMIF('Cadastro de Produtos em Linha'!$A$6:$A$457,Q110,'Cadastro de Produtos em Linha'!$E$6:$E$457)*H110","v":0},{"$f":"IF(TODAY()<$AK$26,IF(A110<>\"\",SUMIF('Custo Básico dos Produtos'!$B$7:$B$457,A110,'Custo Básico dos Produtos'!$A$7:$A$457),0),0)","v":0},{"$f":"IF('Aferi (Variáveis)'!$C$12=\"Venda para Exportar\",0,IF('Aferi (Variáveis)'!$C$12=\"ALC\",0,IF('Aferi (Variáveis)'!$C$12=\"ZFM\",0,IF('Aferi (Variáveis)'!$C$12=\"Exportação\",0,IF('Aferi (Variáveis)'!$C$12=\"AO\",0,E110/(100+(0*'Aferi (Variáveis)'!$K$12/100))*100*K110%/100*'Aferi (Variáveis)'!$K$12)))))","v":0},0,{"$f":"(E110*'Aferi (Variáveis)'!$K$12/100)","v":0},0,{"$f":"IF('Aferi (Variáveis)'!$F$20=\"Venda para Exportar\",0,IF('Aferi (Variáveis)'!$F$20=\"ALC\",0,IF('Aferi (Variáveis)'!$F$20=\"ZFM\",0,IF('Aferi (Variáveis)'!$F$20=\"Exportação\",0,IF('Aferi (Variáveis)'!$F$20=\"AO\",7*T110/100,T110*'Aferi (Variáveis)'!$F$20/100)))))","v":0},0,{"$f":"IF('Aferi (Variáveis)'!$C$12=\"ZFM\",0,IF('Aferi (Variáveis)'!$C$12=\"Exportação\",0,3*T110/100))","v":0},{"$f":"IF('Aferi (Variáveis)'!$C$12=\"ZFM\",0,IF('Aferi (Variáveis)'!$C$12=\"Exportação\",0,0.65*T110/100))","v":0},0,0,0,0,0,0,0,0,0,{"$f":"SUMIF('Custo Básico dos Produtos'!$B$7:$B$480,A110,'Custo Básico dos Produtos'!$K$7:$K$480)","v":0},null,null,0,0,0,0,0,0]
[null,{"$f":"IF(Q111<>0,VLOOKUP(Q111,'Custo Básico dos Produtos'!$A$7:$J$480,3),\"\")","v":""},null,{"$f":"SUMIF('Custo Básico dos Produtos'!$A$7:$A$480,Q111,'Custo Básico dos Produtos'!$J$7:$J$480)","v":0},null,0,{"$f":"IF(B111=\"\",0,SUMIF('Cadastro de Produtos em Linha'!$B$7:$B$457,A111,'Cadastro de Produtos em Linha'!$D$7:$D$457))","v":0},null,0,0,{"$f":"IF('Aferi (Variáveis)'!$C$12=\"ALC\",0,IF('Aferi (Variáveis)'!$C$12=\"ZFM\",0,IF('Aferi (Variáveis)'!$C$12=\"Exportação\",0,IF('Aferi (Variáveis)'!$C$12=\"Venda para Exportar\",0,IF('Aferi (Variáveis)'!$C$12=\"AO\",0,SUMIF('Custo Básico dos Produtos'!$A$7:$A$480,Q111,'Custo Básico dos Produtos'!$L$7:$L$480))))))","v":0},0,0,0,0,{"$f":"SUMIF('Cadastro de Produtos em Linha'!$A$6:$A$457,Q111,'Cadastro de Produtos em Linha'!$E$6:$E$457)*H111","v":0},{"$f":"IF(TODAY()<$AK$26,IF(A111<>\"\",SUMIF('Custo Básico dos Produtos'!$B$7:$B$457,A111,'Custo Básico dos Produtos'!$A$7:$A$457),0),0)","v":0},{"$f":"IF('Aferi (Variáveis)'!$C$12=\"Venda para Exportar\",0,IF('Aferi (Variáveis)'!$C$12=\"ALC\",0,IF('Aferi (Variáveis)'!$C$12=\"ZFM\",0,IF('Aferi (Variáveis)'!$C$12=\"Exportação\",0,IF('Aferi (Variáveis)'!$C$12=\"AO\",0,E111/(100+(0*'Aferi (Variáveis)'!$K$12/100))*100*K111%/100*'Aferi (Variáveis)'!$K$12)))))","v":0},0,{"$f":"(E111*'Aferi (Variáveis)'!$K$12/100)","v":0},0,{"$f":"IF('Aferi (Variáveis)'!$F$20=\"Venda para Exportar\",0,IF('Aferi (Variáveis)'!$F$20=\"ALC\",0,IF('Aferi (Variáveis)'!$F$20=\"ZFM\",0,IF('Aferi (Variáveis)'!$F$20=\"Exportação\",0,IF('Aferi (Variáveis)'!$F$20=\"AO\",7*T111/100,T111*'Aferi (Variáveis)'!$F$20/100)))))","v":0},0,{"$f":"IF('Aferi (Variáveis)'!$C$12=\"ZFM\",0,IF('Aferi (Variáveis)'!$C$12=\"Exportação\",0,3*T111/100))","v":0},{"$f":"IF('Aferi (Variáveis)'!$C$12=\"ZFM\",0,IF('Aferi (Variáveis)'!$C$12=\"Exportação\",0,0.65*T111/100))","v":0},0,0,0,0,0,0,0,0,0,{"$f":"SUMIF('Custo Básico dos Produtos'!$B$7:$B$480,A111,'Custo Básico dos Produtos'!$K$7:$K$480)","v":0},null,null,0,0,0,0,0,0]
[null,{"$f":"IF(Q112<>0,VLOOKUP(Q112,'Custo Básico dos Produtos'!$A$7:$J$480,3),\"\")","v":""},null,{"$f":"SUMIF('Custo Básico dos Produtos'!$A$7:$A$480,Q112,'Custo Básico dos Produtos'!$J$7:$J$480)","v":0},null,0,{"$f":"IF(B112=\"\",0,SUMIF('Cadastro de Produtos em Linha'!$B$7:$B$457,A112,'Cadastro de Produtos em Linha'!$D$7:$D$457))","v":0},null,0,0,{"$f":"IF('Aferi (Variáveis)'!$C$12=\"ALC\",0,IF('Aferi (Variáveis)'!$C$12=\"ZFM\",0,IF('Aferi (Variáveis)'!$C$12=\"Exportação\",0,IF('Aferi (Variáveis)'!$C$12=\"Venda para Exportar\",0,IF('Aferi (Variáveis)'!$C$12=\"AO\",0,SUMIF('Custo Básico dos Produtos'!$A$7:$A$480,Q112,'Custo Básico dos Produtos'!$L$7:$L$480))))))","v":0},0,0,0,0,{"$f":"SUMIF('Cadastro de Produtos em Linha'!$A$6:$A$457,Q112,'Cadastro de Produtos em Linha'!$E$6:$E$457)*H112","v":0},{"$f":"IF(TODAY()<$AK$26,IF(A112<>\"\",SUMIF('Custo Básico dos Produtos'!$B$7:$B$457,A112,'Custo Básico dos Produtos'!$A$7:$A$457),0),0)","v":0},{"$f":"IF('Aferi (Variáveis)'!$C$12=\"Venda para Exportar\",0,IF('Aferi (Variáveis)'!$C$12=\"ALC\",0,IF('Aferi (Variáveis)'!$C$12=\"ZFM\",0,IF('Aferi (Variáveis)'!$C$12=\"Exportação\",0,IF('Aferi (Variáveis)'!$C$12=\"AO\",0,E112/(100+(0*'Aferi (Variáveis)'!$K$12/100))*100*K112%/100*'Aferi (Variáveis)'!$K$12)))))","v":0},0,{"$f":"(E112*'Aferi (Variáveis)'!$K$12/100)","v":0},0,{"$f":"IF('Aferi (Variáveis)'!$F$20=\"Venda para Exportar\",0,IF('Aferi (Variáveis)'!$F$20=\"ALC\",0,IF('Aferi (Variáveis)'!$F$20=\"ZFM\",0,IF('Aferi (Variáveis)'!$F$20=\"Exportação\",0,IF('Aferi (Variáveis)'!$F$20=\"AO\",7*T112/100,T112*'Aferi (Variáveis)'!$F$20/100)))))","v":0},0,{"$f":"IF('Aferi (Variáveis)'!$C$12=\"ZFM\",0,IF('Aferi (Variáveis)'!$C$12=\"Exportação\",0,3*T112/100))","v":0},{"$f":"IF('Aferi (Variáveis)'!$C$12=\"ZFM\",0,IF('Aferi (Variáveis)'!$C$12=\"Exportação\",0,0.65*T112/100))","v":0},0,0,0,0,0,0,0,0,0,{"$f":"SUMIF('Custo Básico dos Produtos'!$B$7:$B$480,A112,'Custo Básico dos Produtos'!$K$7:$K$480)","v":0},null,null,0,0,0,0,0,0]
[null,{"$f":"IF(Q113<>0,VLOOKUP(Q113,'Custo Básico dos Produtos'!$A$7:$J$480,3),\"\")","v":""},null,{"$f":"SUMIF('Custo Básico dos Produtos'!$A$7:$A$480,Q113,'Custo Básico dos Produtos'!$J$7:$J$480)","v":0},null,0,{"$f":"IF(B113=\"\",0,SUMIF('Cadastro de Produtos em Linha'!$B$7:$B$457,A113,'Cadastro de Produtos em Linha'!$D$7:$D$457))","v":0},null,0,0,{"$f":"IF('Aferi (Variáveis)'!$C$12=\"ALC\",0,IF('Aferi (Variáveis)'!$C$12=\"ZFM\",0,IF('Aferi (Variáveis)'!$C$12=\"Exportação\",0,IF('Aferi (Variáveis)'!$C$12=\"Venda para Exportar\",0,IF('Aferi (Variáveis)'!$C$12=\"AO\",0,SUMIF('Custo Básico dos Produtos'!$A$7:$A$480,Q113,'Custo Básico dos Produtos'!$L$7:$L$480))))))","v":0},0,0,0,0,{"$f":"SUMIF('Cadastro de Produtos em Linha'!$A$6:$A$457,Q113,'Cadastro de Produtos em Linha'!$E$6:$E$457)*H113","v":0},{"$f":"IF(TODAY()<$AK$26,IF(A113<>\"\",SUMIF('Custo Básico dos Produtos'!$B$7:$B$457,A113,'Custo Básico dos Produtos'!$A$7:$A$457),0),0)","v":0},{"$f":"IF('Aferi (Variáveis)'!$C$12=\"Venda para Exportar\",0,IF('Aferi (Variáveis)'!$C$12=\"ALC\",0,IF('Aferi (Variáveis)'!$C$12=\"ZFM\",0,IF('Aferi (Variáveis)'!$C$12=\"Exportação\",0,IF('Aferi (Variáveis)'!$C$12=\"AO\",0,E113/(100+(0*'Aferi (Variáveis)'!$K$12/100))*100*K113%/100*'Aferi (Variáveis)'!$K$12)))))","v":0},0,{"$f":"(E113*'Aferi (Variáveis)'!$K$12/100)","v":0},0,{"$f":"IF('Aferi (Variáveis)'!$F$20=\"Venda para Exportar\",0,IF('Aferi (Variáveis)'!$F$20=\"ALC\",0,IF('Aferi (Variáveis)'!$F$20=\"ZFM\",0,IF('Aferi (Variáveis)'!$F$20=\"Exportação\",0,IF('Aferi (Variáveis)'!$F$20=\"AO\",7*T113/100,T113*'Aferi (Variáveis)'!$F$20/100)))))","v":0},0,{"$f":"IF('Aferi (Variáveis)'!$C$12=\"ZFM\",0,IF('Aferi (Variáveis)'!$C$12=\"Exportação\",0,3*T113/100))","v":0},{"$f":"IF('Aferi (Variáveis)'!$C$12=\"ZFM\",0,IF('Aferi (Variáveis)'!$C$12=\"Exportação\",0,0.65*T113/100))","v":0},0,0,0,0,0,0,0,0,0,{"$f":"SUMIF('Custo Básico dos Produtos'!$B$7:$B$480,A113,'Custo Básico dos Produtos'!$K$7:$K$480)","v":0},null,null,0,0,0,0,0,0]
[null,{"$f":"IF(Q114<>0,VLOOKUP(Q114,'Custo Básico dos Produtos'!$A$7:$J$480,3),\"\")","v":""},null,{"$f":"SUMIF('Custo Básico dos Produtos'!$A$7:$A$480,Q114,'Custo Básico dos Produtos'!$J$7:$J$480)","v":0},null,0,{"$f":"IF(B114=\"\",0,SUMIF('Cadastro de Produtos em Linha'!$B$7:$B$457,A114,'Cadastro de Produtos em Linha'!$D$7:$D$457))","v":0},null,0,0,{"$f":"IF('Aferi (Variáveis)'!$C$12=\"ALC\",0,IF('Aferi (Variáveis)'!$C$12=\"ZFM\",0,IF('Aferi (Variáveis)'!$C$12=\"Exportação\",0,IF('Aferi (Variáveis)'!$C$12=\"Venda para Exportar\",0,IF('Aferi (Variáveis)'!$C$12=\"AO\",0,SUMIF('Custo Básico dos Produtos'!$A$7:$A$480,Q114,'Custo Básico dos Produtos'!$L$7:$L$480))))))","v":0},0,0,0,0,{"$f":"SUMIF('Cadastro de Produtos em Linha'!$A$6:$A$457,Q114,'Cadastro de Produtos em Linha'!$E$6:$E$457)*H114","v":0},{"$f":"IF(TODAY()<$AK$26,IF(A114<>\"\",SUMIF('Custo Básico dos Produtos'!$B$7:$B$457,A114,'Custo Básico dos Produtos'!$A$7:$A$457),0),0)","v":0},{"$f":"IF('Aferi (Variáveis)'!$C$12=\"Venda para Exportar\",0,IF('Aferi (Variáveis)'!$C$12=\"ALC\",0,IF('Aferi (Variáveis)'!$C$12=\"ZFM\",0,IF('Aferi (Variáveis)'!$C$12=\"Exportação\",0,IF('Aferi (Variáveis)'!$C$12=\"AO\",0,E114/(100+(0*'Aferi (Variáveis)'!$K$12/100))*100*K114%/100*'Aferi (Variáveis)'!$K$12)))))","v":0},0,{"$f":"(E114*'Aferi (Variáveis)'!$K$12/100)","v":0},0,{"$f":"IF('Aferi (Variáveis)'!$F$20=\"Venda para Exportar\",0,IF('Aferi (Variáveis)'!$F$20=\"ALC\",0,IF('Aferi (Variáveis)'!$F$20=\"ZFM\",0,IF('Aferi (Variáveis)'!$F$20=\"Exportação\",0,IF('Aferi (Variáveis)'!$F$20=\"AO\",7*T114/100,T114*'Aferi (Variáveis)'!$F$20/100)))))","v":0},0,{"$f":"IF('Aferi (Variáveis)'!$C$12=\"ZFM\",0,IF('Aferi (Variáveis)'!$C$12=\"Exportação\",0,3*T114/100))","v":0},{"$f":"IF('Aferi (Variáveis)'!$C$12=\"ZFM\",0,IF('Aferi (Variáveis)'!$C$12=\"Exportação\",0,0.65*T114/100))","v":0},0,0,0,0,0,0,0,0,0,{"$f":"SUMIF('Custo Básico dos Produtos'!$B$7:$B$480,A114,'Custo Básico dos Produtos'!$K$7:$K$480)","v":0},null,null,0,0,0,0,0,0]
[null,{"$f":"IF(Q115<>0,VLOOKUP(Q115,'Custo Básico dos Produtos'!$A$7:$J$480,3),\"\")","v":""},null,{"$f":"SUMIF('Custo Básico dos Produtos'!$A$7:$A$480,Q115,'Custo Básico dos Produtos'!$J$7:$J$480)","v":0},null,0,{"$f":"IF(B115=\"\",0,SUMIF('Cadastro de Produtos em Linha'!$B$7:$B$457,A115,'Cadastro de Produtos em Linha'!$D$7:$D$457))","v":0},null,0,0,{"$f":"IF('Aferi (Variáveis)'!$C$12=\"ALC\",0,IF('Aferi (Variáveis)'!$C$12=\"ZFM\",0,IF('Aferi (Variáveis)'!$C$12=\"Exportação\",0,IF('Aferi (Variáveis)'!$C$12=\"Venda para Exportar\",0,IF('Aferi (Variáveis)'!$C$12=\"AO\",0,SUMIF('Custo Básico dos Produtos'!$A$7:$A$480,Q115,'Custo Básico dos Produtos'!$L$7:$L$480))))))","v":0},0,0,0,0,{"$f":"SUMIF('Cadastro de Produtos em Linha'!$A$6:$A$457,Q115,'Cadastro de Produtos em Linha'!$E$6:$E$457)*H115","v":0},{"$f":"IF(TODAY()<$AK$26,IF(A115<>\"\",SUMIF('Custo Básico dos Produtos'!$B$7:$B$457,A115,'Custo Básico dos Produtos'!$A$7:$A$457),0),0)","v":0},{"$f":"IF('Aferi (Variáveis)'!$C$12=\"Venda para Exportar\",0,IF('Aferi (Variáveis)'!$C$12=\"ALC\",0,IF('Aferi (Variáveis)'!$C$12=\"ZFM\",0,IF('Aferi (Variáveis)'!$C$12=\"Exportação\",0,IF('Aferi (Variáveis)'!$C$12=\"AO\",0,E115/(100+(0*'Aferi (Variáveis)'!$K$12/100))*100*K115%/100*'Aferi (Variáveis)'!$K$12)))))","v":0},0,{"$f":"(E115*'Aferi (Variáveis)'!$K$12/100)","v":0},0,{"$f":"IF('Aferi (Variáveis)'!$F$20=\"Venda para Exportar\",0,IF('Aferi (Variáveis)'!$F$20=\"ALC\",0,IF('Aferi (Variáveis)'!$F$20=\"ZFM\",0,IF('Aferi (Variáveis)'!$F$20=\"Exportação\",0,IF('Aferi (Variáveis)'!$F$20=\"AO\",7*T115/100,T115*'Aferi (Variáveis)'!$F$20/100)))))","v":0},0,{"$f":"IF('Aferi (Variáveis)'!$C$12=\"ZFM\",0,IF('Aferi (Variáveis)'!$C$12=\"Exportação\",0,3*T115/100))","v":0},{"$f":"IF('Aferi (Variáveis)'!$C$12=\"ZFM\",0,IF('Aferi (Variáveis)'!$C$12=\"Exportação\",0,0.65*T115/100))","v":0},0,0,0,0,0,0,0,0,0,{"$f":"SUMIF('Custo Básico dos Produtos'!$B$7:$B$480,A115,'Custo Básico dos Produtos'!$K$7:$K$480)","v":0},null,null,0,0,0,0,0,0]
[null,{"$f":"IF(Q116<>0,VLOOKUP(Q116,'Custo Básico dos Produtos'!$A$7:$J$480,3),\"\")","v":""},null,{"$f":"SUMIF('Custo Básico dos Produtos'!$A$7:$A$480,Q116,'Custo Básico dos Produtos'!$J$7:$J$480)","v":0},null,0,{"$f":"IF(B116=\"\",0,SUMIF('Cadastro de Produtos em Linha'!$B$7:$B$457,A116,'Cadastro de Produtos em Linha'!$D$7:$D$457))","v":0},null,0,0,{"$f":"IF('Aferi (Variáveis)'!$C$12=\"ALC\",0,IF('Aferi (Variáveis)'!$C$12=\"ZFM\",0,IF('Aferi (Variáveis)'!$C$12=\"Exportação\",0,IF('Aferi (Variáveis)'!$C$12=\"Venda para Exportar\",0,IF('Aferi (Variáveis)'!$C$12=\"AO\",0,SUMIF('Custo Básico dos Produtos'!$A$7:$A$480,Q116,'Custo Básico dos Produtos'!$L$7:$L$480))))))","v":0},0,0,0,0,{"$f":"SUMIF('Cadastro de Produtos em Linha'!$A$6:$A$457,Q116,'Cadastro de Produtos em Linha'!$E$6:$E$457)*H116","v":0},{"$f":"IF(TODAY()<$AK$26,IF(A116<>\"\",SUMIF('Custo Básico dos Produtos'!$B$7:$B$457,A116,'Custo Básico dos Produtos'!$A$7:$A$457),0),0)","v":0},{"$f":"IF('Aferi (Variáveis)'!$C$12=\"Venda para Exportar\",0,IF('Aferi (Variáveis)'!$C$12=\"ALC\",0,IF('Aferi (Variáveis)'!$C$12=\"ZFM\",0,IF('Aferi (Variáveis)'!$C$12=\"Exportação\",0,IF('Aferi (Variáveis)'!$C$12=\"AO\",0,E116/(100+(0*'Aferi (Variáveis)'!$K$12/100))*100*K116%/100*'Aferi (Variáveis)'!$K$12)))))","v":0},0,{"$f":"(E116*'Aferi (Variáveis)'!$K$12/100)","v":0},0,{"$f":"IF('Aferi (Variáveis)'!$F$20=\"Venda para Exportar\",0,IF('Aferi (Variáveis)'!$F$20=\"ALC\",0,IF('Aferi (Variáveis)'!$F$20=\"ZFM\",0,IF('Aferi (Variáveis)'!$F$20=\"Exportação\",0,IF('Aferi (Variáveis)'!$F$20=\"AO\",7*T116/100,T116*'Aferi (Variáveis)'!$F$20/100)))))","v":0},0,{"$f":"IF('Aferi (Variáveis)'!$C$12=\"ZFM\",0,IF('Aferi (Variáveis)'!$C$12=\"Exportação\",0,3*T116/100))","v":0},{"$f":"IF('Aferi (Variáveis)'!$C$12=\"ZFM\",0,IF('Aferi (Variáveis)'!$C$12=\"Exportação\",0,0.65*T116/100))","v":0},0,0,0,0,0,0,0,0,0,{"$f":"SUMIF('Custo Básico dos Produtos'!$B$7:$B$480,A116,'Custo Básico dos Produtos'!$K$7:$K$480)","v":0},null,null,0,0,0,0,0,0]
[null,{"$f":"IF(Q117<>0,VLOOKUP(Q117,'Custo Básico dos Produtos'!$A$7:$J$480,3),\"\")","v":""},null,{"$f":"SUMIF('Custo Básico dos Produtos'!$A$7:$A$480,Q117,'Custo Básico dos Produtos'!$J$7:$J$480)","v":0},null,0,{"$f":"IF(B117=\"\",0,SUMIF('Cadastro de Produtos em Linha'!$B$7:$B$457,A117,'Cadastro de Produtos em Linha'!$D$7:$D$457))","v":0},null,0,0,{"$f":"IF('Aferi (Variáveis)'!$C$12=\"ALC\",0,IF('Aferi (Variáveis)'!$C$12=\"ZFM\",0,IF('Aferi (Variáveis)'!$C$12=\"Exportação\",0,IF('Aferi (Variáveis)'!$C$12=\"Venda para Exportar\",0,IF('Aferi (Variáveis)'!$C$12=\"AO\",0,SUMIF('Custo Básico dos Produtos'!$A$7:$A$480,Q117,'Custo Básico dos Produtos'!$L$7:$L$480))))))","v":0},0,0,0,0,{"$f":"SUMIF('Cadastro de Produtos em Linha'!$A$6:$A$457,Q117,'Cadastro de Produtos em Linha'!$E$6:$E$457)*H117","v":0},{"$f":"IF(TODAY()<$AK$26,IF(A117<>\"\",SUMIF('Custo Básico dos Produtos'!$B$7:$B$457,A117,'Custo Básico dos Produtos'!$A$7:$A$457),0),0)","v":0},{"$f":"IF('Aferi (Variáveis)'!$C$12=\"Venda para Exportar\",0,IF('Aferi (Variáveis)'!$C$12=\"ALC\",0,IF('Aferi (Variáveis)'!$C$12=\"ZFM\",0,IF('Aferi (Variáveis)'!$C$12=\"Exportação\",0,IF('Aferi (Variáveis)'!$C$12=\"AO\",0,E117/(100+(0*'Aferi (Variáveis)'!$K$12/100))*100*K117%/100*'Aferi (Variáveis)'!$K$12)))))","v":0},0,{"$f":"(E117*'Aferi (Variáveis)'!$K$12/100)","v":0},0,{"$f":"IF('Aferi (Variáveis)'!$F$20=\"Venda para Exportar\",0,IF('Aferi (Variáveis)'!$F$20=\"ALC\",0,IF('Aferi (Variáveis)'!$F$20=\"ZFM\",0,IF('Aferi (Variáveis)'!$F$20=\"Exportação\",0,IF('Aferi (Variáveis)'!$F$20=\"AO\",7*T117/100,T117*'Aferi (Variáveis)'!$F$20/100)))))","v":0},0,{"$f":"IF('Aferi (Variáveis)'!$C$12=\"ZFM\",0,IF('Aferi (Variáveis)'!$C$12=\"Exportação\",0,3*T117/100))","v":0},{"$f":"IF('Aferi (Variáveis)'!$C$12=\"ZFM\",0,IF('Aferi (Variáveis)'!$C$12=\"Exportação\",0,0.65*T117/100))","v":0},0,0,0,0,0,0,0,0,0,{"$f":"SUMIF('Custo Básico dos Produtos'!$B$7:$B$480,A117,'Custo Básico dos Produtos'!$K$7:$K$480)","v":0},null,null,0,0,0,0,0,0]
[null,{"$f":"IF(Q118<>0,VLOOKUP(Q118,'Custo Básico dos Produtos'!$A$7:$J$480,3),\"\")","v":""},null,{"$f":"SUMIF('Custo Básico dos Produtos'!$A$7:$A$480,Q118,'Custo Básico dos Produtos'!$J$7:$J$480)","v":0},null,0,{"$f":"IF(B118=\"\",0,SUMIF('Cadastro de Produtos em Linha'!$B$7:$B$457,A118,'Cadastro de Produtos em Linha'!$D$7:$D$457))","v":0},null,0,0,{"$f":"IF('Aferi (Variáveis)'!$C$12=\"ALC\",0,IF('Aferi (Variáveis)'!$C$12=\"ZFM\",0,IF('Aferi (Variáveis)'!$C$12=\"Exportação\",0,IF('Aferi (Variáveis)'!$C$12=\"Venda para Exportar\",0,IF('Aferi (Variáveis)'!$C$12=\"AO\",0,SUMIF('Custo Básico dos Produtos'!$A$7:$A$480,Q118,'Custo Básico dos Produtos'!$L$7:$L$480))))))","v":0},0,0,0,0,{"$f":"SUMIF('Cadastro de Produtos em Linha'!$A$6:$A$457,Q118,'Cadastro de Produtos em Linha'!$E$6:$E$457)*H118","v":0},{"$f":"IF(TODAY()<$AK$26,IF(A118<>\"\",SUMIF('Custo Básico dos Produtos'!$B$7:$B$457,A118,'Custo Básico dos Produtos'!$A$7:$A$457),0),0)","v":0},{"$f":"IF('Aferi (Variáveis)'!$C$12=\"Venda para Exportar\",0,IF('Aferi (Variáveis)'!$C$12=\"ALC\",0,IF('Aferi (Variáveis)'!$C$12=\"ZFM\",0,IF('Aferi (Variáveis)'!$C$12=\"Exportação\",0,IF('Aferi (Variáveis)'!$C$12=\"AO\",0,E118/(100+(0*'Aferi (Variáveis)'!$K$12/100))*100*K118%/100*'Aferi (Variáveis)'!$K$12)))))","v":0},0,{"$f":"(E118*'Aferi (Variáveis)'!$K$12/100)","v":0},0,{"$f":"IF('Aferi (Variáveis)'!$F$20=\"Venda para Exportar\",0,IF('Aferi (Variáveis)'!$F$20=\"ALC\",0,IF('Aferi (Variáveis)'!$F$20=\"ZFM\",0,IF('Aferi (Variáveis)'!$F$20=\"Exportação\",0,IF('Aferi (Variáveis)'!$F$20=\"AO\",7*T118/100,T118*'Aferi (Variáveis)'!$F$20/100)))))","v":0},0,{"$f":"IF('Aferi (Variáveis)'!$C$12=\"ZFM\",0,IF('Aferi (Variáveis)'!$C$12=\"Exportação\",0,3*T118/100))","v":0},{"$f":"IF('Aferi (Variáveis)'!$C$12=\"ZFM\",0,IF('Aferi (Variáveis)'!$C$12=\"Exportação\",0,0.65*T118/100))","v":0},0,0,0,0,0,0,0,0,0,{"$f":"SUMIF('Custo Básico dos Produtos'!$B$7:$B$480,A118,'Custo Básico dos Produtos'!$K$7:$K$480)","v":0},null,null,0,0,0,0,0,0]
[null,{"$f":"IF(Q119<>0,VLOOKUP(Q119,'Custo Básico dos Produtos'!$A$7:$J$480,3),\"\")","v":""},null,{"$f":"SUMIF('Custo Básico dos Produtos'!$A$7:$A$480,Q119,'Custo Básico dos Produtos'!$J$7:$J$480)","v":0},null,0,{"$f":"IF(B119=\"\",0,SUMIF('Cadastro de Produtos em Linha'!$B$7:$B$457,A119,'Cadastro de Produtos em Linha'!$D$7:$D$457))","v":0},null,0,0,{"$f":"IF('Aferi (Variáveis)'!$C$12=\"ALC\",0,IF('Aferi (Variáveis)'!$C$12=\"ZFM\",0,IF('Aferi (Variáveis)'!$C$12=\"Exportação\",0,IF('Aferi (Variáveis)'!$C$12=\"Venda para Exportar\",0,IF('Aferi (Variáveis)'!$C$12=\"AO\",0,SUMIF('Custo Básico dos Produtos'!$A$7:$A$480,Q119,'Custo Básico dos Produtos'!$L$7:$L$480))))))","v":0},0,0,0,0,{"$f":"SUMIF('Cadastro de Produtos em Linha'!$A$6:$A$457,Q119,'Cadastro de Produtos em Linha'!$E$6:$E$457)*H119","v":0},{"$f":"IF(TODAY()<$AK$26,IF(A119<>\"\",SUMIF('Custo Básico dos Produtos'!$B$7:$B$457,A119,'Custo Básico dos Produtos'!$A$7:$A$457),0),0)","v":0},{"$f":"IF('Aferi (Variáveis)'!$C$12=\"Venda para Exportar\",0,IF('Aferi (Variáveis)'!$C$12=\"ALC\",0,IF('Aferi (Variáveis)'!$C$12=\"ZFM\",0,IF('Aferi (Variáveis)'!$C$12=\"Exportação\",0,IF('Aferi (Variáveis)'!$C$12=\"AO\",0,E119/(100+(0*'Aferi (Variáveis)'!$K$12/100))*100*K119%/100*'Aferi (Variáveis)'!$K$12)))))","v":0},0,{"$f":"(E119*'Aferi (Variáveis)'!$K$12/100)","v":0},0,{"$f":"IF('Aferi (Variáveis)'!$F$20=\"Venda para Exportar\",0,IF('Aferi (Variáveis)'!$F$20=\"ALC\",0,IF('Aferi (Variáveis)'!$F$20=\"ZFM\",0,IF('Aferi (Variáveis)'!$F$20=\"Exportação\",0,IF('Aferi (Variáveis)'!$F$20=\"AO\",7*T119/100,T119*'Aferi (Variáveis)'!$F$20/100)))))","v":0},0,{"$f":"IF('Aferi (Variáveis)'!$C$12=\"ZFM\",0,IF('Aferi (Variáveis)'!$C$12=\"Exportação\",0,3*T119/100))","v":0},{"$f":"IF('Aferi (Variáveis)'!$C$12=\"ZFM\",0,IF('Aferi (Variáveis)'!$C$12=\"Exportação\",0,0.65*T119/100))","v":0},0,0,0,0,0,0,0,0,0,{"$f":"SUMIF('Custo Básico dos Produtos'!$B$7:$B$480,A119,'Custo Básico dos Produtos'!$K$7:$K$480)","v":0},null,null,0,0,0,0,0,0]
[null,{"$f":"IF(Q120<>0,VLOOKUP(Q120,'Custo Básico dos Produtos'!$A$7:$J$480,3),\"\")","v":""},null,{"$f":"SUMIF('Custo Básico dos Produtos'!$A$7:$A$480,Q120,'Custo Básico dos Produtos'!$J$7:$J$480)","v":0},null,0,{"$f":"IF(B120=\"\",0,SUMIF('Cadastro de Produtos em Linha'!$B$7:$B$457,A120,'Cadastro de Produtos em Linha'!$D$7:$D$457))","v":0},null,0,0,{"$f":"IF('Aferi (Variáveis)'!$C$12=\"ALC\",0,IF('Aferi (Variáveis)'!$C$12=\"ZFM\",0,IF('Aferi (Variáveis)'!$C$12=\"Exportação\",0,IF('Aferi (Variáveis)'!$C$12=\"Venda para Exportar\",0,IF('Aferi (Variáveis)'!$C$12=\"AO\",0,SUMIF('Custo Básico dos Produtos'!$A$7:$A$480,Q120,'Custo Básico dos Produtos'!$L$7:$L$480))))))","v":0},0,0,0,0,{"$f":"SUMIF('Cadastro de Produtos em Linha'!$A$6:$A$457,Q120,'Cadastro de Produtos em Linha'!$E$6:$E$457)*H120","v":0},{"$f":"IF(TODAY()<$AK$26,IF(A120<>\"\",SUMIF('Custo Básico dos Produtos'!$B$7:$B$457,A120,'Custo Básico dos Produtos'!$A$7:$A$457),0),0)","v":0},{"$f":"IF('Aferi (Variáveis)'!$C$12=\"Venda para Exportar\",0,IF('Aferi (Variáveis)'!$C$12=\"ALC\",0,IF('Aferi (Variáveis)'!$C$12=\"ZFM\",0,IF('Aferi (Variáveis)'!$C$12=\"Exportação\",0,IF('Aferi (Variáveis)'!$C$12=\"AO\",0,E120/(100+(0*'Aferi (Variáveis)'!$K$12/100))*100*K120%/100*'Aferi (Variáveis)'!$K$12)))))","v":0},0,{"$f":"(E120*'Aferi (Variáveis)'!$K$12/100)","v":0},0,{"$f":"IF('Aferi (Variáveis)'!$F$20=\"Venda para Exportar\",0,IF('Aferi (Variáveis)'!$F$20=\"ALC\",0,IF('Aferi (Variáveis)'!$F$20=\"ZFM\",0,IF('Aferi (Variáveis)'!$F$20=\"Exportação\",0,IF('Aferi (Variáveis)'!$F$20=\"AO\",7*T120/100,T120*'Aferi (Variáveis)'!$F$20/100)))))","v":0},0,{"$f":"IF('Aferi (Variáveis)'!$C$12=\"ZFM\",0,IF('Aferi (Variáveis)'!$C$12=\"Exportação\",0,3*T120/100))","v":0},{"$f":"IF('Aferi (Variáveis)'!$C$12=\"ZFM\",0,IF('Aferi (Variáveis)'!$C$12=\"Exportação\",0,0.65*T120/100))","v":0},0,0,0,0,0,0,0,0,0,{"$f":"SUMIF('Custo Básico dos Produtos'!$B$7:$B$480,A120,'Custo Básico dos Produtos'!$K$7:$K$480)","v":0},null,null,0,0,0,0,0,0]
[null,{"$f":"IF(Q121<>0,VLOOKUP(Q121,'Custo Básico dos Produtos'!$A$7:$J$480,3),\"\")","v":""},null,{"$f":"SUMIF('Custo Básico dos Produtos'!$A$7:$A$480,Q121,'Custo Básico dos Produtos'!$J$7:$J$480)","v":0},null,0,{"$f":"IF(B121=\"\",0,SUMIF('Cadastro de Produtos em Linha'!$B$7:$B$457,A121,'Cadastro de Produtos em Linha'!$D$7:$D$457))","v":0},null,0,0,{"$f":"IF('Aferi (Variáveis)'!$C$12=\"ALC\",0,IF('Aferi (Variáveis)'!$C$12=\"ZFM\",0,IF('Aferi (Variáveis)'!$C$12=\"Exportação\",0,IF('Aferi (Variáveis)'!$C$12=\"Venda para Exportar\",0,IF('Aferi (Variáveis)'!$C$12=\"AO\",0,SUMIF('Custo Básico dos Produtos'!$A$7:$A$480,Q121,'Custo Básico dos Produtos'!$L$7:$L$480))))))","v":0},0,0,0,0,{"$f":"SUMIF('Cadastro de Produtos em Linha'!$A$6:$A$457,Q121,'Cadastro de Produtos em Linha'!$E$6:$E$457)*H121","v":0},{"$f":"IF(TODAY()<$AK$26,IF(A121<>\"\",SUMIF('Custo Básico dos Produtos'!$B$7:$B$457,A121,'Custo Básico dos Produtos'!$A$7:$A$457),0),0)","v":0},{"$f":"IF('Aferi (Variáveis)'!$C$12=\"Venda para Exportar\",0,IF('Aferi (Variáveis)'!$C$12=\"ALC\",0,IF('Aferi (Variáveis)'!$C$12=\"ZFM\",0,IF('Aferi (Variáveis)'!$C$12=\"Exportação\",0,IF('Aferi (Variáveis)'!$C$12=\"AO\",0,E121/(100+(0*'Aferi (Variáveis)'!$K$12/100))*100*K121%/100*'Aferi (Variáveis)'!$K$12)))))","v":0},0,{"$f":"(E121*'Aferi (Variáveis)'!$K$12/100)","v":0},0,{"$f":"IF('Aferi (Variáveis)'!$F$20=\"Venda para Exportar\",0,IF('Aferi (Variáveis)'!$F$20=\"ALC\",0,IF('Aferi (Variáveis)'!$F$20=\"ZFM\",0,IF('Aferi (Variáveis)'!$F$20=\"Exportação\",0,IF('Aferi (Variáveis)'!$F$20=\"AO\",7*T121/100,T121*'Aferi (Variáveis)'!$F$20/100)))))","v":0},0,{"$f":"IF('Aferi (Variáveis)'!$C$12=\"ZFM\",0,IF('Aferi (Variáveis)'!$C$12=\"Exportação\",0,3*T121/100))","v":0},{"$f":"IF('Aferi (Variáveis)'!$C$12=\"ZFM\",0,IF('Aferi (Variáveis)'!$C$12=\"Exportação\",0,0.65*T121/100))","v":0},0,0,0,0,0,0,0,0,0,{"$f":"SUMIF('Custo Básico dos Produtos'!$B$7:$B$480,A121,'Custo Básico dos Produtos'!$K$7:$K$480)","v":0},null,null,0,0,0,0,0,0]
[null,{"$f":"IF(Q122<>0,VLOOKUP(Q122,'Custo Básico dos Produtos'!$A$7:$J$480,3),\"\")","v":""},null,{"$f":"SUMIF('Custo Básico dos Produtos'!$A$7:$A$480,Q122,'Custo Básico dos Produtos'!$J$7:$J$480)","v":0},null,0,{"$f":"IF(B122=\"\",0,SUMIF('Cadastro de Produtos em Linha'!$B$7:$B$457,A122,'Cadastro de Produtos em Linha'!$D$7:$D$457))","v":0},null,{"$f":"IF(F122=\"\",0,IF(F122>=AI122,G122*H122,0))","v":0},{"$f":"IF(F122=\"\",0,I122*E122)","v":0},{"$f":"IF('Aferi (Variáveis)'!$C$12=\"ALC\",0,IF('Aferi (Variáveis)'!$C$12=\"ZFM\",0,IF('Aferi (Variáveis)'!$C$12=\"Exportação\",0,IF('Aferi (Variáveis)'!$C$12=\"Venda para Exportar\",0,IF('Aferi (Variáveis)'!$C$12=\"AO\",0,SUMIF('Custo Básico dos Produtos'!$A$7:$A$480,Q122,'Custo Básico dos Produtos'!$L$7:$L$480))))))","v":0},0,0,0,0,{"$f":"SUMIF('Cadastro de Produtos em Linha'!$A$6:$A$457,Q122,'Cadastro de Produtos em Linha'!$E$6:$E$457)*H122","v":0},{"$f":"IF(TODAY()<$AK$26,IF(A122<>\"\",SUMIF('Custo Básico dos Produtos'!$B$7:$B$457,A122,'Custo Básico dos Produtos'!$A$7:$A$457),0),0)","v":0},{"$f":"IF('Aferi (Variáveis)'!$C$12=\"Venda para Exportar\",0,IF('Aferi (Variáveis)'!$C$12=\"ALC\",0,IF('Aferi (Variáveis)'!$C$12=\"ZFM\",0,IF('Aferi (Variáveis)'!$C$12=\"Exportação\",0,IF('Aferi (Variáveis)'!$C$12=\"AO\",0,E122/(100+(0*'Aferi (Variáveis)'!$K$12/100))*100*K122%/100*'Aferi (Variáveis)'!$K$12)))))","v":0},0,{"$f":"(E122*'Aferi (Variáveis)'!$K$12/100)","v":0},0,{"$f":"IF('Aferi (Variáveis)'!$F$20=\"Venda para Exportar\",0,IF('Aferi (Variáveis)'!$F$20=\"ALC\",0,IF('Aferi (Variáveis)'!$F$20=\"ZFM\",0,IF('Aferi (Variáveis)'!$F$20=\"Exportação\",0,IF('Aferi (Variáveis)'!$F$20=\"AO\",7*T122/100,T122*'Aferi (Variáveis)'!$F$20/100)))))","v":0},0,{"$f":"IF('Aferi (Variáveis)'!$C$12=\"ZFM\",0,IF('Aferi (Variáveis)'!$C$12=\"Exportação\",0,3*T122/100))","v":0},{"$f":"IF('Aferi (Variáveis)'!$C$12=\"ZFM\",0,IF('Aferi (Variáveis)'!$C$12=\"Exportação\",0,0.65*T122/100))","v":0},0,0,0,0,0,0,0,0,0,{"$f":"SUMIF('Custo Básico dos Produtos'!$B$7:$B$480,A122,'Custo Básico dos Produtos'!$K$7:$K$480)","v":0},null,null,0,0,0,0,0,0]
[null,{"$f":"IF(Q123<>0,VLOOKUP(Q123,'Custo Básico dos Produtos'!$A$7:$J$480,3),\"\")","v":""},null,{"$f":"SUMIF('Custo Básico dos Produtos'!$A$7:$A$480,Q123,'Custo Básico dos Produtos'!$J$7:$J$480)","v":0},null,0,{"$f":"IF(B123=\"\",0,SUMIF('Cadastro de Produtos em Linha'!$B$7:$B$457,A123,'Cadastro de Produtos em Linha'!$D$7:$D$457))","v":0},null,0,0,{"$f":"IF('Aferi (Variáveis)'!$C$12=\"ALC\",0,IF('Aferi (Variáveis)'!$C$12=\"ZFM\",0,IF('Aferi (Variáveis)'!$C$12=\"Exportação\",0,IF('Aferi (Variáveis)'!$C$12=\"Venda para Exportar\",0,IF('Aferi (Variáveis)'!$C$12=\"AO\",0,SUMIF('Custo Básico dos Produtos'!$A$7:$A$480,Q123,'Custo Básico dos Produtos'!$L$7:$L$480))))))","v":0},0,0,0,0,{"$f":"SUMIF('Cadastro de Produtos em Linha'!$A$6:$A$457,Q123,'Cadastro de Produtos em Linha'!$E$6:$E$457)*H123","v":0},{"$f":"IF(TODAY()<$AK$26,IF(A123<>\"\",SUMIF('Custo Básico dos Produtos'!$B$7:$B$457,A123,'Custo Básico dos Produtos'!$A$7:$A$457),0),0)","v":0},{"$f":"IF('Aferi (Variáveis)'!$C$12=\"Venda para Exportar\",0,IF('Aferi (Variáveis)'!$C$12=\"ALC\",0,IF('Aferi (Variáveis)'!$C$12=\"ZFM\",0,IF('Aferi (Variáveis)'!$C$12=\"Exportação\",0,IF('Aferi (Variáveis)'!$C$12=\"AO\",0,E123/(100+(0*'Aferi (Variáveis)'!$K$12/100))*100*K123%/100*'Aferi (Variáveis)'!$K$12)))))","v":0},0,{"$f":"(E123*'Aferi (Variáveis)'!$K$12/100)","v":0},0,{"$f":"IF('Aferi (Variáveis)'!$F$20=\"Venda para Exportar\",0,IF('Aferi (Variáveis)'!$F$20=\"ALC\",0,IF('Aferi (Variáveis)'!$F$20=\"ZFM\",0,IF('Aferi (Variáveis)'!$F$20=\"Exportação\",0,IF('Aferi (Variáveis)'!$F$20=\"AO\",7*T123/100,T123*'Aferi (Variáveis)'!$F$20/100)))))","v":0},0,{"$f":"IF('Aferi (Variáveis)'!$C$12=\"ZFM\",0,IF('Aferi (Variáveis)'!$C$12=\"Exportação\",0,3*T123/100))","v":0},{"$f":"IF('Aferi (Variáveis)'!$C$12=\"ZFM\",0,IF('Aferi (Variáveis)'!$C$12=\"Exportação\",0,0.65*T123/100))","v":0},0,0,0,0,0,0,0,0,0,{"$f":"SUMIF('Custo Básico dos Produtos'!$B$7:$B$480,A123,'Custo Básico dos Produtos'!$K$7:$K$480)","v":0},null,null,0,0,0,0,0,0]
[null,{"$f":"IF(Q124<>0,VLOOKUP(Q124,'Custo Básico dos Produtos'!$A$7:$J$480,3),\"\")","v":""},null,{"$f":"SUMIF('Custo Básico dos Produtos'!$A$7:$A$480,Q124,'Custo Básico dos Produtos'!$J$7:$J$480)","v":0},null,0,{"$f":"IF(B124=\"\",0,SUMIF('Cadastro de Produtos em Linha'!$B$7:$B$457,A124,'Cadastro de Produtos em Linha'!$D$7:$D$457))","v":0},null,0,0,{"$f":"IF('Aferi (Variáveis)'!$C$12=\"ALC\",0,IF('Aferi (Variáveis)'!$C$12=\"ZFM\",0,IF('Aferi (Variáveis)'!$C$12=\"Exportação\",0,IF('Aferi (Variáveis)'!$C$12=\"Venda para Exportar\",0,IF('Aferi (Variáveis)'!$C$12=\"AO\",0,SUMIF('Custo Básico dos Produtos'!$A$7:$A$480,Q124,'Custo Básico dos Produtos'!$L$7:$L$480))))))","v":0},0,0,0,0,{"$f":"SUMIF('Cadastro de Produtos em Linha'!$A$6:$A$457,Q124,'Cadastro de Produtos em Linha'!$E$6:$E$457)*H124","v":0},{"$f":"IF(TODAY()<$AK$26,IF(A124<>\"\",SUMIF('Custo Básico dos Produtos'!$B$7:$B$457,A124,'Custo Básico dos Produtos'!$A$7:$A$457),0),0)","v":0},{"$f":"IF('Aferi (Variáveis)'!$C$12=\"Venda para Exportar\",0,IF('Aferi (Variáveis)'!$C$12=\"ALC\",0,IF('Aferi (Variáveis)'!$C$12=\"ZFM\",0,IF('Aferi (Variáveis)'!$C$12=\"Exportação\",0,IF('Aferi (Variáveis)'!$C$12=\"AO\",0,E124/(100+(0*'Aferi (Variáveis)'!$K$12/100))*100*K124%/100*'Aferi (Variáveis)'!$K$12)))))","v":0},0,{"$f":"(E124*'Aferi (Variáveis)'!$K$12/100)","v":0},0,{"$f":"IF('Aferi (Variáveis)'!$F$20=\"Venda para Exportar\",0,IF('Aferi (Variáveis)'!$F$20=\"ALC\",0,IF('Aferi (Variáveis)'!$F$20=\"ZFM\",0,IF('Aferi (Variáveis)'!$F$20=\"Exportação\",0,IF('Aferi (Variáveis)'!$F$20=\"AO\",7*T124/100,T124*'Aferi (Variáveis)'!$F$20/100)))))","v":0},0,{"$f":"IF('Aferi (Variáveis)'!$C$12=\"ZFM\",0,IF('Aferi (Variáveis)'!$C$12=\"Exportação\",0,3*T124/100))","v":0},{"$f":"IF('Aferi (Variáveis)'!$C$12=\"ZFM\",0,IF('Aferi (Variáveis)'!$C$12=\"Exportação\",0,0.65*T124/100))","v":0},0,0,0,0,0,0,0,0,0,{"$f":"SUMIF('Custo Básico dos Produtos'!$B$7:$B$480,A124,'Custo Básico dos Produtos'!$K$7:$K$480)","v":0},null,null,0,0,0,0,0,0]
[null,{"$f":"IF(Q125<>0,VLOOKUP(Q125,'Custo Básico dos Produtos'!$A$7:$J$480,3),\"\")","v":""},null,{"$f":"SUMIF('Custo Básico dos Produtos'!$A$7:$A$480,Q125,'Custo Básico dos Produtos'!$J$7:$J$480)","v":0},null,0,{"$f":"IF(B125=\"\",0,SUMIF('Cadastro de Produtos em Linha'!$B$7:$B$457,A125,'Cadastro de Produtos em Linha'!$D$7:$D$457))","v":0},null,0,0,{"$f":"IF('Aferi (Variáveis)'!$C$12=\"ALC\",0,IF('Aferi (Variáveis)'!$C$12=\"ZFM\",0,IF('Aferi (Variáveis)'!$C$12=\"Exportação\",0,IF('Aferi (Variáveis)'!$C$12=\"Venda para Exportar\",0,IF('Aferi (Variáveis)'!$C$12=\"AO\",0,SUMIF('Custo Básico dos Produtos'!$A$7:$A$480,Q125,'Custo Básico dos Produtos'!$L$7:$L$480))))))","v":0},0,0,0,0,{"$f":"SUMIF('Cadastro de Produtos em Linha'!$A$6:$A$457,Q125,'Cadastro de Produtos em Linha'!$E$6:$E$457)*H125","v":0},{"$f":"IF(TODAY()<$AK$26,IF(A125<>\"\",SUMIF('Custo Básico dos Produtos'!$B$7:$B$457,A125,'Custo Básico dos Produtos'!$A$7:$A$457),0),0)","v":0},{"$f":"IF('Aferi (Variáveis)'!$C$12=\"Venda para Exportar\",0,IF('Aferi (Variáveis)'!$C$12=\"ALC\",0,IF('Aferi (Variáveis)'!$C$12=\"ZFM\",0,IF('Aferi (Variáveis)'!$C$12=\"Exportação\",0,IF('Aferi (Variáveis)'!$C$12=\"AO\",0,E125/(100+(0*'Aferi (Variáveis)'!$K$12/100))*100*K125%/100*'Aferi (Variáveis)'!$K$12)))))","v":0},0,{"$f":"(E125*'Aferi (Variáveis)'!$K$12/100)","v":0},0,{"$f":"IF('Aferi (Variáveis)'!$F$20=\"Venda para Exportar\",0,IF('Aferi (Variáveis)'!$F$20=\"ALC\",0,IF('Aferi (Variáveis)'!$F$20=\"ZFM\",0,IF('Aferi (Variáveis)'!$F$20=\"Exportação\",0,IF('Aferi (Variáveis)'!$F$20=\"AO\",7*T125/100,T125*'Aferi (Variáveis)'!$F$20/100)))))","v":0},0,{"$f":"IF('Aferi (Variáveis)'!$C$12=\"ZFM\",0,IF('Aferi (Variáveis)'!$C$12=\"Exportação\",0,3*T125/100))","v":0},{"$f":"IF('Aferi (Variáveis)'!$C$12=\"ZFM\",0,IF('Aferi (Variáveis)'!$C$12=\"Exportação\",0,0.65*T125/100))","v":0},0,0,0,0,0,0,0,0,0,{"$f":"SUMIF('Custo Básico dos Produtos'!$B$7:$B$480,A125,'Custo Básico dos Produtos'!$K$7:$K$480)","v":0},null,null,0,0,0,0,0,0]
[null,{"$f":"IF(Q126<>0,VLOOKUP(Q126,'Custo Básico dos Produtos'!$A$7:$J$480,3),\"\")","v":""},null,{"$f":"SUMIF('Custo Básico dos Produtos'!$A$7:$A$480,Q126,'Custo Básico dos Produtos'!$J$7:$J$480)","v":0},null,0,{"$f":"IF(B126=\"\",0,SUMIF('Cadastro de Produtos em Linha'!$B$7:$B$457,A126,'Cadastro de Produtos em Linha'!$D$7:$D$457))","v":0},null,0,0,{"$f":"IF('Aferi (Variáveis)'!$C$12=\"ALC\",0,IF('Aferi (Variáveis)'!$C$12=\"ZFM\",0,IF('Aferi (Variáveis)'!$C$12=\"Exportação\",0,IF('Aferi (Variáveis)'!$C$12=\"Venda para Exportar\",0,IF('Aferi (Variáveis)'!$C$12=\"AO\",0,SUMIF('Custo Básico dos Produtos'!$A$7:$A$480,Q126,'Custo Básico dos Produtos'!$L$7:$L$480))))))","v":0},0,0,0,0,{"$f":"SUMIF('Cadastro de Produtos em Linha'!$A$6:$A$457,Q126,'Cadastro de Produtos em Linha'!$E$6:$E$457)*H126","v":0},{"$f":"IF(TODAY()<$AK$26,IF(A126<>\"\",SUMIF('Custo Básico dos Produtos'!$B$7:$B$457,A126,'Custo Básico dos Produtos'!$A$7:$A$457),0),0)","v":0},{"$f":"IF('Aferi (Variáveis)'!$C$12=\"Venda para Exportar\",0,IF('Aferi (Variáveis)'!$C$12=\"ALC\",0,IF('Aferi (Variáveis)'!$C$12=\"ZFM\",0,IF('Aferi (Variáveis)'!$C$12=\"Exportação\",0,IF('Aferi (Variáveis)'!$C$12=\"AO\",0,E126/(100+(0*'Aferi (Variáveis)'!$K$12/100))*100*K126%/100*'Aferi (Variáveis)'!$K$12)))))","v":0},0,{"$f":"(E126*'Aferi (Variáveis)'!$K$12/100)","v":0},0,{"$f":"IF('Aferi (Variáveis)'!$F$20=\"Venda para Exportar\",0,IF('Aferi (Variáveis)'!$F$20=\"ALC\",0,IF('Aferi (Variáveis)'!$F$20=\"ZFM\",0,IF('Aferi (Variáveis)'!$F$20=\"Exportação\",0,IF('Aferi (Variáveis)'!$F$20=\"AO\",7*T126/100,T126*'Aferi (Variáveis)'!$F$20/100)))))","v":0},0,{"$f":"IF('Aferi (Variáveis)'!$C$12=\"ZFM\",0,IF('Aferi (Variáveis)'!$C$12=\"Exportação\",0,3*T126/100))","v":0},{"$f":"IF('Aferi (Variáveis)'!$C$12=\"ZFM\",0,IF('Aferi (Variáveis)'!$C$12=\"Exportação\",0,0.65*T126/100))","v":0},0,0,0,0,0,0,0,0,0,{"$f":"SUMIF('Custo Básico dos Produtos'!$B$7:$B$480,A126,'Custo Básico dos Produtos'!$K$7:$K$480)","v":0},null,null,0,0,0,0,0,0]
[null,{"$f":"IF(Q127<>0,VLOOKUP(Q127,'Custo Básico dos Produtos'!$A$7:$J$480,3),\"\")","v":""},null,{"$f":"SUMIF('Custo Básico dos Produtos'!$A$7:$A$480,Q127,'Custo Básico dos Produtos'!$J$7:$J$480)","v":0},null,0,{"$f":"IF(B127=\"\",0,SUMIF('Cadastro de Produtos em Linha'!$B$7:$B$457,A127,'Cadastro de Produtos em Linha'!$D$7:$D$457))","v":0},null,0,0,{"$f":"IF('Aferi (Variáveis)'!$C$12=\"ALC\",0,IF('Aferi (Variáveis)'!$C$12=\"ZFM\",0,IF('Aferi (Variáveis)'!$C$12=\"Exportação\",0,IF('Aferi (Variáveis)'!$C$12=\"Venda para Exportar\",0,IF('Aferi (Variáveis)'!$C$12=\"AO\",0,SUMIF('Custo Básico dos Produtos'!$A$7:$A$480,Q127,'Custo Básico dos Produtos'!$L$7:$L$480))))))","v":0},0,0,0,0,{"$f":"SUMIF('Cadastro de Produtos em Linha'!$A$6:$A$457,Q127,'Cadastro de Produtos em Linha'!$E$6:$E$457)*H127","v":0},{"$f":"IF(TODAY()<$AK$26,IF(A127<>\"\",SUMIF('Custo Básico dos Produtos'!$B$7:$B$457,A127,'Custo Básico dos Produtos'!$A$7:$A$457),0),0)","v":0},{"$f":"IF('Aferi (Variáveis)'!$C$12=\"Venda para Exportar\",0,IF('Aferi (Variáveis)'!$C$12=\"ALC\",0,IF('Aferi (Variáveis)'!$C$12=\"ZFM\",0,IF('Aferi (Variáveis)'!$C$12=\"Exportação\",0,IF('Aferi (Variáveis)'!$C$12=\"AO\",0,E127/(100+(0*'Aferi (Variáveis)'!$K$12/100))*100*K127%/100*'Aferi (Variáveis)'!$K$12)))))","v":0},0,{"$f":"(E127*'Aferi (Variáveis)'!$K$12/100)","v":0},0,{"$f":"IF('Aferi (Variáveis)'!$F$20=\"Venda para Exportar\",0,IF('Aferi (Variáveis)'!$F$20=\"ALC\",0,IF('Aferi (Variáveis)'!$F$20=\"ZFM\",0,IF('Aferi (Variáveis)'!$F$20=\"Exportação\",0,IF('Aferi (Variáveis)'!$F$20=\"AO\",7*T127/100,T127*'Aferi (Variáveis)'!$F$20/100)))))","v":0},0,{"$f":"IF('Aferi (Variáveis)'!$C$12=\"ZFM\",0,IF('Aferi (Variáveis)'!$C$12=\"Exportação\",0,3*T127/100))","v":0},{"$f":"IF('Aferi (Variáveis)'!$C$12=\"ZFM\",0,IF('Aferi (Variáveis)'!$C$12=\"Exportação\",0,0.65*T127/100))","v":0},0,0,0,0,0,0,0,0,0,{"$f":"SUMIF('Custo Básico dos Produtos'!$B$7:$B$480,A127,'Custo Básico dos Produtos'!$K$7:$K$480)","v":0},null,null,0,0,0,0,0,0]
[null,{"$f":"IF(Q128<>0,VLOOKUP(Q128,'Custo Básico dos Produtos'!$A$7:$J$480,3),\"\")","v":""},null,{"$f":"SUMIF('Custo Básico dos Produtos'!$A$7:$A$480,Q128,'Custo Básico dos Produtos'!$J$7:$J$480)","v":0},null,0,{"$f":"IF(B128=\"\",0,SUMIF('Cadastro de Produtos em Linha'!$B$7:$B$457,A128,'Cadastro de Produtos em Linha'!$D$7:$D$457))","v":0},null,0,0,{"$f":"IF('Aferi (Variáveis)'!$C$12=\"ALC\",0,IF('Aferi (Variáveis)'!$C$12=\"ZFM\",0,IF('Aferi (Variáveis)'!$C$12=\"Exportação\",0,IF('Aferi (Variáveis)'!$C$12=\"Venda para Exportar\",0,IF('Aferi (Variáveis)'!$C$12=\"AO\",0,SUMIF('Custo Básico dos Produtos'!$A$7:$A$480,Q128,'Custo Básico dos Produtos'!$L$7:$L$480))))))","v":0},0,0,0,0,{"$f":"SUMIF('Cadastro de Produtos em Linha'!$A$6:$A$457,Q128,'Cadastro de Produtos em Linha'!$E$6:$E$457)*H128","v":0},{"$f":"IF(TODAY()<$AK$26,IF(A128<>\"\",SUMIF('Custo Básico dos Produtos'!$B$7:$B$457,A128,'Custo Básico dos Produtos'!$A$7:$A$457),0),0)","v":0},{"$f":"IF('Aferi (Variáveis)'!$C$12=\"Venda para Exportar\",0,IF('Aferi (Variáveis)'!$C$12=\"ALC\",0,IF('Aferi (Variáveis)'!$C$12=\"ZFM\",0,IF('Aferi (Variáveis)'!$C$12=\"Exportação\",0,IF('Aferi (Variáveis)'!$C$12=\"AO\",0,E128/(100+(0*'Aferi (Variáveis)'!$K$12/100))*100*K128%/100*'Aferi (Variáveis)'!$K$12)))))","v":0},0,{"$f":"(E128*'Aferi (Variáveis)'!$K$12/100)","v":0},0,{"$f":"IF('Aferi (Variáveis)'!$F$20=\"Venda para Exportar\",0,IF('Aferi (Variáveis)'!$F$20=\"ALC\",0,IF('Aferi (Variáveis)'!$F$20=\"ZFM\",0,IF('Aferi (Variáveis)'!$F$20=\"Exportação\",0,IF('Aferi (Variáveis)'!$F$20=\"AO\",7*T128/100,T128*'Aferi (Variáveis)'!$F$20/100)))))","v":0},0,{"$f":"IF('Aferi (Variáveis)'!$C$12=\"ZFM\",0,IF('Aferi (Variáveis)'!$C$12=\"Exportação\",0,3*T128/100))","v":0},{"$f":"IF('Aferi (Variáveis)'!$C$12=\"ZFM\",0,IF('Aferi (Variáveis)'!$C$12=\"Exportação\",0,0.65*T128/100))","v":0},0,0,0,0,0,0,0,0,0,{"$f":"SUMIF('Custo Básico dos Produtos'!$B$7:$B$480,A128,'Custo Básico dos Produtos'!$K$7:$K$480)","v":0},null,null,0,0,0,0,0,0]
[null,{"$f":"IF(Q129<>0,VLOOKUP(Q129,'Custo Básico dos Produtos'!$A$7:$J$480,3),\"\")","v":""},null,{"$f":"SUMIF('Custo Básico dos Produtos'!$A$7:$A$480,Q129,'Custo Básico dos Produtos'!$J$7:$J$480)","v":0},null,0,{"$f":"IF(B129=\"\",0,SUMIF('Cadastro de Produtos em Linha'!$B$7:$B$457,A129,'Cadastro de Produtos em Linha'!$D$7:$D$457))","v":0},null,0,0,{"$f":"IF('Aferi (Variáveis)'!$C$12=\"ALC\",0,IF('Aferi (Variáveis)'!$C$12=\"ZFM\",0,IF('Aferi (Variáveis)'!$C$12=\"Exportação\",0,IF('Aferi (Variáveis)'!$C$12=\"Venda para Exportar\",0,IF('Aferi (Variáveis)'!$C$12=\"AO\",0,SUMIF('Custo Básico dos Produtos'!$A$7:$A$480,Q129,'Custo Básico dos Produtos'!$L$7:$L$480))))))","v":0},0,0,0,0,{"$f":"SUMIF('Cadastro de Produtos em Linha'!$A$6:$A$457,Q129,'Cadastro de Produtos em Linha'!$E$6:$E$457)*H129","v":0},{"$f":"IF(TODAY()<$AK$26,IF(A129<>\"\",SUMIF('Custo Básico dos Produtos'!$B$7:$B$457,A129,'Custo Básico dos Produtos'!$A$7:$A$457),0),0)","v":0},{"$f":"IF('Aferi (Variáveis)'!$C$12=\"Venda para Exportar\",0,IF('Aferi (Variáveis)'!$C$12=\"ALC\",0,IF('Aferi (Variáveis)'!$C$12=\"ZFM\",0,IF('Aferi (Variáveis)'!$C$12=\"Exportação\",0,IF('Aferi (Variáveis)'!$C$12=\"AO\",0,E129/(100+(0*'Aferi (Variáveis)'!$K$12/100))*100*K129%/100*'Aferi (Variáveis)'!$K$12)))))","v":0},0,{"$f":"(E129*'Aferi (Variáveis)'!$K$12/100)","v":0},0,{"$f":"IF('Aferi (Variáveis)'!$F$20=\"Venda para Exportar\",0,IF('Aferi (Variáveis)'!$F$20=\"ALC\",0,IF('Aferi (Variáveis)'!$F$20=\"ZFM\",0,IF('Aferi (Variáveis)'!$F$20=\"Exportação\",0,IF('Aferi (Variáveis)'!$F$20=\"AO\",7*T129/100,T129*'Aferi (Variáveis)'!$F$20/100)))))","v":0},0,{"$f":"IF('Aferi (Variáveis)'!$C$12=\"ZFM\",0,IF('Aferi (Variáveis)'!$C$12=\"Exportação\",0,3*T129/100))","v":0},{"$f":"IF('Aferi (Variáveis)'!$C$12=\"ZFM\",0,IF('Aferi (Variáveis)'!$C$12=\"Exportação\",0,0.65*T129/100))","v":0},0,0,0,0,0,0,0,0,0,{"$f":"SUMIF('Custo Básico dos Produtos'!$B$7:$B$480,A129,'Custo Básico dos Produtos'!$K$7:$K$480)","v":0},null,null,0,0,0,0,0,0]
[null,{"$f":"IF(Q130<>0,VLOOKUP(Q130,'Custo Básico dos Produtos'!$A$7:$J$480,3),\"\")","v":""},null,{"$f":"SUMIF('Custo Básico dos Produtos'!$A$7:$A$480,Q130,'Custo Básico dos Produtos'!$J$7:$J$480)","v":0},null,0,{"$f":"IF(B130=\"\",0,SUMIF('Cadastro de Produtos em Linha'!$B$7:$B$457,A130,'Cadastro de Produtos em Linha'!$D$7:$D$457))","v":0},null,0,0,{"$f":"IF('Aferi (Variáveis)'!$C$12=\"ALC\",0,IF('Aferi (Variáveis)'!$C$12=\"ZFM\",0,IF('Aferi (Variáveis)'!$C$12=\"Exportação\",0,IF('Aferi (Variáveis)'!$C$12=\"Venda para Exportar\",0,IF('Aferi (Variáveis)'!$C$12=\"AO\",0,SUMIF('Custo Básico dos Produtos'!$A$7:$A$480,Q130,'Custo Básico dos Produtos'!$L$7:$L$480))))))","v":0},0,0,0,0,{"$f":"SUMIF('Cadastro de Produtos em Linha'!$A$6:$A$457,Q130,'Cadastro de Produtos em Linha'!$E$6:$E$457)*H130","v":0},{"$f":"IF(TODAY()<$AK$26,IF(A130<>\"\",SUMIF('Custo Básico dos Produtos'!$B$7:$B$457,A130,'Custo Básico dos Produtos'!$A$7:$A$457),0),0)","v":0},{"$f":"IF('Aferi (Variáveis)'!$C$12=\"Venda para Exportar\",0,IF('Aferi (Variáveis)'!$C$12=\"ALC\",0,IF('Aferi (Variáveis)'!$C$12=\"ZFM\",0,IF('Aferi (Variáveis)'!$C$12=\"Exportação\",0,IF('Aferi (Variáveis)'!$C$12=\"AO\",0,E130/(100+(0*'Aferi (Variáveis)'!$K$12/100))*100*K130%/100*'Aferi (Variáveis)'!$K$12)))))","v":0},0,{"$f":"(E130*'Aferi (Variáveis)'!$K$12/100)","v":0},0,{"$f":"IF('Aferi (Variáveis)'!$F$20=\"Venda para Exportar\",0,IF('Aferi (Variáveis)'!$F$20=\"ALC\",0,IF('Aferi (Variáveis)'!$F$20=\"ZFM\",0,IF('Aferi (Variáveis)'!$F$20=\"Exportação\",0,IF('Aferi (Variáveis)'!$F$20=\"AO\",7*T130/100,T130*'Aferi (Variáveis)'!$F$20/100)))))","v":0},0,{"$f":"IF('Aferi (Variáveis)'!$C$12=\"ZFM\",0,IF('Aferi (Variáveis)'!$C$12=\"Exportação\",0,3*T130/100))","v":0},{"$f":"IF('Aferi (Variáveis)'!$C$12=\"ZFM\",0,IF('Aferi (Variáveis)'!$C$12=\"Exportação\",0,0.65*T130/100))","v":0},0,0,0,0,0,0,0,0,0,{"$f":"SUMIF('Custo Básico dos Produtos'!$B$7:$B$480,A130,'Custo Básico dos Produtos'!$K$7:$K$480)","v":0},null,null,0,0,0,0,0,0]
[null,{"$f":"IF(Q131<>0,VLOOKUP(Q131,'Custo Básico dos Produtos'!$A$7:$J$480,3),\"\")","v":""},null,{"$f":"SUMIF('Custo Básico dos Produtos'!$A$7:$A$480,Q131,'Custo Básico dos Produtos'!$J$7:$J$480)","v":0},null,0,{"$f":"IF(B131=\"\",0,SUMIF('Cadastro de Produtos em Linha'!$B$7:$B$457,A131,'Cadastro de Produtos em Linha'!$D$7:$D$457))","v":0},null,0,0,{"$f":"IF('Aferi (Variáveis)'!$C$12=\"ALC\",0,IF('Aferi (Variáveis)'!$C$12=\"ZFM\",0,IF('Aferi (Variáveis)'!$C$12=\"Exportação\",0,IF('Aferi (Variáveis)'!$C$12=\"Venda para Exportar\",0,IF('Aferi (Variáveis)'!$C$12=\"AO\",0,SUMIF('Custo Básico dos Produtos'!$A$7:$A$480,Q131,'Custo Básico dos Produtos'!$L$7:$L$480))))))","v":0},0,0,0,0,{"$f":"SUMIF('Cadastro de Produtos em Linha'!$A$6:$A$457,Q131,'Cadastro de Produtos em Linha'!$E$6:$E$457)*H131","v":0},{"$f":"IF(TODAY()<$AK$26,IF(A131<>\"\",SUMIF('Custo Básico dos Produtos'!$B$7:$B$457,A131,'Custo Básico dos Produtos'!$A$7:$A$457),0),0)","v":0},{"$f":"IF('Aferi (Variáveis)'!$C$12=\"Venda para Exportar\",0,IF('Aferi (Variáveis)'!$C$12=\"ALC\",0,IF('Aferi (Variáveis)'!$C$12=\"ZFM\",0,IF('Aferi (Variáveis)'!$C$12=\"Exportação\",0,IF('Aferi (Variáveis)'!$C$12=\"AO\",0,E131/(100+(0*'Aferi (Variáveis)'!$K$12/100))*100*K131%/100*'Aferi (Variáveis)'!$K$12)))))","v":0},0,{"$f":"(E131*'Aferi (Variáveis)'!$K$12/100)","v":0},0,{"$f":"IF('Aferi (Variáveis)'!$F$20=\"Venda para Exportar\",0,IF('Aferi (Variáveis)'!$F$20=\"ALC\",0,IF('Aferi (Variáveis)'!$F$20=\"ZFM\",0,IF('Aferi (Variáveis)'!$F$20=\"Exportação\",0,IF('Aferi (Variáveis)'!$F$20=\"AO\",7*T131/100,T131*'Aferi (Variáveis)'!$F$20/100)))))","v":0},0,{"$f":"IF('Aferi (Variáveis)'!$C$12=\"ZFM\",0,IF('Aferi (Variáveis)'!$C$12=\"Exportação\",0,3*T131/100))","v":0},{"$f":"IF('Aferi (Variáveis)'!$C$12=\"ZFM\",0,IF('Aferi (Variáveis)'!$C$12=\"Exportação\",0,0.65*T131/100))","v":0},0,0,0,0,0,0,0,0,0,{"$f":"SUMIF('Custo Básico dos Produtos'!$B$7:$B$480,A131,'Custo Básico dos Produtos'!$K$7:$K$480)","v":0},null,null,0,0,0,0,0,0]
[null,{"$f":"IF(Q132<>0,VLOOKUP(Q132,'Custo Básico dos Produtos'!$A$7:$J$480,3),\"\")","v":""},null,{"$f":"SUMIF('Custo Básico dos Produtos'!$A$7:$A$480,Q132,'Custo Básico dos Produtos'!$J$7:$J$480)","v":0},null,0,{"$f":"IF(B132=\"\",0,SUMIF('Cadastro de Produtos em Linha'!$B$7:$B$457,A132,'Cadastro de Produtos em Linha'!$D$7:$D$457))","v":0},null,0,0,{"$f":"IF('Aferi (Variáveis)'!$C$12=\"ALC\",0,IF('Aferi (Variáveis)'!$C$12=\"ZFM\",0,IF('Aferi (Variáveis)'!$C$12=\"Exportação\",0,IF('Aferi (Variáveis)'!$C$12=\"Venda para Exportar\",0,IF('Aferi (Variáveis)'!$C$12=\"AO\",0,SUMIF('Custo Básico dos Produtos'!$A$7:$A$480,Q132,'Custo Básico dos Produtos'!$L$7:$L$480))))))","v":0},0,0,0,0,{"$f":"SUMIF('Cadastro de Produtos em Linha'!$A$6:$A$457,Q132,'Cadastro de Produtos em Linha'!$E$6:$E$457)*H132","v":0},{"$f":"IF(TODAY()<$AK$26,IF(A132<>\"\",SUMIF('Custo Básico dos Produtos'!$B$7:$B$457,A132,'Custo Básico dos Produtos'!$A$7:$A$457),0),0)","v":0},{"$f":"IF('Aferi (Variáveis)'!$C$12=\"Venda para Exportar\",0,IF('Aferi (Variáveis)'!$C$12=\"ALC\",0,IF('Aferi (Variáveis)'!$C$12=\"ZFM\",0,IF('Aferi (Variáveis)'!$C$12=\"Exportação\",0,IF('Aferi (Variáveis)'!$C$12=\"AO\",0,E132/(100+(0*'Aferi (Variáveis)'!$K$12/100))*100*K132%/100*'Aferi (Variáveis)'!$K$12)))))","v":0},0,{"$f":"(E132*'Aferi (Variáveis)'!$K$12/100)","v":0},0,{"$f":"IF('Aferi (Variáveis)'!$F$20=\"Venda para Exportar\",0,IF('Aferi (Variáveis)'!$F$20=\"ALC\",0,IF('Aferi (Variáveis)'!$F$20=\"ZFM\",0,IF('Aferi (Variáveis)'!$F$20=\"Exportação\",0,IF('Aferi (Variáveis)'!$F$20=\"AO\",7*T132/100,T132*'Aferi (Variáveis)'!$F$20/100)))))","v":0},0,{"$f":"IF('Aferi (Variáveis)'!$C$12=\"ZFM\",0,IF('Aferi (Variáveis)'!$C$12=\"Exportação\",0,3*T132/100))","v":0},{"$f":"IF('Aferi (Variáveis)'!$C$12=\"ZFM\",0,IF('Aferi (Variáveis)'!$C$12=\"Exportação\",0,0.65*T132/100))","v":0},0,0,0,0,0,0,0,0,0,{"$f":"SUMIF('Custo Básico dos Produtos'!$B$7:$B$480,A132,'Custo Básico dos Produtos'!$K$7:$K$480)","v":0},null,null,0,0,0,0,0,0]
[null,{"$f":"IF(Q133<>0,VLOOKUP(Q133,'Custo Básico dos Produtos'!$A$7:$J$480,3),\"\")","v":""},null,{"$f":"SUMIF('Custo Básico dos Produtos'!$A$7:$A$480,Q133,'Custo Básico dos Produtos'!$J$7:$J$480)","v":0},null,0,{"$f":"IF(B133=\"\",0,SUMIF('Cadastro de Produtos em Linha'!$B$7:$B$457,A133,'Cadastro de Produtos em Linha'!$D$7:$D$457))","v":0},null,0,0,{"$f":"IF('Aferi (Variáveis)'!$C$12=\"ALC\",0,IF('Aferi (Variáveis)'!$C$12=\"ZFM\",0,IF('Aferi (Variáveis)'!$C$12=\"Exportação\",0,IF('Aferi (Variáveis)'!$C$12=\"Venda para Exportar\",0,IF('Aferi (Variáveis)'!$C$12=\"AO\",0,SUMIF('Custo Básico dos Produtos'!$A$7:$A$480,Q133,'Custo Básico dos Produtos'!$L$7:$L$480))))))","v":0},0,0,0,0,{"$f":"SUMIF('Cadastro de Produtos em Linha'!$A$6:$A$457,Q133,'Cadastro de Produtos em Linha'!$E$6:$E$457)*H133","v":0},{"$f":"IF(TODAY()<$AK$26,IF(A133<>\"\",SUMIF('Custo Básico dos Produtos'!$B$7:$B$457,A133,'Custo Básico dos Produtos'!$A$7:$A$457),0),0)","v":0},{"$f":"IF('Aferi (Variáveis)'!$C$12=\"Venda para Exportar\",0,IF('Aferi (Variáveis)'!$C$12=\"ALC\",0,IF('Aferi (Variáveis)'!$C$12=\"ZFM\",0,IF('Aferi (Variáveis)'!$C$12=\"Exportação\",0,IF('Aferi (Variáveis)'!$C$12=\"AO\",0,E133/(100+(0*'Aferi (Variáveis)'!$K$12/100))*100*K133%/100*'Aferi (Variáveis)'!$K$12)))))","v":0},0,{"$f":"(E133*'Aferi (Variáveis)'!$K$12/100)","v":0},0,{"$f":"IF('Aferi (Variáveis)'!$F$20=\"Venda para Exportar\",0,IF('Aferi (Variáveis)'!$F$20=\"ALC\",0,IF('Aferi (Variáveis)'!$F$20=\"ZFM\",0,IF('Aferi (Variáveis)'!$F$20=\"Exportação\",0,IF('Aferi (Variáveis)'!$F$20=\"AO\",7*T133/100,T133*'Aferi (Variáveis)'!$F$20/100)))))","v":0},0,{"$f":"IF('Aferi (Variáveis)'!$C$12=\"ZFM\",0,IF('Aferi (Variáveis)'!$C$12=\"Exportação\",0,3*T133/100))","v":0},{"$f":"IF('Aferi (Variáveis)'!$C$12=\"ZFM\",0,IF('Aferi (Variáveis)'!$C$12=\"Exportação\",0,0.65*T133/100))","v":0},0,0,0,0,0,0,0,0,0,{"$f":"SUMIF('Custo Básico dos Produtos'!$B$7:$B$480,A133,'Custo Básico dos Produtos'!$K$7:$K$480)","v":0},null,null,0,0,0,0,0,0]
[null,{"$f":"IF(Q134<>0,VLOOKUP(Q134,'Custo Básico dos Produtos'!$A$7:$J$480,3),\"\")","v":""},null,{"$f":"SUMIF('Custo Básico dos Produtos'!$A$7:$A$480,Q134,'Custo Básico dos Produtos'!$J$7:$J$480)","v":0},null,0,{"$f":"IF(B134=\"\",0,SUMIF('Cadastro de Produtos em Linha'!$B$7:$B$457,A134,'Cadastro de Produtos em Linha'!$D$7:$D$457))","v":0},null,0,0,{"$f":"IF('Aferi (Variáveis)'!$C$12=\"ALC\",0,IF('Aferi (Variáveis)'!$C$12=\"ZFM\",0,IF('Aferi (Variáveis)'!$C$12=\"Exportação\",0,IF('Aferi (Variáveis)'!$C$12=\"Venda para Exportar\",0,IF('Aferi (Variáveis)'!$C$12=\"AO\",0,SUMIF('Custo Básico dos Produtos'!$A$7:$A$480,Q134,'Custo Básico dos Produtos'!$L$7:$L$480))))))","v":0},0,0,0,0,{"$f":"SUMIF('Cadastro de Produtos em Linha'!$A$6:$A$457,Q134,'Cadastro de Produtos em Linha'!$E$6:$E$457)*H134","v":0},{"$f":"IF(TODAY()<$AK$26,IF(A134<>\"\",SUMIF('Custo Básico dos Produtos'!$B$7:$B$457,A134,'Custo Básico dos Produtos'!$A$7:$A$457),0),0)","v":0},{"$f":"IF('Aferi (Variáveis)'!$C$12=\"Venda para Exportar\",0,IF('Aferi (Variáveis)'!$C$12=\"ALC\",0,IF('Aferi (Variáveis)'!$C$12=\"ZFM\",0,IF('Aferi (Variáveis)'!$C$12=\"Exportação\",0,IF('Aferi (Variáveis)'!$C$12=\"AO\",0,E134/(100+(0*'Aferi (Variáveis)'!$K$12/100))*100*K134%/100*'Aferi (Variáveis)'!$K$12)))))","v":0},0,{"$f":"(E134*'Aferi (Variáveis)'!$K$12/100)","v":0},0,{"$f":"IF('Aferi (Variáveis)'!$F$20=\"Venda para Exportar\",0,IF('Aferi (Variáveis)'!$F$20=\"ALC\",0,IF('Aferi (Variáveis)'!$F$20=\"ZFM\",0,IF('Aferi (Variáveis)'!$F$20=\"Exportação\",0,IF('Aferi (Variáveis)'!$F$20=\"AO\",7*T134/100,T134*'Aferi (Variáveis)'!$F$20/100)))))","v":0},0,{"$f":"IF('Aferi (Variáveis)'!$C$12=\"ZFM\",0,IF('Aferi (Variáveis)'!$C$12=\"Exportação\",0,3*T134/100))","v":0},{"$f":"IF('Aferi (Variáveis)'!$C$12=\"ZFM\",0,IF('Aferi (Variáveis)'!$C$12=\"Exportação\",0,0.65*T134/100))","v":0},0,0,0,0,0,0,0,0,0,{"$f":"SUMIF('Custo Básico dos Produtos'!$B$7:$B$480,A134,'Custo Básico dos Produtos'!$K$7:$K$480)","v":0},null,null,0,0,0,0,0,0]
[null,{"$f":"IF(Q135<>0,VLOOKUP(Q135,'Custo Básico dos Produtos'!$A$7:$J$480,3),\"\")","v":""},null,{"$f":"SUMIF('Custo Básico dos Produtos'!$A$7:$A$480,Q135,'Custo Básico dos Produtos'!$J$7:$J$480)","v":0},null,0,{"$f":"IF(B135=\"\",0,SUMIF('Cadastro de Produtos em Linha'!$B$7:$B$457,A135,'Cadastro de Produtos em Linha'!$D$7:$D$457))","v":0},null,0,0,{"$f":"IF('Aferi (Variáveis)'!$C$12=\"ALC\",0,IF('Aferi (Variáveis)'!$C$12=\"ZFM\",0,IF('Aferi (Variáveis)'!$C$12=\"Exportação\",0,IF('Aferi (Variáveis)'!$C$12=\"Venda para Exportar\",0,IF('Aferi (Variáveis)'!$C$12=\"AO\",0,SUMIF('Custo Básico dos Produtos'!$A$7:$A$480,Q135,'Custo Básico dos Produtos'!$L$7:$L$480))))))","v":0},0,0,0,0,{"$f":"SUMIF('Cadastro de Produtos em Linha'!$A$6:$A$457,Q135,'Cadastro de Produtos em Linha'!$E$6:$E$457)*H135","v":0},{"$f":"IF(TODAY()<$AK$26,IF(A135<>\"\",SUMIF('Custo Básico dos Produtos'!$B$7:$B$457,A135,'Custo Básico dos Produtos'!$A$7:$A$457),0),0)","v":0},{"$f":"IF('Aferi (Variáveis)'!$C$12=\"Venda para Exportar\",0,IF('Aferi (Variáveis)'!$C$12=\"ALC\",0,IF('Aferi (Variáveis)'!$C$12=\"ZFM\",0,IF('Aferi (Variáveis)'!$C$12=\"Exportação\",0,IF('Aferi (Variáveis)'!$C$12=\"AO\",0,E135/(100+(0*'Aferi (Variáveis)'!$K$12/100))*100*K135%/100*'Aferi (Variáveis)'!$K$12)))))","v":0},0,{"$f":"(E135*'Aferi (Variáveis)'!$K$12/100)","v":0},0,{"$f":"IF('Aferi (Variáveis)'!$F$20=\"Venda para Exportar\",0,IF('Aferi (Variáveis)'!$F$20=\"ALC\",0,IF('Aferi (Variáveis)'!$F$20=\"ZFM\",0,IF('Aferi (Variáveis)'!$F$20=\"Exportação\",0,IF('Aferi (Variáveis)'!$F$20=\"AO\",7*T135/100,T135*'Aferi (Variáveis)'!$F$20/100)))))","v":0},0,{"$f":"IF('Aferi (Variáveis)'!$C$12=\"ZFM\",0,IF('Aferi (Variáveis)'!$C$12=\"Exportação\",0,3*T135/100))","v":0},{"$f":"IF('Aferi (Variáveis)'!$C$12=\"ZFM\",0,IF('Aferi (Variáveis)'!$C$12=\"Exportação\",0,0.65*T135/100))","v":0},0,0,0,0,0,0,0,0,0,{"$f":"SUMIF('Custo Básico dos Produtos'!$B$7:$B$480,A135,'Custo Básico dos Produtos'!$K$7:$K$480)","v":0},null,null,0,0,0,0,0,0]
[null,{"$f":"IF(Q136<>0,VLOOKUP(Q136,'Custo Básico dos Produtos'!$A$7:$J$480,3),\"\")","v":""},null,{"$f":"SUMIF('Custo Básico dos Produtos'!$A$7:$A$480,Q136,'Custo Básico dos Produtos'!$J$7:$J$480)","v":0},null,0,{"$f":"IF(B136=\"\",0,SUMIF('Cadastro de Produtos em Linha'!$B$7:$B$457,A136,'Cadastro de Produtos em Linha'!$D$7:$D$457))","v":0},null,0,0,{"$f":"IF('Aferi (Variáveis)'!$C$12=\"ALC\",0,IF('Aferi (Variáveis)'!$C$12=\"ZFM\",0,IF('Aferi (Variáveis)'!$C$12=\"Exportação\",0,IF('Aferi (Variáveis)'!$C$12=\"Venda para Exportar\",0,IF('Aferi (Variáveis)'!$C$12=\"AO\",0,SUMIF('Custo Básico dos Produtos'!$A$7:$A$480,Q136,'Custo Básico dos Produtos'!$L$7:$L$480))))))","v":0},0,0,0,0,{"$f":"SUMIF('Cadastro de Produtos em Linha'!$A$6:$A$457,Q136,'Cadastro de Produtos em Linha'!$E$6:$E$457)*H136","v":0},{"$f":"IF(TODAY()<$AK$26,IF(A136<>\"\",SUMIF('Custo Básico dos Produtos'!$B$7:$B$457,A136,'Custo Básico dos Produtos'!$A$7:$A$457),0),0)","v":0},{"$f":"IF('Aferi (Variáveis)'!$C$12=\"Venda para Exportar\",0,IF('Aferi (Variáveis)'!$C$12=\"ALC\",0,IF('Aferi (Variáveis)'!$C$12=\"ZFM\",0,IF('Aferi (Variáveis)'!$C$12=\"Exportação\",0,IF('Aferi (Variáveis)'!$C$12=\"AO\",0,E136/(100+(0*'Aferi (Variáveis)'!$K$12/100))*100*K136%/100*'Aferi (Variáveis)'!$K$12)))))","v":0},0,{"$f":"(E136*'Aferi (Variáveis)'!$K$12/100)","v":0},0,{"$f":"IF('Aferi (Variáveis)'!$F$20=\"Venda para Exportar\",0,IF('Aferi (Variáveis)'!$F$20=\"ALC\",0,IF('Aferi (Variáveis)'!$F$20=\"ZFM\",0,IF('Aferi (Variáveis)'!$F$20=\"Exportação\",0,IF('Aferi (Variáveis)'!$F$20=\"AO\",7*T136/100,T136*'Aferi (Variáveis)'!$F$20/100)))))","v":0},0,{"$f":"IF('Aferi (Variáveis)'!$C$12=\"ZFM\",0,IF('Aferi (Variáveis)'!$C$12=\"Exportação\",0,3*T136/100))","v":0},{"$f":"IF('Aferi (Variáveis)'!$C$12=\"ZFM\",0,IF('Aferi (Variáveis)'!$C$12=\"Exportação\",0,0.65*T136/100))","v":0},0,0,0,0,0,0,0,0,0,{"$f":"SUMIF('Custo Básico dos Produtos'!$B$7:$B$480,A136,'Custo Básico dos Produtos'!$K$7:$K$480)","v":0},null,null,0,0,0,0,0,0]
[null,{"$f":"IF(Q137<>0,VLOOKUP(Q137,'Custo Básico dos Produtos'!$A$7:$J$480,3),\"\")","v":""},null,{"$f":"SUMIF('Custo Básico dos Produtos'!$A$7:$A$480,Q137,'Custo Básico dos Produtos'!$J$7:$J$480)","v":0},null,0,{"$f":"IF(B137=\"\",0,SUMIF('Cadastro de Produtos em Linha'!$B$7:$B$457,A137,'Cadastro de Produtos em Linha'!$D$7:$D$457))","v":0},null,0,0,{"$f":"IF('Aferi (Variáveis)'!$C$12=\"ALC\",0,IF('Aferi (Variáveis)'!$C$12=\"ZFM\",0,IF('Aferi (Variáveis)'!$C$12=\"Exportação\",0,IF('Aferi (Variáveis)'!$C$12=\"Venda para Exportar\",0,IF('Aferi (Variáveis)'!$C$12=\"AO\",0,SUMIF('Custo Básico dos Produtos'!$A$7:$A$480,Q137,'Custo Básico dos Produtos'!$L$7:$L$480))))))","v":0},0,0,0,0,{"$f":"SUMIF('Cadastro de Produtos em Linha'!$A$6:$A$457,Q137,'Cadastro de Produtos em Linha'!$E$6:$E$457)*H137","v":0},{"$f":"IF(TODAY()<$AK$26,IF(A137<>\"\",SUMIF('Custo Básico dos Produtos'!$B$7:$B$457,A137,'Custo Básico dos Produtos'!$A$7:$A$457),0),0)","v":0},{"$f":"IF('Aferi (Variáveis)'!$C$12=\"Venda para Exportar\",0,IF('Aferi (Variáveis)'!$C$12=\"ALC\",0,IF('Aferi (Variáveis)'!$C$12=\"ZFM\",0,IF('Aferi (Variáveis)'!$C$12=\"Exportação\",0,IF('Aferi (Variáveis)'!$C$12=\"AO\",0,E137/(100+(0*'Aferi (Variáveis)'!$K$12/100))*100*K137%/100*'Aferi (Variáveis)'!$K$12)))))","v":0},0,{"$f":"(E137*'Aferi (Variáveis)'!$K$12/100)","v":0},0,{"$f":"IF('Aferi (Variáveis)'!$F$20=\"Venda para Exportar\",0,IF('Aferi (Variáveis)'!$F$20=\"ALC\",0,IF('Aferi (Variáveis)'!$F$20=\"ZFM\",0,IF('Aferi (Variáveis)'!$F$20=\"Exportação\",0,IF('Aferi (Variáveis)'!$F$20=\"AO\",7*T137/100,T137*'Aferi (Variáveis)'!$F$20/100)))))","v":0},0,{"$f":"IF('Aferi (Variáveis)'!$C$12=\"ZFM\",0,IF('Aferi (Variáveis)'!$C$12=\"Exportação\",0,3*T137/100))","v":0},{"$f":"IF('Aferi (Variáveis)'!$C$12=\"ZFM\",0,IF('Aferi (Variáveis)'!$C$12=\"Exportação\",0,0.65*T137/100))","v":0},0,0,0,0,0,0,0,0,0,{"$f":"SUMIF('Custo Básico dos Produtos'!$B$7:$B$480,A137,'Custo Básico dos Produtos'!$K$7:$K$480)","v":0},null,null,0,0,0,0,0,0]
[null,{"$f":"IF(Q138<>0,VLOOKUP(Q138,'Custo Básico dos Produtos'!$A$7:$J$480,3),\"\")","v":""},null,{"$f":"SUMIF('Custo Básico dos Produtos'!$A$7:$A$480,Q138,'Custo Básico dos Produtos'!$J$7:$J$480)","v":0},null,0,{"$f":"IF(B138=\"\",0,SUMIF('Cadastro de Produtos em Linha'!$B$7:$B$457,A138,'Cadastro de Produtos em Linha'!$D$7:$D$457))","v":0},null,0,0,{"$f":"IF('Aferi (Variáveis)'!$C$12=\"ALC\",0,IF('Aferi (Variáveis)'!$C$12=\"ZFM\",0,IF('Aferi (Variáveis)'!$C$12=\"Exportação\",0,IF('Aferi (Variáveis)'!$C$12=\"Venda para Exportar\",0,IF('Aferi (Variáveis)'!$C$12=\"AO\",0,SUMIF('Custo Básico dos Produtos'!$A$7:$A$480,Q138,'Custo Básico dos Produtos'!$L$7:$L$480))))))","v":0},0,0,0,0,{"$f":"SUMIF('Cadastro de Produtos em Linha'!$A$6:$A$457,Q138,'Cadastro de Produtos em Linha'!$E$6:$E$457)*H138","v":0},{"$f":"IF(TODAY()<$AK$26,IF(A138<>\"\",SUMIF('Custo Básico dos Produtos'!$B$7:$B$457,A138,'Custo Básico dos Produtos'!$A$7:$A$457),0),0)","v":0},{"$f":"IF('Aferi (Variáveis)'!$C$12=\"Venda para Exportar\",0,IF('Aferi (Variáveis)'!$C$12=\"ALC\",0,IF('Aferi (Variáveis)'!$C$12=\"ZFM\",0,IF('Aferi (Variáveis)'!$C$12=\"Exportação\",0,IF('Aferi (Variáveis)'!$C$12=\"AO\",0,E138/(100+(0*'Aferi (Variáveis)'!$K$12/100))*100*K138%/100*'Aferi (Variáveis)'!$K$12)))))","v":0},0,{"$f":"(E138*'Aferi (Variáveis)'!$K$12/100)","v":0},0,{"$f":"IF('Aferi (Variáveis)'!$F$20=\"Venda para Exportar\",0,IF('Aferi (Variáveis)'!$F$20=\"ALC\",0,IF('Aferi (Variáveis)'!$F$20=\"ZFM\",0,IF('Aferi (Variáveis)'!$F$20=\"Exportação\",0,IF('Aferi (Variáveis)'!$F$20=\"AO\",7*T138/100,T138*'Aferi (Variáveis)'!$F$20/100)))))","v":0},0,{"$f":"IF('Aferi (Variáveis)'!$C$12=\"ZFM\",0,IF('Aferi (Variáveis)'!$C$12=\"Exportação\",0,3*T138/100))","v":0},{"$f":"IF('Aferi (Variáveis)'!$C$12=\"ZFM\",0,IF('Aferi (Variáveis)'!$C$12=\"Exportação\",0,0.65*T138/100))","v":0},0,0,0,0,0,0,0,0,0,{"$f":"SUMIF('Custo Básico dos Produtos'!$B$7:$B$480,A138,'Custo Básico dos Produtos'!$K$7:$K$480)","v":0},null,null,0,0,0,0,0,0]
[null,{"$f":"IF(Q139<>0,VLOOKUP(Q139,'Custo Básico dos Produtos'!$A$7:$J$480,3),\"\")","v":""},null,{"$f":"SUMIF('Custo Básico dos Produtos'!$A$7:$A$480,Q139,'Custo Básico dos Produtos'!$J$7:$J$480)","v":0},null,0,{"$f":"IF(B139=\"\",0,SUMIF('Cadastro de Produtos em Linha'!$B$7:$B$457,A139,'Cadastro de Produtos em Linha'!$D$7:$D$457))","v":0},null,0,0,{"$f":"IF('Aferi (Variáveis)'!$C$12=\"ALC\",0,IF('Aferi (Variáveis)'!$C$12=\"ZFM\",0,IF('Aferi (Variáveis)'!$C$12=\"Exportação\",0,IF('Aferi (Variáveis)'!$C$12=\"Venda para Exportar\",0,IF('Aferi (Variáveis)'!$C$12=\"AO\",0,SUMIF('Custo Básico dos Produtos'!$A$7:$A$480,Q139,'Custo Básico dos Produtos'!$L$7:$L$480))))))","v":0},0,0,0,0,{"$f":"SUMIF('Cadastro de Produtos em Linha'!$A$6:$A$457,Q139,'Cadastro de Produtos em Linha'!$E$6:$E$457)*H139","v":0},{"$f":"IF(TODAY()<$AK$26,IF(A139<>\"\",SUMIF('Custo Básico dos Produtos'!$B$7:$B$457,A139,'Custo Básico dos Produtos'!$A$7:$A$457),0),0)","v":0},{"$f":"IF('Aferi (Variáveis)'!$C$12=\"Venda para Exportar\",0,IF('Aferi (Variáveis)'!$C$12=\"ALC\",0,IF('Aferi (Variáveis)'!$C$12=\"ZFM\",0,IF('Aferi (Variáveis)'!$C$12=\"Exportação\",0,IF('Aferi (Variáveis)'!$C$12=\"AO\",0,E139/(100+(0*'Aferi (Variáveis)'!$K$12/100))*100*K139%/100*'Aferi (Variáveis)'!$K$12)))))","v":0},0,{"$f":"(E139*'Aferi (Variáveis)'!$K$12/100)","v":0},0,{"$f":"IF('Aferi (Variáveis)'!$F$20=\"Venda para Exportar\",0,IF('Aferi (Variáveis)'!$F$20=\"ALC\",0,IF('Aferi (Variáveis)'!$F$20=\"ZFM\",0,IF('Aferi (Variáveis)'!$F$20=\"Exportação\",0,IF('Aferi (Variáveis)'!$F$20=\"AO\",7*T139/100,T139*'Aferi (Variáveis)'!$F$20/100)))))","v":0},0,{"$f":"IF('Aferi (Variáveis)'!$C$12=\"ZFM\",0,IF('Aferi (Variáveis)'!$C$12=\"Exportação\",0,3*T139/100))","v":0},{"$f":"IF('Aferi (Variáveis)'!$C$12=\"ZFM\",0,IF('Aferi (Variáveis)'!$C$12=\"Exportação\",0,0.65*T139/100))","v":0},0,0,0,0,0,0,0,0,0,{"$f":"SUMIF('Custo Básico dos Produtos'!$B$7:$B$480,A139,'Custo Básico dos Produtos'!$K$7:$K$480)","v":0},null,null,0,0,0,0,0,0]
[null,{"$f":"IF(Q140<>0,VLOOKUP(Q140,'Custo Básico dos Produtos'!$A$7:$J$480,3),\"\")","v":""},null,{"$f":"SUMIF('Custo Básico dos Produtos'!$A$7:$A$480,Q140,'Custo Básico dos Produtos'!$J$7:$J$480)","v":0},null,0,{"$f":"IF(B140=\"\",0,SUMIF('Cadastro de Produtos em Linha'!$B$7:$B$457,A140,'Cadastro de Produtos em Linha'!$D$7:$D$457))","v":0},null,0,0,{"$f":"IF('Aferi (Variáveis)'!$C$12=\"ALC\",0,IF('Aferi (Variáveis)'!$C$12=\"ZFM\",0,IF('Aferi (Variáveis)'!$C$12=\"Exportação\",0,IF('Aferi (Variáveis)'!$C$12=\"Venda para Exportar\",0,IF('Aferi (Variáveis)'!$C$12=\"AO\",0,SUMIF('Custo Básico dos Produtos'!$A$7:$A$480,Q140,'Custo Básico dos Produtos'!$L$7:$L$480))))))","v":0},0,0,0,0,{"$f":"SUMIF('Cadastro de Produtos em Linha'!$A$6:$A$457,Q140,'Cadastro de Produtos em Linha'!$E$6:$E$457)*H140","v":0},{"$f":"IF(TODAY()<$AK$26,IF(A140<>\"\",SUMIF('Custo Básico dos Produtos'!$B$7:$B$457,A140,'Custo Básico dos Produtos'!$A$7:$A$457),0),0)","v":0},{"$f":"IF('Aferi (Variáveis)'!$C$12=\"Venda para Exportar\",0,IF('Aferi (Variáveis)'!$C$12=\"ALC\",0,IF('Aferi (Variáveis)'!$C$12=\"ZFM\",0,IF('Aferi (Variáveis)'!$C$12=\"Exportação\",0,IF('Aferi (Variáveis)'!$C$12=\"AO\",0,E140/(100+(0*'Aferi (Variáveis)'!$K$12/100))*100*K140%/100*'Aferi (Variáveis)'!$K$12)))))","v":0},0,{"$f":"(E140*'Aferi (Variáveis)'!$K$12/100)","v":0},0,{"$f":"IF('Aferi (Variáveis)'!$F$20=\"Venda para Exportar\",0,IF('Aferi (Variáveis)'!$F$20=\"ALC\",0,IF('Aferi (Variáveis)'!$F$20=\"ZFM\",0,IF('Aferi (Variáveis)'!$F$20=\"Exportação\",0,IF('Aferi (Variáveis)'!$F$20=\"AO\",7*T140/100,T140*'Aferi (Variáveis)'!$F$20/100)))))","v":0},0,{"$f":"IF('Aferi (Variáveis)'!$C$12=\"ZFM\",0,IF('Aferi (Variáveis)'!$C$12=\"Exportação\",0,3*T140/100))","v":0},{"$f":"IF('Aferi (Variáveis)'!$C$12=\"ZFM\",0,IF('Aferi (Variáveis)'!$C$12=\"Exportação\",0,0.65*T140/100))","v":0},0,0,0,0,0,0,0,0,0,{"$f":"SUMIF('Custo Básico dos Produtos'!$B$7:$B$480,A140,'Custo Básico dos Produtos'!$K$7:$K$480)","v":0},null,null,0,0,0,0,0,0]
[null,{"$f":"IF(Q141<>0,VLOOKUP(Q141,'Custo Básico dos Produtos'!$A$7:$J$480,3),\"\")","v":""},null,{"$f":"SUMIF('Custo Básico dos Produtos'!$A$7:$A$480,Q141,'Custo Básico dos Produtos'!$J$7:$J$480)","v":0},null,0,{"$f":"IF(B141=\"\",0,SUMIF('Cadastro de Produtos em Linha'!$B$7:$B$457,A141,'Cadastro de Produtos em Linha'!$D$7:$D$457))","v":0},null,0,0,{"$f":"IF('Aferi (Variáveis)'!$C$12=\"ALC\",0,IF('Aferi (Variáveis)'!$C$12=\"ZFM\",0,IF('Aferi (Variáveis)'!$C$12=\"Exportação\",0,IF('Aferi (Variáveis)'!$C$12=\"Venda para Exportar\",0,IF('Aferi (Variáveis)'!$C$12=\"AO\",0,SUMIF('Custo Básico dos Produtos'!$A$7:$A$480,Q141,'Custo Básico dos Produtos'!$L$7:$L$480))))))","v":0},0,0,0,0,{"$f":"SUMIF('Cadastro de Produtos em Linha'!$A$6:$A$457,Q141,'Cadastro de Produtos em Linha'!$E$6:$E$457)*H141","v":0},{"$f":"IF(TODAY()<$AK$26,IF(A141<>\"\",SUMIF('Custo Básico dos Produtos'!$B$7:$B$457,A141,'Custo Básico dos Produtos'!$A$7:$A$457),0),0)","v":0},{"$f":"IF('Aferi (Variáveis)'!$C$12=\"Venda para Exportar\",0,IF('Aferi (Variáveis)'!$C$12=\"ALC\",0,IF('Aferi (Variáveis)'!$C$12=\"ZFM\",0,IF('Aferi (Variáveis)'!$C$12=\"Exportação\",0,IF('Aferi (Variáveis)'!$C$12=\"AO\",0,E141/(100+(0*'Aferi (Variáveis)'!$K$12/100))*100*K141%/100*'Aferi (Variáveis)'!$K$12)))))","v":0},0,{"$f":"(E141*'Aferi (Variáveis)'!$K$12/100)","v":0},0,{"$f":"IF('Aferi (Variáveis)'!$F$20=\"Venda para Exportar\",0,IF('Aferi (Variáveis)'!$F$20=\"ALC\",0,IF('Aferi (Variáveis)'!$F$20=\"ZFM\",0,IF('Aferi (Variáveis)'!$F$20=\"Exportação\",0,IF('Aferi (Variáveis)'!$F$20=\"AO\",7*T141/100,T141*'Aferi (Variáveis)'!$F$20/100)))))","v":0},0,{"$f":"IF('Aferi (Variáveis)'!$C$12=\"ZFM\",0,IF('Aferi (Variáveis)'!$C$12=\"Exportação\",0,3*T141/100))","v":0},{"$f":"IF('Aferi (Variáveis)'!$C$12=\"ZFM\",0,IF('Aferi (Variáveis)'!$C$12=\"Exportação\",0,0.65*T141/100))","v":0},0,0,0,0,0,0,0,0,0,{"$f":"SUMIF('Custo Básico dos Produtos'!$B$7:$B$480,A141,'Custo Básico dos Produtos'!$K$7:$K$480)","v":0},null,null,0,0,0,0,0,0]
[null,{"$f":"IF(Q142<>0,VLOOKUP(Q142,'Custo Básico dos Produtos'!$A$7:$J$480,3),\"\")","v":""},null,{"$f":"SUMIF('Custo Básico dos Produtos'!$A$7:$A$480,Q142,'Custo Básico dos Produtos'!$J$7:$J$480)","v":0},null,0,{"$f":"IF(B142=\"\",0,SUMIF('Cadastro de Produtos em Linha'!$B$7:$B$457,A142,'Cadastro de Produtos em Linha'!$D$7:$D$457))","v":0},null,0,0,{"$f":"IF('Aferi (Variáveis)'!$C$12=\"ALC\",0,IF('Aferi (Variáveis)'!$C$12=\"ZFM\",0,IF('Aferi (Variáveis)'!$C$12=\"Exportação\",0,IF('Aferi (Variáveis)'!$C$12=\"Venda para Exportar\",0,IF('Aferi (Variáveis)'!$C$12=\"AO\",0,SUMIF('Custo Básico dos Produtos'!$A$7:$A$480,Q142,'Custo Básico dos Produtos'!$L$7:$L$480))))))","v":0},0,0,0,0,{"$f":"SUMIF('Cadastro de Produtos em Linha'!$A$6:$A$457,Q142,'Cadastro de Produtos em Linha'!$E$6:$E$457)*H142","v":0},{"$f":"IF(TODAY()<$AK$26,IF(A142<>\"\",SUMIF('Custo Básico dos Produtos'!$B$7:$B$457,A142,'Custo Básico dos Produtos'!$A$7:$A$457),0),0)","v":0},{"$f":"IF('Aferi (Variáveis)'!$C$12=\"Venda para Exportar\",0,IF('Aferi (Variáveis)'!$C$12=\"ALC\",0,IF('Aferi (Variáveis)'!$C$12=\"ZFM\",0,IF('Aferi (Variáveis)'!$C$12=\"Exportação\",0,IF('Aferi (Variáveis)'!$C$12=\"AO\",0,E142/(100+(0*'Aferi (Variáveis)'!$K$12/100))*100*K142%/100*'Aferi (Variáveis)'!$K$12)))))","v":0},0,{"$f":"(E142*'Aferi (Variáveis)'!$K$12/100)","v":0},0,{"$f":"IF('Aferi (Variáveis)'!$F$20=\"Venda para Exportar\",0,IF('Aferi (Variáveis)'!$F$20=\"ALC\",0,IF('Aferi (Variáveis)'!$F$20=\"ZFM\",0,IF('Aferi (Variáveis)'!$F$20=\"Exportação\",0,IF('Aferi (Variáveis)'!$F$20=\"AO\",7*T142/100,T142*'Aferi (Variáveis)'!$F$20/100)))))","v":0},0,{"$f":"IF('Aferi (Variáveis)'!$C$12=\"ZFM\",0,IF('Aferi (Variáveis)'!$C$12=\"Exportação\",0,3*T142/100))","v":0},{"$f":"IF('Aferi (Variáveis)'!$C$12=\"ZFM\",0,IF('Aferi (Variáveis)'!$C$12=\"Exportação\",0,0.65*T142/100))","v":0},0,0,0,0,0,0,0,0,0,{"$f":"SUMIF('Custo Básico dos Produtos'!$B$7:$B$480,A142,'Custo Básico dos Produtos'!$K$7:$K$480)","v":0},null,null,0,0,0,0,0,0]
[null,{"$f":"IF(Q143<>0,VLOOKUP(Q143,'Custo Básico dos Produtos'!$A$7:$J$480,3),\"\")","v":""},null,{"$f":"SUMIF('Custo Básico dos Produtos'!$A$7:$A$480,Q143,'Custo Básico dos Produtos'!$J$7:$J$480)","v":0},null,0,{"$f":"IF(B143=\"\",0,SUMIF('Cadastro de Produtos em Linha'!$B$7:$B$457,A143,'Cadastro de Produtos em Linha'!$D$7:$D$457))","v":0},null,0,0,{"$f":"IF('Aferi (Variáveis)'!$C$12=\"ALC\",0,IF('Aferi (Variáveis)'!$C$12=\"ZFM\",0,IF('Aferi (Variáveis)'!$C$12=\"Exportação\",0,IF('Aferi (Variáveis)'!$C$12=\"Venda para Exportar\",0,IF('Aferi (Variáveis)'!$C$12=\"AO\",0,SUMIF('Custo Básico dos Produtos'!$A$7:$A$480,Q143,'Custo Básico dos Produtos'!$L$7:$L$480))))))","v":0},0,0,0,0,{"$f":"SUMIF('Cadastro de Produtos em Linha'!$A$6:$A$457,Q143,'Cadastro de Produtos em Linha'!$E$6:$E$457)*H143","v":0},{"$f":"IF(TODAY()<$AK$26,IF(A143<>\"\",SUMIF('Custo Básico dos Produtos'!$B$7:$B$457,A143,'Custo Básico dos Produtos'!$A$7:$A$457),0),0)","v":0},{"$f":"IF('Aferi (Variáveis)'!$C$12=\"Venda para Exportar\",0,IF('Aferi (Variáveis)'!$C$12=\"ALC\",0,IF('Aferi (Variáveis)'!$C$12=\"ZFM\",0,IF('Aferi (Variáveis)'!$C$12=\"Exportação\",0,IF('Aferi (Variáveis)'!$C$12=\"AO\",0,E143/(100+(0*'Aferi (Variáveis)'!$K$12/100))*100*K143%/100*'Aferi (Variáveis)'!$K$12)))))","v":0},0,{"$f":"(E143*'Aferi (Variáveis)'!$K$12/100)","v":0},0,{"$f":"IF('Aferi (Variáveis)'!$F$20=\"Venda para Exportar\",0,IF('Aferi (Variáveis)'!$F$20=\"ALC\",0,IF('Aferi (Variáveis)'!$F$20=\"ZFM\",0,IF('Aferi (Variáveis)'!$F$20=\"Exportação\",0,IF('Aferi (Variáveis)'!$F$20=\"AO\",7*T143/100,T143*'Aferi (Variáveis)'!$F$20/100)))))","v":0},0,{"$f":"IF('Aferi (Variáveis)'!$C$12=\"ZFM\",0,IF('Aferi (Variáveis)'!$C$12=\"Exportação\",0,3*T143/100))","v":0},{"$f":"IF('Aferi (Variáveis)'!$C$12=\"ZFM\",0,IF('Aferi (Variáveis)'!$C$12=\"Exportação\",0,0.65*T143/100))","v":0},0,0,0,0,0,0,0,0,0,{"$f":"SUMIF('Custo Básico dos Produtos'!$B$7:$B$480,A143,'Custo Básico dos Produtos'!$K$7:$K$480)","v":0},null,null,0,0,0,0,0,0]
[null,{"$f":"IF(Q144<>0,VLOOKUP(Q144,'Custo Básico dos Produtos'!$A$7:$J$480,3),\"\")","v":""},null,{"$f":"SUMIF('Custo Básico dos Produtos'!$A$7:$A$480,Q144,'Custo Básico dos Produtos'!$J$7:$J$480)","v":0},null,0,{"$f":"IF(B144=\"\",0,SUMIF('Cadastro de Produtos em Linha'!$B$7:$B$457,A144,'Cadastro de Produtos em Linha'!$D$7:$D$457))","v":0},null,0,0,{"$f":"IF('Aferi (Variáveis)'!$C$12=\"ALC\",0,IF('Aferi (Variáveis)'!$C$12=\"ZFM\",0,IF('Aferi (Variáveis)'!$C$12=\"Exportação\",0,IF('Aferi (Variáveis)'!$C$12=\"Venda para Exportar\",0,IF('Aferi (Variáveis)'!$C$12=\"AO\",0,SUMIF('Custo Básico dos Produtos'!$A$7:$A$480,Q144,'Custo Básico dos Produtos'!$L$7:$L$480))))))","v":0},0,0,0,0,{"$f":"SUMIF('Cadastro de Produtos em Linha'!$A$6:$A$457,Q144,'Cadastro de Produtos em Linha'!$E$6:$E$457)*H144","v":0},{"$f":"IF(TODAY()<$AK$26,IF(A144<>\"\",SUMIF('Custo Básico dos Produtos'!$B$7:$B$457,A144,'Custo Básico dos Produtos'!$A$7:$A$457),0),0)","v":0},{"$f":"IF('Aferi (Variáveis)'!$C$12=\"Venda para Exportar\",0,IF('Aferi (Variáveis)'!$C$12=\"ALC\",0,IF('Aferi (Variáveis)'!$C$12=\"ZFM\",0,IF('Aferi (Variáveis)'!$C$12=\"Exportação\",0,IF('Aferi (Variáveis)'!$C$12=\"AO\",0,E144/(100+(0*'Aferi (Variáveis)'!$K$12/100))*100*K144%/100*'Aferi (Variáveis)'!$K$12)))))","v":0},0,{"$f":"(E144*'Aferi (Variáveis)'!$K$12/100)","v":0},0,{"$f":"IF('Aferi (Variáveis)'!$F$20=\"Venda para Exportar\",0,IF('Aferi (Variáveis)'!$F$20=\"ALC\",0,IF('Aferi (Variáveis)'!$F$20=\"ZFM\",0,IF('Aferi (Variáveis)'!$F$20=\"Exportação\",0,IF('Aferi (Variáveis)'!$F$20=\"AO\",7*T144/100,T144*'Aferi (Variáveis)'!$F$20/100)))))","v":0},0,{"$f":"IF('Aferi (Variáveis)'!$C$12=\"ZFM\",0,IF('Aferi (Variáveis)'!$C$12=\"Exportação\",0,3*T144/100))","v":0},{"$f":"IF('Aferi (Variáveis)'!$C$12=\"ZFM\",0,IF('Aferi (Variáveis)'!$C$12=\"Exportação\",0,0.65*T144/100))","v":0},0,0,0,0,0,0,0,0,0,{"$f":"SUMIF('Custo Básico dos Produtos'!$B$7:$B$480,A144,'Custo Básico dos Produtos'!$K$7:$K$480)","v":0},null,null,0,0,0,0,0,0]
[null,{"$f":"IF(Q145<>0,VLOOKUP(Q145,'Custo Básico dos Produtos'!$A$7:$J$480,3),\"\")","v":""},null,{"$f":"SUMIF('Custo Básico dos Produtos'!$A$7:$A$480,Q145,'Custo Básico dos Produtos'!$J$7:$J$480)","v":0},null,0,{"$f":"IF(B145=\"\",0,SUMIF('Cadastro de Produtos em Linha'!$B$7:$B$457,A145,'Cadastro de Produtos em Linha'!$D$7:$D$457))","v":0},null,0,0,{"$f":"IF('Aferi (Variáveis)'!$C$12=\"ALC\",0,IF('Aferi (Variáveis)'!$C$12=\"ZFM\",0,IF('Aferi (Variáveis)'!$C$12=\"Exportação\",0,IF('Aferi (Variáveis)'!$C$12=\"Venda para Exportar\",0,IF('Aferi (Variáveis)'!$C$12=\"AO\",0,SUMIF('Custo Básico dos Produtos'!$A$7:$A$480,Q145,'Custo Básico dos Produtos'!$L$7:$L$480))))))","v":0},0,0,0,0,{"$f":"SUMIF('Cadastro de Produtos em Linha'!$A$6:$A$457,Q145,'Cadastro de Produtos em Linha'!$E$6:$E$457)*H145","v":0},{"$f":"IF(TODAY()<$AK$26,IF(A145<>\"\",SUMIF('Custo Básico dos Produtos'!$B$7:$B$457,A145,'Custo Básico dos Produtos'!$A$7:$A$457),0),0)","v":0},{"$f":"IF('Aferi (Variáveis)'!$C$12=\"Venda para Exportar\",0,IF('Aferi (Variáveis)'!$C$12=\"ALC\",0,IF('Aferi (Variáveis)'!$C$12=\"ZFM\",0,IF('Aferi (Variáveis)'!$C$12=\"Exportação\",0,IF('Aferi (Variáveis)'!$C$12=\"AO\",0,E145/(100+(0*'Aferi (Variáveis)'!$K$12/100))*100*K145%/100*'Aferi (Variáveis)'!$K$12)))))","v":0},0,{"$f":"(E145*'Aferi (Variáveis)'!$K$12/100)","v":0},0,{"$f":"IF('Aferi (Variáveis)'!$F$20=\"Venda para Exportar\",0,IF('Aferi (Variáveis)'!$F$20=\"ALC\",0,IF('Aferi (Variáveis)'!$F$20=\"ZFM\",0,IF('Aferi (Variáveis)'!$F$20=\"Exportação\",0,IF('Aferi (Variáveis)'!$F$20=\"AO\",7*T145/100,T145*'Aferi (Variáveis)'!$F$20/100)))))","v":0},0,{"$f":"IF('Aferi (Variáveis)'!$C$12=\"ZFM\",0,IF('Aferi (Variáveis)'!$C$12=\"Exportação\",0,3*T145/100))","v":0},{"$f":"IF('Aferi (Variáveis)'!$C$12=\"ZFM\",0,IF('Aferi (Variáveis)'!$C$12=\"Exportação\",0,0.65*T145/100))","v":0},0,0,0,0,0,0,0,0,0,{"$f":"SUMIF('Custo Básico dos Produtos'!$B$7:$B$480,A145,'Custo Básico dos Produtos'!$K$7:$K$480)","v":0},null,null,0,0,0,0,0,0]
[null,{"$f":"IF(Q146<>0,VLOOKUP(Q146,'Custo Básico dos Produtos'!$A$7:$J$480,3),\"\")","v":""},null,{"$f":"SUMIF('Custo Básico dos Produtos'!$A$7:$A$480,Q146,'Custo Básico dos Produtos'!$J$7:$J$480)","v":0},null,0,{"$f":"IF(B146=\"\",0,SUMIF('Cadastro de Produtos em Linha'!$B$7:$B$457,A146,'Cadastro de Produtos em Linha'!$D$7:$D$457))","v":0},null,0,0,{"$f":"IF('Aferi (Variáveis)'!$C$12=\"ALC\",0,IF('Aferi (Variáveis)'!$C$12=\"ZFM\",0,IF('Aferi (Variáveis)'!$C$12=\"Exportação\",0,IF('Aferi (Variáveis)'!$C$12=\"Venda para Exportar\",0,IF('Aferi (Variáveis)'!$C$12=\"AO\",0,SUMIF('Custo Básico dos Produtos'!$A$7:$A$480,Q146,'Custo Básico dos Produtos'!$L$7:$L$480))))))","v":0},0,0,0,0,{"$f":"SUMIF('Cadastro de Produtos em Linha'!$A$6:$A$457,Q146,'Cadastro de Produtos em Linha'!$E$6:$E$457)*H146","v":0},{"$f":"IF(TODAY()<$AK$26,IF(A146<>\"\",SUMIF('Custo Básico dos Produtos'!$B$7:$B$457,A146,'Custo Básico dos Produtos'!$A$7:$A$457),0),0)","v":0},{"$f":"IF('Aferi (Variáveis)'!$C$12=\"Venda para Exportar\",0,IF('Aferi (Variáveis)'!$C$12=\"ALC\",0,IF('Aferi (Variáveis)'!$C$12=\"ZFM\",0,IF('Aferi (Variáveis)'!$C$12=\"Exportação\",0,IF('Aferi (Variáveis)'!$C$12=\"AO\",0,E146/(100+(0*'Aferi (Variáveis)'!$K$12/100))*100*K146%/100*'Aferi (Variáveis)'!$K$12)))))","v":0},0,{"$f":"(E146*'Aferi (Variáveis)'!$K$12/100)","v":0},0,{"$f":"IF('Aferi (Variáveis)'!$F$20=\"Venda para Exportar\",0,IF('Aferi (Variáveis)'!$F$20=\"ALC\",0,IF('Aferi (Variáveis)'!$F$20=\"ZFM\",0,IF('Aferi (Variáveis)'!$F$20=\"Exportação\",0,IF('Aferi (Variáveis)'!$F$20=\"AO\",7*T146/100,T146*'Aferi (Variáveis)'!$F$20/100)))))","v":0},0,{"$f":"IF('Aferi (Variáveis)'!$C$12=\"ZFM\",0,IF('Aferi (Variáveis)'!$C$12=\"Exportação\",0,3*T146/100))","v":0},{"$f":"IF('Aferi (Variáveis)'!$C$12=\"ZFM\",0,IF('Aferi (Variáveis)'!$C$12=\"Exportação\",0,0.65*T146/100))","v":0},0,0,0,0,0,0,0,0,0,{"$f":"SUMIF('Custo Básico dos Produtos'!$B$7:$B$480,A146,'Custo Básico dos Produtos'!$K$7:$K$480)","v":0},null,null,0,0,0,0,0,0]
[null,{"$f":"IF(Q147<>0,VLOOKUP(Q147,'Custo Básico dos Produtos'!$A$7:$J$480,3),\"\")","v":""},null,{"$f":"SUMIF('Custo Básico dos Produtos'!$A$7:$A$480,Q147,'Custo Básico dos Produtos'!$J$7:$J$480)","v":0},null,0,{"$f":"IF(B147=\"\",0,SUMIF('Cadastro de Produtos em Linha'!$B$7:$B$457,A147,'Cadastro de Produtos em Linha'!$D$7:$D$457))","v":0},null,0,0,{"$f":"IF('Aferi (Variáveis)'!$C$12=\"ALC\",0,IF('Aferi (Variáveis)'!$C$12=\"ZFM\",0,IF('Aferi (Variáveis)'!$C$12=\"Exportação\",0,IF('Aferi (Variáveis)'!$C$12=\"Venda para Exportar\",0,IF('Aferi (Variáveis)'!$C$12=\"AO\",0,SUMIF('Custo Básico dos Produtos'!$A$7:$A$480,Q147,'Custo Básico dos Produtos'!$L$7:$L$480))))))","v":0},0,0,0,0,{"$f":"SUMIF('Cadastro de Produtos em Linha'!$A$6:$A$457,Q147,'Cadastro de Produtos em Linha'!$E$6:$E$457)*H147","v":0},{"$f":"IF(TODAY()<$AK$26,IF(A147<>\"\",SUMIF('Custo Básico dos Produtos'!$B$7:$B$457,A147,'Custo Básico dos Produtos'!$A$7:$A$457),0),0)","v":0},{"$f":"IF('Aferi (Variáveis)'!$C$12=\"Venda para Exportar\",0,IF('Aferi (Variáveis)'!$C$12=\"ALC\",0,IF('Aferi (Variáveis)'!$C$12=\"ZFM\",0,IF('Aferi (Variáveis)'!$C$12=\"Exportação\",0,IF('Aferi (Variáveis)'!$C$12=\"AO\",0,E147/(100+(0*'Aferi (Variáveis)'!$K$12/100))*100*K147%/100*'Aferi (Variáveis)'!$K$12)))))","v":0},0,{"$f":"(E147*'Aferi (Variáveis)'!$K$12/100)","v":0},0,{"$f":"IF('Aferi (Variáveis)'!$F$20=\"Venda para Exportar\",0,IF('Aferi (Variáveis)'!$F$20=\"ALC\",0,IF('Aferi (Variáveis)'!$F$20=\"ZFM\",0,IF('Aferi (Variáveis)'!$F$20=\"Exportação\",0,IF('Aferi (Variáveis)'!$F$20=\"AO\",7*T147/100,T147*'Aferi (Variáveis)'!$F$20/100)))))","v":0},0,{"$f":"IF('Aferi (Variáveis)'!$C$12=\"ZFM\",0,IF('Aferi (Variáveis)'!$C$12=\"Exportação\",0,3*T147/100))","v":0},{"$f":"IF('Aferi (Variáveis)'!$C$12=\"ZFM\",0,IF('Aferi (Variáveis)'!$C$12=\"Exportação\",0,0.65*T147/100))","v":0},0,0,0,0,0,0,0,0,0,{"$f":"SUMIF('Custo Básico dos Produtos'!$B$7:$B$480,A147,'Custo Básico dos Produtos'!$K$7:$K$480)","v":0},null,null,0,0,0,0,0,0]
[null,{"$f":"IF(Q148<>0,VLOOKUP(Q148,'Custo Básico dos Produtos'!$A$7:$J$480,3),\"\")","v":""},null,{"$f":"SUMIF('Custo Básico dos Produtos'!$A$7:$A$480,Q148,'Custo Básico dos Produtos'!$J$7:$J$480)","v":0},null,0,{"$f":"IF(B148=\"\",0,SUMIF('Cadastro de Produtos em Linha'!$B$7:$B$457,A148,'Cadastro de Produtos em Linha'!$D$7:$D$457))","v":0},null,0,0,{"$f":"IF('Aferi (Variáveis)'!$C$12=\"ALC\",0,IF('Aferi (Variáveis)'!$C$12=\"ZFM\",0,IF('Aferi (Variáveis)'!$C$12=\"Exportação\",0,IF('Aferi (Variáveis)'!$C$12=\"Venda para Exportar\",0,IF('Aferi (Variáveis)'!$C$12=\"AO\",0,SUMIF('Custo Básico dos Produtos'!$A$7:$A$480,Q148,'Custo Básico dos Produtos'!$L$7:$L$480))))))","v":0},0,0,0,0,{"$f":"SUMIF('Cadastro de Produtos em Linha'!$A$6:$A$457,Q148,'Cadastro de Produtos em Linha'!$E$6:$E$457)*H148","v":0},{"$f":"IF(TODAY()<$AK$26,IF(A148<>\"\",SUMIF('Custo Básico dos Produtos'!$B$7:$B$457,A148,'Custo Básico dos Produtos'!$A$7:$A$457),0),0)","v":0},{"$f":"IF('Aferi (Variáveis)'!$C$12=\"Venda para Exportar\",0,IF('Aferi (Variáveis)'!$C$12=\"ALC\",0,IF('Aferi (Variáveis)'!$C$12=\"ZFM\",0,IF('Aferi (Variáveis)'!$C$12=\"Exportação\",0,IF('Aferi (Variáveis)'!$C$12=\"AO\",0,E148/(100+(0*'Aferi (Variáveis)'!$K$12/100))*100*K148%/100*'Aferi (Variáveis)'!$K$12)))))","v":0},0,{"$f":"(E148*'Aferi (Variáveis)'!$K$12/100)","v":0},0,{"$f":"IF('Aferi (Variáveis)'!$F$20=\"Venda para Exportar\",0,IF('Aferi (Variáveis)'!$F$20=\"ALC\",0,IF('Aferi (Variáveis)'!$F$20=\"ZFM\",0,IF('Aferi (Variáveis)'!$F$20=\"Exportação\",0,IF('Aferi (Variáveis)'!$F$20=\"AO\",7*T148/100,T148*'Aferi (Variáveis)'!$F$20/100)))))","v":0},0,{"$f":"IF('Aferi (Variáveis)'!$C$12=\"ZFM\",0,IF('Aferi (Variáveis)'!$C$12=\"Exportação\",0,3*T148/100))","v":0},{"$f":"IF('Aferi (Variáveis)'!$C$12=\"ZFM\",0,IF('Aferi (Variáveis)'!$C$12=\"Exportação\",0,0.65*T148/100))","v":0},0,0,0,0,0,0,0,0,0,{"$f":"SUMIF('Custo Básico dos Produtos'!$B$7:$B$480,A148,'Custo Básico dos Produtos'!$K$7:$K$480)","v":0},null,null,0,0,0,0,0,0]
[null,{"$f":"IF(Q149<>0,VLOOKUP(Q149,'Custo Básico dos Produtos'!$A$7:$J$480,3),\"\")","v":""},null,{"$f":"SUMIF('Custo Básico dos Produtos'!$A$7:$A$480,Q149,'Custo Básico dos Produtos'!$J$7:$J$480)","v":0},null,0,{"$f":"IF(B149=\"\",0,SUMIF('Cadastro de Produtos em Linha'!$B$7:$B$457,A149,'Cadastro de Produtos em Linha'!$D$7:$D$457))","v":0},null,0,0,{"$f":"IF('Aferi (Variáveis)'!$C$12=\"ALC\",0,IF('Aferi (Variáveis)'!$C$12=\"ZFM\",0,IF('Aferi (Variáveis)'!$C$12=\"Exportação\",0,IF('Aferi (Variáveis)'!$C$12=\"Venda para Exportar\",0,IF('Aferi (Variáveis)'!$C$12=\"AO\",0,SUMIF('Custo Básico dos Produtos'!$A$7:$A$480,Q149,'Custo Básico dos Produtos'!$L$7:$L$480))))))","v":0},0,0,0,0,{"$f":"SUMIF('Cadastro de Produtos em Linha'!$A$6:$A$457,Q149,'Cadastro de Produtos em Linha'!$E$6:$E$457)*H149","v":0},{"$f":"IF(TODAY()<$AK$26,IF(A149<>\"\",SUMIF('Custo Básico dos Produtos'!$B$7:$B$457,A149,'Custo Básico dos Produtos'!$A$7:$A$457),0),0)","v":0},{"$f":"IF('Aferi (Variáveis)'!$C$12=\"Venda para Exportar\",0,IF('Aferi (Variáveis)'!$C$12=\"ALC\",0,IF('Aferi (Variáveis)'!$C$12=\"ZFM\",0,IF('Aferi (Variáveis)'!$C$12=\"Exportação\",0,IF('Aferi (Variáveis)'!$C$12=\"AO\",0,E149/(100+(0*'Aferi (Variáveis)'!$K$12/100))*100*K149%/100*'Aferi (Variáveis)'!$K$12)))))","v":0},0,{"$f":"(E149*'Aferi (Variáveis)'!$K$12/100)","v":0},0,{"$f":"IF('Aferi (Variáveis)'!$F$20=\"Venda para Exportar\",0,IF('Aferi (Variáveis)'!$F$20=\"ALC\",0,IF('Aferi (Variáveis)'!$F$20=\"ZFM\",0,IF('Aferi (Variáveis)'!$F$20=\"Exportação\",0,IF('Aferi (Variáveis)'!$F$20=\"AO\",7*T149/100,T149*'Aferi (Variáveis)'!$F$20/100)))))","v":0},0,{"$f":"IF('Aferi (Variáveis)'!$C$12=\"ZFM\",0,IF('Aferi (Variáveis)'!$C$12=\"Exportação\",0,3*T149/100))","v":0},{"$f":"IF('Aferi (Variáveis)'!$C$12=\"ZFM\",0,IF('Aferi (Variáveis)'!$C$12=\"Exportação\",0,0.65*T149/100))","v":0},0,0,0,0,0,0,0,0,0,{"$f":"SUMIF('Custo Básico dos Produtos'!$B$7:$B$480,A149,'Custo Básico dos Produtos'!$K$7:$K$480)","v":0},null,null,0,0,0,0,0,0]
[null,{"$f":"IF(Q150<>0,VLOOKUP(Q150,'Custo Básico dos Produtos'!$A$7:$J$480,3),\"\")","v":""},null,{"$f":"SUMIF('Custo Básico dos Produtos'!$A$7:$A$480,Q150,'Custo Básico dos Produtos'!$J$7:$J$480)","v":0},null,0,{"$f":"IF(B150=\"\",0,SUMIF('Cadastro de Produtos em Linha'!$B$7:$B$457,A150,'Cadastro de Produtos em Linha'!$D$7:$D$457))","v":0},null,0,0,{"$f":"IF('Aferi (Variáveis)'!$C$12=\"ALC\",0,IF('Aferi (Variáveis)'!$C$12=\"ZFM\",0,IF('Aferi (Variáveis)'!$C$12=\"Exportação\",0,IF('Aferi (Variáveis)'!$C$12=\"Venda para Exportar\",0,IF('Aferi (Variáveis)'!$C$12=\"AO\",0,SUMIF('Custo Básico dos Produtos'!$A$7:$A$480,Q150,'Custo Básico dos Produtos'!$L$7:$L$480))))))","v":0},0,0,0,0,{"$f":"SUMIF('Cadastro de Produtos em Linha'!$A$6:$A$457,Q150,'Cadastro de Produtos em Linha'!$E$6:$E$457)*H150","v":0},{"$f":"IF(TODAY()<$AK$26,IF(A150<>\"\",SUMIF('Custo Básico dos Produtos'!$B$7:$B$457,A150,'Custo Básico dos Produtos'!$A$7:$A$457),0),0)","v":0},{"$f":"IF('Aferi (Variáveis)'!$C$12=\"Venda para Exportar\",0,IF('Aferi (Variáveis)'!$C$12=\"ALC\",0,IF('Aferi (Variáveis)'!$C$12=\"ZFM\",0,IF('Aferi (Variáveis)'!$C$12=\"Exportação\",0,IF('Aferi (Variáveis)'!$C$12=\"AO\",0,E150/(100+(0*'Aferi (Variáveis)'!$K$12/100))*100*K150%/100*'Aferi (Variáveis)'!$K$12)))))","v":0},0,{"$f":"(E150*'Aferi (Variáveis)'!$K$12/100)","v":0},0,{"$f":"IF('Aferi (Variáveis)'!$F$20=\"Venda para Exportar\",0,IF('Aferi (Variáveis)'!$F$20=\"ALC\",0,IF('Aferi (Variáveis)'!$F$20=\"ZFM\",0,IF('Aferi (Variáveis)'!$F$20=\"Exportação\",0,IF('Aferi (Variáveis)'!$F$20=\"AO\",7*T150/100,T150*'Aferi (Variáveis)'!$F$20/100)))))","v":0},0,{"$f":"IF('Aferi (Variáveis)'!$C$12=\"ZFM\",0,IF('Aferi (Variáveis)'!$C$12=\"Exportação\",0,3*T150/100))","v":0},{"$f":"IF('Aferi (Variáveis)'!$C$12=\"ZFM\",0,IF('Aferi (Variáveis)'!$C$12=\"Exportação\",0,0.65*T150/100))","v":0},0,0,0,0,0,0,0,0,0,{"$f":"SUMIF('Custo Básico dos Produtos'!$B$7:$B$480,A150,'Custo Básico dos Produtos'!$K$7:$K$480)","v":0},null,null,0,0,0,0,0,0]
[null,{"$f":"IF(Q151<>0,VLOOKUP(Q151,'Custo Básico dos Produtos'!$A$7:$J$480,3),\"\")","v":""},null,{"$f":"SUMIF('Custo Básico dos Produtos'!$A$7:$A$480,Q151,'Custo Básico dos Produtos'!$J$7:$J$480)","v":0},null,0,{"$f":"IF(B151=\"\",0,SUMIF('Cadastro de Produtos em Linha'!$B$7:$B$457,A151,'Cadastro de Produtos em Linha'!$D$7:$D$457))","v":0},null,0,0,{"$f":"IF('Aferi (Variáveis)'!$C$12=\"ALC\",0,IF('Aferi (Variáveis)'!$C$12=\"ZFM\",0,IF('Aferi (Variáveis)'!$C$12=\"Exportação\",0,IF('Aferi (Variáveis)'!$C$12=\"Venda para Exportar\",0,IF('Aferi (Variáveis)'!$C$12=\"AO\",0,SUMIF('Custo Básico dos Produtos'!$A$7:$A$480,Q151,'Custo Básico dos Produtos'!$L$7:$L$480))))))","v":0},0,0,0,0,{"$f":"SUMIF('Cadastro de Produtos em Linha'!$A$6:$A$457,Q151,'Cadastro de Produtos em Linha'!$E$6:$E$457)*H151","v":0},{"$f":"IF(TODAY()<$AK$26,IF(A151<>\"\",SUMIF('Custo Básico dos Produtos'!$B$7:$B$457,A151,'Custo Básico dos Produtos'!$A$7:$A$457),0),0)","v":0},{"$f":"IF('Aferi (Variáveis)'!$C$12=\"Venda para Exportar\",0,IF('Aferi (Variáveis)'!$C$12=\"ALC\",0,IF('Aferi (Variáveis)'!$C$12=\"ZFM\",0,IF('Aferi (Variáveis)'!$C$12=\"Exportação\",0,IF('Aferi (Variáveis)'!$C$12=\"AO\",0,E151/(100+(0*'Aferi (Variáveis)'!$K$12/100))*100*K151%/100*'Aferi (Variáveis)'!$K$12)))))","v":0},0,{"$f":"(E151*'Aferi (Variáveis)'!$K$12/100)","v":0},0,{"$f":"IF('Aferi (Variáveis)'!$F$20=\"Venda para Exportar\",0,IF('Aferi (Variáveis)'!$F$20=\"ALC\",0,IF('Aferi (Variáveis)'!$F$20=\"ZFM\",0,IF('Aferi (Variáveis)'!$F$20=\"Exportação\",0,IF('Aferi (Variáveis)'!$F$20=\"AO\",7*T151/100,T151*'Aferi (Variáveis)'!$F$20/100)))))","v":0},0,{"$f":"IF('Aferi (Variáveis)'!$C$12=\"ZFM\",0,IF('Aferi (Variáveis)'!$C$12=\"Exportação\",0,3*T151/100))","v":0},{"$f":"IF('Aferi (Variáveis)'!$C$12=\"ZFM\",0,IF('Aferi (Variáveis)'!$C$12=\"Exportação\",0,0.65*T151/100))","v":0},0,0,0,0,0,0,0,0,0,{"$f":"SUMIF('Custo Básico dos Produtos'!$B$7:$B$480,A151,'Custo Básico dos Produtos'!$K$7:$K$480)","v":0},null,null,0,0,0,0,0,0]
[null,{"$f":"IF(Q152<>0,VLOOKUP(Q152,'Custo Básico dos Produtos'!$A$7:$J$480,3),\"\")","v":""},null,{"$f":"SUMIF('Custo Básico dos Produtos'!$A$7:$A$480,Q152,'Custo Básico dos Produtos'!$J$7:$J$480)","v":0},null,0,{"$f":"IF(B152=\"\",0,SUMIF('Cadastro de Produtos em Linha'!$B$7:$B$457,A152,'Cadastro de Produtos em Linha'!$D$7:$D$457))","v":0},null,0,0,{"$f":"IF('Aferi (Variáveis)'!$C$12=\"ALC\",0,IF('Aferi (Variáveis)'!$C$12=\"ZFM\",0,IF('Aferi (Variáveis)'!$C$12=\"Exportação\",0,IF('Aferi (Variáveis)'!$C$12=\"Venda para Exportar\",0,IF('Aferi (Variáveis)'!$C$12=\"AO\",0,SUMIF('Custo Básico dos Produtos'!$A$7:$A$480,Q152,'Custo Básico dos Produtos'!$L$7:$L$480))))))","v":0},0,0,0,0,{"$f":"SUMIF('Cadastro de Produtos em Linha'!$A$6:$A$457,Q152,'Cadastro de Produtos em Linha'!$E$6:$E$457)*H152","v":0},{"$f":"IF(TODAY()<$AK$26,IF(A152<>\"\",SUMIF('Custo Básico dos Produtos'!$B$7:$B$457,A152,'Custo Básico dos Produtos'!$A$7:$A$457),0),0)","v":0},{"$f":"IF('Aferi (Variáveis)'!$C$12=\"Venda para Exportar\",0,IF('Aferi (Variáveis)'!$C$12=\"ALC\",0,IF('Aferi (Variáveis)'!$C$12=\"ZFM\",0,IF('Aferi (Variáveis)'!$C$12=\"Exportação\",0,IF('Aferi (Variáveis)'!$C$12=\"AO\",0,E152/(100+(0*'Aferi (Variáveis)'!$K$12/100))*100*K152%/100*'Aferi (Variáveis)'!$K$12)))))","v":0},0,{"$f":"(E152*'Aferi (Variáveis)'!$K$12/100)","v":0},0,{"$f":"IF('Aferi (Variáveis)'!$F$20=\"Venda para Exportar\",0,IF('Aferi (Variáveis)'!$F$20=\"ALC\",0,IF('Aferi (Variáveis)'!$F$20=\"ZFM\",0,IF('Aferi (Variáveis)'!$F$20=\"Exportação\",0,IF('Aferi (Variáveis)'!$F$20=\"AO\",7*T152/100,T152*'Aferi (Variáveis)'!$F$20/100)))))","v":0},0,{"$f":"IF('Aferi (Variáveis)'!$C$12=\"ZFM\",0,IF('Aferi (Variáveis)'!$C$12=\"Exportação\",0,3*T152/100))","v":0},{"$f":"IF('Aferi (Variáveis)'!$C$12=\"ZFM\",0,IF('Aferi (Variáveis)'!$C$12=\"Exportação\",0,0.65*T152/100))","v":0},0,0,0,0,0,0,0,0,0,{"$f":"SUMIF('Custo Básico dos Produtos'!$B$7:$B$480,A152,'Custo Básico dos Produtos'!$K$7:$K$480)","v":0},null,null,0,0,0,0,0,0]
[null,{"$f":"IF(Q153<>0,VLOOKUP(Q153,'Custo Básico dos Produtos'!$A$7:$J$480,3),\"\")","v":""},null,{"$f":"SUMIF('Custo Básico dos Produtos'!$A$7:$A$480,Q153,'Custo Básico dos Produtos'!$J$7:$J$480)","v":0},null,0,{"$f":"IF(B153=\"\",0,SUMIF('Cadastro de Produtos em Linha'!$B$7:$B$457,A153,'Cadastro de Produtos em Linha'!$D$7:$D$457))","v":0},null,0,0,{"$f":"IF('Aferi (Variáveis)'!$C$12=\"ALC\",0,IF('Aferi (Variáveis)'!$C$12=\"ZFM\",0,IF('Aferi (Variáveis)'!$C$12=\"Exportação\",0,IF('Aferi (Variáveis)'!$C$12=\"Venda para Exportar\",0,IF('Aferi (Variáveis)'!$C$12=\"AO\",0,SUMIF('Custo Básico dos Produtos'!$A$7:$A$480,Q153,'Custo Básico dos Produtos'!$L$7:$L$480))))))","v":0},0,0,0,0,{"$f":"SUMIF('Cadastro de Produtos em Linha'!$A$6:$A$457,Q153,'Cadastro de Produtos em Linha'!$E$6:$E$457)*H153","v":0},{"$f":"IF(TODAY()<$AK$26,IF(A153<>\"\",SUMIF('Custo Básico dos Produtos'!$B$7:$B$457,A153,'Custo Básico dos Produtos'!$A$7:$A$457),0),0)","v":0},{"$f":"IF('Aferi (Variáveis)'!$C$12=\"Venda para Exportar\",0,IF('Aferi (Variáveis)'!$C$12=\"ALC\",0,IF('Aferi (Variáveis)'!$C$12=\"ZFM\",0,IF('Aferi (Variáveis)'!$C$12=\"Exportação\",0,IF('Aferi (Variáveis)'!$C$12=\"AO\",0,E153/(100+(0*'Aferi (Variáveis)'!$K$12/100))*100*K153%/100*'Aferi (Variáveis)'!$K$12)))))","v":0},0,{"$f":"(E153*'Aferi (Variáveis)'!$K$12/100)","v":0},0,{"$f":"IF('Aferi (Variáveis)'!$F$20=\"Venda para Exportar\",0,IF('Aferi (Variáveis)'!$F$20=\"ALC\",0,IF('Aferi (Variáveis)'!$F$20=\"ZFM\",0,IF('Aferi (Variáveis)'!$F$20=\"Exportação\",0,IF('Aferi (Variáveis)'!$F$20=\"AO\",7*T153/100,T153*'Aferi (Variáveis)'!$F$20/100)))))","v":0},0,{"$f":"IF('Aferi (Variáveis)'!$C$12=\"ZFM\",0,IF('Aferi (Variáveis)'!$C$12=\"Exportação\",0,3*T153/100))","v":0},{"$f":"IF('Aferi (Variáveis)'!$C$12=\"ZFM\",0,IF('Aferi (Variáveis)'!$C$12=\"Exportação\",0,0.65*T153/100))","v":0},0,0,0,0,0,0,0,0,0,{"$f":"SUMIF('Custo Básico dos Produtos'!$B$7:$B$480,A153,'Custo Básico dos Produtos'!$K$7:$K$480)","v":0},null,null,0,0,0,0,0,0]
[null,{"$f":"IF(Q154<>0,VLOOKUP(Q154,'Custo Básico dos Produtos'!$A$7:$J$480,3),\"\")","v":""},null,{"$f":"SUMIF('Custo Básico dos Produtos'!$A$7:$A$480,Q154,'Custo Básico dos Produtos'!$J$7:$J$480)","v":0},null,0,{"$f":"IF(B154=\"\",0,SUMIF('Cadastro de Produtos em Linha'!$B$7:$B$457,A154,'Cadastro de Produtos em Linha'!$D$7:$D$457))","v":0},null,{"$f":"IF(F154=\"\",0,IF(F154>=AI154,G154*H154,0))","v":0},{"$f":"IF(F154=\"\",0,I154*E154)","v":0},{"$f":"IF('Aferi (Variáveis)'!$C$12=\"ALC\",0,IF('Aferi (Variáveis)'!$C$12=\"ZFM\",0,IF('Aferi (Variáveis)'!$C$12=\"Exportação\",0,IF('Aferi (Variáveis)'!$C$12=\"Venda para Exportar\",0,IF('Aferi (Variáveis)'!$C$12=\"AO\",0,SUMIF('Custo Básico dos Produtos'!$A$7:$A$480,Q154,'Custo Básico dos Produtos'!$L$7:$L$480))))))","v":0},0,0,0,{"$f":"IF(I154>0,AG154*I154,0)","v":0},{"$f":"SUMIF('Cadastro de Produtos em Linha'!$A$6:$A$457,Q154,'Cadastro de Produtos em Linha'!$E$6:$E$457)*H154","v":0},{"$f":"IF(TODAY()<$AK$26,IF(A154<>\"\",SUMIF('Custo Básico dos Produtos'!$B$7:$B$457,A154,'Custo Básico dos Produtos'!$A$7:$A$457),0),0)","v":0},{"$f":"IF('Aferi (Variáveis)'!$C$12=\"Venda para Exportar\",0,IF('Aferi (Variáveis)'!$C$12=\"ALC\",0,IF('Aferi (Variáveis)'!$C$12=\"ZFM\",0,IF('Aferi (Variáveis)'!$C$12=\"Exportação\",0,IF('Aferi (Variáveis)'!$C$12=\"AO\",0,E154/(100+(0*'Aferi (Variáveis)'!$K$12/100))*100*K154%/100*'Aferi (Variáveis)'!$K$12)))))","v":0},{"$f":"I154*R154","v":0},{"$f":"(E154*'Aferi (Variáveis)'!$K$12/100)","v":0},{"$f":"IF(I154>0,T154*I154,0)","v":0},{"$f":"IF('Aferi (Variáveis)'!$F$20=\"Venda para Exportar\",0,IF('Aferi (Variáveis)'!$F$20=\"ALC\",0,IF('Aferi (Variáveis)'!$F$20=\"ZFM\",0,IF('Aferi (Variáveis)'!$F$20=\"Exportação\",0,IF('Aferi (Variáveis)'!$F$20=\"AO\",7*T154/100,T154*'Aferi (Variáveis)'!$F$20/100)))))","v":0},{"$f":"T154*(W$22/100)","v":0},{"$f":"IF('Aferi (Variáveis)'!$C$12=\"ZFM\",0,IF('Aferi (Variáveis)'!$C$12=\"Exportação\",0,3*T154/100))","v":0},{"$f":"IF('Aferi (Variáveis)'!$C$12=\"ZFM\",0,IF('Aferi (Variáveis)'!$C$12=\"Exportação\",0,0.65*T154/100))","v":0},{"$f":"T154*(Z$22/100)","v":0},0,0,0,0,0,0,{"$f":"E154-AF154-D154","v":0},{"$f":"IF(AG154<>0,AG154/(E154)*100,0)","v":0},{"$f":"SUMIF('Custo Básico dos Produtos'!$B$7:$B$480,A154,'Custo Básico dos Produtos'!$K$7:$K$480)","v":0},null,null,0,0,0,0,0,0]
[null,{"$f":"IF(Q155<>0,VLOOKUP(Q155,'Custo Básico dos Produtos'!$A$7:$J$480,3),\"\")","v":""},null,{"$f":"SUMIF('Custo Básico dos Produtos'!$A$7:$A$480,Q155,'Custo Básico dos Produtos'!$J$7:$J$480)","v":0},null,0,{"$f":"IF(B155=\"\",0,SUMIF('Cadastro de Produtos em Linha'!$B$7:$B$457,A155,'Cadastro de Produtos em Linha'!$D$7:$D$457))","v":0},null,0,0,{"$f":"IF('Aferi (Variáveis)'!$C$12=\"ALC\",0,IF('Aferi (Variáveis)'!$C$12=\"ZFM\",0,IF('Aferi (Variáveis)'!$C$12=\"Exportação\",0,IF('Aferi (Variáveis)'!$C$12=\"Venda para Exportar\",0,IF('Aferi (Variáveis)'!$C$12=\"AO\",0,SUMIF('Custo Básico dos Produtos'!$A$7:$A$480,Q155,'Custo Básico dos Produtos'!$L$7:$L$480))))))","v":0},{"$f":"J155+M155","v":0},{"$f":"S155","v":0},{"$f":"J155+M155","v":0},0,{"$f":"SUMIF('Cadastro de Produtos em Linha'!$A$6:$A$457,Q155,'Cadastro de Produtos em Linha'!$E$6:$E$457)*H155","v":0},{"$f":"IF(TODAY()<$AK$26,IF(A155<>\"\",SUMIF('Custo Básico dos Produtos'!$B$7:$B$457,A155,'Custo Básico dos Produtos'!$A$7:$A$457),0),0)","v":0},{"$f":"IF('Aferi (Variáveis)'!$C$12=\"Venda para Exportar\",0,IF('Aferi (Variáveis)'!$C$12=\"ALC\",0,IF('Aferi (Variáveis)'!$C$12=\"ZFM\",0,IF('Aferi (Variáveis)'!$C$12=\"Exportação\",0,IF('Aferi (Variáveis)'!$C$12=\"AO\",0,E155/(100+(0*'Aferi (Variáveis)'!$K$12/100))*100*K155%/100*'Aferi (Variáveis)'!$K$12)))))","v":0},0,{"$f":"(E155*'Aferi (Variáveis)'!$K$12/100)","v":0},0,{"$f":"IF('Aferi (Variáveis)'!$F$20=\"Venda para Exportar\",0,IF('Aferi (Variáveis)'!$F$20=\"ALC\",0,IF('Aferi (Variáveis)'!$F$20=\"ZFM\",0,IF('Aferi (Variáveis)'!$F$20=\"Exportação\",0,IF('Aferi (Variáveis)'!$F$20=\"AO\",7*T155/100,T155*'Aferi (Variáveis)'!$F$20/100)))))","v":0},0,{"$f":"IF('Aferi (Variáveis)'!$C$12=\"ZFM\",0,IF('Aferi (Variáveis)'!$C$12=\"Exportação\",0,3*T155/100))","v":0},{"$f":"IF('Aferi (Variáveis)'!$C$12=\"ZFM\",0,IF('Aferi (Variáveis)'!$C$12=\"Exportação\",0,0.65*T155/100))","v":0},0,0,{"$f":"E155*(AB$23/100)","v":0},{"$f":"IF(A155<>\"\",E155*(AC$23/100),0)","v":0},{"$f":"E155*($AD$23/100)","v":0},{"$f":"E155*(AE$23/100)","v":0},{"$f":"SUM(V155:AE155)","v":0},0,0,{"$f":"SUMIF('Custo Básico dos Produtos'!$B$7:$B$480,A155,'Custo Básico dos Produtos'!$K$7:$K$480)","v":0},null,null,{"$f":"D155","v":0},{"$f":"AL155/(1-AM$24)","v":0},{"$f":"AM155*AM$22","v":0},{"$f":"AM155*AM$23","v":0},{"$f":"AM155-SUM(AN155:AO155)-AL155","v":0},{"$f":"IFERROR(AP155/AM155,0)","v":0}]
[null,{"$f":"IF(Q156<>0,VLOOKUP(Q156,'Custo Básico dos Produtos'!$A$7:$J$480,3),\"\")","v":""},null,{"$f":"SUMIF('Custo Básico dos Produtos'!$A$7:$A$480,Q156,'Custo Básico dos Produtos'!$J$7:$J$480)","v":0},null,{"$f":"IF(A156=\"\",0,IF(TODAY()<$AK$26,IF(E156>0,IF(H156>0,IF(AH156>=AI156,AH156,)/4),0)))","v":0},{"$f":"IF(B156=\"\",0,SUMIF('Cadastro de Produtos em Linha'!$B$7:$B$457,A156,'Cadastro de Produtos em Linha'!$D$7:$D$457))","v":0},null,0,0,{"$f":"IF('Aferi (Variáveis)'!$C$12=\"ALC\",0,IF('Aferi (Variáveis)'!$C$12=\"ZFM\",0,IF('Aferi (Variáveis)'!$C$12=\"Exportação\",0,IF('Aferi (Variáveis)'!$C$12=\"Venda para Exportar\",0,IF('Aferi (Variáveis)'!$C$12=\"AO\",0,SUMIF('Custo Básico dos Produtos'!$A$7:$A$480,Q156,'Custo Básico dos Produtos'!$L$7:$L$480))))))","v":0},0,0,0,0,{"$f":"SUMIF('Cadastro de Produtos em Linha'!$A$6:$A$457,Q156,'Cadastro de Produtos em Linha'!$E$6:$E$457)*H156","v":0},{"$f":"IF(TODAY()<$AK$26,IF(A156<>\"\",SUMIF('Custo Básico dos Produtos'!$B$7:$B$457,A156,'Custo Básico dos Produtos'!$A$7:$A$457),0),0)","v":0},{"$f":"IF('Aferi (Variáveis)'!$C$12=\"Venda para Exportar\",0,IF('Aferi (Variáveis)'!$C$12=\"ALC\",0,IF('Aferi (Variáveis)'!$C$12=\"ZFM\",0,IF('Aferi (Variáveis)'!$C$12=\"Exportação\",0,IF('Aferi (Variáveis)'!$C$12=\"AO\",0,E156/(100+(0*'Aferi (Variáveis)'!$K$12/100))*100*K156%/100*'Aferi (Variáveis)'!$K$12)))))","v":0},0,{"$f":"(E156*'Aferi (Variáveis)'!$K$12/100)","v":0},0,{"$f":"IF('Aferi (Variáveis)'!$F$20=\"Venda para Exportar\",0,IF('Aferi (Variáveis)'!$F$20=\"ALC\",0,IF('Aferi (Variáveis)'!$F$20=\"ZFM\",0,IF('Aferi (Variáveis)'!$F$20=\"Exportação\",0,IF('Aferi (Variáveis)'!$F$20=\"AO\",7*T156/100,T156*'Aferi (Variáveis)'!$F$20/100)))))","v":0},0,{"$f":"IF('Aferi (Variáveis)'!$C$12=\"ZFM\",0,IF('Aferi (Variáveis)'!$C$12=\"Exportação\",0,3*T156/100))","v":0},{"$f":"IF('Aferi (Variáveis)'!$C$12=\"ZFM\",0,IF('Aferi (Variáveis)'!$C$12=\"Exportação\",0,0.65*T156/100))","v":0},0,{"$f":"E156*(AA$23/100)","v":0},0,0,0,0,0,0,0,{"$f":"SUMIF('Custo Básico dos Produtos'!$B$7:$B$480,A156,'Custo Básico dos Produtos'!$K$7:$K$480)","v":0},null,null,0,0,0,0,0,0]
[null,{"$f":"IF(Q157<>0,VLOOKUP(Q157,'Custo Básico dos Produtos'!$A$7:$J$480,3),\"\")","v":""},null,{"$f":"SUMIF('Custo Básico dos Produtos'!$A$7:$A$480,Q157,'Custo Básico dos Produtos'!$J$7:$J$480)","v":0},null,0,{"$f":"IF(B157=\"\",0,SUMIF('Cadastro de Produtos em Linha'!$B$7:$B$457,A157,'Cadastro de Produtos em Linha'!$D$7:$D$457))","v":0},null,0,0,{"$f":"IF('Aferi (Variáveis)'!$C$12=\"ALC\",0,IF('Aferi (Variáveis)'!$C$12=\"ZFM\",0,IF('Aferi (Variáveis)'!$C$12=\"Exportação\",0,IF('Aferi (Variáveis)'!$C$12=\"Venda para Exportar\",0,IF('Aferi (Variáveis)'!$C$12=\"AO\",0,SUMIF('Custo Básico dos Produtos'!$A$7:$A$480,Q157,'Custo Básico dos Produtos'!$L$7:$L$480))))))","v":0},0,0,0,0,{"$f":"SUMIF('Cadastro de Produtos em Linha'!$A$6:$A$457,Q157,'Cadastro de Produtos em Linha'!$E$6:$E$457)*H157","v":0},{"$f":"IF(TODAY()<$AK$26,IF(A157<>\"\",SUMIF('Custo Básico dos Produtos'!$B$7:$B$457,A157,'Custo Básico dos Produtos'!$A$7:$A$457),0),0)","v":0},{"$f":"IF('Aferi (Variáveis)'!$C$12=\"Venda para Exportar\",0,IF('Aferi (Variáveis)'!$C$12=\"ALC\",0,IF('Aferi (Variáveis)'!$C$12=\"ZFM\",0,IF('Aferi (Variáveis)'!$C$12=\"Exportação\",0,IF('Aferi (Variáveis)'!$C$12=\"AO\",0,E157/(100+(0*'Aferi (Variáveis)'!$K$12/100))*100*K157%/100*'Aferi (Variáveis)'!$K$12)))))","v":0},0,{"$f":"(E157*'Aferi (Variáveis)'!$K$12/100)","v":0},0,{"$f":"IF('Aferi (Variáveis)'!$F$20=\"Venda para Exportar\",0,IF('Aferi (Variáveis)'!$F$20=\"ALC\",0,IF('Aferi (Variáveis)'!$F$20=\"ZFM\",0,IF('Aferi (Variáveis)'!$F$20=\"Exportação\",0,IF('Aferi (Variáveis)'!$F$20=\"AO\",7*T157/100,T157*'Aferi (Variáveis)'!$F$20/100)))))","v":0},0,{"$f":"IF('Aferi (Variáveis)'!$C$12=\"ZFM\",0,IF('Aferi (Variáveis)'!$C$12=\"Exportação\",0,3*T157/100))","v":0},{"$f":"IF('Aferi (Variáveis)'!$C$12=\"ZFM\",0,IF('Aferi (Variáveis)'!$C$12=\"Exportação\",0,0.65*T157/100))","v":0},0,0,0,0,0,0,0,0,0,{"$f":"SUMIF('Custo Básico dos Produtos'!$B$7:$B$480,A157,'Custo Básico dos Produtos'!$K$7:$K$480)","v":0},null,null,0,0,0,0,0,0]
[null,{"$f":"IF(Q158<>0,VLOOKUP(Q158,'Custo Básico dos Produtos'!$A$7:$J$480,3),\"\")","v":""},null,{"$f":"SUMIF('Custo Básico dos Produtos'!$A$7:$A$480,Q158,'Custo Básico dos Produtos'!$J$7:$J$480)","v":0},null,0,{"$f":"IF(B158=\"\",0,SUMIF('Cadastro de Produtos em Linha'!$B$7:$B$457,A158,'Cadastro de Produtos em Linha'!$D$7:$D$457))","v":0},null,0,0,{"$f":"IF('Aferi (Variáveis)'!$C$12=\"ALC\",0,IF('Aferi (Variáveis)'!$C$12=\"ZFM\",0,IF('Aferi (Variáveis)'!$C$12=\"Exportação\",0,IF('Aferi (Variáveis)'!$C$12=\"Venda para Exportar\",0,IF('Aferi (Variáveis)'!$C$12=\"AO\",0,SUMIF('Custo Básico dos Produtos'!$A$7:$A$480,Q158,'Custo Básico dos Produtos'!$L$7:$L$480))))))","v":0},0,0,0,0,{"$f":"SUMIF('Cadastro de Produtos em Linha'!$A$6:$A$457,Q158,'Cadastro de Produtos em Linha'!$E$6:$E$457)*H158","v":0},{"$f":"IF(TODAY()<$AK$26,IF(A158<>\"\",SUMIF('Custo Básico dos Produtos'!$B$7:$B$457,A158,'Custo Básico dos Produtos'!$A$7:$A$457),0),0)","v":0},{"$f":"IF('Aferi (Variáveis)'!$C$12=\"Venda para Exportar\",0,IF('Aferi (Variáveis)'!$C$12=\"ALC\",0,IF('Aferi (Variáveis)'!$C$12=\"ZFM\",0,IF('Aferi (Variáveis)'!$C$12=\"Exportação\",0,IF('Aferi (Variáveis)'!$C$12=\"AO\",0,E158/(100+(0*'Aferi (Variáveis)'!$K$12/100))*100*K158%/100*'Aferi (Variáveis)'!$K$12)))))","v":0},0,{"$f":"(E158*'Aferi (Variáveis)'!$K$12/100)","v":0},0,{"$f":"IF('Aferi (Variáveis)'!$F$20=\"Venda para Exportar\",0,IF('Aferi (Variáveis)'!$F$20=\"ALC\",0,IF('Aferi (Variáveis)'!$F$20=\"ZFM\",0,IF('Aferi (Variáveis)'!$F$20=\"Exportação\",0,IF('Aferi (Variáveis)'!$F$20=\"AO\",7*T158/100,T158*'Aferi (Variáveis)'!$F$20/100)))))","v":0},0,{"$f":"IF('Aferi (Variáveis)'!$C$12=\"ZFM\",0,IF('Aferi (Variáveis)'!$C$12=\"Exportação\",0,3*T158/100))","v":0},{"$f":"IF('Aferi (Variáveis)'!$C$12=\"ZFM\",0,IF('Aferi (Variáveis)'!$C$12=\"Exportação\",0,0.65*T158/100))","v":0},0,0,0,0,0,0,0,0,0,{"$f":"SUMIF('Custo Básico dos Produtos'!$B$7:$B$480,A158,'Custo Básico dos Produtos'!$K$7:$K$480)","v":0},null,null,0,0,0,0,0,0]
[null,{"$f":"IF(Q159<>0,VLOOKUP(Q159,'Custo Básico dos Produtos'!$A$7:$J$480,3),\"\")","v":""},null,{"$f":"SUMIF('Custo Básico dos Produtos'!$A$7:$A$480,Q159,'Custo Básico dos Produtos'!$J$7:$J$480)","v":0},null,0,{"$f":"IF(B159=\"\",0,SUMIF('Cadastro de Produtos em Linha'!$B$7:$B$457,A159,'Cadastro de Produtos em Linha'!$D$7:$D$457))","v":0},null,0,0,{"$f":"IF('Aferi (Variáveis)'!$C$12=\"ALC\",0,IF('Aferi (Variáveis)'!$C$12=\"ZFM\",0,IF('Aferi (Variáveis)'!$C$12=\"Exportação\",0,IF('Aferi (Variáveis)'!$C$12=\"Venda para Exportar\",0,IF('Aferi (Variáveis)'!$C$12=\"AO\",0,SUMIF('Custo Básico dos Produtos'!$A$7:$A$480,Q159,'Custo Básico dos Produtos'!$L$7:$L$480))))))","v":0},0,0,0,0,{"$f":"SUMIF('Cadastro de Produtos em Linha'!$A$6:$A$457,Q159,'Cadastro de Produtos em Linha'!$E$6:$E$457)*H159","v":0},{"$f":"IF(TODAY()<$AK$26,IF(A159<>\"\",SUMIF('Custo Básico dos Produtos'!$B$7:$B$457,A159,'Custo Básico dos Produtos'!$A$7:$A$457),0),0)","v":0},{"$f":"IF('Aferi (Variáveis)'!$C$12=\"Venda para Exportar\",0,IF('Aferi (Variáveis)'!$C$12=\"ALC\",0,IF('Aferi (Variáveis)'!$C$12=\"ZFM\",0,IF('Aferi (Variáveis)'!$C$12=\"Exportação\",0,IF('Aferi (Variáveis)'!$C$12=\"AO\",0,E159/(100+(0*'Aferi (Variáveis)'!$K$12/100))*100*K159%/100*'Aferi (Variáveis)'!$K$12)))))","v":0},0,{"$f":"(E159*'Aferi (Variáveis)'!$K$12/100)","v":0},0,{"$f":"IF('Aferi (Variáveis)'!$F$20=\"Venda para Exportar\",0,IF('Aferi (Variáveis)'!$F$20=\"ALC\",0,IF('Aferi (Variáveis)'!$F$20=\"ZFM\",0,IF('Aferi (Variáveis)'!$F$20=\"Exportação\",0,IF('Aferi (Variáveis)'!$F$20=\"AO\",7*T159/100,T159*'Aferi (Variáveis)'!$F$20/100)))))","v":0},0,{"$f":"IF('Aferi (Variáveis)'!$C$12=\"ZFM\",0,IF('Aferi (Variáveis)'!$C$12=\"Exportação\",0,3*T159/100))","v":0},{"$f":"IF('Aferi (Variáveis)'!$C$12=\"ZFM\",0,IF('Aferi (Variáveis)'!$C$12=\"Exportação\",0,0.65*T159/100))","v":0},0,0,0,0,0,0,0,0,0,{"$f":"SUMIF('Custo Básico dos Produtos'!$B$7:$B$480,A159,'Custo Básico dos Produtos'!$K$7:$K$480)","v":0},null,null,0,0,0,0,0,0]
[null,{"$f":"IF(Q160<>0,VLOOKUP(Q160,'Custo Básico dos Produtos'!$A$7:$J$480,3),\"\")","v":""},null,{"$f":"SUMIF('Custo Básico dos Produtos'!$A$7:$A$480,Q160,'Custo Básico dos Produtos'!$J$7:$J$480)","v":0},null,0,{"$f":"IF(B160=\"\",0,SUMIF('Cadastro de Produtos em Linha'!$B$7:$B$457,A160,'Cadastro de Produtos em Linha'!$D$7:$D$457))","v":0},null,0,0,{"$f":"IF('Aferi (Variáveis)'!$C$12=\"ALC\",0,IF('Aferi (Variáveis)'!$C$12=\"ZFM\",0,IF('Aferi (Variáveis)'!$C$12=\"Exportação\",0,IF('Aferi (Variáveis)'!$C$12=\"Venda para Exportar\",0,IF('Aferi (Variáveis)'!$C$12=\"AO\",0,SUMIF('Custo Básico dos Produtos'!$A$7:$A$480,Q160,'Custo Básico dos Produtos'!$L$7:$L$480))))))","v":0},0,0,0,0,{"$f":"SUMIF('Cadastro de Produtos em Linha'!$A$6:$A$457,Q160,'Cadastro de Produtos em Linha'!$E$6:$E$457)*H160","v":0},{"$f":"IF(TODAY()<$AK$26,IF(A160<>\"\",SUMIF('Custo Básico dos Produtos'!$B$7:$B$457,A160,'Custo Básico dos Produtos'!$A$7:$A$457),0),0)","v":0},{"$f":"IF('Aferi (Variáveis)'!$C$12=\"Venda para Exportar\",0,IF('Aferi (Variáveis)'!$C$12=\"ALC\",0,IF('Aferi (Variáveis)'!$C$12=\"ZFM\",0,IF('Aferi (Variáveis)'!$C$12=\"Exportação\",0,IF('Aferi (Variáveis)'!$C$12=\"AO\",0,E160/(100+(0*'Aferi (Variáveis)'!$K$12/100))*100*K160%/100*'Aferi (Variáveis)'!$K$12)))))","v":0},0,{"$f":"(E160*'Aferi (Variáveis)'!$K$12/100)","v":0},0,{"$f":"IF('Aferi (Variáveis)'!$F$20=\"Venda para Exportar\",0,IF('Aferi (Variáveis)'!$F$20=\"ALC\",0,IF('Aferi (Variáveis)'!$F$20=\"ZFM\",0,IF('Aferi (Variáveis)'!$F$20=\"Exportação\",0,IF('Aferi (Variáveis)'!$F$20=\"AO\",7*T160/100,T160*'Aferi (Variáveis)'!$F$20/100)))))","v":0},0,{"$f":"IF('Aferi (Variáveis)'!$C$12=\"ZFM\",0,IF('Aferi (Variáveis)'!$C$12=\"Exportação\",0,3*T160/100))","v":0},{"$f":"IF('Aferi (Variáveis)'!$C$12=\"ZFM\",0,IF('Aferi (Variáveis)'!$C$12=\"Exportação\",0,0.65*T160/100))","v":0},0,0,0,0,0,0,0,0,0,{"$f":"SUMIF('Custo Básico dos Produtos'!$B$7:$B$480,A160,'Custo Básico dos Produtos'!$K$7:$K$480)","v":0},null,null,0,0,0,0,0,0]
[null,{"$f":"IF(Q161<>0,VLOOKUP(Q161,'Custo Básico dos Produtos'!$A$7:$J$480,3),\"\")","v":""},null,{"$f":"SUMIF('Custo Básico dos Produtos'!$A$7:$A$480,Q161,'Custo Básico dos Produtos'!$J$7:$J$480)","v":0},null,0,{"$f":"IF(B161=\"\",0,SUMIF('Cadastro de Produtos em Linha'!$B$7:$B$457,A161,'Cadastro de Produtos em Linha'!$D$7:$D$457))","v":0},null,0,0,{"$f":"IF('Aferi (Variáveis)'!$C$12=\"ALC\",0,IF('Aferi (Variáveis)'!$C$12=\"ZFM\",0,IF('Aferi (Variáveis)'!$C$12=\"Exportação\",0,IF('Aferi (Variáveis)'!$C$12=\"Venda para Exportar\",0,IF('Aferi (Variáveis)'!$C$12=\"AO\",0,SUMIF('Custo Básico dos Produtos'!$A$7:$A$480,Q161,'Custo Básico dos Produtos'!$L$7:$L$480))))))","v":0},0,0,0,0,{"$f":"SUMIF('Cadastro de Produtos em Linha'!$A$6:$A$457,Q161,'Cadastro de Produtos em Linha'!$E$6:$E$457)*H161","v":0},{"$f":"IF(TODAY()<$AK$26,IF(A161<>\"\",SUMIF('Custo Básico dos Produtos'!$B$7:$B$457,A161,'Custo Básico dos Produtos'!$A$7:$A$457),0),0)","v":0},{"$f":"IF('Aferi (Variáveis)'!$C$12=\"Venda para Exportar\",0,IF('Aferi (Variáveis)'!$C$12=\"ALC\",0,IF('Aferi (Variáveis)'!$C$12=\"ZFM\",0,IF('Aferi (Variáveis)'!$C$12=\"Exportação\",0,IF('Aferi (Variáveis)'!$C$12=\"AO\",0,E161/(100+(0*'Aferi (Variáveis)'!$K$12/100))*100*K161%/100*'Aferi (Variáveis)'!$K$12)))))","v":0},0,{"$f":"(E161*'Aferi (Variáveis)'!$K$12/100)","v":0},0,{"$f":"IF('Aferi (Variáveis)'!$F$20=\"Venda para Exportar\",0,IF('Aferi (Variáveis)'!$F$20=\"ALC\",0,IF('Aferi (Variáveis)'!$F$20=\"ZFM\",0,IF('Aferi (Variáveis)'!$F$20=\"Exportação\",0,IF('Aferi (Variáveis)'!$F$20=\"AO\",7*T161/100,T161*'Aferi (Variáveis)'!$F$20/100)))))","v":0},0,{"$f":"IF('Aferi (Variáveis)'!$C$12=\"ZFM\",0,IF('Aferi (Variáveis)'!$C$12=\"Exportação\",0,3*T161/100))","v":0},{"$f":"IF('Aferi (Variáveis)'!$C$12=\"ZFM\",0,IF('Aferi (Variáveis)'!$C$12=\"Exportação\",0,0.65*T161/100))","v":0},0,0,0,0,0,0,0,0,0,{"$f":"SUMIF('Custo Básico dos Produtos'!$B$7:$B$480,A161,'Custo Básico dos Produtos'!$K$7:$K$480)","v":0},null,null,0,0,0,0,0,0]
[null,{"$f":"IF(Q162<>0,VLOOKUP(Q162,'Custo Básico dos Produtos'!$A$7:$J$480,3),\"\")","v":""},null,{"$f":"SUMIF('Custo Básico dos Produtos'!$A$7:$A$480,Q162,'Custo Básico dos Produtos'!$J$7:$J$480)","v":0},null,0,{"$f":"IF(B162=\"\",0,SUMIF('Cadastro de Produtos em Linha'!$B$7:$B$457,A162,'Cadastro de Produtos em Linha'!$D$7:$D$457))","v":0},null,0,0,{"$f":"IF('Aferi (Variáveis)'!$C$12=\"ALC\",0,IF('Aferi (Variáveis)'!$C$12=\"ZFM\",0,IF('Aferi (Variáveis)'!$C$12=\"Exportação\",0,IF('Aferi (Variáveis)'!$C$12=\"Venda para Exportar\",0,IF('Aferi (Variáveis)'!$C$12=\"AO\",0,SUMIF('Custo Básico dos Produtos'!$A$7:$A$480,Q162,'Custo Básico dos Produtos'!$L$7:$L$480))))))","v":0},0,0,0,0,{"$f":"SUMIF('Cadastro de Produtos em Linha'!$A$6:$A$457,Q162,'Cadastro de Produtos em Linha'!$E$6:$E$457)*H162","v":0},{"$f":"IF(TODAY()<$AK$26,IF(A162<>\"\",SUMIF('Custo Básico dos Produtos'!$B$7:$B$457,A162,'Custo Básico dos Produtos'!$A$7:$A$457),0),0)","v":0},{"$f":"IF('Aferi (Variáveis)'!$C$12=\"Venda para Exportar\",0,IF('Aferi (Variáveis)'!$C$12=\"ALC\",0,IF('Aferi (Variáveis)'!$C$12=\"ZFM\",0,IF('Aferi (Variáveis)'!$C$12=\"Exportação\",0,IF('Aferi (Variáveis)'!$C$12=\"AO\",0,E162/(100+(0*'Aferi (Variáveis)'!$K$12/100))*100*K162%/100*'Aferi (Variáveis)'!$K$12)))))","v":0},0,{"$f":"(E162*'Aferi (Variáveis)'!$K$12/100)","v":0},0,{"$f":"IF('Aferi (Variáveis)'!$F$20=\"Venda para Exportar\",0,IF('Aferi (Variáveis)'!$F$20=\"ALC\",0,IF('Aferi (Variáveis)'!$F$20=\"ZFM\",0,IF('Aferi (Variáveis)'!$F$20=\"Exportação\",0,IF('Aferi (Variáveis)'!$F$20=\"AO\",7*T162/100,T162*'Aferi (Variáveis)'!$F$20/100)))))","v":0},0,{"$f":"IF('Aferi (Variáveis)'!$C$12=\"ZFM\",0,IF('Aferi (Variáveis)'!$C$12=\"Exportação\",0,3*T162/100))","v":0},{"$f":"IF('Aferi (Variáveis)'!$C$12=\"ZFM\",0,IF('Aferi (Variáveis)'!$C$12=\"Exportação\",0,0.65*T162/100))","v":0},0,0,0,0,0,0,0,0,0,{"$f":"SUMIF('Custo Básico dos Produtos'!$B$7:$B$480,A162,'Custo Básico dos Produtos'!$K$7:$K$480)","v":0},null,null,0,0,0,0,0,0]
[null,{"$f":"IF(Q163<>0,VLOOKUP(Q163,'Custo Básico dos Produtos'!$A$7:$J$480,3),\"\")","v":""},null,{"$f":"SUMIF('Custo Básico dos Produtos'!$A$7:$A$480,Q163,'Custo Básico dos Produtos'!$J$7:$J$480)","v":0},null,0,{"$f":"IF(B163=\"\",0,SUMIF('Cadastro de Produtos em Linha'!$B$7:$B$457,A163,'Cadastro de Produtos em Linha'!$D$7:$D$457))","v":0},null,0,0,{"$f":"IF('Aferi (Variáveis)'!$C$12=\"ALC\",0,IF('Aferi (Variáveis)'!$C$12=\"ZFM\",0,IF('Aferi (Variáveis)'!$C$12=\"Exportação\",0,IF('Aferi (Variáveis)'!$C$12=\"Venda para Exportar\",0,IF('Aferi (Variáveis)'!$C$12=\"AO\",0,SUMIF('Custo Básico dos Produtos'!$A$7:$A$480,Q163,'Custo Básico dos Produtos'!$L$7:$L$480))))))","v":0},0,0,0,0,{"$f":"SUMIF('Cadastro de Produtos em Linha'!$A$6:$A$457,Q163,'Cadastro de Produtos em Linha'!$E$6:$E$457)*H163","v":0},{"$f":"IF(TODAY()<$AK$26,IF(A163<>\"\",SUMIF('Custo Básico dos Produtos'!$B$7:$B$457,A163,'Custo Básico dos Produtos'!$A$7:$A$457),0),0)","v":0},{"$f":"IF('Aferi (Variáveis)'!$C$12=\"Venda para Exportar\",0,IF('Aferi (Variáveis)'!$C$12=\"ALC\",0,IF('Aferi (Variáveis)'!$C$12=\"ZFM\",0,IF('Aferi (Variáveis)'!$C$12=\"Exportação\",0,IF('Aferi (Variáveis)'!$C$12=\"AO\",0,E163/(100+(0*'Aferi (Variáveis)'!$K$12/100))*100*K163%/100*'Aferi (Variáveis)'!$K$12)))))","v":0},0,{"$f":"(E163*'Aferi (Variáveis)'!$K$12/100)","v":0},0,{"$f":"IF('Aferi (Variáveis)'!$F$20=\"Venda para Exportar\",0,IF('Aferi (Variáveis)'!$F$20=\"ALC\",0,IF('Aferi (Variáveis)'!$F$20=\"ZFM\",0,IF('Aferi (Variáveis)'!$F$20=\"Exportação\",0,IF('Aferi (Variáveis)'!$F$20=\"AO\",7*T163/100,T163*'Aferi (Variáveis)'!$F$20/100)))))","v":0},0,{"$f":"IF('Aferi (Variáveis)'!$C$12=\"ZFM\",0,IF('Aferi (Variáveis)'!$C$12=\"Exportação\",0,3*T163/100))","v":0},{"$f":"IF('Aferi (Variáveis)'!$C$12=\"ZFM\",0,IF('Aferi (Variáveis)'!$C$12=\"Exportação\",0,0.65*T163/100))","v":0},0,0,0,0,0,0,0,0,0,{"$f":"SUMIF('Custo Básico dos Produtos'!$B$7:$B$480,A163,'Custo Básico dos Produtos'!$K$7:$K$480)","v":0},null,null,0,0,0,0,0,0]
[null,{"$f":"IF(Q164<>0,VLOOKUP(Q164,'Custo Básico dos Produtos'!$A$7:$J$480,3),\"\")","v":""},null,{"$f":"SUMIF('Custo Básico dos Produtos'!$A$7:$A$480,Q164,'Custo Básico dos Produtos'!$J$7:$J$480)","v":0},null,0,{"$f":"IF(B164=\"\",0,SUMIF('Cadastro de Produtos em Linha'!$B$7:$B$457,A164,'Cadastro de Produtos em Linha'!$D$7:$D$457))","v":0},null,0,0,{"$f":"IF('Aferi (Variáveis)'!$C$12=\"ALC\",0,IF('Aferi (Variáveis)'!$C$12=\"ZFM\",0,IF('Aferi (Variáveis)'!$C$12=\"Exportação\",0,IF('Aferi (Variáveis)'!$C$12=\"Venda para Exportar\",0,IF('Aferi (Variáveis)'!$C$12=\"AO\",0,SUMIF('Custo Básico dos Produtos'!$A$7:$A$480,Q164,'Custo Básico dos Produtos'!$L$7:$L$480))))))","v":0},0,0,0,0,{"$f":"SUMIF('Cadastro de Produtos em Linha'!$A$6:$A$457,Q164,'Cadastro de Produtos em Linha'!$E$6:$E$457)*H164","v":0},{"$f":"IF(TODAY()<$AK$26,IF(A164<>\"\",SUMIF('Custo Básico dos Produtos'!$B$7:$B$457,A164,'Custo Básico dos Produtos'!$A$7:$A$457),0),0)","v":0},{"$f":"IF('Aferi (Variáveis)'!$C$12=\"Venda para Exportar\",0,IF('Aferi (Variáveis)'!$C$12=\"ALC\",0,IF('Aferi (Variáveis)'!$C$12=\"ZFM\",0,IF('Aferi (Variáveis)'!$C$12=\"Exportação\",0,IF('Aferi (Variáveis)'!$C$12=\"AO\",0,E164/(100+(0*'Aferi (Variáveis)'!$K$12/100))*100*K164%/100*'Aferi (Variáveis)'!$K$12)))))","v":0},0,{"$f":"(E164*'Aferi (Variáveis)'!$K$12/100)","v":0},0,{"$f":"IF('Aferi (Variáveis)'!$F$20=\"Venda para Exportar\",0,IF('Aferi (Variáveis)'!$F$20=\"ALC\",0,IF('Aferi (Variáveis)'!$F$20=\"ZFM\",0,IF('Aferi (Variáveis)'!$F$20=\"Exportação\",0,IF('Aferi (Variáveis)'!$F$20=\"AO\",7*T164/100,T164*'Aferi (Variáveis)'!$F$20/100)))))","v":0},0,{"$f":"IF('Aferi (Variáveis)'!$C$12=\"ZFM\",0,IF('Aferi (Variáveis)'!$C$12=\"Exportação\",0,3*T164/100))","v":0},{"$f":"IF('Aferi (Variáveis)'!$C$12=\"ZFM\",0,IF('Aferi (Variáveis)'!$C$12=\"Exportação\",0,0.65*T164/100))","v":0},0,0,0,0,0,0,0,0,0,{"$f":"SUMIF('Custo Básico dos Produtos'!$B$7:$B$480,A164,'Custo Básico dos Produtos'!$K$7:$K$480)","v":0},null,null,0,0,0,0,0,0]
[null,{"$f":"IF(Q165<>0,VLOOKUP(Q165,'Custo Básico dos Produtos'!$A$7:$J$480,3),\"\")","v":""},null,{"$f":"SUMIF('Custo Básico dos Produtos'!$A$7:$A$480,Q165,'Custo Básico dos Produtos'!$J$7:$J$480)","v":0},null,0,{"$f":"IF(B165=\"\",0,SUMIF('Cadastro de Produtos em Linha'!$B$7:$B$457,A165,'Cadastro de Produtos em Linha'!$D$7:$D$457))","v":0},null,0,0,{"$f":"IF('Aferi (Variáveis)'!$C$12=\"ALC\",0,IF('Aferi (Variáveis)'!$C$12=\"ZFM\",0,IF('Aferi (Variáveis)'!$C$12=\"Exportação\",0,IF('Aferi (Variáveis)'!$C$12=\"Venda para Exportar\",0,IF('Aferi (Variáveis)'!$C$12=\"AO\",0,SUMIF('Custo Básico dos Produtos'!$A$7:$A$480,Q165,'Custo Básico dos Produtos'!$L$7:$L$480))))))","v":0},0,0,0,0,{"$f":"SUMIF('Cadastro de Produtos em Linha'!$A$6:$A$457,Q165,'Cadastro de Produtos em Linha'!$E$6:$E$457)*H165","v":0},{"$f":"IF(TODAY()<$AK$26,IF(A165<>\"\",SUMIF('Custo Básico dos Produtos'!$B$7:$B$457,A165,'Custo Básico dos Produtos'!$A$7:$A$457),0),0)","v":0},{"$f":"IF('Aferi (Variáveis)'!$C$12=\"Venda para Exportar\",0,IF('Aferi (Variáveis)'!$C$12=\"ALC\",0,IF('Aferi (Variáveis)'!$C$12=\"ZFM\",0,IF('Aferi (Variáveis)'!$C$12=\"Exportação\",0,IF('Aferi (Variáveis)'!$C$12=\"AO\",0,E165/(100+(0*'Aferi (Variáveis)'!$K$12/100))*100*K165%/100*'Aferi (Variáveis)'!$K$12)))))","v":0},0,{"$f":"(E165*'Aferi (Variáveis)'!$K$12/100)","v":0},0,{"$f":"IF('Aferi (Variáveis)'!$F$20=\"Venda para Exportar\",0,IF('Aferi (Variáveis)'!$F$20=\"ALC\",0,IF('Aferi (Variáveis)'!$F$20=\"ZFM\",0,IF('Aferi (Variáveis)'!$F$20=\"Exportação\",0,IF('Aferi (Variáveis)'!$F$20=\"AO\",7*T165/100,T165*'Aferi (Variáveis)'!$F$20/100)))))","v":0},0,{"$f":"IF('Aferi (Variáveis)'!$C$12=\"ZFM\",0,IF('Aferi (Variáveis)'!$C$12=\"Exportação\",0,3*T165/100))","v":0},{"$f":"IF('Aferi (Variáveis)'!$C$12=\"ZFM\",0,IF('Aferi (Variáveis)'!$C$12=\"Exportação\",0,0.65*T165/100))","v":0},0,0,0,0,0,0,0,0,0,{"$f":"SUMIF('Custo Básico dos Produtos'!$B$7:$B$480,A165,'Custo Básico dos Produtos'!$K$7:$K$480)","v":0},null,null,0,0,0,0,0,0]
[null,{"$f":"IF(Q166<>0,VLOOKUP(Q166,'Custo Básico dos Produtos'!$A$7:$J$480,3),\"\")","v":""},null,{"$f":"SUMIF('Custo Básico dos Produtos'!$A$7:$A$480,Q166,'Custo Básico dos Produtos'!$J$7:$J$480)","v":0},null,0,{"$f":"IF(B166=\"\",0,SUMIF('Cadastro de Produtos em Linha'!$B$7:$B$457,A166,'Cadastro de Produtos em Linha'!$D$7:$D$457))","v":0},null,0,0,{"$f":"IF('Aferi (Variáveis)'!$C$12=\"ALC\",0,IF('Aferi (Variáveis)'!$C$12=\"ZFM\",0,IF('Aferi (Variáveis)'!$C$12=\"Exportação\",0,IF('Aferi (Variáveis)'!$C$12=\"Venda para Exportar\",0,IF('Aferi (Variáveis)'!$C$12=\"AO\",0,SUMIF('Custo Básico dos Produtos'!$A$7:$A$480,Q166,'Custo Básico dos Produtos'!$L$7:$L$480))))))","v":0},0,0,0,0,{"$f":"SUMIF('Cadastro de Produtos em Linha'!$A$6:$A$457,Q166,'Cadastro de Produtos em Linha'!$E$6:$E$457)*H166","v":0},{"$f":"IF(TODAY()<$AK$26,IF(A166<>\"\",SUMIF('Custo Básico dos Produtos'!$B$7:$B$457,A166,'Custo Básico dos Produtos'!$A$7:$A$457),0),0)","v":0},{"$f":"IF('Aferi (Variáveis)'!$C$12=\"Venda para Exportar\",0,IF('Aferi (Variáveis)'!$C$12=\"ALC\",0,IF('Aferi (Variáveis)'!$C$12=\"ZFM\",0,IF('Aferi (Variáveis)'!$C$12=\"Exportação\",0,IF('Aferi (Variáveis)'!$C$12=\"AO\",0,E166/(100+(0*'Aferi (Variáveis)'!$K$12/100))*100*K166%/100*'Aferi (Variáveis)'!$K$12)))))","v":0},0,{"$f":"(E166*'Aferi (Variáveis)'!$K$12/100)","v":0},0,{"$f":"IF('Aferi (Variáveis)'!$F$20=\"Venda para Exportar\",0,IF('Aferi (Variáveis)'!$F$20=\"ALC\",0,IF('Aferi (Variáveis)'!$F$20=\"ZFM\",0,IF('Aferi (Variáveis)'!$F$20=\"Exportação\",0,IF('Aferi (Variáveis)'!$F$20=\"AO\",7*T166/100,T166*'Aferi (Variáveis)'!$F$20/100)))))","v":0},0,{"$f":"IF('Aferi (Variáveis)'!$C$12=\"ZFM\",0,IF('Aferi (Variáveis)'!$C$12=\"Exportação\",0,3*T166/100))","v":0},{"$f":"IF('Aferi (Variáveis)'!$C$12=\"ZFM\",0,IF('Aferi (Variáveis)'!$C$12=\"Exportação\",0,0.65*T166/100))","v":0},0,0,0,0,0,0,0,0,0,{"$f":"SUMIF('Custo Básico dos Produtos'!$B$7:$B$480,A166,'Custo Básico dos Produtos'!$K$7:$K$480)","v":0},null,null,0,0,0,0,0,0]
[null,{"$f":"IF(Q167<>0,VLOOKUP(Q167,'Custo Básico dos Produtos'!$A$7:$J$480,3),\"\")","v":""},null,{"$f":"SUMIF('Custo Básico dos Produtos'!$A$7:$A$480,Q167,'Custo Básico dos Produtos'!$J$7:$J$480)","v":0},null,0,{"$f":"IF(B167=\"\",0,SUMIF('Cadastro de Produtos em Linha'!$B$7:$B$457,A167,'Cadastro de Produtos em Linha'!$D$7:$D$457))","v":0},null,0,0,{"$f":"IF('Aferi (Variáveis)'!$C$12=\"ALC\",0,IF('Aferi (Variáveis)'!$C$12=\"ZFM\",0,IF('Aferi (Variáveis)'!$C$12=\"Exportação\",0,IF('Aferi (Variáveis)'!$C$12=\"Venda para Exportar\",0,IF('Aferi (Variáveis)'!$C$12=\"AO\",0,SUMIF('Custo Básico dos Produtos'!$A$7:$A$480,Q167,'Custo Básico dos Produtos'!$L$7:$L$480))))))","v":0},0,0,0,0,{"$f":"SUMIF('Cadastro de Produtos em Linha'!$A$6:$A$457,Q167,'Cadastro de Produtos em Linha'!$E$6:$E$457)*H167","v":0},{"$f":"IF(TODAY()<$AK$26,IF(A167<>\"\",SUMIF('Custo Básico dos Produtos'!$B$7:$B$457,A167,'Custo Básico dos Produtos'!$A$7:$A$457),0),0)","v":0},{"$f":"IF('Aferi (Variáveis)'!$C$12=\"Venda para Exportar\",0,IF('Aferi (Variáveis)'!$C$12=\"ALC\",0,IF('Aferi (Variáveis)'!$C$12=\"ZFM\",0,IF('Aferi (Variáveis)'!$C$12=\"Exportação\",0,IF('Aferi (Variáveis)'!$C$12=\"AO\",0,E167/(100+(0*'Aferi (Variáveis)'!$K$12/100))*100*K167%/100*'Aferi (Variáveis)'!$K$12)))))","v":0},0,{"$f":"(E167*'Aferi (Variáveis)'!$K$12/100)","v":0},0,{"$f":"IF('Aferi (Variáveis)'!$F$20=\"Venda para Exportar\",0,IF('Aferi (Variáveis)'!$F$20=\"ALC\",0,IF('Aferi (Variáveis)'!$F$20=\"ZFM\",0,IF('Aferi (Variáveis)'!$F$20=\"Exportação\",0,IF('Aferi (Variáveis)'!$F$20=\"AO\",7*T167/100,T167*'Aferi (Variáveis)'!$F$20/100)))))","v":0},0,{"$f":"IF('Aferi (Variáveis)'!$C$12=\"ZFM\",0,IF('Aferi (Variáveis)'!$C$12=\"Exportação\",0,3*T167/100))","v":0},{"$f":"IF('Aferi (Variáveis)'!$C$12=\"ZFM\",0,IF('Aferi (Variáveis)'!$C$12=\"Exportação\",0,0.65*T167/100))","v":0},0,0,0,0,0,0,0,0,0,{"$f":"SUMIF('Custo Básico dos Produtos'!$B$7:$B$480,A167,'Custo Básico dos Produtos'!$K$7:$K$480)","v":0},null,null,0,0,0,0,0,0]
[null,{"$f":"IF(Q168<>0,VLOOKUP(Q168,'Custo Básico dos Produtos'!$A$7:$J$480,3),\"\")","v":""},null,{"$f":"SUMIF('Custo Básico dos Produtos'!$A$7:$A$480,Q168,'Custo Básico dos Produtos'!$J$7:$J$480)","v":0},null,0,{"$f":"IF(B168=\"\",0,SUMIF('Cadastro de Produtos em Linha'!$B$7:$B$457,A168,'Cadastro de Produtos em Linha'!$D$7:$D$457))","v":0},null,0,0,{"$f":"IF('Aferi (Variáveis)'!$C$12=\"ALC\",0,IF('Aferi (Variáveis)'!$C$12=\"ZFM\",0,IF('Aferi (Variáveis)'!$C$12=\"Exportação\",0,IF('Aferi (Variáveis)'!$C$12=\"Venda para Exportar\",0,IF('Aferi (Variáveis)'!$C$12=\"AO\",0,SUMIF('Custo Básico dos Produtos'!$A$7:$A$480,Q168,'Custo Básico dos Produtos'!$L$7:$L$480))))))","v":0},0,0,0,0,{"$f":"SUMIF('Cadastro de Produtos em Linha'!$A$6:$A$457,Q168,'Cadastro de Produtos em Linha'!$E$6:$E$457)*H168","v":0},{"$f":"IF(TODAY()<$AK$26,IF(A168<>\"\",SUMIF('Custo Básico dos Produtos'!$B$7:$B$457,A168,'Custo Básico dos Produtos'!$A$7:$A$457),0),0)","v":0},{"$f":"IF('Aferi (Variáveis)'!$C$12=\"Venda para Exportar\",0,IF('Aferi (Variáveis)'!$C$12=\"ALC\",0,IF('Aferi (Variáveis)'!$C$12=\"ZFM\",0,IF('Aferi (Variáveis)'!$C$12=\"Exportação\",0,IF('Aferi (Variáveis)'!$C$12=\"AO\",0,E168/(100+(0*'Aferi (Variáveis)'!$K$12/100))*100*K168%/100*'Aferi (Variáveis)'!$K$12)))))","v":0},0,{"$f":"(E168*'Aferi (Variáveis)'!$K$12/100)","v":0},0,{"$f":"IF('Aferi (Variáveis)'!$F$20=\"Venda para Exportar\",0,IF('Aferi (Variáveis)'!$F$20=\"ALC\",0,IF('Aferi (Variáveis)'!$F$20=\"ZFM\",0,IF('Aferi (Variáveis)'!$F$20=\"Exportação\",0,IF('Aferi (Variáveis)'!$F$20=\"AO\",7*T168/100,T168*'Aferi (Variáveis)'!$F$20/100)))))","v":0},0,{"$f":"IF('Aferi (Variáveis)'!$C$12=\"ZFM\",0,IF('Aferi (Variáveis)'!$C$12=\"Exportação\",0,3*T168/100))","v":0},{"$f":"IF('Aferi (Variáveis)'!$C$12=\"ZFM\",0,IF('Aferi (Variáveis)'!$C$12=\"Exportação\",0,0.65*T168/100))","v":0},0,0,0,0,0,0,0,0,0,{"$f":"SUMIF('Custo Básico dos Produtos'!$B$7:$B$480,A168,'Custo Básico dos Produtos'!$K$7:$K$480)","v":0},null,null,0,0,0,0,0,0]
[null,{"$f":"IF(Q169<>0,VLOOKUP(Q169,'Custo Básico dos Produtos'!$A$7:$J$480,3),\"\")","v":""},null,{"$f":"SUMIF('Custo Básico dos Produtos'!$A$7:$A$480,Q169,'Custo Básico dos Produtos'!$J$7:$J$480)","v":0},null,0,{"$f":"IF(B169=\"\",0,SUMIF('Cadastro de Produtos em Linha'!$B$7:$B$457,A169,'Cadastro de Produtos em Linha'!$D$7:$D$457))","v":0},null,0,0,{"$f":"IF('Aferi (Variáveis)'!$C$12=\"ALC\",0,IF('Aferi (Variáveis)'!$C$12=\"ZFM\",0,IF('Aferi (Variáveis)'!$C$12=\"Exportação\",0,IF('Aferi (Variáveis)'!$C$12=\"Venda para Exportar\",0,IF('Aferi (Variáveis)'!$C$12=\"AO\",0,SUMIF('Custo Básico dos Produtos'!$A$7:$A$480,Q169,'Custo Básico dos Produtos'!$L$7:$L$480))))))","v":0},0,0,0,0,{"$f":"SUMIF('Cadastro de Produtos em Linha'!$A$6:$A$457,Q169,'Cadastro de Produtos em Linha'!$E$6:$E$457)*H169","v":0},{"$f":"IF(TODAY()<$AK$26,IF(A169<>\"\",SUMIF('Custo Básico dos Produtos'!$B$7:$B$457,A169,'Custo Básico dos Produtos'!$A$7:$A$457),0),0)","v":0},{"$f":"IF('Aferi (Variáveis)'!$C$12=\"Venda para Exportar\",0,IF('Aferi (Variáveis)'!$C$12=\"ALC\",0,IF('Aferi (Variáveis)'!$C$12=\"ZFM\",0,IF('Aferi (Variáveis)'!$C$12=\"Exportação\",0,IF('Aferi (Variáveis)'!$C$12=\"AO\",0,E169/(100+(0*'Aferi (Variáveis)'!$K$12/100))*100*K169%/100*'Aferi (Variáveis)'!$K$12)))))","v":0},0,{"$f":"(E169*'Aferi (Variáveis)'!$K$12/100)","v":0},0,{"$f":"IF('Aferi (Variáveis)'!$F$20=\"Venda para Exportar\",0,IF('Aferi (Variáveis)'!$F$20=\"ALC\",0,IF('Aferi (Variáveis)'!$F$20=\"ZFM\",0,IF('Aferi (Variáveis)'!$F$20=\"Exportação\",0,IF('Aferi (Variáveis)'!$F$20=\"AO\",7*T169/100,T169*'Aferi (Variáveis)'!$F$20/100)))))","v":0},0,{"$f":"IF('Aferi (Variáveis)'!$C$12=\"ZFM\",0,IF('Aferi (Variáveis)'!$C$12=\"Exportação\",0,3*T169/100))","v":0},{"$f":"IF('Aferi (Variáveis)'!$C$12=\"ZFM\",0,IF('Aferi (Variáveis)'!$C$12=\"Exportação\",0,0.65*T169/100))","v":0},0,0,0,0,0,0,0,0,0,{"$f":"SUMIF('Custo Básico dos Produtos'!$B$7:$B$480,A169,'Custo Básico dos Produtos'!$K$7:$K$480)","v":0},null,null,0,0,0,0,0,0]
[null,{"$f":"IF(Q170<>0,VLOOKUP(Q170,'Custo Básico dos Produtos'!$A$7:$J$480,3),\"\")","v":""},null,{"$f":"SUMIF('Custo Básico dos Produtos'!$A$7:$A$480,Q170,'Custo Básico dos Produtos'!$J$7:$J$480)","v":0},null,0,{"$f":"IF(B170=\"\",0,SUMIF('Cadastro de Produtos em Linha'!$B$7:$B$457,A170,'Cadastro de Produtos em Linha'!$D$7:$D$457))","v":0},null,0,0,{"$f":"IF('Aferi (Variáveis)'!$C$12=\"ALC\",0,IF('Aferi (Variáveis)'!$C$12=\"ZFM\",0,IF('Aferi (Variáveis)'!$C$12=\"Exportação\",0,IF('Aferi (Variáveis)'!$C$12=\"Venda para Exportar\",0,IF('Aferi (Variáveis)'!$C$12=\"AO\",0,SUMIF('Custo Básico dos Produtos'!$A$7:$A$480,Q170,'Custo Básico dos Produtos'!$L$7:$L$480))))))","v":0},0,0,0,0,{"$f":"SUMIF('Cadastro de Produtos em Linha'!$A$6:$A$457,Q170,'Cadastro de Produtos em Linha'!$E$6:$E$457)*H170","v":0},{"$f":"IF(TODAY()<$AK$26,IF(A170<>\"\",SUMIF('Custo Básico dos Produtos'!$B$7:$B$457,A170,'Custo Básico dos Produtos'!$A$7:$A$457),0),0)","v":0},{"$f":"IF('Aferi (Variáveis)'!$C$12=\"Venda para Exportar\",0,IF('Aferi (Variáveis)'!$C$12=\"ALC\",0,IF('Aferi (Variáveis)'!$C$12=\"ZFM\",0,IF('Aferi (Variáveis)'!$C$12=\"Exportação\",0,IF('Aferi (Variáveis)'!$C$12=\"AO\",0,E170/(100+(0*'Aferi (Variáveis)'!$K$12/100))*100*K170%/100*'Aferi (Variáveis)'!$K$12)))))","v":0},0,{"$f":"(E170*'Aferi (Variáveis)'!$K$12/100)","v":0},0,{"$f":"IF('Aferi (Variáveis)'!$F$20=\"Venda para Exportar\",0,IF('Aferi (Variáveis)'!$F$20=\"ALC\",0,IF('Aferi (Variáveis)'!$F$20=\"ZFM\",0,IF('Aferi (Variáveis)'!$F$20=\"Exportação\",0,IF('Aferi (Variáveis)'!$F$20=\"AO\",7*T170/100,T170*'Aferi (Variáveis)'!$F$20/100)))))","v":0},0,{"$f":"IF('Aferi (Variáveis)'!$C$12=\"ZFM\",0,IF('Aferi (Variáveis)'!$C$12=\"Exportação\",0,3*T170/100))","v":0},{"$f":"IF('Aferi (Variáveis)'!$C$12=\"ZFM\",0,IF('Aferi (Variáveis)'!$C$12=\"Exportação\",0,0.65*T170/100))","v":0},0,0,0,0,0,0,0,0,0,{"$f":"SUMIF('Custo Básico dos Produtos'!$B$7:$B$480,A170,'Custo Básico dos Produtos'!$K$7:$K$480)","v":0},null,null,0,0,0,0,0,0]
[null,{"$f":"IF(Q171<>0,VLOOKUP(Q171,'Custo Básico dos Produtos'!$A$7:$J$480,3),\"\")","v":""},null,{"$f":"SUMIF('Custo Básico dos Produtos'!$A$7:$A$480,Q171,'Custo Básico dos Produtos'!$J$7:$J$480)","v":0},null,0,{"$f":"IF(B171=\"\",0,SUMIF('Cadastro de Produtos em Linha'!$B$7:$B$457,A171,'Cadastro de Produtos em Linha'!$D$7:$D$457))","v":0},null,0,0,{"$f":"IF('Aferi (Variáveis)'!$C$12=\"ALC\",0,IF('Aferi (Variáveis)'!$C$12=\"ZFM\",0,IF('Aferi (Variáveis)'!$C$12=\"Exportação\",0,IF('Aferi (Variáveis)'!$C$12=\"Venda para Exportar\",0,IF('Aferi (Variáveis)'!$C$12=\"AO\",0,SUMIF('Custo Básico dos Produtos'!$A$7:$A$480,Q171,'Custo Básico dos Produtos'!$L$7:$L$480))))))","v":0},0,0,0,0,{"$f":"SUMIF('Cadastro de Produtos em Linha'!$A$6:$A$457,Q171,'Cadastro de Produtos em Linha'!$E$6:$E$457)*H171","v":0},{"$f":"IF(TODAY()<$AK$26,IF(A171<>\"\",SUMIF('Custo Básico dos Produtos'!$B$7:$B$457,A171,'Custo Básico dos Produtos'!$A$7:$A$457),0),0)","v":0},{"$f":"IF('Aferi (Variáveis)'!$C$12=\"Venda para Exportar\",0,IF('Aferi (Variáveis)'!$C$12=\"ALC\",0,IF('Aferi (Variáveis)'!$C$12=\"ZFM\",0,IF('Aferi (Variáveis)'!$C$12=\"Exportação\",0,IF('Aferi (Variáveis)'!$C$12=\"AO\",0,E171/(100+(0*'Aferi (Variáveis)'!$K$12/100))*100*K171%/100*'Aferi (Variáveis)'!$K$12)))))","v":0},0,{"$f":"(E171*'Aferi (Variáveis)'!$K$12/100)","v":0},0,{"$f":"IF('Aferi (Variáveis)'!$F$20=\"Venda para Exportar\",0,IF('Aferi (Variáveis)'!$F$20=\"ALC\",0,IF('Aferi (Variáveis)'!$F$20=\"ZFM\",0,IF('Aferi (Variáveis)'!$F$20=\"Exportação\",0,IF('Aferi (Variáveis)'!$F$20=\"AO\",7*T171/100,T171*'Aferi (Variáveis)'!$F$20/100)))))","v":0},0,{"$f":"IF('Aferi (Variáveis)'!$C$12=\"ZFM\",0,IF('Aferi (Variáveis)'!$C$12=\"Exportação\",0,3*T171/100))","v":0},{"$f":"IF('Aferi (Variáveis)'!$C$12=\"ZFM\",0,IF('Aferi (Variáveis)'!$C$12=\"Exportação\",0,0.65*T171/100))","v":0},0,0,0,0,0,0,0,0,0,{"$f":"SUMIF('Custo Básico dos Produtos'!$B$7:$B$480,A171,'Custo Básico dos Produtos'!$K$7:$K$480)","v":0},null,null,0,0,0,0,0,0]
[null,{"$f":"IF(Q172<>0,VLOOKUP(Q172,'Custo Básico dos Produtos'!$A$7:$J$480,3),\"\")","v":""},null,{"$f":"SUMIF('Custo Básico dos Produtos'!$A$7:$A$480,Q172,'Custo Básico dos Produtos'!$J$7:$J$480)","v":0},null,0,{"$f":"IF(B172=\"\",0,SUMIF('Cadastro de Produtos em Linha'!$B$7:$B$457,A172,'Cadastro de Produtos em Linha'!$D$7:$D$457))","v":0},null,0,0,{"$f":"IF('Aferi (Variáveis)'!$C$12=\"ALC\",0,IF('Aferi (Variáveis)'!$C$12=\"ZFM\",0,IF('Aferi (Variáveis)'!$C$12=\"Exportação\",0,IF('Aferi (Variáveis)'!$C$12=\"Venda para Exportar\",0,IF('Aferi (Variáveis)'!$C$12=\"AO\",0,SUMIF('Custo Básico dos Produtos'!$A$7:$A$480,Q172,'Custo Básico dos Produtos'!$L$7:$L$480))))))","v":0},0,0,0,0,{"$f":"SUMIF('Cadastro de Produtos em Linha'!$A$6:$A$457,Q172,'Cadastro de Produtos em Linha'!$E$6:$E$457)*H172","v":0},{"$f":"IF(TODAY()<$AK$26,IF(A172<>\"\",SUMIF('Custo Básico dos Produtos'!$B$7:$B$457,A172,'Custo Básico dos Produtos'!$A$7:$A$457),0),0)","v":0},{"$f":"IF('Aferi (Variáveis)'!$C$12=\"Venda para Exportar\",0,IF('Aferi (Variáveis)'!$C$12=\"ALC\",0,IF('Aferi (Variáveis)'!$C$12=\"ZFM\",0,IF('Aferi (Variáveis)'!$C$12=\"Exportação\",0,IF('Aferi (Variáveis)'!$C$12=\"AO\",0,E172/(100+(0*'Aferi (Variáveis)'!$K$12/100))*100*K172%/100*'Aferi (Variáveis)'!$K$12)))))","v":0},0,{"$f":"(E172*'Aferi (Variáveis)'!$K$12/100)","v":0},0,{"$f":"IF('Aferi (Variáveis)'!$F$20=\"Venda para Exportar\",0,IF('Aferi (Variáveis)'!$F$20=\"ALC\",0,IF('Aferi (Variáveis)'!$F$20=\"ZFM\",0,IF('Aferi (Variáveis)'!$F$20=\"Exportação\",0,IF('Aferi (Variáveis)'!$F$20=\"AO\",7*T172/100,T172*'Aferi (Variáveis)'!$F$20/100)))))","v":0},0,{"$f":"IF('Aferi (Variáveis)'!$C$12=\"ZFM\",0,IF('Aferi (Variáveis)'!$C$12=\"Exportação\",0,3*T172/100))","v":0},{"$f":"IF('Aferi (Variáveis)'!$C$12=\"ZFM\",0,IF('Aferi (Variáveis)'!$C$12=\"Exportação\",0,0.65*T172/100))","v":0},0,0,0,0,0,0,0,0,0,{"$f":"SUMIF('Custo Básico dos Produtos'!$B$7:$B$480,A172,'Custo Básico dos Produtos'!$K$7:$K$480)","v":0},null,null,0,0,0,0,0,0]
[null,{"$f":"IF(Q173<>0,VLOOKUP(Q173,'Custo Básico dos Produtos'!$A$7:$J$480,3),\"\")","v":""},null,{"$f":"SUMIF('Custo Básico dos Produtos'!$A$7:$A$480,Q173,'Custo Básico dos Produtos'!$J$7:$J$480)","v":0},null,0,{"$f":"IF(B173=\"\",0,SUMIF('Cadastro de Produtos em Linha'!$B$7:$B$457,A173,'Cadastro de Produtos em Linha'!$D$7:$D$457))","v":0},null,0,0,{"$f":"IF('Aferi (Variáveis)'!$C$12=\"ALC\",0,IF('Aferi (Variáveis)'!$C$12=\"ZFM\",0,IF('Aferi (Variáveis)'!$C$12=\"Exportação\",0,IF('Aferi (Variáveis)'!$C$12=\"Venda para Exportar\",0,IF('Aferi (Variáveis)'!$C$12=\"AO\",0,SUMIF('Custo Básico dos Produtos'!$A$7:$A$480,Q173,'Custo Básico dos Produtos'!$L$7:$L$480))))))","v":0},0,0,0,0,{"$f":"SUMIF('Cadastro de Produtos em Linha'!$A$6:$A$457,Q173,'Cadastro de Produtos em Linha'!$E$6:$E$457)*H173","v":0},{"$f":"IF(TODAY()<$AK$26,IF(A173<>\"\",SUMIF('Custo Básico dos Produtos'!$B$7:$B$457,A173,'Custo Básico dos Produtos'!$A$7:$A$457),0),0)","v":0},{"$f":"IF('Aferi (Variáveis)'!$C$12=\"Venda para Exportar\",0,IF('Aferi (Variáveis)'!$C$12=\"ALC\",0,IF('Aferi (Variáveis)'!$C$12=\"ZFM\",0,IF('Aferi (Variáveis)'!$C$12=\"Exportação\",0,IF('Aferi (Variáveis)'!$C$12=\"AO\",0,E173/(100+(0*'Aferi (Variáveis)'!$K$12/100))*100*K173%/100*'Aferi (Variáveis)'!$K$12)))))","v":0},0,{"$f":"(E173*'Aferi (Variáveis)'!$K$12/100)","v":0},0,{"$f":"IF('Aferi (Variáveis)'!$F$20=\"Venda para Exportar\",0,IF('Aferi (Variáveis)'!$F$20=\"ALC\",0,IF('Aferi (Variáveis)'!$F$20=\"ZFM\",0,IF('Aferi (Variáveis)'!$F$20=\"Exportação\",0,IF('Aferi (Variáveis)'!$F$20=\"AO\",7*T173/100,T173*'Aferi (Variáveis)'!$F$20/100)))))","v":0},0,{"$f":"IF('Aferi (Variáveis)'!$C$12=\"ZFM\",0,IF('Aferi (Variáveis)'!$C$12=\"Exportação\",0,3*T173/100))","v":0},{"$f":"IF('Aferi (Variáveis)'!$C$12=\"ZFM\",0,IF('Aferi (Variáveis)'!$C$12=\"Exportação\",0,0.65*T173/100))","v":0},0,0,0,0,0,0,0,0,0,{"$f":"SUMIF('Custo Básico dos Produtos'!$B$7:$B$480,A173,'Custo Básico dos Produtos'!$K$7:$K$480)","v":0},null,null,0,0,0,0,0,0]
[null,{"$f":"IF(Q174<>0,VLOOKUP(Q174,'Custo Básico dos Produtos'!$A$7:$J$480,3),\"\")","v":""},null,{"$f":"SUMIF('Custo Básico dos Produtos'!$A$7:$A$480,Q174,'Custo Básico dos Produtos'!$J$7:$J$480)","v":0},null,0,{"$f":"IF(B174=\"\",0,SUMIF('Cadastro de Produtos em Linha'!$B$7:$B$457,A174,'Cadastro de Produtos em Linha'!$D$7:$D$457))","v":0},null,0,0,{"$f":"IF('Aferi (Variáveis)'!$C$12=\"ALC\",0,IF('Aferi (Variáveis)'!$C$12=\"ZFM\",0,IF('Aferi (Variáveis)'!$C$12=\"Exportação\",0,IF('Aferi (Variáveis)'!$C$12=\"Venda para Exportar\",0,IF('Aferi (Variáveis)'!$C$12=\"AO\",0,SUMIF('Custo Básico dos Produtos'!$A$7:$A$480,Q174,'Custo Básico dos Produtos'!$L$7:$L$480))))))","v":0},0,0,0,0,{"$f":"SUMIF('Cadastro de Produtos em Linha'!$A$6:$A$457,Q174,'Cadastro de Produtos em Linha'!$E$6:$E$457)*H174","v":0},{"$f":"IF(TODAY()<$AK$26,IF(A174<>\"\",SUMIF('Custo Básico dos Produtos'!$B$7:$B$457,A174,'Custo Básico dos Produtos'!$A$7:$A$457),0),0)","v":0},{"$f":"IF('Aferi (Variáveis)'!$C$12=\"Venda para Exportar\",0,IF('Aferi (Variáveis)'!$C$12=\"ALC\",0,IF('Aferi (Variáveis)'!$C$12=\"ZFM\",0,IF('Aferi (Variáveis)'!$C$12=\"Exportação\",0,IF('Aferi (Variáveis)'!$C$12=\"AO\",0,E174/(100+(0*'Aferi (Variáveis)'!$K$12/100))*100*K174%/100*'Aferi (Variáveis)'!$K$12)))))","v":0},0,{"$f":"(E174*'Aferi (Variáveis)'!$K$12/100)","v":0},0,{"$f":"IF('Aferi (Variáveis)'!$F$20=\"Venda para Exportar\",0,IF('Aferi (Variáveis)'!$F$20=\"ALC\",0,IF('Aferi (Variáveis)'!$F$20=\"ZFM\",0,IF('Aferi (Variáveis)'!$F$20=\"Exportação\",0,IF('Aferi (Variáveis)'!$F$20=\"AO\",7*T174/100,T174*'Aferi (Variáveis)'!$F$20/100)))))","v":0},0,{"$f":"IF('Aferi (Variáveis)'!$C$12=\"ZFM\",0,IF('Aferi (Variáveis)'!$C$12=\"Exportação\",0,3*T174/100))","v":0},{"$f":"IF('Aferi (Variáveis)'!$C$12=\"ZFM\",0,IF('Aferi (Variáveis)'!$C$12=\"Exportação\",0,0.65*T174/100))","v":0},0,0,0,0,0,0,0,0,0,{"$f":"SUMIF('Custo Básico dos Produtos'!$B$7:$B$480,A174,'Custo Básico dos Produtos'!$K$7:$K$480)","v":0},null,null,0,0,0,0,0,0]
[null,{"$f":"IF(Q175<>0,VLOOKUP(Q175,'Custo Básico dos Produtos'!$A$7:$J$480,3),\"\")","v":""},null,{"$f":"SUMIF('Custo Básico dos Produtos'!$A$7:$A$480,Q175,'Custo Básico dos Produtos'!$J$7:$J$480)","v":0},null,0,{"$f":"IF(B175=\"\",0,SUMIF('Cadastro de Produtos em Linha'!$B$7:$B$457,A175,'Cadastro de Produtos em Linha'!$D$7:$D$457))","v":0},null,0,0,{"$f":"IF('Aferi (Variáveis)'!$C$12=\"ALC\",0,IF('Aferi (Variáveis)'!$C$12=\"ZFM\",0,IF('Aferi (Variáveis)'!$C$12=\"Exportação\",0,IF('Aferi (Variáveis)'!$C$12=\"Venda para Exportar\",0,IF('Aferi (Variáveis)'!$C$12=\"AO\",0,SUMIF('Custo Básico dos Produtos'!$A$7:$A$480,Q175,'Custo Básico dos Produtos'!$L$7:$L$480))))))","v":0},0,0,0,0,{"$f":"SUMIF('Cadastro de Produtos em Linha'!$A$6:$A$457,Q175,'Cadastro de Produtos em Linha'!$E$6:$E$457)*H175","v":0},{"$f":"IF(TODAY()<$AK$26,IF(A175<>\"\",SUMIF('Custo Básico dos Produtos'!$B$7:$B$457,A175,'Custo Básico dos Produtos'!$A$7:$A$457),0),0)","v":0},{"$f":"IF('Aferi (Variáveis)'!$C$12=\"Venda para Exportar\",0,IF('Aferi (Variáveis)'!$C$12=\"ALC\",0,IF('Aferi (Variáveis)'!$C$12=\"ZFM\",0,IF('Aferi (Variáveis)'!$C$12=\"Exportação\",0,IF('Aferi (Variáveis)'!$C$12=\"AO\",0,E175/(100+(0*'Aferi (Variáveis)'!$K$12/100))*100*K175%/100*'Aferi (Variáveis)'!$K$12)))))","v":0},0,{"$f":"(E175*'Aferi (Variáveis)'!$K$12/100)","v":0},0,{"$f":"IF('Aferi (Variáveis)'!$F$20=\"Venda para Exportar\",0,IF('Aferi (Variáveis)'!$F$20=\"ALC\",0,IF('Aferi (Variáveis)'!$F$20=\"ZFM\",0,IF('Aferi (Variáveis)'!$F$20=\"Exportação\",0,IF('Aferi (Variáveis)'!$F$20=\"AO\",7*T175/100,T175*'Aferi (Variáveis)'!$F$20/100)))))","v":0},0,{"$f":"IF('Aferi (Variáveis)'!$C$12=\"ZFM\",0,IF('Aferi (Variáveis)'!$C$12=\"Exportação\",0,3*T175/100))","v":0},{"$f":"IF('Aferi (Variáveis)'!$C$12=\"ZFM\",0,IF('Aferi (Variáveis)'!$C$12=\"Exportação\",0,0.65*T175/100))","v":0},0,0,0,0,0,0,0,0,0,{"$f":"SUMIF('Custo Básico dos Produtos'!$B$7:$B$480,A175,'Custo Básico dos Produtos'!$K$7:$K$480)","v":0},null,null,0,0,0,0,0,0]
[null,{"$f":"IF(Q176<>0,VLOOKUP(Q176,'Custo Básico dos Produtos'!$A$7:$J$480,3),\"\")","v":""},null,{"$f":"SUMIF('Custo Básico dos Produtos'!$A$7:$A$480,Q176,'Custo Básico dos Produtos'!$J$7:$J$480)","v":0},null,0,{"$f":"IF(B176=\"\",0,SUMIF('Cadastro de Produtos em Linha'!$B$7:$B$457,A176,'Cadastro de Produtos em Linha'!$D$7:$D$457))","v":0},null,0,0,{"$f":"IF('Aferi (Variáveis)'!$C$12=\"ALC\",0,IF('Aferi (Variáveis)'!$C$12=\"ZFM\",0,IF('Aferi (Variáveis)'!$C$12=\"Exportação\",0,IF('Aferi (Variáveis)'!$C$12=\"Venda para Exportar\",0,IF('Aferi (Variáveis)'!$C$12=\"AO\",0,SUMIF('Custo Básico dos Produtos'!$A$7:$A$480,Q176,'Custo Básico dos Produtos'!$L$7:$L$480))))))","v":0},0,0,0,0,{"$f":"SUMIF('Cadastro de Produtos em Linha'!$A$6:$A$457,Q176,'Cadastro de Produtos em Linha'!$E$6:$E$457)*H176","v":0},{"$f":"IF(TODAY()<$AK$26,IF(A176<>\"\",SUMIF('Custo Básico dos Produtos'!$B$7:$B$457,A176,'Custo Básico dos Produtos'!$A$7:$A$457),0),0)","v":0},{"$f":"IF('Aferi (Variáveis)'!$C$12=\"Venda para Exportar\",0,IF('Aferi (Variáveis)'!$C$12=\"ALC\",0,IF('Aferi (Variáveis)'!$C$12=\"ZFM\",0,IF('Aferi (Variáveis)'!$C$12=\"Exportação\",0,IF('Aferi (Variáveis)'!$C$12=\"AO\",0,E176/(100+(0*'Aferi (Variáveis)'!$K$12/100))*100*K176%/100*'Aferi (Variáveis)'!$K$12)))))","v":0},0,{"$f":"(E176*'Aferi (Variáveis)'!$K$12/100)","v":0},0,{"$f":"IF('Aferi (Variáveis)'!$F$20=\"Venda para Exportar\",0,IF('Aferi (Variáveis)'!$F$20=\"ALC\",0,IF('Aferi (Variáveis)'!$F$20=\"ZFM\",0,IF('Aferi (Variáveis)'!$F$20=\"Exportação\",0,IF('Aferi (Variáveis)'!$F$20=\"AO\",7*T176/100,T176*'Aferi (Variáveis)'!$F$20/100)))))","v":0},0,{"$f":"IF('Aferi (Variáveis)'!$C$12=\"ZFM\",0,IF('Aferi (Variáveis)'!$C$12=\"Exportação\",0,3*T176/100))","v":0},{"$f":"IF('Aferi (Variáveis)'!$C$12=\"ZFM\",0,IF('Aferi (Variáveis)'!$C$12=\"Exportação\",0,0.65*T176/100))","v":0},0,0,0,0,0,0,0,0,0,{"$f":"SUMIF('Custo Básico dos Produtos'!$B$7:$B$480,A176,'Custo Básico dos Produtos'!$K$7:$K$480)","v":0},null,null,0,0,0,0,0,0]
[null,{"$f":"IF(Q177<>0,VLOOKUP(Q177,'Custo Básico dos Produtos'!$A$7:$J$480,3),\"\")","v":""},null,{"$f":"SUMIF('Custo Básico dos Produtos'!$A$7:$A$480,Q177,'Custo Básico dos Produtos'!$J$7:$J$480)","v":0},null,0,{"$f":"IF(B177=\"\",0,SUMIF('Cadastro de Produtos em Linha'!$B$7:$B$457,A177,'Cadastro de Produtos em Linha'!$D$7:$D$457))","v":0},null,0,0,{"$f":"IF('Aferi (Variáveis)'!$C$12=\"ALC\",0,IF('Aferi (Variáveis)'!$C$12=\"ZFM\",0,IF('Aferi (Variáveis)'!$C$12=\"Exportação\",0,IF('Aferi (Variáveis)'!$C$12=\"Venda para Exportar\",0,IF('Aferi (Variáveis)'!$C$12=\"AO\",0,SUMIF('Custo Básico dos Produtos'!$A$7:$A$480,Q177,'Custo Básico dos Produtos'!$L$7:$L$480))))))","v":0},0,0,0,0,{"$f":"SUMIF('Cadastro de Produtos em Linha'!$A$6:$A$457,Q177,'Cadastro de Produtos em Linha'!$E$6:$E$457)*H177","v":0},{"$f":"IF(TODAY()<$AK$26,IF(A177<>\"\",SUMIF('Custo Básico dos Produtos'!$B$7:$B$457,A177,'Custo Básico dos Produtos'!$A$7:$A$457),0),0)","v":0},{"$f":"IF('Aferi (Variáveis)'!$C$12=\"Venda para Exportar\",0,IF('Aferi (Variáveis)'!$C$12=\"ALC\",0,IF('Aferi (Variáveis)'!$C$12=\"ZFM\",0,IF('Aferi (Variáveis)'!$C$12=\"Exportação\",0,IF('Aferi (Variáveis)'!$C$12=\"AO\",0,E177/(100+(0*'Aferi (Variáveis)'!$K$12/100))*100*K177%/100*'Aferi (Variáveis)'!$K$12)))))","v":0},0,{"$f":"(E177*'Aferi (Variáveis)'!$K$12/100)","v":0},0,{"$f":"IF('Aferi (Variáveis)'!$F$20=\"Venda para Exportar\",0,IF('Aferi (Variáveis)'!$F$20=\"ALC\",0,IF('Aferi (Variáveis)'!$F$20=\"ZFM\",0,IF('Aferi (Variáveis)'!$F$20=\"Exportação\",0,IF('Aferi (Variáveis)'!$F$20=\"AO\",7*T177/100,T177*'Aferi (Variáveis)'!$F$20/100)))))","v":0},0,{"$f":"IF('Aferi (Variáveis)'!$C$12=\"ZFM\",0,IF('Aferi (Variáveis)'!$C$12=\"Exportação\",0,3*T177/100))","v":0},{"$f":"IF('Aferi (Variáveis)'!$C$12=\"ZFM\",0,IF('Aferi (Variáveis)'!$C$12=\"Exportação\",0,0.65*T177/100))","v":0},0,0,0,0,0,0,0,0,0,{"$f":"SUMIF('Custo Básico dos Produtos'!$B$7:$B$480,A177,'Custo Básico dos Produtos'!$K$7:$K$480)","v":0},null,null,0,0,0,0,0,0]
[null,{"$f":"IF(Q178<>0,VLOOKUP(Q178,'Custo Básico dos Produtos'!$A$7:$J$480,3),\"\")","v":""},null,{"$f":"SUMIF('Custo Básico dos Produtos'!$A$7:$A$480,Q178,'Custo Básico dos Produtos'!$J$7:$J$480)","v":0},null,0,{"$f":"IF(B178=\"\",0,SUMIF('Cadastro de Produtos em Linha'!$B$7:$B$457,A178,'Cadastro de Produtos em Linha'!$D$7:$D$457))","v":0},null,0,0,{"$f":"IF('Aferi (Variáveis)'!$C$12=\"ALC\",0,IF('Aferi (Variáveis)'!$C$12=\"ZFM\",0,IF('Aferi (Variáveis)'!$C$12=\"Exportação\",0,IF('Aferi (Variáveis)'!$C$12=\"Venda para Exportar\",0,IF('Aferi (Variáveis)'!$C$12=\"AO\",0,SUMIF('Custo Básico dos Produtos'!$A$7:$A$480,Q178,'Custo Básico dos Produtos'!$L$7:$L$480))))))","v":0},0,0,0,0,{"$f":"SUMIF('Cadastro de Produtos em Linha'!$A$6:$A$457,Q178,'Cadastro de Produtos em Linha'!$E$6:$E$457)*H178","v":0},{"$f":"IF(TODAY()<$AK$26,IF(A178<>\"\",SUMIF('Custo Básico dos Produtos'!$B$7:$B$457,A178,'Custo Básico dos Produtos'!$A$7:$A$457),0),0)","v":0},{"$f":"IF('Aferi (Variáveis)'!$C$12=\"Venda para Exportar\",0,IF('Aferi (Variáveis)'!$C$12=\"ALC\",0,IF('Aferi (Variáveis)'!$C$12=\"ZFM\",0,IF('Aferi (Variáveis)'!$C$12=\"Exportação\",0,IF('Aferi (Variáveis)'!$C$12=\"AO\",0,E178/(100+(0*'Aferi (Variáveis)'!$K$12/100))*100*K178%/100*'Aferi (Variáveis)'!$K$12)))))","v":0},0,{"$f":"(E178*'Aferi (Variáveis)'!$K$12/100)","v":0},0,{"$f":"IF('Aferi (Variáveis)'!$F$20=\"Venda para Exportar\",0,IF('Aferi (Variáveis)'!$F$20=\"ALC\",0,IF('Aferi (Variáveis)'!$F$20=\"ZFM\",0,IF('Aferi (Variáveis)'!$F$20=\"Exportação\",0,IF('Aferi (Variáveis)'!$F$20=\"AO\",7*T178/100,T178*'Aferi (Variáveis)'!$F$20/100)))))","v":0},0,{"$f":"IF('Aferi (Variáveis)'!$C$12=\"ZFM\",0,IF('Aferi (Variáveis)'!$C$12=\"Exportação\",0,3*T178/100))","v":0},{"$f":"IF('Aferi (Variáveis)'!$C$12=\"ZFM\",0,IF('Aferi (Variáveis)'!$C$12=\"Exportação\",0,0.65*T178/100))","v":0},0,0,0,0,0,0,0,0,0,{"$f":"SUMIF('Custo Básico dos Produtos'!$B$7:$B$480,A178,'Custo Básico dos Produtos'!$K$7:$K$480)","v":0},null,null,0,0,0,0,0,0]
[null,{"$f":"IF(Q179<>0,VLOOKUP(Q179,'Custo Básico dos Produtos'!$A$7:$J$480,3),\"\")","v":""},null,{"$f":"SUMIF('Custo Básico dos Produtos'!$A$7:$A$480,Q179,'Custo Básico dos Produtos'!$J$7:$J$480)","v":0},null,0,{"$f":"IF(B179=\"\",0,SUMIF('Cadastro de Produtos em Linha'!$B$7:$B$457,A179,'Cadastro de Produtos em Linha'!$D$7:$D$457))","v":0},null,0,0,{"$f":"IF('Aferi (Variáveis)'!$C$12=\"ALC\",0,IF('Aferi (Variáveis)'!$C$12=\"ZFM\",0,IF('Aferi (Variáveis)'!$C$12=\"Exportação\",0,IF('Aferi (Variáveis)'!$C$12=\"Venda para Exportar\",0,IF('Aferi (Variáveis)'!$C$12=\"AO\",0,SUMIF('Custo Básico dos Produtos'!$A$7:$A$480,Q179,'Custo Básico dos Produtos'!$L$7:$L$480))))))","v":0},0,0,0,0,{"$f":"SUMIF('Cadastro de Produtos em Linha'!$A$6:$A$457,Q179,'Cadastro de Produtos em Linha'!$E$6:$E$457)*H179","v":0},{"$f":"IF(TODAY()<$AK$26,IF(A179<>\"\",SUMIF('Custo Básico dos Produtos'!$B$7:$B$457,A179,'Custo Básico dos Produtos'!$A$7:$A$457),0),0)","v":0},{"$f":"IF('Aferi (Variáveis)'!$C$12=\"Venda para Exportar\",0,IF('Aferi (Variáveis)'!$C$12=\"ALC\",0,IF('Aferi (Variáveis)'!$C$12=\"ZFM\",0,IF('Aferi (Variáveis)'!$C$12=\"Exportação\",0,IF('Aferi (Variáveis)'!$C$12=\"AO\",0,E179/(100+(0*'Aferi (Variáveis)'!$K$12/100))*100*K179%/100*'Aferi (Variáveis)'!$K$12)))))","v":0},0,{"$f":"(E179*'Aferi (Variáveis)'!$K$12/100)","v":0},0,{"$f":"IF('Aferi (Variáveis)'!$F$20=\"Venda para Exportar\",0,IF('Aferi (Variáveis)'!$F$20=\"ALC\",0,IF('Aferi (Variáveis)'!$F$20=\"ZFM\",0,IF('Aferi (Variáveis)'!$F$20=\"Exportação\",0,IF('Aferi (Variáveis)'!$F$20=\"AO\",7*T179/100,T179*'Aferi (Variáveis)'!$F$20/100)))))","v":0},0,{"$f":"IF('Aferi (Variáveis)'!$C$12=\"ZFM\",0,IF('Aferi (Variáveis)'!$C$12=\"Exportação\",0,3*T179/100))","v":0},{"$f":"IF('Aferi (Variáveis)'!$C$12=\"ZFM\",0,IF('Aferi (Variáveis)'!$C$12=\"Exportação\",0,0.65*T179/100))","v":0},0,0,0,0,0,0,0,0,0,{"$f":"SUMIF('Custo Básico dos Produtos'!$B$7:$B$480,A179,'Custo Básico dos Produtos'!$K$7:$K$480)","v":0},null,null,0,0,0,0,0,0]
[null,{"$f":"IF(Q180<>0,VLOOKUP(Q180,'Custo Básico dos Produtos'!$A$7:$J$480,3),\"\")","v":""},null,{"$f":"SUMIF('Custo Básico dos Produtos'!$A$7:$A$480,Q180,'Custo Básico dos Produtos'!$J$7:$J$480)","v":0},null,0,{"$f":"IF(B180=\"\",0,SUMIF('Cadastro de Produtos em Linha'!$B$7:$B$457,A180,'Cadastro de Produtos em Linha'!$D$7:$D$457))","v":0},null,0,0,{"$f":"IF('Aferi (Variáveis)'!$C$12=\"ALC\",0,IF('Aferi (Variáveis)'!$C$12=\"ZFM\",0,IF('Aferi (Variáveis)'!$C$12=\"Exportação\",0,IF('Aferi (Variáveis)'!$C$12=\"Venda para Exportar\",0,IF('Aferi (Variáveis)'!$C$12=\"AO\",0,SUMIF('Custo Básico dos Produtos'!$A$7:$A$480,Q180,'Custo Básico dos Produtos'!$L$7:$L$480))))))","v":0},0,0,0,0,{"$f":"SUMIF('Cadastro de Produtos em Linha'!$A$6:$A$457,Q180,'Cadastro de Produtos em Linha'!$E$6:$E$457)*H180","v":0},{"$f":"IF(TODAY()<$AK$26,IF(A180<>\"\",SUMIF('Custo Básico dos Produtos'!$B$7:$B$457,A180,'Custo Básico dos Produtos'!$A$7:$A$457),0),0)","v":0},{"$f":"IF('Aferi (Variáveis)'!$C$12=\"Venda para Exportar\",0,IF('Aferi (Variáveis)'!$C$12=\"ALC\",0,IF('Aferi (Variáveis)'!$C$12=\"ZFM\",0,IF('Aferi (Variáveis)'!$C$12=\"Exportação\",0,IF('Aferi (Variáveis)'!$C$12=\"AO\",0,E180/(100+(0*'Aferi (Variáveis)'!$K$12/100))*100*K180%/100*'Aferi (Variáveis)'!$K$12)))))","v":0},0,{"$f":"(E180*'Aferi (Variáveis)'!$K$12/100)","v":0},0,{"$f":"IF('Aferi (Variáveis)'!$F$20=\"Venda para Exportar\",0,IF('Aferi (Variáveis)'!$F$20=\"ALC\",0,IF('Aferi (Variáveis)'!$F$20=\"ZFM\",0,IF('Aferi (Variáveis)'!$F$20=\"Exportação\",0,IF('Aferi (Variáveis)'!$F$20=\"AO\",7*T180/100,T180*'Aferi (Variáveis)'!$F$20/100)))))","v":0},0,{"$f":"IF('Aferi (Variáveis)'!$C$12=\"ZFM\",0,IF('Aferi (Variáveis)'!$C$12=\"Exportação\",0,3*T180/100))","v":0},{"$f":"IF('Aferi (Variáveis)'!$C$12=\"ZFM\",0,IF('Aferi (Variáveis)'!$C$12=\"Exportação\",0,0.65*T180/100))","v":0},0,0,0,0,0,0,0,0,0,{"$f":"SUMIF('Custo Básico dos Produtos'!$B$7:$B$480,A180,'Custo Básico dos Produtos'!$K$7:$K$480)","v":0},null,null,0,0,0,0,0,0]
[null,{"$f":"IF(Q181<>0,VLOOKUP(Q181,'Custo Básico dos Produtos'!$A$7:$J$480,3),\"\")","v":""},null,{"$f":"SUMIF('Custo Básico dos Produtos'!$A$7:$A$480,Q181,'Custo Básico dos Produtos'!$J$7:$J$480)","v":0},null,0,{"$f":"IF(B181=\"\",0,SUMIF('Cadastro de Produtos em Linha'!$B$7:$B$457,A181,'Cadastro de Produtos em Linha'!$D$7:$D$457))","v":0},null,0,0,{"$f":"IF('Aferi (Variáveis)'!$C$12=\"ALC\",0,IF('Aferi (Variáveis)'!$C$12=\"ZFM\",0,IF('Aferi (Variáveis)'!$C$12=\"Exportação\",0,IF('Aferi (Variáveis)'!$C$12=\"Venda para Exportar\",0,IF('Aferi (Variáveis)'!$C$12=\"AO\",0,SUMIF('Custo Básico dos Produtos'!$A$7:$A$480,Q181,'Custo Básico dos Produtos'!$L$7:$L$480))))))","v":0},0,0,0,0,{"$f":"SUMIF('Cadastro de Produtos em Linha'!$A$6:$A$457,Q181,'Cadastro de Produtos em Linha'!$E$6:$E$457)*H181","v":0},{"$f":"IF(TODAY()<$AK$26,IF(A181<>\"\",SUMIF('Custo Básico dos Produtos'!$B$7:$B$457,A181,'Custo Básico dos Produtos'!$A$7:$A$457),0),0)","v":0},{"$f":"IF('Aferi (Variáveis)'!$C$12=\"Venda para Exportar\",0,IF('Aferi (Variáveis)'!$C$12=\"ALC\",0,IF('Aferi (Variáveis)'!$C$12=\"ZFM\",0,IF('Aferi (Variáveis)'!$C$12=\"Exportação\",0,IF('Aferi (Variáveis)'!$C$12=\"AO\",0,E181/(100+(0*'Aferi (Variáveis)'!$K$12/100))*100*K181%/100*'Aferi (Variáveis)'!$K$12)))))","v":0},0,{"$f":"(E181*'Aferi (Variáveis)'!$K$12/100)","v":0},0,{"$f":"IF('Aferi (Variáveis)'!$F$20=\"Venda para Exportar\",0,IF('Aferi (Variáveis)'!$F$20=\"ALC\",0,IF('Aferi (Variáveis)'!$F$20=\"ZFM\",0,IF('Aferi (Variáveis)'!$F$20=\"Exportação\",0,IF('Aferi (Variáveis)'!$F$20=\"AO\",7*T181/100,T181*'Aferi (Variáveis)'!$F$20/100)))))","v":0},0,{"$f":"IF('Aferi (Variáveis)'!$C$12=\"ZFM\",0,IF('Aferi (Variáveis)'!$C$12=\"Exportação\",0,3*T181/100))","v":0},{"$f":"IF('Aferi (Variáveis)'!$C$12=\"ZFM\",0,IF('Aferi (Variáveis)'!$C$12=\"Exportação\",0,0.65*T181/100))","v":0},0,0,0,0,0,0,0,0,0,{"$f":"SUMIF('Custo Básico dos Produtos'!$B$7:$B$480,A181,'Custo Básico dos Produtos'!$K$7:$K$480)","v":0},null,null,0,0,0,0,0,0]
[null,{"$f":"IF(Q182<>0,VLOOKUP(Q182,'Custo Básico dos Produtos'!$A$7:$J$480,3),\"\")","v":""},null,{"$f":"SUMIF('Custo Básico dos Produtos'!$A$7:$A$480,Q182,'Custo Básico dos Produtos'!$J$7:$J$480)","v":0},null,0,{"$f":"IF(B182=\"\",0,SUMIF('Cadastro de Produtos em Linha'!$B$7:$B$457,A182,'Cadastro de Produtos em Linha'!$D$7:$D$457))","v":0},null,0,0,{"$f":"IF('Aferi (Variáveis)'!$C$12=\"ALC\",0,IF('Aferi (Variáveis)'!$C$12=\"ZFM\",0,IF('Aferi (Variáveis)'!$C$12=\"Exportação\",0,IF('Aferi (Variáveis)'!$C$12=\"Venda para Exportar\",0,IF('Aferi (Variáveis)'!$C$12=\"AO\",0,SUMIF('Custo Básico dos Produtos'!$A$7:$A$480,Q182,'Custo Básico dos Produtos'!$L$7:$L$480))))))","v":0},0,0,0,0,{"$f":"SUMIF('Cadastro de Produtos em Linha'!$A$6:$A$457,Q182,'Cadastro de Produtos em Linha'!$E$6:$E$457)*H182","v":0},{"$f":"IF(TODAY()<$AK$26,IF(A182<>\"\",SUMIF('Custo Básico dos Produtos'!$B$7:$B$457,A182,'Custo Básico dos Produtos'!$A$7:$A$457),0),0)","v":0},{"$f":"IF('Aferi (Variáveis)'!$C$12=\"Venda para Exportar\",0,IF('Aferi (Variáveis)'!$C$12=\"ALC\",0,IF('Aferi (Variáveis)'!$C$12=\"ZFM\",0,IF('Aferi (Variáveis)'!$C$12=\"Exportação\",0,IF('Aferi (Variáveis)'!$C$12=\"AO\",0,E182/(100+(0*'Aferi (Variáveis)'!$K$12/100))*100*K182%/100*'Aferi (Variáveis)'!$K$12)))))","v":0},0,{"$f":"(E182*'Aferi (Variáveis)'!$K$12/100)","v":0},0,{"$f":"IF('Aferi (Variáveis)'!$F$20=\"Venda para Exportar\",0,IF('Aferi (Variáveis)'!$F$20=\"ALC\",0,IF('Aferi (Variáveis)'!$F$20=\"ZFM\",0,IF('Aferi (Variáveis)'!$F$20=\"Exportação\",0,IF('Aferi (Variáveis)'!$F$20=\"AO\",7*T182/100,T182*'Aferi (Variáveis)'!$F$20/100)))))","v":0},0,{"$f":"IF('Aferi (Variáveis)'!$C$12=\"ZFM\",0,IF('Aferi (Variáveis)'!$C$12=\"Exportação\",0,3*T182/100))","v":0},{"$f":"IF('Aferi (Variáveis)'!$C$12=\"ZFM\",0,IF('Aferi (Variáveis)'!$C$12=\"Exportação\",0,0.65*T182/100))","v":0},0,0,0,0,0,0,0,0,0,{"$f":"SUMIF('Custo Básico dos Produtos'!$B$7:$B$480,A182,'Custo Básico dos Produtos'!$K$7:$K$480)","v":0},null,null,0,0,0,0,0,0]
[null,{"$f":"IF(Q183<>0,VLOOKUP(Q183,'Custo Básico dos Produtos'!$A$7:$J$480,3),\"\")","v":""},null,{"$f":"SUMIF('Custo Básico dos Produtos'!$A$7:$A$480,Q183,'Custo Básico dos Produtos'!$J$7:$J$480)","v":0},null,0,{"$f":"IF(B183=\"\",0,SUMIF('Cadastro de Produtos em Linha'!$B$7:$B$457,A183,'Cadastro de Produtos em Linha'!$D$7:$D$457))","v":0},null,0,0,{"$f":"IF('Aferi (Variáveis)'!$C$12=\"ALC\",0,IF('Aferi (Variáveis)'!$C$12=\"ZFM\",0,IF('Aferi (Variáveis)'!$C$12=\"Exportação\",0,IF('Aferi (Variáveis)'!$C$12=\"Venda para Exportar\",0,IF('Aferi (Variáveis)'!$C$12=\"AO\",0,SUMIF('Custo Básico dos Produtos'!$A$7:$A$480,Q183,'Custo Básico dos Produtos'!$L$7:$L$480))))))","v":0},0,0,0,0,{"$f":"SUMIF('Cadastro de Produtos em Linha'!$A$6:$A$457,Q183,'Cadastro de Produtos em Linha'!$E$6:$E$457)*H183","v":0},{"$f":"IF(TODAY()<$AK$26,IF(A183<>\"\",SUMIF('Custo Básico dos Produtos'!$B$7:$B$457,A183,'Custo Básico dos Produtos'!$A$7:$A$457),0),0)","v":0},{"$f":"IF('Aferi (Variáveis)'!$C$12=\"Venda para Exportar\",0,IF('Aferi (Variáveis)'!$C$12=\"ALC\",0,IF('Aferi (Variáveis)'!$C$12=\"ZFM\",0,IF('Aferi (Variáveis)'!$C$12=\"Exportação\",0,IF('Aferi (Variáveis)'!$C$12=\"AO\",0,E183/(100+(0*'Aferi (Variáveis)'!$K$12/100))*100*K183%/100*'Aferi (Variáveis)'!$K$12)))))","v":0},0,{"$f":"(E183*'Aferi (Variáveis)'!$K$12/100)","v":0},0,{"$f":"IF('Aferi (Variáveis)'!$F$20=\"Venda para Exportar\",0,IF('Aferi (Variáveis)'!$F$20=\"ALC\",0,IF('Aferi (Variáveis)'!$F$20=\"ZFM\",0,IF('Aferi (Variáveis)'!$F$20=\"Exportação\",0,IF('Aferi (Variáveis)'!$F$20=\"AO\",7*T183/100,T183*'Aferi (Variáveis)'!$F$20/100)))))","v":0},0,{"$f":"IF('Aferi (Variáveis)'!$C$12=\"ZFM\",0,IF('Aferi (Variáveis)'!$C$12=\"Exportação\",0,3*T183/100))","v":0},{"$f":"IF('Aferi (Variáveis)'!$C$12=\"ZFM\",0,IF('Aferi (Variáveis)'!$C$12=\"Exportação\",0,0.65*T183/100))","v":0},0,0,0,0,0,0,0,0,0,{"$f":"SUMIF('Custo Básico dos Produtos'!$B$7:$B$480,A183,'Custo Básico dos Produtos'!$K$7:$K$480)","v":0},null,null,0,0,0,0,0,0]
[null,{"$f":"IF(Q184<>0,VLOOKUP(Q184,'Custo Básico dos Produtos'!$A$7:$J$480,3),\"\")","v":""},null,{"$f":"SUMIF('Custo Básico dos Produtos'!$A$7:$A$480,Q184,'Custo Básico dos Produtos'!$J$7:$J$480)","v":0},null,0,{"$f":"IF(B184=\"\",0,SUMIF('Cadastro de Produtos em Linha'!$B$7:$B$457,A184,'Cadastro de Produtos em Linha'!$D$7:$D$457))","v":0},null,0,0,{"$f":"IF('Aferi (Variáveis)'!$C$12=\"ALC\",0,IF('Aferi (Variáveis)'!$C$12=\"ZFM\",0,IF('Aferi (Variáveis)'!$C$12=\"Exportação\",0,IF('Aferi (Variáveis)'!$C$12=\"Venda para Exportar\",0,IF('Aferi (Variáveis)'!$C$12=\"AO\",0,SUMIF('Custo Básico dos Produtos'!$A$7:$A$480,Q184,'Custo Básico dos Produtos'!$L$7:$L$480))))))","v":0},0,0,0,0,{"$f":"SUMIF('Cadastro de Produtos em Linha'!$A$6:$A$457,Q184,'Cadastro de Produtos em Linha'!$E$6:$E$457)*H184","v":0},{"$f":"IF(TODAY()<$AK$26,IF(A184<>\"\",SUMIF('Custo Básico dos Produtos'!$B$7:$B$457,A184,'Custo Básico dos Produtos'!$A$7:$A$457),0),0)","v":0},{"$f":"IF('Aferi (Variáveis)'!$C$12=\"Venda para Exportar\",0,IF('Aferi (Variáveis)'!$C$12=\"ALC\",0,IF('Aferi (Variáveis)'!$C$12=\"ZFM\",0,IF('Aferi (Variáveis)'!$C$12=\"Exportação\",0,IF('Aferi (Variáveis)'!$C$12=\"AO\",0,E184/(100+(0*'Aferi (Variáveis)'!$K$12/100))*100*K184%/100*'Aferi (Variáveis)'!$K$12)))))","v":0},0,{"$f":"(E184*'Aferi (Variáveis)'!$K$12/100)","v":0},0,{"$f":"IF('Aferi (Variáveis)'!$F$20=\"Venda para Exportar\",0,IF('Aferi (Variáveis)'!$F$20=\"ALC\",0,IF('Aferi (Variáveis)'!$F$20=\"ZFM\",0,IF('Aferi (Variáveis)'!$F$20=\"Exportação\",0,IF('Aferi (Variáveis)'!$F$20=\"AO\",7*T184/100,T184*'Aferi (Variáveis)'!$F$20/100)))))","v":0},0,{"$f":"IF('Aferi (Variáveis)'!$C$12=\"ZFM\",0,IF('Aferi (Variáveis)'!$C$12=\"Exportação\",0,3*T184/100))","v":0},{"$f":"IF('Aferi (Variáveis)'!$C$12=\"ZFM\",0,IF('Aferi (Variáveis)'!$C$12=\"Exportação\",0,0.65*T184/100))","v":0},0,0,0,0,0,0,0,0,0,{"$f":"SUMIF('Custo Básico dos Produtos'!$B$7:$B$480,A184,'Custo Básico dos Produtos'!$K$7:$K$480)","v":0},null,null,0,0,0,0,0,0]
[null,{"$f":"IF(Q185<>0,VLOOKUP(Q185,'Custo Básico dos Produtos'!$A$7:$J$480,3),\"\")","v":""},null,{"$f":"SUMIF('Custo Básico dos Produtos'!$A$7:$A$480,Q185,'Custo Básico dos Produtos'!$J$7:$J$480)","v":0},null,0,{"$f":"IF(B185=\"\",0,SUMIF('Cadastro de Produtos em Linha'!$B$7:$B$457,A185,'Cadastro de Produtos em Linha'!$D$7:$D$457))","v":0},null,0,0,{"$f":"IF('Aferi (Variáveis)'!$C$12=\"ALC\",0,IF('Aferi (Variáveis)'!$C$12=\"ZFM\",0,IF('Aferi (Variáveis)'!$C$12=\"Exportação\",0,IF('Aferi (Variáveis)'!$C$12=\"Venda para Exportar\",0,IF('Aferi (Variáveis)'!$C$12=\"AO\",0,SUMIF('Custo Básico dos Produtos'!$A$7:$A$480,Q185,'Custo Básico dos Produtos'!$L$7:$L$480))))))","v":0},0,0,0,0,{"$f":"SUMIF('Cadastro de Produtos em Linha'!$A$6:$A$457,Q185,'Cadastro de Produtos em Linha'!$E$6:$E$457)*H185","v":0},{"$f":"IF(TODAY()<$AK$26,IF(A185<>\"\",SUMIF('Custo Básico dos Produtos'!$B$7:$B$457,A185,'Custo Básico dos Produtos'!$A$7:$A$457),0),0)","v":0},{"$f":"IF('Aferi (Variáveis)'!$C$12=\"Venda para Exportar\",0,IF('Aferi (Variáveis)'!$C$12=\"ALC\",0,IF('Aferi (Variáveis)'!$C$12=\"ZFM\",0,IF('Aferi (Variáveis)'!$C$12=\"Exportação\",0,IF('Aferi (Variáveis)'!$C$12=\"AO\",0,E185/(100+(0*'Aferi (Variáveis)'!$K$12/100))*100*K185%/100*'Aferi (Variáveis)'!$K$12)))))","v":0},0,{"$f":"(E185*'Aferi (Variáveis)'!$K$12/100)","v":0},0,{"$f":"IF('Aferi (Variáveis)'!$F$20=\"Venda para Exportar\",0,IF('Aferi (Variáveis)'!$F$20=\"ALC\",0,IF('Aferi (Variáveis)'!$F$20=\"ZFM\",0,IF('Aferi (Variáveis)'!$F$20=\"Exportação\",0,IF('Aferi (Variáveis)'!$F$20=\"AO\",7*T185/100,T185*'Aferi (Variáveis)'!$F$20/100)))))","v":0},0,{"$f":"IF('Aferi (Variáveis)'!$C$12=\"ZFM\",0,IF('Aferi (Variáveis)'!$C$12=\"Exportação\",0,3*T185/100))","v":0},{"$f":"IF('Aferi (Variáveis)'!$C$12=\"ZFM\",0,IF('Aferi (Variáveis)'!$C$12=\"Exportação\",0,0.65*T185/100))","v":0},0,0,0,0,0,0,0,0,0,{"$f":"SUMIF('Custo Básico dos Produtos'!$B$7:$B$480,A185,'Custo Básico dos Produtos'!$K$7:$K$480)","v":0},null,null,0,0,0,0,0,0]
[null,{"$f":"IF(Q186<>0,VLOOKUP(Q186,'Custo Básico dos Produtos'!$A$7:$J$480,3),\"\")","v":""},null,{"$f":"SUMIF('Custo Básico dos Produtos'!$A$7:$A$480,Q186,'Custo Básico dos Produtos'!$J$7:$J$480)","v":0},null,0,{"$f":"IF(B186=\"\",0,SUMIF('Cadastro de Produtos em Linha'!$B$7:$B$457,A186,'Cadastro de Produtos em Linha'!$D$7:$D$457))","v":0},null,{"$f":"IF(F186=\"\",0,IF(F186>=AI186,G186*H186,0))","v":0},{"$f":"IF(F186=\"\",0,I186*E186)","v":0},{"$f":"IF('Aferi (Variáveis)'!$C$12=\"ALC\",0,IF('Aferi (Variáveis)'!$C$12=\"ZFM\",0,IF('Aferi (Variáveis)'!$C$12=\"Exportação\",0,IF('Aferi (Variáveis)'!$C$12=\"Venda para Exportar\",0,IF('Aferi (Variáveis)'!$C$12=\"AO\",0,SUMIF('Custo Básico dos Produtos'!$A$7:$A$480,Q186,'Custo Básico dos Produtos'!$L$7:$L$480))))))","v":0},0,0,0,0,{"$f":"SUMIF('Cadastro de Produtos em Linha'!$A$6:$A$457,Q186,'Cadastro de Produtos em Linha'!$E$6:$E$457)*H186","v":0},{"$f":"IF(TODAY()<$AK$26,IF(A186<>\"\",SUMIF('Custo Básico dos Produtos'!$B$7:$B$457,A186,'Custo Básico dos Produtos'!$A$7:$A$457),0),0)","v":0},{"$f":"IF('Aferi (Variáveis)'!$C$12=\"Venda para Exportar\",0,IF('Aferi (Variáveis)'!$C$12=\"ALC\",0,IF('Aferi (Variáveis)'!$C$12=\"ZFM\",0,IF('Aferi (Variáveis)'!$C$12=\"Exportação\",0,IF('Aferi (Variáveis)'!$C$12=\"AO\",0,E186/(100+(0*'Aferi (Variáveis)'!$K$12/100))*100*K186%/100*'Aferi (Variáveis)'!$K$12)))))","v":0},0,{"$f":"(E186*'Aferi (Variáveis)'!$K$12/100)","v":0},0,{"$f":"IF('Aferi (Variáveis)'!$F$20=\"Venda para Exportar\",0,IF('Aferi (Variáveis)'!$F$20=\"ALC\",0,IF('Aferi (Variáveis)'!$F$20=\"ZFM\",0,IF('Aferi (Variáveis)'!$F$20=\"Exportação\",0,IF('Aferi (Variáveis)'!$F$20=\"AO\",7*T186/100,T186*'Aferi (Variáveis)'!$F$20/100)))))","v":0},0,{"$f":"IF('Aferi (Variáveis)'!$C$12=\"ZFM\",0,IF('Aferi (Variáveis)'!$C$12=\"Exportação\",0,3*T186/100))","v":0},{"$f":"IF('Aferi (Variáveis)'!$C$12=\"ZFM\",0,IF('Aferi (Variáveis)'!$C$12=\"Exportação\",0,0.65*T186/100))","v":0},0,0,0,0,0,0,0,0,0,{"$f":"SUMIF('Custo Básico dos Produtos'!$B$7:$B$480,A186,'Custo Básico dos Produtos'!$K$7:$K$480)","v":0},null,null,0,0,0,0,0,0]
[null,{"$f":"IF(Q187<>0,VLOOKUP(Q187,'Custo Básico dos Produtos'!$A$7:$J$480,3),\"\")","v":""},null,{"$f":"SUMIF('Custo Básico dos Produtos'!$A$7:$A$480,Q187,'Custo Básico dos Produtos'!$J$7:$J$480)","v":0},null,0,{"$f":"IF(B187=\"\",0,SUMIF('Cadastro de Produtos em Linha'!$B$7:$B$457,A187,'Cadastro de Produtos em Linha'!$D$7:$D$457))","v":0},null,0,0,{"$f":"IF('Aferi (Variáveis)'!$C$12=\"ALC\",0,IF('Aferi (Variáveis)'!$C$12=\"ZFM\",0,IF('Aferi (Variáveis)'!$C$12=\"Exportação\",0,IF('Aferi (Variáveis)'!$C$12=\"Venda para Exportar\",0,IF('Aferi (Variáveis)'!$C$12=\"AO\",0,SUMIF('Custo Básico dos Produtos'!$A$7:$A$480,Q187,'Custo Básico dos Produtos'!$L$7:$L$480))))))","v":0},0,0,0,0,{"$f":"SUMIF('Cadastro de Produtos em Linha'!$A$6:$A$457,Q187,'Cadastro de Produtos em Linha'!$E$6:$E$457)*H187","v":0},{"$f":"IF(TODAY()<$AK$26,IF(A187<>\"\",SUMIF('Custo Básico dos Produtos'!$B$7:$B$457,A187,'Custo Básico dos Produtos'!$A$7:$A$457),0),0)","v":0},{"$f":"IF('Aferi (Variáveis)'!$C$12=\"Venda para Exportar\",0,IF('Aferi (Variáveis)'!$C$12=\"ALC\",0,IF('Aferi (Variáveis)'!$C$12=\"ZFM\",0,IF('Aferi (Variáveis)'!$C$12=\"Exportação\",0,IF('Aferi (Variáveis)'!$C$12=\"AO\",0,E187/(100+(0*'Aferi (Variáveis)'!$K$12/100))*100*K187%/100*'Aferi (Variáveis)'!$K$12)))))","v":0},0,{"$f":"(E187*'Aferi (Variáveis)'!$K$12/100)","v":0},0,{"$f":"IF('Aferi (Variáveis)'!$F$20=\"Venda para Exportar\",0,IF('Aferi (Variáveis)'!$F$20=\"ALC\",0,IF('Aferi (Variáveis)'!$F$20=\"ZFM\",0,IF('Aferi (Variáveis)'!$F$20=\"Exportação\",0,IF('Aferi (Variáveis)'!$F$20=\"AO\",7*T187/100,T187*'Aferi (Variáveis)'!$F$20/100)))))","v":0},0,{"$f":"IF('Aferi (Variáveis)'!$C$12=\"ZFM\",0,IF('Aferi (Variáveis)'!$C$12=\"Exportação\",0,3*T187/100))","v":0},{"$f":"IF('Aferi (Variáveis)'!$C$12=\"ZFM\",0,IF('Aferi (Variáveis)'!$C$12=\"Exportação\",0,0.65*T187/100))","v":0},0,0,0,0,0,0,0,0,0,{"$f":"SUMIF('Custo Básico dos Produtos'!$B$7:$B$480,A187,'Custo Básico dos Produtos'!$K$7:$K$480)","v":0},null,null,0,0,0,0,0,0]
[null,{"$f":"IF(Q188<>0,VLOOKUP(Q188,'Custo Básico dos Produtos'!$A$7:$J$480,3),\"\")","v":""},null,{"$f":"SUMIF('Custo Básico dos Produtos'!$A$7:$A$480,Q188,'Custo Básico dos Produtos'!$J$7:$J$480)","v":0},null,0,{"$f":"IF(B188=\"\",0,SUMIF('Cadastro de Produtos em Linha'!$B$7:$B$457,A188,'Cadastro de Produtos em Linha'!$D$7:$D$457))","v":0},null,0,0,{"$f":"IF('Aferi (Variáveis)'!$C$12=\"ALC\",0,IF('Aferi (Variáveis)'!$C$12=\"ZFM\",0,IF('Aferi (Variáveis)'!$C$12=\"Exportação\",0,IF('Aferi (Variáveis)'!$C$12=\"Venda para Exportar\",0,IF('Aferi (Variáveis)'!$C$12=\"AO\",0,SUMIF('Custo Básico dos Produtos'!$A$7:$A$480,Q188,'Custo Básico dos Produtos'!$L$7:$L$480))))))","v":0},0,0,0,0,{"$f":"SUMIF('Cadastro de Produtos em Linha'!$A$6:$A$457,Q188,'Cadastro de Produtos em Linha'!$E$6:$E$457)*H188","v":0},{"$f":"IF(TODAY()<$AK$26,IF(A188<>\"\",SUMIF('Custo Básico dos Produtos'!$B$7:$B$457,A188,'Custo Básico dos Produtos'!$A$7:$A$457),0),0)","v":0},{"$f":"IF('Aferi (Variáveis)'!$C$12=\"Venda para Exportar\",0,IF('Aferi (Variáveis)'!$C$12=\"ALC\",0,IF('Aferi (Variáveis)'!$C$12=\"ZFM\",0,IF('Aferi (Variáveis)'!$C$12=\"Exportação\",0,IF('Aferi (Variáveis)'!$C$12=\"AO\",0,E188/(100+(0*'Aferi (Variáveis)'!$K$12/100))*100*K188%/100*'Aferi (Variáveis)'!$K$12)))))","v":0},0,{"$f":"(E188*'Aferi (Variáveis)'!$K$12/100)","v":0},0,{"$f":"IF('Aferi (Variáveis)'!$F$20=\"Venda para Exportar\",0,IF('Aferi (Variáveis)'!$F$20=\"ALC\",0,IF('Aferi (Variáveis)'!$F$20=\"ZFM\",0,IF('Aferi (Variáveis)'!$F$20=\"Exportação\",0,IF('Aferi (Variáveis)'!$F$20=\"AO\",7*T188/100,T188*'Aferi (Variáveis)'!$F$20/100)))))","v":0},0,{"$f":"IF('Aferi (Variáveis)'!$C$12=\"ZFM\",0,IF('Aferi (Variáveis)'!$C$12=\"Exportação\",0,3*T188/100))","v":0},{"$f":"IF('Aferi (Variáveis)'!$C$12=\"ZFM\",0,IF('Aferi (Variáveis)'!$C$12=\"Exportação\",0,0.65*T188/100))","v":0},0,0,0,0,0,0,0,0,0,{"$f":"SUMIF('Custo Básico dos Produtos'!$B$7:$B$480,A188,'Custo Básico dos Produtos'!$K$7:$K$480)","v":0},null,null,0,0,0,0,0,0]
[null,{"$f":"IF(Q189<>0,VLOOKUP(Q189,'Custo Básico dos Produtos'!$A$7:$J$480,3),\"\")","v":""},null,{"$f":"SUMIF('Custo Básico dos Produtos'!$A$7:$A$480,Q189,'Custo Básico dos Produtos'!$J$7:$J$480)","v":0},null,0,{"$f":"IF(B189=\"\",0,SUMIF('Cadastro de Produtos em Linha'!$B$7:$B$457,A189,'Cadastro de Produtos em Linha'!$D$7:$D$457))","v":0},null,0,0,{"$f":"IF('Aferi (Variáveis)'!$C$12=\"ALC\",0,IF('Aferi (Variáveis)'!$C$12=\"ZFM\",0,IF('Aferi (Variáveis)'!$C$12=\"Exportação\",0,IF('Aferi (Variáveis)'!$C$12=\"Venda para Exportar\",0,IF('Aferi (Variáveis)'!$C$12=\"AO\",0,SUMIF('Custo Básico dos Produtos'!$A$7:$A$480,Q189,'Custo Básico dos Produtos'!$L$7:$L$480))))))","v":0},0,0,0,0,{"$f":"SUMIF('Cadastro de Produtos em Linha'!$A$6:$A$457,Q189,'Cadastro de Produtos em Linha'!$E$6:$E$457)*H189","v":0},{"$f":"IF(TODAY()<$AK$26,IF(A189<>\"\",SUMIF('Custo Básico dos Produtos'!$B$7:$B$457,A189,'Custo Básico dos Produtos'!$A$7:$A$457),0),0)","v":0},{"$f":"IF('Aferi (Variáveis)'!$C$12=\"Venda para Exportar\",0,IF('Aferi (Variáveis)'!$C$12=\"ALC\",0,IF('Aferi (Variáveis)'!$C$12=\"ZFM\",0,IF('Aferi (Variáveis)'!$C$12=\"Exportação\",0,IF('Aferi (Variáveis)'!$C$12=\"AO\",0,E189/(100+(0*'Aferi (Variáveis)'!$K$12/100))*100*K189%/100*'Aferi (Variáveis)'!$K$12)))))","v":0},0,{"$f":"(E189*'Aferi (Variáveis)'!$K$12/100)","v":0},0,{"$f":"IF('Aferi (Variáveis)'!$F$20=\"Venda para Exportar\",0,IF('Aferi (Variáveis)'!$F$20=\"ALC\",0,IF('Aferi (Variáveis)'!$F$20=\"ZFM\",0,IF('Aferi (Variáveis)'!$F$20=\"Exportação\",0,IF('Aferi (Variáveis)'!$F$20=\"AO\",7*T189/100,T189*'Aferi (Variáveis)'!$F$20/100)))))","v":0},0,{"$f":"IF('Aferi (Variáveis)'!$C$12=\"ZFM\",0,IF('Aferi (Variáveis)'!$C$12=\"Exportação\",0,3*T189/100))","v":0},{"$f":"IF('Aferi (Variáveis)'!$C$12=\"ZFM\",0,IF('Aferi (Variáveis)'!$C$12=\"Exportação\",0,0.65*T189/100))","v":0},0,0,0,0,0,0,0,0,0,{"$f":"SUMIF('Custo Básico dos Produtos'!$B$7:$B$480,A189,'Custo Básico dos Produtos'!$K$7:$K$480)","v":0},null,null,0,0,0,0,0,0]
[null,{"$f":"IF(Q190<>0,VLOOKUP(Q190,'Custo Básico dos Produtos'!$A$7:$J$480,3),\"\")","v":""},null,{"$f":"SUMIF('Custo Básico dos Produtos'!$A$7:$A$480,Q190,'Custo Básico dos Produtos'!$J$7:$J$480)","v":0},null,0,{"$f":"IF(B190=\"\",0,SUMIF('Cadastro de Produtos em Linha'!$B$7:$B$457,A190,'Cadastro de Produtos em Linha'!$D$7:$D$457))","v":0},null,0,0,{"$f":"IF('Aferi (Variáveis)'!$C$12=\"ALC\",0,IF('Aferi (Variáveis)'!$C$12=\"ZFM\",0,IF('Aferi (Variáveis)'!$C$12=\"Exportação\",0,IF('Aferi (Variáveis)'!$C$12=\"Venda para Exportar\",0,IF('Aferi (Variáveis)'!$C$12=\"AO\",0,SUMIF('Custo Básico dos Produtos'!$A$7:$A$480,Q190,'Custo Básico dos Produtos'!$L$7:$L$480))))))","v":0},0,0,0,0,{"$f":"SUMIF('Cadastro de Produtos em Linha'!$A$6:$A$457,Q190,'Cadastro de Produtos em Linha'!$E$6:$E$457)*H190","v":0},{"$f":"IF(TODAY()<$AK$26,IF(A190<>\"\",SUMIF('Custo Básico dos Produtos'!$B$7:$B$457,A190,'Custo Básico dos Produtos'!$A$7:$A$457),0),0)","v":0},{"$f":"IF('Aferi (Variáveis)'!$C$12=\"Venda para Exportar\",0,IF('Aferi (Variáveis)'!$C$12=\"ALC\",0,IF('Aferi (Variáveis)'!$C$12=\"ZFM\",0,IF('Aferi (Variáveis)'!$C$12=\"Exportação\",0,IF('Aferi (Variáveis)'!$C$12=\"AO\",0,E190/(100+(0*'Aferi (Variáveis)'!$K$12/100))*100*K190%/100*'Aferi (Variáveis)'!$K$12)))))","v":0},0,{"$f":"(E190*'Aferi (Variáveis)'!$K$12/100)","v":0},0,{"$f":"IF('Aferi (Variáveis)'!$F$20=\"Venda para Exportar\",0,IF('Aferi (Variáveis)'!$F$20=\"ALC\",0,IF('Aferi (Variáveis)'!$F$20=\"ZFM\",0,IF('Aferi (Variáveis)'!$F$20=\"Exportação\",0,IF('Aferi (Variáveis)'!$F$20=\"AO\",7*T190/100,T190*'Aferi (Variáveis)'!$F$20/100)))))","v":0},0,{"$f":"IF('Aferi (Variáveis)'!$C$12=\"ZFM\",0,IF('Aferi (Variáveis)'!$C$12=\"Exportação\",0,3*T190/100))","v":0},{"$f":"IF('Aferi (Variáveis)'!$C$12=\"ZFM\",0,IF('Aferi (Variáveis)'!$C$12=\"Exportação\",0,0.65*T190/100))","v":0},0,0,0,0,0,0,0,0,0,{"$f":"SUMIF('Custo Básico dos Produtos'!$B$7:$B$480,A190,'Custo Básico dos Produtos'!$K$7:$K$480)","v":0},null,null,0,0,0,0,0,0]
[null,{"$f":"IF(Q191<>0,VLOOKUP(Q191,'Custo Básico dos Produtos'!$A$7:$J$480,3),\"\")","v":""},null,{"$f":"SUMIF('Custo Básico dos Produtos'!$A$7:$A$480,Q191,'Custo Básico dos Produtos'!$J$7:$J$480)","v":0},null,0,{"$f":"IF(B191=\"\",0,SUMIF('Cadastro de Produtos em Linha'!$B$7:$B$457,A191,'Cadastro de Produtos em Linha'!$D$7:$D$457))","v":0},null,0,0,{"$f":"IF('Aferi (Variáveis)'!$C$12=\"ALC\",0,IF('Aferi (Variáveis)'!$C$12=\"ZFM\",0,IF('Aferi (Variáveis)'!$C$12=\"Exportação\",0,IF('Aferi (Variáveis)'!$C$12=\"Venda para Exportar\",0,IF('Aferi (Variáveis)'!$C$12=\"AO\",0,SUMIF('Custo Básico dos Produtos'!$A$7:$A$480,Q191,'Custo Básico dos Produtos'!$L$7:$L$480))))))","v":0},0,0,0,0,{"$f":"SUMIF('Cadastro de Produtos em Linha'!$A$6:$A$457,Q191,'Cadastro de Produtos em Linha'!$E$6:$E$457)*H191","v":0},{"$f":"IF(TODAY()<$AK$26,IF(A191<>\"\",SUMIF('Custo Básico dos Produtos'!$B$7:$B$457,A191,'Custo Básico dos Produtos'!$A$7:$A$457),0),0)","v":0},{"$f":"IF('Aferi (Variáveis)'!$C$12=\"Venda para Exportar\",0,IF('Aferi (Variáveis)'!$C$12=\"ALC\",0,IF('Aferi (Variáveis)'!$C$12=\"ZFM\",0,IF('Aferi (Variáveis)'!$C$12=\"Exportação\",0,IF('Aferi (Variáveis)'!$C$12=\"AO\",0,E191/(100+(0*'Aferi (Variáveis)'!$K$12/100))*100*K191%/100*'Aferi (Variáveis)'!$K$12)))))","v":0},0,{"$f":"(E191*'Aferi (Variáveis)'!$K$12/100)","v":0},0,{"$f":"IF('Aferi (Variáveis)'!$F$20=\"Venda para Exportar\",0,IF('Aferi (Variáveis)'!$F$20=\"ALC\",0,IF('Aferi (Variáveis)'!$F$20=\"ZFM\",0,IF('Aferi (Variáveis)'!$F$20=\"Exportação\",0,IF('Aferi (Variáveis)'!$F$20=\"AO\",7*T191/100,T191*'Aferi (Variáveis)'!$F$20/100)))))","v":0},0,{"$f":"IF('Aferi (Variáveis)'!$C$12=\"ZFM\",0,IF('Aferi (Variáveis)'!$C$12=\"Exportação\",0,3*T191/100))","v":0},{"$f":"IF('Aferi (Variáveis)'!$C$12=\"ZFM\",0,IF('Aferi (Variáveis)'!$C$12=\"Exportação\",0,0.65*T191/100))","v":0},0,0,0,0,0,0,0,0,0,{"$f":"SUMIF('Custo Básico dos Produtos'!$B$7:$B$480,A191,'Custo Básico dos Produtos'!$K$7:$K$480)","v":0},null,null,0,0,0,0,0,0]
[null,{"$f":"IF(Q192<>0,VLOOKUP(Q192,'Custo Básico dos Produtos'!$A$7:$J$480,3),\"\")","v":""},null,{"$f":"SUMIF('Custo Básico dos Produtos'!$A$7:$A$480,Q192,'Custo Básico dos Produtos'!$J$7:$J$480)","v":0},null,0,{"$f":"IF(B192=\"\",0,SUMIF('Cadastro de Produtos em Linha'!$B$7:$B$457,A192,'Cadastro de Produtos em Linha'!$D$7:$D$457))","v":0},null,0,0,{"$f":"IF('Aferi (Variáveis)'!$C$12=\"ALC\",0,IF('Aferi (Variáveis)'!$C$12=\"ZFM\",0,IF('Aferi (Variáveis)'!$C$12=\"Exportação\",0,IF('Aferi (Variáveis)'!$C$12=\"Venda para Exportar\",0,IF('Aferi (Variáveis)'!$C$12=\"AO\",0,SUMIF('Custo Básico dos Produtos'!$A$7:$A$480,Q192,'Custo Básico dos Produtos'!$L$7:$L$480))))))","v":0},0,0,0,0,{"$f":"SUMIF('Cadastro de Produtos em Linha'!$A$6:$A$457,Q192,'Cadastro de Produtos em Linha'!$E$6:$E$457)*H192","v":0},{"$f":"IF(TODAY()<$AK$26,IF(A192<>\"\",SUMIF('Custo Básico dos Produtos'!$B$7:$B$457,A192,'Custo Básico dos Produtos'!$A$7:$A$457),0),0)","v":0},{"$f":"IF('Aferi (Variáveis)'!$C$12=\"Venda para Exportar\",0,IF('Aferi (Variáveis)'!$C$12=\"ALC\",0,IF('Aferi (Variáveis)'!$C$12=\"ZFM\",0,IF('Aferi (Variáveis)'!$C$12=\"Exportação\",0,IF('Aferi (Variáveis)'!$C$12=\"AO\",0,E192/(100+(0*'Aferi (Variáveis)'!$K$12/100))*100*K192%/100*'Aferi (Variáveis)'!$K$12)))))","v":0},0,{"$f":"(E192*'Aferi (Variáveis)'!$K$12/100)","v":0},0,{"$f":"IF('Aferi (Variáveis)'!$F$20=\"Venda para Exportar\",0,IF('Aferi (Variáveis)'!$F$20=\"ALC\",0,IF('Aferi (Variáveis)'!$F$20=\"ZFM\",0,IF('Aferi (Variáveis)'!$F$20=\"Exportação\",0,IF('Aferi (Variáveis)'!$F$20=\"AO\",7*T192/100,T192*'Aferi (Variáveis)'!$F$20/100)))))","v":0},0,{"$f":"IF('Aferi (Variáveis)'!$C$12=\"ZFM\",0,IF('Aferi (Variáveis)'!$C$12=\"Exportação\",0,3*T192/100))","v":0},{"$f":"IF('Aferi (Variáveis)'!$C$12=\"ZFM\",0,IF('Aferi (Variáveis)'!$C$12=\"Exportação\",0,0.65*T192/100))","v":0},0,0,0,0,0,0,0,0,0,{"$f":"SUMIF('Custo Básico dos Produtos'!$B$7:$B$480,A192,'Custo Básico dos Produtos'!$K$7:$K$480)","v":0},null,null,0,0,0,0,0,0]
[null,{"$f":"IF(Q193<>0,VLOOKUP(Q193,'Custo Básico dos Produtos'!$A$7:$J$480,3),\"\")","v":""},null,{"$f":"SUMIF('Custo Básico dos Produtos'!$A$7:$A$480,Q193,'Custo Básico dos Produtos'!$J$7:$J$480)","v":0},null,0,{"$f":"IF(B193=\"\",0,SUMIF('Cadastro de Produtos em Linha'!$B$7:$B$457,A193,'Cadastro de Produtos em Linha'!$D$7:$D$457))","v":0},null,0,0,{"$f":"IF('Aferi (Variáveis)'!$C$12=\"ALC\",0,IF('Aferi (Variáveis)'!$C$12=\"ZFM\",0,IF('Aferi (Variáveis)'!$C$12=\"Exportação\",0,IF('Aferi (Variáveis)'!$C$12=\"Venda para Exportar\",0,IF('Aferi (Variáveis)'!$C$12=\"AO\",0,SUMIF('Custo Básico dos Produtos'!$A$7:$A$480,Q193,'Custo Básico dos Produtos'!$L$7:$L$480))))))","v":0},0,0,0,0,{"$f":"SUMIF('Cadastro de Produtos em Linha'!$A$6:$A$457,Q193,'Cadastro de Produtos em Linha'!$E$6:$E$457)*H193","v":0},{"$f":"IF(TODAY()<$AK$26,IF(A193<>\"\",SUMIF('Custo Básico dos Produtos'!$B$7:$B$457,A193,'Custo Básico dos Produtos'!$A$7:$A$457),0),0)","v":0},{"$f":"IF('Aferi (Variáveis)'!$C$12=\"Venda para Exportar\",0,IF('Aferi (Variáveis)'!$C$12=\"ALC\",0,IF('Aferi (Variáveis)'!$C$12=\"ZFM\",0,IF('Aferi (Variáveis)'!$C$12=\"Exportação\",0,IF('Aferi (Variáveis)'!$C$12=\"AO\",0,E193/(100+(0*'Aferi (Variáveis)'!$K$12/100))*100*K193%/100*'Aferi (Variáveis)'!$K$12)))))","v":0},0,{"$f":"(E193*'Aferi (Variáveis)'!$K$12/100)","v":0},0,{"$f":"IF('Aferi (Variáveis)'!$F$20=\"Venda para Exportar\",0,IF('Aferi (Variáveis)'!$F$20=\"ALC\",0,IF('Aferi (Variáveis)'!$F$20=\"ZFM\",0,IF('Aferi (Variáveis)'!$F$20=\"Exportação\",0,IF('Aferi (Variáveis)'!$F$20=\"AO\",7*T193/100,T193*'Aferi (Variáveis)'!$F$20/100)))))","v":0},0,{"$f":"IF('Aferi (Variáveis)'!$C$12=\"ZFM\",0,IF('Aferi (Variáveis)'!$C$12=\"Exportação\",0,3*T193/100))","v":0},{"$f":"IF('Aferi (Variáveis)'!$C$12=\"ZFM\",0,IF('Aferi (Variáveis)'!$C$12=\"Exportação\",0,0.65*T193/100))","v":0},0,0,0,0,0,0,0,0,0,{"$f":"SUMIF('Custo Básico dos Produtos'!$B$7:$B$480,A193,'Custo Básico dos Produtos'!$K$7:$K$480)","v":0},null,null,0,0,0,0,0,0]
[null,{"$f":"IF(Q194<>0,VLOOKUP(Q194,'Custo Básico dos Produtos'!$A$7:$J$480,3),\"\")","v":""},null,{"$f":"SUMIF('Custo Básico dos Produtos'!$A$7:$A$480,Q194,'Custo Básico dos Produtos'!$J$7:$J$480)","v":0},null,0,{"$f":"IF(B194=\"\",0,SUMIF('Cadastro de Produtos em Linha'!$B$7:$B$457,A194,'Cadastro de Produtos em Linha'!$D$7:$D$457))","v":0},null,0,0,{"$f":"IF('Aferi (Variáveis)'!$C$12=\"ALC\",0,IF('Aferi (Variáveis)'!$C$12=\"ZFM\",0,IF('Aferi (Variáveis)'!$C$12=\"Exportação\",0,IF('Aferi (Variáveis)'!$C$12=\"Venda para Exportar\",0,IF('Aferi (Variáveis)'!$C$12=\"AO\",0,SUMIF('Custo Básico dos Produtos'!$A$7:$A$480,Q194,'Custo Básico dos Produtos'!$L$7:$L$480))))))","v":0},0,0,0,0,{"$f":"SUMIF('Cadastro de Produtos em Linha'!$A$6:$A$457,Q194,'Cadastro de Produtos em Linha'!$E$6:$E$457)*H194","v":0},{"$f":"IF(TODAY()<$AK$26,IF(A194<>\"\",SUMIF('Custo Básico dos Produtos'!$B$7:$B$457,A194,'Custo Básico dos Produtos'!$A$7:$A$457),0),0)","v":0},{"$f":"IF('Aferi (Variáveis)'!$C$12=\"Venda para Exportar\",0,IF('Aferi (Variáveis)'!$C$12=\"ALC\",0,IF('Aferi (Variáveis)'!$C$12=\"ZFM\",0,IF('Aferi (Variáveis)'!$C$12=\"Exportação\",0,IF('Aferi (Variáveis)'!$C$12=\"AO\",0,E194/(100+(0*'Aferi (Variáveis)'!$K$12/100))*100*K194%/100*'Aferi (Variáveis)'!$K$12)))))","v":0},0,{"$f":"(E194*'Aferi (Variáveis)'!$K$12/100)","v":0},0,{"$f":"IF('Aferi (Variáveis)'!$F$20=\"Venda para Exportar\",0,IF('Aferi (Variáveis)'!$F$20=\"ALC\",0,IF('Aferi (Variáveis)'!$F$20=\"ZFM\",0,IF('Aferi (Variáveis)'!$F$20=\"Exportação\",0,IF('Aferi (Variáveis)'!$F$20=\"AO\",7*T194/100,T194*'Aferi (Variáveis)'!$F$20/100)))))","v":0},0,{"$f":"IF('Aferi (Variáveis)'!$C$12=\"ZFM\",0,IF('Aferi (Variáveis)'!$C$12=\"Exportação\",0,3*T194/100))","v":0},{"$f":"IF('Aferi (Variáveis)'!$C$12=\"ZFM\",0,IF('Aferi (Variáveis)'!$C$12=\"Exportação\",0,0.65*T194/100))","v":0},0,0,0,0,0,0,0,0,0,{"$f":"SUMIF('Custo Básico dos Produtos'!$B$7:$B$480,A194,'Custo Básico dos Produtos'!$K$7:$K$480)","v":0},null,null,0,0,0,0,0,0]
[null,{"$f":"IF(Q195<>0,VLOOKUP(Q195,'Custo Básico dos Produtos'!$A$7:$J$480,3),\"\")","v":""},null,{"$f":"SUMIF('Custo Básico dos Produtos'!$A$7:$A$480,Q195,'Custo Básico dos Produtos'!$J$7:$J$480)","v":0},null,0,{"$f":"IF(B195=\"\",0,SUMIF('Cadastro de Produtos em Linha'!$B$7:$B$457,A195,'Cadastro de Produtos em Linha'!$D$7:$D$457))","v":0},null,0,0,{"$f":"IF('Aferi (Variáveis)'!$C$12=\"ALC\",0,IF('Aferi (Variáveis)'!$C$12=\"ZFM\",0,IF('Aferi (Variáveis)'!$C$12=\"Exportação\",0,IF('Aferi (Variáveis)'!$C$12=\"Venda para Exportar\",0,IF('Aferi (Variáveis)'!$C$12=\"AO\",0,SUMIF('Custo Básico dos Produtos'!$A$7:$A$480,Q195,'Custo Básico dos Produtos'!$L$7:$L$480))))))","v":0},0,0,0,0,{"$f":"SUMIF('Cadastro de Produtos em Linha'!$A$6:$A$457,Q195,'Cadastro de Produtos em Linha'!$E$6:$E$457)*H195","v":0},{"$f":"IF(TODAY()<$AK$26,IF(A195<>\"\",SUMIF('Custo Básico dos Produtos'!$B$7:$B$457,A195,'Custo Básico dos Produtos'!$A$7:$A$457),0),0)","v":0},{"$f":"IF('Aferi (Variáveis)'!$C$12=\"Venda para Exportar\",0,IF('Aferi (Variáveis)'!$C$12=\"ALC\",0,IF('Aferi (Variáveis)'!$C$12=\"ZFM\",0,IF('Aferi (Variáveis)'!$C$12=\"Exportação\",0,IF('Aferi (Variáveis)'!$C$12=\"AO\",0,E195/(100+(0*'Aferi (Variáveis)'!$K$12/100))*100*K195%/100*'Aferi (Variáveis)'!$K$12)))))","v":0},0,{"$f":"(E195*'Aferi (Variáveis)'!$K$12/100)","v":0},0,{"$f":"IF('Aferi (Variáveis)'!$F$20=\"Venda para Exportar\",0,IF('Aferi (Variáveis)'!$F$20=\"ALC\",0,IF('Aferi (Variáveis)'!$F$20=\"ZFM\",0,IF('Aferi (Variáveis)'!$F$20=\"Exportação\",0,IF('Aferi (Variáveis)'!$F$20=\"AO\",7*T195/100,T195*'Aferi (Variáveis)'!$F$20/100)))))","v":0},0,{"$f":"IF('Aferi (Variáveis)'!$C$12=\"ZFM\",0,IF('Aferi (Variáveis)'!$C$12=\"Exportação\",0,3*T195/100))","v":0},{"$f":"IF('Aferi (Variáveis)'!$C$12=\"ZFM\",0,IF('Aferi (Variáveis)'!$C$12=\"Exportação\",0,0.65*T195/100))","v":0},0,0,0,0,0,0,0,0,0,{"$f":"SUMIF('Custo Básico dos Produtos'!$B$7:$B$480,A195,'Custo Básico dos Produtos'!$K$7:$K$480)","v":0},null,null,0,0,0,0,0,0]
[null,{"$f":"IF(Q196<>0,VLOOKUP(Q196,'Custo Básico dos Produtos'!$A$7:$J$480,3),\"\")","v":""},null,{"$f":"SUMIF('Custo Básico dos Produtos'!$A$7:$A$480,Q196,'Custo Básico dos Produtos'!$J$7:$J$480)","v":0},null,0,{"$f":"IF(B196=\"\",0,SUMIF('Cadastro de Produtos em Linha'!$B$7:$B$457,A196,'Cadastro de Produtos em Linha'!$D$7:$D$457))","v":0},null,0,0,{"$f":"IF('Aferi (Variáveis)'!$C$12=\"ALC\",0,IF('Aferi (Variáveis)'!$C$12=\"ZFM\",0,IF('Aferi (Variáveis)'!$C$12=\"Exportação\",0,IF('Aferi (Variáveis)'!$C$12=\"Venda para Exportar\",0,IF('Aferi (Variáveis)'!$C$12=\"AO\",0,SUMIF('Custo Básico dos Produtos'!$A$7:$A$480,Q196,'Custo Básico dos Produtos'!$L$7:$L$480))))))","v":0},0,0,0,0,{"$f":"SUMIF('Cadastro de Produtos em Linha'!$A$6:$A$457,Q196,'Cadastro de Produtos em Linha'!$E$6:$E$457)*H196","v":0},{"$f":"IF(TODAY()<$AK$26,IF(A196<>\"\",SUMIF('Custo Básico dos Produtos'!$B$7:$B$457,A196,'Custo Básico dos Produtos'!$A$7:$A$457),0),0)","v":0},{"$f":"IF('Aferi (Variáveis)'!$C$12=\"Venda para Exportar\",0,IF('Aferi (Variáveis)'!$C$12=\"ALC\",0,IF('Aferi (Variáveis)'!$C$12=\"ZFM\",0,IF('Aferi (Variáveis)'!$C$12=\"Exportação\",0,IF('Aferi (Variáveis)'!$C$12=\"AO\",0,E196/(100+(0*'Aferi (Variáveis)'!$K$12/100))*100*K196%/100*'Aferi (Variáveis)'!$K$12)))))","v":0},0,{"$f":"(E196*'Aferi (Variáveis)'!$K$12/100)","v":0},0,{"$f":"IF('Aferi (Variáveis)'!$F$20=\"Venda para Exportar\",0,IF('Aferi (Variáveis)'!$F$20=\"ALC\",0,IF('Aferi (Variáveis)'!$F$20=\"ZFM\",0,IF('Aferi (Variáveis)'!$F$20=\"Exportação\",0,IF('Aferi (Variáveis)'!$F$20=\"AO\",7*T196/100,T196*'Aferi (Variáveis)'!$F$20/100)))))","v":0},0,{"$f":"IF('Aferi (Variáveis)'!$C$12=\"ZFM\",0,IF('Aferi (Variáveis)'!$C$12=\"Exportação\",0,3*T196/100))","v":0},{"$f":"IF('Aferi (Variáveis)'!$C$12=\"ZFM\",0,IF('Aferi (Variáveis)'!$C$12=\"Exportação\",0,0.65*T196/100))","v":0},0,0,0,0,0,0,0,0,0,{"$f":"SUMIF('Custo Básico dos Produtos'!$B$7:$B$480,A196,'Custo Básico dos Produtos'!$K$7:$K$480)","v":0},null,null,0,0,0,0,0,0]
[null,{"$f":"IF(Q197<>0,VLOOKUP(Q197,'Custo Básico dos Produtos'!$A$7:$J$480,3),\"\")","v":""},null,{"$f":"SUMIF('Custo Básico dos Produtos'!$A$7:$A$480,Q197,'Custo Básico dos Produtos'!$J$7:$J$480)","v":0},null,0,{"$f":"IF(B197=\"\",0,SUMIF('Cadastro de Produtos em Linha'!$B$7:$B$457,A197,'Cadastro de Produtos em Linha'!$D$7:$D$457))","v":0},null,0,0,{"$f":"IF('Aferi (Variáveis)'!$C$12=\"ALC\",0,IF('Aferi (Variáveis)'!$C$12=\"ZFM\",0,IF('Aferi (Variáveis)'!$C$12=\"Exportação\",0,IF('Aferi (Variáveis)'!$C$12=\"Venda para Exportar\",0,IF('Aferi (Variáveis)'!$C$12=\"AO\",0,SUMIF('Custo Básico dos Produtos'!$A$7:$A$480,Q197,'Custo Básico dos Produtos'!$L$7:$L$480))))))","v":0},0,0,0,0,{"$f":"SUMIF('Cadastro de Produtos em Linha'!$A$6:$A$457,Q197,'Cadastro de Produtos em Linha'!$E$6:$E$457)*H197","v":0},{"$f":"IF(TODAY()<$AK$26,IF(A197<>\"\",SUMIF('Custo Básico dos Produtos'!$B$7:$B$457,A197,'Custo Básico dos Produtos'!$A$7:$A$457),0),0)","v":0},{"$f":"IF('Aferi (Variáveis)'!$C$12=\"Venda para Exportar\",0,IF('Aferi (Variáveis)'!$C$12=\"ALC\",0,IF('Aferi (Variáveis)'!$C$12=\"ZFM\",0,IF('Aferi (Variáveis)'!$C$12=\"Exportação\",0,IF('Aferi (Variáveis)'!$C$12=\"AO\",0,E197/(100+(0*'Aferi (Variáveis)'!$K$12/100))*100*K197%/100*'Aferi (Variáveis)'!$K$12)))))","v":0},0,{"$f":"(E197*'Aferi (Variáveis)'!$K$12/100)","v":0},0,{"$f":"IF('Aferi (Variáveis)'!$F$20=\"Venda para Exportar\",0,IF('Aferi (Variáveis)'!$F$20=\"ALC\",0,IF('Aferi (Variáveis)'!$F$20=\"ZFM\",0,IF('Aferi (Variáveis)'!$F$20=\"Exportação\",0,IF('Aferi (Variáveis)'!$F$20=\"AO\",7*T197/100,T197*'Aferi (Variáveis)'!$F$20/100)))))","v":0},0,{"$f":"IF('Aferi (Variáveis)'!$C$12=\"ZFM\",0,IF('Aferi (Variáveis)'!$C$12=\"Exportação\",0,3*T197/100))","v":0},{"$f":"IF('Aferi (Variáveis)'!$C$12=\"ZFM\",0,IF('Aferi (Variáveis)'!$C$12=\"Exportação\",0,0.65*T197/100))","v":0},0,0,0,0,0,0,0,0,0,{"$f":"SUMIF('Custo Básico dos Produtos'!$B$7:$B$480,A197,'Custo Básico dos Produtos'!$K$7:$K$480)","v":0},null,null,0,0,0,0,0,0]
[null,{"$f":"IF(Q198<>0,VLOOKUP(Q198,'Custo Básico dos Produtos'!$A$7:$J$480,3),\"\")","v":""},null,{"$f":"SUMIF('Custo Básico dos Produtos'!$A$7:$A$480,Q198,'Custo Básico dos Produtos'!$J$7:$J$480)","v":0},null,0,{"$f":"IF(B198=\"\",0,SUMIF('Cadastro de Produtos em Linha'!$B$7:$B$457,A198,'Cadastro de Produtos em Linha'!$D$7:$D$457))","v":0},null,0,0,{"$f":"IF('Aferi (Variáveis)'!$C$12=\"ALC\",0,IF('Aferi (Variáveis)'!$C$12=\"ZFM\",0,IF('Aferi (Variáveis)'!$C$12=\"Exportação\",0,IF('Aferi (Variáveis)'!$C$12=\"Venda para Exportar\",0,IF('Aferi (Variáveis)'!$C$12=\"AO\",0,SUMIF('Custo Básico dos Produtos'!$A$7:$A$480,Q198,'Custo Básico dos Produtos'!$L$7:$L$480))))))","v":0},0,0,0,0,{"$f":"SUMIF('Cadastro de Produtos em Linha'!$A$6:$A$457,Q198,'Cadastro de Produtos em Linha'!$E$6:$E$457)*H198","v":0},{"$f":"IF(TODAY()<$AK$26,IF(A198<>\"\",SUMIF('Custo Básico dos Produtos'!$B$7:$B$457,A198,'Custo Básico dos Produtos'!$A$7:$A$457),0),0)","v":0},{"$f":"IF('Aferi (Variáveis)'!$C$12=\"Venda para Exportar\",0,IF('Aferi (Variáveis)'!$C$12=\"ALC\",0,IF('Aferi (Variáveis)'!$C$12=\"ZFM\",0,IF('Aferi (Variáveis)'!$C$12=\"Exportação\",0,IF('Aferi (Variáveis)'!$C$12=\"AO\",0,E198/(100+(0*'Aferi (Variáveis)'!$K$12/100))*100*K198%/100*'Aferi (Variáveis)'!$K$12)))))","v":0},0,{"$f":"(E198*'Aferi (Variáveis)'!$K$12/100)","v":0},0,{"$f":"IF('Aferi (Variáveis)'!$F$20=\"Venda para Exportar\",0,IF('Aferi (Variáveis)'!$F$20=\"ALC\",0,IF('Aferi (Variáveis)'!$F$20=\"ZFM\",0,IF('Aferi (Variáveis)'!$F$20=\"Exportação\",0,IF('Aferi (Variáveis)'!$F$20=\"AO\",7*T198/100,T198*'Aferi (Variáveis)'!$F$20/100)))))","v":0},0,{"$f":"IF('Aferi (Variáveis)'!$C$12=\"ZFM\",0,IF('Aferi (Variáveis)'!$C$12=\"Exportação\",0,3*T198/100))","v":0},{"$f":"IF('Aferi (Variáveis)'!$C$12=\"ZFM\",0,IF('Aferi (Variáveis)'!$C$12=\"Exportação\",0,0.65*T198/100))","v":0},0,0,0,0,0,0,0,0,0,{"$f":"SUMIF('Custo Básico dos Produtos'!$B$7:$B$480,A198,'Custo Básico dos Produtos'!$K$7:$K$480)","v":0},null,null,0,0,0,0,0,0]
[null,{"$f":"IF(Q199<>0,VLOOKUP(Q199,'Custo Básico dos Produtos'!$A$7:$J$480,3),\"\")","v":""},null,{"$f":"SUMIF('Custo Básico dos Produtos'!$A$7:$A$480,Q199,'Custo Básico dos Produtos'!$J$7:$J$480)","v":0},null,0,{"$f":"IF(B199=\"\",0,SUMIF('Cadastro de Produtos em Linha'!$B$7:$B$457,A199,'Cadastro de Produtos em Linha'!$D$7:$D$457))","v":0},null,0,0,{"$f":"IF('Aferi (Variáveis)'!$C$12=\"ALC\",0,IF('Aferi (Variáveis)'!$C$12=\"ZFM\",0,IF('Aferi (Variáveis)'!$C$12=\"Exportação\",0,IF('Aferi (Variáveis)'!$C$12=\"Venda para Exportar\",0,IF('Aferi (Variáveis)'!$C$12=\"AO\",0,SUMIF('Custo Básico dos Produtos'!$A$7:$A$480,Q199,'Custo Básico dos Produtos'!$L$7:$L$480))))))","v":0},0,0,0,0,{"$f":"SUMIF('Cadastro de Produtos em Linha'!$A$6:$A$457,Q199,'Cadastro de Produtos em Linha'!$E$6:$E$457)*H199","v":0},{"$f":"IF(TODAY()<$AK$26,IF(A199<>\"\",SUMIF('Custo Básico dos Produtos'!$B$7:$B$457,A199,'Custo Básico dos Produtos'!$A$7:$A$457),0),0)","v":0},{"$f":"IF('Aferi (Variáveis)'!$C$12=\"Venda para Exportar\",0,IF('Aferi (Variáveis)'!$C$12=\"ALC\",0,IF('Aferi (Variáveis)'!$C$12=\"ZFM\",0,IF('Aferi (Variáveis)'!$C$12=\"Exportação\",0,IF('Aferi (Variáveis)'!$C$12=\"AO\",0,E199/(100+(0*'Aferi (Variáveis)'!$K$12/100))*100*K199%/100*'Aferi (Variáveis)'!$K$12)))))","v":0},0,{"$f":"(E199*'Aferi (Variáveis)'!$K$12/100)","v":0},0,{"$f":"IF('Aferi (Variáveis)'!$F$20=\"Venda para Exportar\",0,IF('Aferi (Variáveis)'!$F$20=\"ALC\",0,IF('Aferi (Variáveis)'!$F$20=\"ZFM\",0,IF('Aferi (Variáveis)'!$F$20=\"Exportação\",0,IF('Aferi (Variáveis)'!$F$20=\"AO\",7*T199/100,T199*'Aferi (Variáveis)'!$F$20/100)))))","v":0},0,{"$f":"IF('Aferi (Variáveis)'!$C$12=\"ZFM\",0,IF('Aferi (Variáveis)'!$C$12=\"Exportação\",0,3*T199/100))","v":0},{"$f":"IF('Aferi (Variáveis)'!$C$12=\"ZFM\",0,IF('Aferi (Variáveis)'!$C$12=\"Exportação\",0,0.65*T199/100))","v":0},0,0,0,0,0,0,0,0,0,{"$f":"SUMIF('Custo Básico dos Produtos'!$B$7:$B$480,A199,'Custo Básico dos Produtos'!$K$7:$K$480)","v":0},null,null,0,0,0,0,0,0]
[null,{"$f":"IF(Q200<>0,VLOOKUP(Q200,'Custo Básico dos Produtos'!$A$7:$J$480,3),\"\")","v":""},null,{"$f":"SUMIF('Custo Básico dos Produtos'!$A$7:$A$480,Q200,'Custo Básico dos Produtos'!$J$7:$J$480)","v":0},null,0,{"$f":"IF(B200=\"\",0,SUMIF('Cadastro de Produtos em Linha'!$B$7:$B$457,A200,'Cadastro de Produtos em Linha'!$D$7:$D$457))","v":0},null,0,0,{"$f":"IF('Aferi (Variáveis)'!$C$12=\"ALC\",0,IF('Aferi (Variáveis)'!$C$12=\"ZFM\",0,IF('Aferi (Variáveis)'!$C$12=\"Exportação\",0,IF('Aferi (Variáveis)'!$C$12=\"Venda para Exportar\",0,IF('Aferi (Variáveis)'!$C$12=\"AO\",0,SUMIF('Custo Básico dos Produtos'!$A$7:$A$480,Q200,'Custo Básico dos Produtos'!$L$7:$L$480))))))","v":0},0,0,0,0,{"$f":"SUMIF('Cadastro de Produtos em Linha'!$A$6:$A$457,Q200,'Cadastro de Produtos em Linha'!$E$6:$E$457)*H200","v":0},{"$f":"IF(TODAY()<$AK$26,IF(A200<>\"\",SUMIF('Custo Básico dos Produtos'!$B$7:$B$457,A200,'Custo Básico dos Produtos'!$A$7:$A$457),0),0)","v":0},{"$f":"IF('Aferi (Variáveis)'!$C$12=\"Venda para Exportar\",0,IF('Aferi (Variáveis)'!$C$12=\"ALC\",0,IF('Aferi (Variáveis)'!$C$12=\"ZFM\",0,IF('Aferi (Variáveis)'!$C$12=\"Exportação\",0,IF('Aferi (Variáveis)'!$C$12=\"AO\",0,E200/(100+(0*'Aferi (Variáveis)'!$K$12/100))*100*K200%/100*'Aferi (Variáveis)'!$K$12)))))","v":0},0,{"$f":"(E200*'Aferi (Variáveis)'!$K$12/100)","v":0},0,{"$f":"IF('Aferi (Variáveis)'!$F$20=\"Venda para Exportar\",0,IF('Aferi (Variáveis)'!$F$20=\"ALC\",0,IF('Aferi (Variáveis)'!$F$20=\"ZFM\",0,IF('Aferi (Variáveis)'!$F$20=\"Exportação\",0,IF('Aferi (Variáveis)'!$F$20=\"AO\",7*T200/100,T200*'Aferi (Variáveis)'!$F$20/100)))))","v":0},0,{"$f":"IF('Aferi (Variáveis)'!$C$12=\"ZFM\",0,IF('Aferi (Variáveis)'!$C$12=\"Exportação\",0,3*T200/100))","v":0},{"$f":"IF('Aferi (Variáveis)'!$C$12=\"ZFM\",0,IF('Aferi (Variáveis)'!$C$12=\"Exportação\",0,0.65*T200/100))","v":0},0,0,0,0,0,0,0,0,0,{"$f":"SUMIF('Custo Básico dos Produtos'!$B$7:$B$480,A200,'Custo Básico dos Produtos'!$K$7:$K$480)","v":0},null,null,0,0,0,0,0,0]
[null,{"$f":"IF(Q201<>0,VLOOKUP(Q201,'Custo Básico dos Produtos'!$A$7:$J$480,3),\"\")","v":""},null,{"$f":"SUMIF('Custo Básico dos Produtos'!$A$7:$A$480,Q201,'Custo Básico dos Produtos'!$J$7:$J$480)","v":0},null,0,{"$f":"IF(B201=\"\",0,SUMIF('Cadastro de Produtos em Linha'!$B$7:$B$457,A201,'Cadastro de Produtos em Linha'!$D$7:$D$457))","v":0},null,0,0,{"$f":"IF('Aferi (Variáveis)'!$C$12=\"ALC\",0,IF('Aferi (Variáveis)'!$C$12=\"ZFM\",0,IF('Aferi (Variáveis)'!$C$12=\"Exportação\",0,IF('Aferi (Variáveis)'!$C$12=\"Venda para Exportar\",0,IF('Aferi (Variáveis)'!$C$12=\"AO\",0,SUMIF('Custo Básico dos Produtos'!$A$7:$A$480,Q201,'Custo Básico dos Produtos'!$L$7:$L$480))))))","v":0},0,0,0,0,{"$f":"SUMIF('Cadastro de Produtos em Linha'!$A$6:$A$457,Q201,'Cadastro de Produtos em Linha'!$E$6:$E$457)*H201","v":0},{"$f":"IF(TODAY()<$AK$26,IF(A201<>\"\",SUMIF('Custo Básico dos Produtos'!$B$7:$B$457,A201,'Custo Básico dos Produtos'!$A$7:$A$457),0),0)","v":0},{"$f":"IF('Aferi (Variáveis)'!$C$12=\"Venda para Exportar\",0,IF('Aferi (Variáveis)'!$C$12=\"ALC\",0,IF('Aferi (Variáveis)'!$C$12=\"ZFM\",0,IF('Aferi (Variáveis)'!$C$12=\"Exportação\",0,IF('Aferi (Variáveis)'!$C$12=\"AO\",0,E201/(100+(0*'Aferi (Variáveis)'!$K$12/100))*100*K201%/100*'Aferi (Variáveis)'!$K$12)))))","v":0},0,{"$f":"(E201*'Aferi (Variáveis)'!$K$12/100)","v":0},0,{"$f":"IF('Aferi (Variáveis)'!$F$20=\"Venda para Exportar\",0,IF('Aferi (Variáveis)'!$F$20=\"ALC\",0,IF('Aferi (Variáveis)'!$F$20=\"ZFM\",0,IF('Aferi (Variáveis)'!$F$20=\"Exportação\",0,IF('Aferi (Variáveis)'!$F$20=\"AO\",7*T201/100,T201*'Aferi (Variáveis)'!$F$20/100)))))","v":0},0,{"$f":"IF('Aferi (Variáveis)'!$C$12=\"ZFM\",0,IF('Aferi (Variáveis)'!$C$12=\"Exportação\",0,3*T201/100))","v":0},{"$f":"IF('Aferi (Variáveis)'!$C$12=\"ZFM\",0,IF('Aferi (Variáveis)'!$C$12=\"Exportação\",0,0.65*T201/100))","v":0},0,0,0,0,0,0,0,0,0,{"$f":"SUMIF('Custo Básico dos Produtos'!$B$7:$B$480,A201,'Custo Básico dos Produtos'!$K$7:$K$480)","v":0},null,null,0,0,0,0,0,0]
[null,{"$f":"IF(Q202<>0,VLOOKUP(Q202,'Custo Básico dos Produtos'!$A$7:$J$480,3),\"\")","v":""},null,{"$f":"SUMIF('Custo Básico dos Produtos'!$A$7:$A$480,Q202,'Custo Básico dos Produtos'!$J$7:$J$480)","v":0},null,0,{"$f":"IF(B202=\"\",0,SUMIF('Cadastro de Produtos em Linha'!$B$7:$B$457,A202,'Cadastro de Produtos em Linha'!$D$7:$D$457))","v":0},null,0,0,{"$f":"IF('Aferi (Variáveis)'!$C$12=\"ALC\",0,IF('Aferi (Variáveis)'!$C$12=\"ZFM\",0,IF('Aferi (Variáveis)'!$C$12=\"Exportação\",0,IF('Aferi (Variáveis)'!$C$12=\"Venda para Exportar\",0,IF('Aferi (Variáveis)'!$C$12=\"AO\",0,SUMIF('Custo Básico dos Produtos'!$A$7:$A$480,Q202,'Custo Básico dos Produtos'!$L$7:$L$480))))))","v":0},0,0,0,0,{"$f":"SUMIF('Cadastro de Produtos em Linha'!$A$6:$A$457,Q202,'Cadastro de Produtos em Linha'!$E$6:$E$457)*H202","v":0},{"$f":"IF(TODAY()<$AK$26,IF(A202<>\"\",SUMIF('Custo Básico dos Produtos'!$B$7:$B$457,A202,'Custo Básico dos Produtos'!$A$7:$A$457),0),0)","v":0},{"$f":"IF('Aferi (Variáveis)'!$C$12=\"Venda para Exportar\",0,IF('Aferi (Variáveis)'!$C$12=\"ALC\",0,IF('Aferi (Variáveis)'!$C$12=\"ZFM\",0,IF('Aferi (Variáveis)'!$C$12=\"Exportação\",0,IF('Aferi (Variáveis)'!$C$12=\"AO\",0,E202/(100+(0*'Aferi (Variáveis)'!$K$12/100))*100*K202%/100*'Aferi (Variáveis)'!$K$12)))))","v":0},0,{"$f":"(E202*'Aferi (Variáveis)'!$K$12/100)","v":0},0,{"$f":"IF('Aferi (Variáveis)'!$F$20=\"Venda para Exportar\",0,IF('Aferi (Variáveis)'!$F$20=\"ALC\",0,IF('Aferi (Variáveis)'!$F$20=\"ZFM\",0,IF('Aferi (Variáveis)'!$F$20=\"Exportação\",0,IF('Aferi (Variáveis)'!$F$20=\"AO\",7*T202/100,T202*'Aferi (Variáveis)'!$F$20/100)))))","v":0},0,{"$f":"IF('Aferi (Variáveis)'!$C$12=\"ZFM\",0,IF('Aferi (Variáveis)'!$C$12=\"Exportação\",0,3*T202/100))","v":0},{"$f":"IF('Aferi (Variáveis)'!$C$12=\"ZFM\",0,IF('Aferi (Variáveis)'!$C$12=\"Exportação\",0,0.65*T202/100))","v":0},0,0,0,0,0,0,0,0,0,{"$f":"SUMIF('Custo Básico dos Produtos'!$B$7:$B$480,A202,'Custo Básico dos Produtos'!$K$7:$K$480)","v":0},null,null,0,0,0,0,0,0]
[null,{"$f":"IF(Q203<>0,VLOOKUP(Q203,'Custo Básico dos Produtos'!$A$7:$J$480,3),\"\")","v":""},null,{"$f":"SUMIF('Custo Básico dos Produtos'!$A$7:$A$480,Q203,'Custo Básico dos Produtos'!$J$7:$J$480)","v":0},null,0,{"$f":"IF(B203=\"\",0,SUMIF('Cadastro de Produtos em Linha'!$B$7:$B$457,A203,'Cadastro de Produtos em Linha'!$D$7:$D$457))","v":0},null,0,0,{"$f":"IF('Aferi (Variáveis)'!$C$12=\"ALC\",0,IF('Aferi (Variáveis)'!$C$12=\"ZFM\",0,IF('Aferi (Variáveis)'!$C$12=\"Exportação\",0,IF('Aferi (Variáveis)'!$C$12=\"Venda para Exportar\",0,IF('Aferi (Variáveis)'!$C$12=\"AO\",0,SUMIF('Custo Básico dos Produtos'!$A$7:$A$480,Q203,'Custo Básico dos Produtos'!$L$7:$L$480))))))","v":0},0,0,0,0,{"$f":"SUMIF('Cadastro de Produtos em Linha'!$A$6:$A$457,Q203,'Cadastro de Produtos em Linha'!$E$6:$E$457)*H203","v":0},{"$f":"IF(TODAY()<$AK$26,IF(A203<>\"\",SUMIF('Custo Básico dos Produtos'!$B$7:$B$457,A203,'Custo Básico dos Produtos'!$A$7:$A$457),0),0)","v":0},{"$f":"IF('Aferi (Variáveis)'!$C$12=\"Venda para Exportar\",0,IF('Aferi (Variáveis)'!$C$12=\"ALC\",0,IF('Aferi (Variáveis)'!$C$12=\"ZFM\",0,IF('Aferi (Variáveis)'!$C$12=\"Exportação\",0,IF('Aferi (Variáveis)'!$C$12=\"AO\",0,E203/(100+(0*'Aferi (Variáveis)'!$K$12/100))*100*K203%/100*'Aferi (Variáveis)'!$K$12)))))","v":0},0,{"$f":"(E203*'Aferi (Variáveis)'!$K$12/100)","v":0},0,{"$f":"IF('Aferi (Variáveis)'!$F$20=\"Venda para Exportar\",0,IF('Aferi (Variáveis)'!$F$20=\"ALC\",0,IF('Aferi (Variáveis)'!$F$20=\"ZFM\",0,IF('Aferi (Variáveis)'!$F$20=\"Exportação\",0,IF('Aferi (Variáveis)'!$F$20=\"AO\",7*T203/100,T203*'Aferi (Variáveis)'!$F$20/100)))))","v":0},0,{"$f":"IF('Aferi (Variáveis)'!$C$12=\"ZFM\",0,IF('Aferi (Variáveis)'!$C$12=\"Exportação\",0,3*T203/100))","v":0},{"$f":"IF('Aferi (Variáveis)'!$C$12=\"ZFM\",0,IF('Aferi (Variáveis)'!$C$12=\"Exportação\",0,0.65*T203/100))","v":0},0,0,0,0,0,0,0,0,0,{"$f":"SUMIF('Custo Básico dos Produtos'!$B$7:$B$480,A203,'Custo Básico dos Produtos'!$K$7:$K$480)","v":0},null,null,0,0,0,0,0,0]
[null,{"$f":"IF(Q204<>0,VLOOKUP(Q204,'Custo Básico dos Produtos'!$A$7:$J$480,3),\"\")","v":""},null,{"$f":"SUMIF('Custo Básico dos Produtos'!$A$7:$A$480,Q204,'Custo Básico dos Produtos'!$J$7:$J$480)","v":0},null,0,{"$f":"IF(B204=\"\",0,SUMIF('Cadastro de Produtos em Linha'!$B$7:$B$457,A204,'Cadastro de Produtos em Linha'!$D$7:$D$457))","v":0},null,0,0,{"$f":"IF('Aferi (Variáveis)'!$C$12=\"ALC\",0,IF('Aferi (Variáveis)'!$C$12=\"ZFM\",0,IF('Aferi (Variáveis)'!$C$12=\"Exportação\",0,IF('Aferi (Variáveis)'!$C$12=\"Venda para Exportar\",0,IF('Aferi (Variáveis)'!$C$12=\"AO\",0,SUMIF('Custo Básico dos Produtos'!$A$7:$A$480,Q204,'Custo Básico dos Produtos'!$L$7:$L$480))))))","v":0},0,0,0,0,{"$f":"SUMIF('Cadastro de Produtos em Linha'!$A$6:$A$457,Q204,'Cadastro de Produtos em Linha'!$E$6:$E$457)*H204","v":0},{"$f":"IF(TODAY()<$AK$26,IF(A204<>\"\",SUMIF('Custo Básico dos Produtos'!$B$7:$B$457,A204,'Custo Básico dos Produtos'!$A$7:$A$457),0),0)","v":0},{"$f":"IF('Aferi (Variáveis)'!$C$12=\"Venda para Exportar\",0,IF('Aferi (Variáveis)'!$C$12=\"ALC\",0,IF('Aferi (Variáveis)'!$C$12=\"ZFM\",0,IF('Aferi (Variáveis)'!$C$12=\"Exportação\",0,IF('Aferi (Variáveis)'!$C$12=\"AO\",0,E204/(100+(0*'Aferi (Variáveis)'!$K$12/100))*100*K204%/100*'Aferi (Variáveis)'!$K$12)))))","v":0},0,{"$f":"(E204*'Aferi (Variáveis)'!$K$12/100)","v":0},0,{"$f":"IF('Aferi (Variáveis)'!$F$20=\"Venda para Exportar\",0,IF('Aferi (Variáveis)'!$F$20=\"ALC\",0,IF('Aferi (Variáveis)'!$F$20=\"ZFM\",0,IF('Aferi (Variáveis)'!$F$20=\"Exportação\",0,IF('Aferi (Variáveis)'!$F$20=\"AO\",7*T204/100,T204*'Aferi (Variáveis)'!$F$20/100)))))","v":0},0,{"$f":"IF('Aferi (Variáveis)'!$C$12=\"ZFM\",0,IF('Aferi (Variáveis)'!$C$12=\"Exportação\",0,3*T204/100))","v":0},{"$f":"IF('Aferi (Variáveis)'!$C$12=\"ZFM\",0,IF('Aferi (Variáveis)'!$C$12=\"Exportação\",0,0.65*T204/100))","v":0},0,0,0,0,0,0,0,0,0,{"$f":"SUMIF('Custo Básico dos Produtos'!$B$7:$B$480,A204,'Custo Básico dos Produtos'!$K$7:$K$480)","v":0},null,null,0,0,0,0,0,0]
[null,{"$f":"IF(Q205<>0,VLOOKUP(Q205,'Custo Básico dos Produtos'!$A$7:$J$480,3),\"\")","v":""},null,{"$f":"SUMIF('Custo Básico dos Produtos'!$A$7:$A$480,Q205,'Custo Básico dos Produtos'!$J$7:$J$480)","v":0},null,0,{"$f":"IF(B205=\"\",0,SUMIF('Cadastro de Produtos em Linha'!$B$7:$B$457,A205,'Cadastro de Produtos em Linha'!$D$7:$D$457))","v":0},null,0,0,{"$f":"IF('Aferi (Variáveis)'!$C$12=\"ALC\",0,IF('Aferi (Variáveis)'!$C$12=\"ZFM\",0,IF('Aferi (Variáveis)'!$C$12=\"Exportação\",0,IF('Aferi (Variáveis)'!$C$12=\"Venda para Exportar\",0,IF('Aferi (Variáveis)'!$C$12=\"AO\",0,SUMIF('Custo Básico dos Produtos'!$A$7:$A$480,Q205,'Custo Básico dos Produtos'!$L$7:$L$480))))))","v":0},0,0,0,0,{"$f":"SUMIF('Cadastro de Produtos em Linha'!$A$6:$A$457,Q205,'Cadastro de Produtos em Linha'!$E$6:$E$457)*H205","v":0},{"$f":"IF(TODAY()<$AK$26,IF(A205<>\"\",SUMIF('Custo Básico dos Produtos'!$B$7:$B$457,A205,'Custo Básico dos Produtos'!$A$7:$A$457),0),0)","v":0},{"$f":"IF('Aferi (Variáveis)'!$C$12=\"Venda para Exportar\",0,IF('Aferi (Variáveis)'!$C$12=\"ALC\",0,IF('Aferi (Variáveis)'!$C$12=\"ZFM\",0,IF('Aferi (Variáveis)'!$C$12=\"Exportação\",0,IF('Aferi (Variáveis)'!$C$12=\"AO\",0,E205/(100+(0*'Aferi (Variáveis)'!$K$12/100))*100*K205%/100*'Aferi (Variáveis)'!$K$12)))))","v":0},0,{"$f":"(E205*'Aferi (Variáveis)'!$K$12/100)","v":0},0,{"$f":"IF('Aferi (Variáveis)'!$F$20=\"Venda para Exportar\",0,IF('Aferi (Variáveis)'!$F$20=\"ALC\",0,IF('Aferi (Variáveis)'!$F$20=\"ZFM\",0,IF('Aferi (Variáveis)'!$F$20=\"Exportação\",0,IF('Aferi (Variáveis)'!$F$20=\"AO\",7*T205/100,T205*'Aferi (Variáveis)'!$F$20/100)))))","v":0},0,{"$f":"IF('Aferi (Variáveis)'!$C$12=\"ZFM\",0,IF('Aferi (Variáveis)'!$C$12=\"Exportação\",0,3*T205/100))","v":0},{"$f":"IF('Aferi (Variáveis)'!$C$12=\"ZFM\",0,IF('Aferi (Variáveis)'!$C$12=\"Exportação\",0,0.65*T205/100))","v":0},0,0,0,0,0,0,0,0,0,{"$f":"SUMIF('Custo Básico dos Produtos'!$B$7:$B$480,A205,'Custo Básico dos Produtos'!$K$7:$K$480)","v":0},null,null,0,0,0,0,0,0]
[null,{"$f":"IF(Q206<>0,VLOOKUP(Q206,'Custo Básico dos Produtos'!$A$7:$J$480,3),\"\")","v":""},null,{"$f":"SUMIF('Custo Básico dos Produtos'!$A$7:$A$480,Q206,'Custo Básico dos Produtos'!$J$7:$J$480)","v":0},null,0,{"$f":"IF(B206=\"\",0,SUMIF('Cadastro de Produtos em Linha'!$B$7:$B$457,A206,'Cadastro de Produtos em Linha'!$D$7:$D$457))","v":0},null,0,0,{"$f":"IF('Aferi (Variáveis)'!$C$12=\"ALC\",0,IF('Aferi (Variáveis)'!$C$12=\"ZFM\",0,IF('Aferi (Variáveis)'!$C$12=\"Exportação\",0,IF('Aferi (Variáveis)'!$C$12=\"Venda para Exportar\",0,IF('Aferi (Variáveis)'!$C$12=\"AO\",0,SUMIF('Custo Básico dos Produtos'!$A$7:$A$480,Q206,'Custo Básico dos Produtos'!$L$7:$L$480))))))","v":0},0,0,0,0,{"$f":"SUMIF('Cadastro de Produtos em Linha'!$A$6:$A$457,Q206,'Cadastro de Produtos em Linha'!$E$6:$E$457)*H206","v":0},{"$f":"IF(TODAY()<$AK$26,IF(A206<>\"\",SUMIF('Custo Básico dos Produtos'!$B$7:$B$457,A206,'Custo Básico dos Produtos'!$A$7:$A$457),0),0)","v":0},{"$f":"IF('Aferi (Variáveis)'!$C$12=\"Venda para Exportar\",0,IF('Aferi (Variáveis)'!$C$12=\"ALC\",0,IF('Aferi (Variáveis)'!$C$12=\"ZFM\",0,IF('Aferi (Variáveis)'!$C$12=\"Exportação\",0,IF('Aferi (Variáveis)'!$C$12=\"AO\",0,E206/(100+(0*'Aferi (Variáveis)'!$K$12/100))*100*K206%/100*'Aferi (Variáveis)'!$K$12)))))","v":0},0,{"$f":"(E206*'Aferi (Variáveis)'!$K$12/100)","v":0},0,{"$f":"IF('Aferi (Variáveis)'!$F$20=\"Venda para Exportar\",0,IF('Aferi (Variáveis)'!$F$20=\"ALC\",0,IF('Aferi (Variáveis)'!$F$20=\"ZFM\",0,IF('Aferi (Variáveis)'!$F$20=\"Exportação\",0,IF('Aferi (Variáveis)'!$F$20=\"AO\",7*T206/100,T206*'Aferi (Variáveis)'!$F$20/100)))))","v":0},0,{"$f":"IF('Aferi (Variáveis)'!$C$12=\"ZFM\",0,IF('Aferi (Variáveis)'!$C$12=\"Exportação\",0,3*T206/100))","v":0},{"$f":"IF('Aferi (Variáveis)'!$C$12=\"ZFM\",0,IF('Aferi (Variáveis)'!$C$12=\"Exportação\",0,0.65*T206/100))","v":0},0,0,0,0,0,0,0,0,0,{"$f":"SUMIF('Custo Básico dos Produtos'!$B$7:$B$480,A206,'Custo Básico dos Produtos'!$K$7:$K$480)","v":0},null,null,0,0,0,0,0,0]
[null,{"$f":"IF(Q207<>0,VLOOKUP(Q207,'Custo Básico dos Produtos'!$A$7:$J$480,3),\"\")","v":""},null,{"$f":"SUMIF('Custo Básico dos Produtos'!$A$7:$A$480,Q207,'Custo Básico dos Produtos'!$J$7:$J$480)","v":0},null,0,{"$f":"IF(B207=\"\",0,SUMIF('Cadastro de Produtos em Linha'!$B$7:$B$457,A207,'Cadastro de Produtos em Linha'!$D$7:$D$457))","v":0},null,0,0,{"$f":"IF('Aferi (Variáveis)'!$C$12=\"ALC\",0,IF('Aferi (Variáveis)'!$C$12=\"ZFM\",0,IF('Aferi (Variáveis)'!$C$12=\"Exportação\",0,IF('Aferi (Variáveis)'!$C$12=\"Venda para Exportar\",0,IF('Aferi (Variáveis)'!$C$12=\"AO\",0,SUMIF('Custo Básico dos Produtos'!$A$7:$A$480,Q207,'Custo Básico dos Produtos'!$L$7:$L$480))))))","v":0},0,0,0,0,{"$f":"SUMIF('Cadastro de Produtos em Linha'!$A$6:$A$457,Q207,'Cadastro de Produtos em Linha'!$E$6:$E$457)*H207","v":0},{"$f":"IF(TODAY()<$AK$26,IF(A207<>\"\",SUMIF('Custo Básico dos Produtos'!$B$7:$B$457,A207,'Custo Básico dos Produtos'!$A$7:$A$457),0),0)","v":0},{"$f":"IF('Aferi (Variáveis)'!$C$12=\"Venda para Exportar\",0,IF('Aferi (Variáveis)'!$C$12=\"ALC\",0,IF('Aferi (Variáveis)'!$C$12=\"ZFM\",0,IF('Aferi (Variáveis)'!$C$12=\"Exportação\",0,IF('Aferi (Variáveis)'!$C$12=\"AO\",0,E207/(100+(0*'Aferi (Variáveis)'!$K$12/100))*100*K207%/100*'Aferi (Variáveis)'!$K$12)))))","v":0},0,{"$f":"(E207*'Aferi (Variáveis)'!$K$12/100)","v":0},0,{"$f":"IF('Aferi (Variáveis)'!$F$20=\"Venda para Exportar\",0,IF('Aferi (Variáveis)'!$F$20=\"ALC\",0,IF('Aferi (Variáveis)'!$F$20=\"ZFM\",0,IF('Aferi (Variáveis)'!$F$20=\"Exportação\",0,IF('Aferi (Variáveis)'!$F$20=\"AO\",7*T207/100,T207*'Aferi (Variáveis)'!$F$20/100)))))","v":0},0,{"$f":"IF('Aferi (Variáveis)'!$C$12=\"ZFM\",0,IF('Aferi (Variáveis)'!$C$12=\"Exportação\",0,3*T207/100))","v":0},{"$f":"IF('Aferi (Variáveis)'!$C$12=\"ZFM\",0,IF('Aferi (Variáveis)'!$C$12=\"Exportação\",0,0.65*T207/100))","v":0},0,0,0,0,0,0,0,0,0,{"$f":"SUMIF('Custo Básico dos Produtos'!$B$7:$B$480,A207,'Custo Básico dos Produtos'!$K$7:$K$480)","v":0},null,null,0,0,0,0,0,0]
[null,{"$f":"IF(Q208<>0,VLOOKUP(Q208,'Custo Básico dos Produtos'!$A$7:$J$480,3),\"\")","v":""},null,{"$f":"SUMIF('Custo Básico dos Produtos'!$A$7:$A$480,Q208,'Custo Básico dos Produtos'!$J$7:$J$480)","v":0},0,0,{"$f":"IF(B208=\"\",0,SUMIF('Cadastro de Produtos em Linha'!$B$7:$B$457,A208,'Cadastro de Produtos em Linha'!$D$7:$D$457))","v":0},null,0,0,{"$f":"IF('Aferi (Variáveis)'!$C$12=\"ALC\",0,IF('Aferi (Variáveis)'!$C$12=\"ZFM\",0,IF('Aferi (Variáveis)'!$C$12=\"Exportação\",0,IF('Aferi (Variáveis)'!$C$12=\"Venda para Exportar\",0,IF('Aferi (Variáveis)'!$C$12=\"AO\",0,SUMIF('Custo Básico dos Produtos'!$A$7:$A$480,Q208,'Custo Básico dos Produtos'!$L$7:$L$480))))))","v":0},0,0,0,0,{"$f":"SUMIF('Cadastro de Produtos em Linha'!$A$6:$A$457,Q208,'Cadastro de Produtos em Linha'!$E$6:$E$457)*H208","v":0},{"$f":"IF(TODAY()<$AK$26,IF(A208<>\"\",SUMIF('Custo Básico dos Produtos'!$B$7:$B$457,A208,'Custo Básico dos Produtos'!$A$7:$A$457),0),0)","v":0},{"$f":"IF('Aferi (Variáveis)'!$C$12=\"Venda para Exportar\",0,IF('Aferi (Variáveis)'!$C$12=\"ALC\",0,IF('Aferi (Variáveis)'!$C$12=\"ZFM\",0,IF('Aferi (Variáveis)'!$C$12=\"Exportação\",0,IF('Aferi (Variáveis)'!$C$12=\"AO\",0,E208/(100+(0*'Aferi (Variáveis)'!$K$12/100))*100*K208%/100*'Aferi (Variáveis)'!$K$12)))))","v":0},0,{"$f":"(E208*'Aferi (Variáveis)'!$K$12/100)","v":0},0,{"$f":"IF('Aferi (Variáveis)'!$F$20=\"Venda para Exportar\",0,IF('Aferi (Variáveis)'!$F$20=\"ALC\",0,IF('Aferi (Variáveis)'!$F$20=\"ZFM\",0,IF('Aferi (Variáveis)'!$F$20=\"Exportação\",0,IF('Aferi (Variáveis)'!$F$20=\"AO\",7*T208/100,T208*'Aferi (Variáveis)'!$F$20/100)))))","v":0},0,{"$f":"IF('Aferi (Variáveis)'!$C$12=\"ZFM\",0,IF('Aferi (Variáveis)'!$C$12=\"Exportação\",0,3*T208/100))","v":0},{"$f":"IF('Aferi (Variáveis)'!$C$12=\"ZFM\",0,IF('Aferi (Variáveis)'!$C$12=\"Exportação\",0,0.65*T208/100))","v":0},0,0,0,0,0,0,0,0,0,{"$f":"SUMIF('Custo Básico dos Produtos'!$B$7:$B$480,A208,'Custo Básico dos Produtos'!$K$7:$K$480)","v":0},null,null,0,0,0,0,0,0]
[null,{"$f":"IF(Q209<>0,VLOOKUP(Q209,'Custo Básico dos Produtos'!$A$7:$J$480,3),\"\")","v":""},null,{"$f":"SUMIF('Custo Básico dos Produtos'!$A$7:$A$480,Q209,'Custo Básico dos Produtos'!$J$7:$J$480)","v":0},0,0,{"$f":"IF(B209=\"\",0,SUMIF('Cadastro de Produtos em Linha'!$B$7:$B$457,A209,'Cadastro de Produtos em Linha'!$D$7:$D$457))","v":0},null,0,0,{"$f":"IF('Aferi (Variáveis)'!$C$12=\"ALC\",0,IF('Aferi (Variáveis)'!$C$12=\"ZFM\",0,IF('Aferi (Variáveis)'!$C$12=\"Exportação\",0,IF('Aferi (Variáveis)'!$C$12=\"Venda para Exportar\",0,IF('Aferi (Variáveis)'!$C$12=\"AO\",0,SUMIF('Custo Básico dos Produtos'!$A$7:$A$480,Q209,'Custo Básico dos Produtos'!$L$7:$L$480))))))","v":0},0,0,0,0,{"$f":"SUMIF('Cadastro de Produtos em Linha'!$A$6:$A$457,Q209,'Cadastro de Produtos em Linha'!$E$6:$E$457)*H209","v":0},{"$f":"IF(TODAY()<$AK$26,IF(A209<>\"\",SUMIF('Custo Básico dos Produtos'!$B$7:$B$457,A209,'Custo Básico dos Produtos'!$A$7:$A$457),0),0)","v":0},{"$f":"IF('Aferi (Variáveis)'!$C$12=\"Venda para Exportar\",0,IF('Aferi (Variáveis)'!$C$12=\"ALC\",0,IF('Aferi (Variáveis)'!$C$12=\"ZFM\",0,IF('Aferi (Variáveis)'!$C$12=\"Exportação\",0,IF('Aferi (Variáveis)'!$C$12=\"AO\",0,E209/(100+(0*'Aferi (Variáveis)'!$K$12/100))*100*K209%/100*'Aferi (Variáveis)'!$K$12)))))","v":0},0,{"$f":"(E209*'Aferi (Variáveis)'!$K$12/100)","v":0},0,{"$f":"IF('Aferi (Variáveis)'!$F$20=\"Venda para Exportar\",0,IF('Aferi (Variáveis)'!$F$20=\"ALC\",0,IF('Aferi (Variáveis)'!$F$20=\"ZFM\",0,IF('Aferi (Variáveis)'!$F$20=\"Exportação\",0,IF('Aferi (Variáveis)'!$F$20=\"AO\",7*T209/100,T209*'Aferi (Variáveis)'!$F$20/100)))))","v":0},0,{"$f":"IF('Aferi (Variáveis)'!$C$12=\"ZFM\",0,IF('Aferi (Variáveis)'!$C$12=\"Exportação\",0,3*T209/100))","v":0},{"$f":"IF('Aferi (Variáveis)'!$C$12=\"ZFM\",0,IF('Aferi (Variáveis)'!$C$12=\"Exportação\",0,0.65*T209/100))","v":0},0,0,0,0,0,0,0,0,0,{"$f":"SUMIF('Custo Básico dos Produtos'!$B$7:$B$480,A209,'Custo Básico dos Produtos'!$K$7:$K$480)","v":0},null,null,0,0,0,0,0,0]
[null,{"$f":"IF(Q210<>0,VLOOKUP(Q210,'Custo Básico dos Produtos'!$A$7:$J$480,3),\"\")","v":""},null,{"$f":"SUMIF('Custo Básico dos Produtos'!$A$7:$A$480,Q210,'Custo Básico dos Produtos'!$J$7:$J$480)","v":0},0,0,{"$f":"IF(B210=\"\",0,SUMIF('Cadastro de Produtos em Linha'!$B$7:$B$457,A210,'Cadastro de Produtos em Linha'!$D$7:$D$457))","v":0},null,0,0,{"$f":"IF('Aferi (Variáveis)'!$C$12=\"ALC\",0,IF('Aferi (Variáveis)'!$C$12=\"ZFM\",0,IF('Aferi (Variáveis)'!$C$12=\"Exportação\",0,IF('Aferi (Variáveis)'!$C$12=\"Venda para Exportar\",0,IF('Aferi (Variáveis)'!$C$12=\"AO\",0,SUMIF('Custo Básico dos Produtos'!$A$7:$A$480,Q210,'Custo Básico dos Produtos'!$L$7:$L$480))))))","v":0},0,0,0,0,{"$f":"SUMIF('Cadastro de Produtos em Linha'!$A$6:$A$457,Q210,'Cadastro de Produtos em Linha'!$E$6:$E$457)*H210","v":0},{"$f":"IF(TODAY()<$AK$26,IF(A210<>\"\",SUMIF('Custo Básico dos Produtos'!$B$7:$B$457,A210,'Custo Básico dos Produtos'!$A$7:$A$457),0),0)","v":0},{"$f":"IF('Aferi (Variáveis)'!$C$12=\"Venda para Exportar\",0,IF('Aferi (Variáveis)'!$C$12=\"ALC\",0,IF('Aferi (Variáveis)'!$C$12=\"ZFM\",0,IF('Aferi (Variáveis)'!$C$12=\"Exportação\",0,IF('Aferi (Variáveis)'!$C$12=\"AO\",0,E210/(100+(0*'Aferi (Variáveis)'!$K$12/100))*100*K210%/100*'Aferi (Variáveis)'!$K$12)))))","v":0},0,{"$f":"(E210*'Aferi (Variáveis)'!$K$12/100)","v":0},0,{"$f":"IF('Aferi (Variáveis)'!$F$20=\"Venda para Exportar\",0,IF('Aferi (Variáveis)'!$F$20=\"ALC\",0,IF('Aferi (Variáveis)'!$F$20=\"ZFM\",0,IF('Aferi (Variáveis)'!$F$20=\"Exportação\",0,IF('Aferi (Variáveis)'!$F$20=\"AO\",7*T210/100,T210*'Aferi (Variáveis)'!$F$20/100)))))","v":0},0,{"$f":"IF('Aferi (Variáveis)'!$C$12=\"ZFM\",0,IF('Aferi (Variáveis)'!$C$12=\"Exportação\",0,3*T210/100))","v":0},{"$f":"IF('Aferi (Variáveis)'!$C$12=\"ZFM\",0,IF('Aferi (Variáveis)'!$C$12=\"Exportação\",0,0.65*T210/100))","v":0},0,0,0,0,0,0,0,0,0,{"$f":"SUMIF('Custo Básico dos Produtos'!$B$7:$B$480,A210,'Custo Básico dos Produtos'!$K$7:$K$480)","v":0},null,null,0,0,0,0,0,0]
[null,{"$f":"IF(Q211<>0,VLOOKUP(Q211,'Custo Básico dos Produtos'!$A$7:$J$480,3),\"\")","v":""},null,{"$f":"SUMIF('Custo Básico dos Produtos'!$A$7:$A$480,Q211,'Custo Básico dos Produtos'!$J$7:$J$480)","v":0},0,0,{"$f":"IF(B211=\"\",0,SUMIF('Cadastro de Produtos em Linha'!$B$7:$B$457,A211,'Cadastro de Produtos em Linha'!$D$7:$D$457))","v":0},null,0,0,{"$f":"IF('Aferi (Variáveis)'!$C$12=\"ALC\",0,IF('Aferi (Variáveis)'!$C$12=\"ZFM\",0,IF('Aferi (Variáveis)'!$C$12=\"Exportação\",0,IF('Aferi (Variáveis)'!$C$12=\"Venda para Exportar\",0,IF('Aferi (Variáveis)'!$C$12=\"AO\",0,SUMIF('Custo Básico dos Produtos'!$A$7:$A$480,Q211,'Custo Básico dos Produtos'!$L$7:$L$480))))))","v":0},0,0,0,0,{"$f":"SUMIF('Cadastro de Produtos em Linha'!$A$6:$A$457,Q211,'Cadastro de Produtos em Linha'!$E$6:$E$457)*H211","v":0},{"$f":"IF(TODAY()<$AK$26,IF(A211<>\"\",SUMIF('Custo Básico dos Produtos'!$B$7:$B$457,A211,'Custo Básico dos Produtos'!$A$7:$A$457),0),0)","v":0},{"$f":"IF('Aferi (Variáveis)'!$C$12=\"Venda para Exportar\",0,IF('Aferi (Variáveis)'!$C$12=\"ALC\",0,IF('Aferi (Variáveis)'!$C$12=\"ZFM\",0,IF('Aferi (Variáveis)'!$C$12=\"Exportação\",0,IF('Aferi (Variáveis)'!$C$12=\"AO\",0,E211/(100+(0*'Aferi (Variáveis)'!$K$12/100))*100*K211%/100*'Aferi (Variáveis)'!$K$12)))))","v":0},0,{"$f":"(E211*'Aferi (Variáveis)'!$K$12/100)","v":0},0,{"$f":"IF('Aferi (Variáveis)'!$F$20=\"Venda para Exportar\",0,IF('Aferi (Variáveis)'!$F$20=\"ALC\",0,IF('Aferi (Variáveis)'!$F$20=\"ZFM\",0,IF('Aferi (Variáveis)'!$F$20=\"Exportação\",0,IF('Aferi (Variáveis)'!$F$20=\"AO\",7*T211/100,T211*'Aferi (Variáveis)'!$F$20/100)))))","v":0},0,{"$f":"IF('Aferi (Variáveis)'!$C$12=\"ZFM\",0,IF('Aferi (Variáveis)'!$C$12=\"Exportação\",0,3*T211/100))","v":0},{"$f":"IF('Aferi (Variáveis)'!$C$12=\"ZFM\",0,IF('Aferi (Variáveis)'!$C$12=\"Exportação\",0,0.65*T211/100))","v":0},0,0,0,0,0,0,0,0,0,{"$f":"SUMIF('Custo Básico dos Produtos'!$B$7:$B$480,A211,'Custo Básico dos Produtos'!$K$7:$K$480)","v":0},null,null,0,0,0,0,0,0]
[null,{"$f":"IF(Q212<>0,VLOOKUP(Q212,'Custo Básico dos Produtos'!$A$7:$J$480,3),\"\")","v":""},null,{"$f":"SUMIF('Custo Básico dos Produtos'!$A$7:$A$480,Q212,'Custo Básico dos Produtos'!$J$7:$J$480)","v":0},0,0,{"$f":"IF(B212=\"\",0,SUMIF('Cadastro de Produtos em Linha'!$B$7:$B$457,A212,'Cadastro de Produtos em Linha'!$D$7:$D$457))","v":0},null,0,0,{"$f":"IF('Aferi (Variáveis)'!$C$12=\"ALC\",0,IF('Aferi (Variáveis)'!$C$12=\"ZFM\",0,IF('Aferi (Variáveis)'!$C$12=\"Exportação\",0,IF('Aferi (Variáveis)'!$C$12=\"Venda para Exportar\",0,IF('Aferi (Variáveis)'!$C$12=\"AO\",0,SUMIF('Custo Básico dos Produtos'!$A$7:$A$480,Q212,'Custo Básico dos Produtos'!$L$7:$L$480))))))","v":0},0,0,0,0,{"$f":"SUMIF('Cadastro de Produtos em Linha'!$A$6:$A$457,Q212,'Cadastro de Produtos em Linha'!$E$6:$E$457)*H212","v":0},{"$f":"IF(TODAY()<$AK$26,IF(A212<>\"\",SUMIF('Custo Básico dos Produtos'!$B$7:$B$457,A212,'Custo Básico dos Produtos'!$A$7:$A$457),0),0)","v":0},{"$f":"IF('Aferi (Variáveis)'!$C$12=\"Venda para Exportar\",0,IF('Aferi (Variáveis)'!$C$12=\"ALC\",0,IF('Aferi (Variáveis)'!$C$12=\"ZFM\",0,IF('Aferi (Variáveis)'!$C$12=\"Exportação\",0,IF('Aferi (Variáveis)'!$C$12=\"AO\",0,E212/(100+(0*'Aferi (Variáveis)'!$K$12/100))*100*K212%/100*'Aferi (Variáveis)'!$K$12)))))","v":0},0,{"$f":"(E212*'Aferi (Variáveis)'!$K$12/100)","v":0},0,{"$f":"IF('Aferi (Variáveis)'!$F$20=\"Venda para Exportar\",0,IF('Aferi (Variáveis)'!$F$20=\"ALC\",0,IF('Aferi (Variáveis)'!$F$20=\"ZFM\",0,IF('Aferi (Variáveis)'!$F$20=\"Exportação\",0,IF('Aferi (Variáveis)'!$F$20=\"AO\",7*T212/100,T212*'Aferi (Variáveis)'!$F$20/100)))))","v":0},0,{"$f":"IF('Aferi (Variáveis)'!$C$12=\"ZFM\",0,IF('Aferi (Variáveis)'!$C$12=\"Exportação\",0,3*T212/100))","v":0},{"$f":"IF('Aferi (Variáveis)'!$C$12=\"ZFM\",0,IF('Aferi (Variáveis)'!$C$12=\"Exportação\",0,0.65*T212/100))","v":0},0,0,0,0,0,0,0,0,0,{"$f":"SUMIF('Custo Básico dos Produtos'!$B$7:$B$480,A212,'Custo Básico dos Produtos'!$K$7:$K$480)","v":0},null,null,0,0,0,0,0,0]
[null,{"$f":"IF(Q213<>0,VLOOKUP(Q213,'Custo Básico dos Produtos'!$A$7:$J$480,3),\"\")","v":""},null,{"$f":"SUMIF('Custo Básico dos Produtos'!$A$7:$A$480,Q213,'Custo Básico dos Produtos'!$J$7:$J$480)","v":0},0,0,{"$f":"IF(B213=\"\",0,SUMIF('Cadastro de Produtos em Linha'!$B$7:$B$457,A213,'Cadastro de Produtos em Linha'!$D$7:$D$457))","v":0},null,0,0,{"$f":"IF('Aferi (Variáveis)'!$C$12=\"ALC\",0,IF('Aferi (Variáveis)'!$C$12=\"ZFM\",0,IF('Aferi (Variáveis)'!$C$12=\"Exportação\",0,IF('Aferi (Variáveis)'!$C$12=\"Venda para Exportar\",0,IF('Aferi (Variáveis)'!$C$12=\"AO\",0,SUMIF('Custo Básico dos Produtos'!$A$7:$A$480,Q213,'Custo Básico dos Produtos'!$L$7:$L$480))))))","v":0},0,0,0,0,{"$f":"SUMIF('Cadastro de Produtos em Linha'!$A$6:$A$457,Q213,'Cadastro de Produtos em Linha'!$E$6:$E$457)*H213","v":0},{"$f":"IF(TODAY()<$AK$26,IF(A213<>\"\",SUMIF('Custo Básico dos Produtos'!$B$7:$B$457,A213,'Custo Básico dos Produtos'!$A$7:$A$457),0),0)","v":0},{"$f":"IF('Aferi (Variáveis)'!$C$12=\"Venda para Exportar\",0,IF('Aferi (Variáveis)'!$C$12=\"ALC\",0,IF('Aferi (Variáveis)'!$C$12=\"ZFM\",0,IF('Aferi (Variáveis)'!$C$12=\"Exportação\",0,IF('Aferi (Variáveis)'!$C$12=\"AO\",0,E213/(100+(0*'Aferi (Variáveis)'!$K$12/100))*100*K213%/100*'Aferi (Variáveis)'!$K$12)))))","v":0},0,{"$f":"(E213*'Aferi (Variáveis)'!$K$12/100)","v":0},0,{"$f":"IF('Aferi (Variáveis)'!$F$20=\"Venda para Exportar\",0,IF('Aferi (Variáveis)'!$F$20=\"ALC\",0,IF('Aferi (Variáveis)'!$F$20=\"ZFM\",0,IF('Aferi (Variáveis)'!$F$20=\"Exportação\",0,IF('Aferi (Variáveis)'!$F$20=\"AO\",7*T213/100,T213*'Aferi (Variáveis)'!$F$20/100)))))","v":0},0,{"$f":"IF('Aferi (Variáveis)'!$C$12=\"ZFM\",0,IF('Aferi (Variáveis)'!$C$12=\"Exportação\",0,3*T213/100))","v":0},{"$f":"IF('Aferi (Variáveis)'!$C$12=\"ZFM\",0,IF('Aferi (Variáveis)'!$C$12=\"Exportação\",0,0.65*T213/100))","v":0},0,0,0,0,0,0,0,0,0,{"$f":"SUMIF('Custo Básico dos Produtos'!$B$7:$B$480,A213,'Custo Básico dos Produtos'!$K$7:$K$480)","v":0},null,null,0,0,0,0,0,0]
[null,{"$f":"IF(Q214<>0,VLOOKUP(Q214,'Custo Básico dos Produtos'!$A$7:$J$480,3),\"\")","v":""},null,{"$f":"SUMIF('Custo Básico dos Produtos'!$A$7:$A$480,Q214,'Custo Básico dos Produtos'!$J$7:$J$480)","v":0},0,0,{"$f":"IF(B214=\"\",0,SUMIF('Cadastro de Produtos em Linha'!$B$7:$B$457,A214,'Cadastro de Produtos em Linha'!$D$7:$D$457))","v":0},null,0,0,{"$f":"IF('Aferi (Variáveis)'!$C$12=\"ALC\",0,IF('Aferi (Variáveis)'!$C$12=\"ZFM\",0,IF('Aferi (Variáveis)'!$C$12=\"Exportação\",0,IF('Aferi (Variáveis)'!$C$12=\"Venda para Exportar\",0,IF('Aferi (Variáveis)'!$C$12=\"AO\",0,SUMIF('Custo Básico dos Produtos'!$A$7:$A$480,Q214,'Custo Básico dos Produtos'!$L$7:$L$480))))))","v":0},0,0,0,0,{"$f":"SUMIF('Cadastro de Produtos em Linha'!$A$6:$A$457,Q214,'Cadastro de Produtos em Linha'!$E$6:$E$457)*H214","v":0},{"$f":"IF(TODAY()<$AK$26,IF(A214<>\"\",SUMIF('Custo Básico dos Produtos'!$B$7:$B$457,A214,'Custo Básico dos Produtos'!$A$7:$A$457),0),0)","v":0},{"$f":"IF('Aferi (Variáveis)'!$C$12=\"Venda para Exportar\",0,IF('Aferi (Variáveis)'!$C$12=\"ALC\",0,IF('Aferi (Variáveis)'!$C$12=\"ZFM\",0,IF('Aferi (Variáveis)'!$C$12=\"Exportação\",0,IF('Aferi (Variáveis)'!$C$12=\"AO\",0,E214/(100+(0*'Aferi (Variáveis)'!$K$12/100))*100*K214%/100*'Aferi (Variáveis)'!$K$12)))))","v":0},0,{"$f":"(E214*'Aferi (Variáveis)'!$K$12/100)","v":0},0,{"$f":"IF('Aferi (Variáveis)'!$F$20=\"Venda para Exportar\",0,IF('Aferi (Variáveis)'!$F$20=\"ALC\",0,IF('Aferi (Variáveis)'!$F$20=\"ZFM\",0,IF('Aferi (Variáveis)'!$F$20=\"Exportação\",0,IF('Aferi (Variáveis)'!$F$20=\"AO\",7*T214/100,T214*'Aferi (Variáveis)'!$F$20/100)))))","v":0},0,{"$f":"IF('Aferi (Variáveis)'!$C$12=\"ZFM\",0,IF('Aferi (Variáveis)'!$C$12=\"Exportação\",0,3*T214/100))","v":0},{"$f":"IF('Aferi (Variáveis)'!$C$12=\"ZFM\",0,IF('Aferi (Variáveis)'!$C$12=\"Exportação\",0,0.65*T214/100))","v":0},0,0,0,0,0,0,0,0,0,{"$f":"SUMIF('Custo Básico dos Produtos'!$B$7:$B$480,A214,'Custo Básico dos Produtos'!$K$7:$K$480)","v":0},null,null,0,0,0,0,0,0]
[null,{"$f":"IF(Q215<>0,VLOOKUP(Q215,'Custo Básico dos Produtos'!$A$7:$J$480,3),\"\")","v":""},null,{"$f":"SUMIF('Custo Básico dos Produtos'!$A$7:$A$480,Q215,'Custo Básico dos Produtos'!$J$7:$J$480)","v":0},0,0,{"$f":"IF(B215=\"\",0,SUMIF('Cadastro de Produtos em Linha'!$B$7:$B$457,A215,'Cadastro de Produtos em Linha'!$D$7:$D$457))","v":0},null,0,0,{"$f":"IF('Aferi (Variáveis)'!$C$12=\"ALC\",0,IF('Aferi (Variáveis)'!$C$12=\"ZFM\",0,IF('Aferi (Variáveis)'!$C$12=\"Exportação\",0,IF('Aferi (Variáveis)'!$C$12=\"Venda para Exportar\",0,IF('Aferi (Variáveis)'!$C$12=\"AO\",0,SUMIF('Custo Básico dos Produtos'!$A$7:$A$480,Q215,'Custo Básico dos Produtos'!$L$7:$L$480))))))","v":0},0,0,0,0,{"$f":"SUMIF('Cadastro de Produtos em Linha'!$A$6:$A$457,Q215,'Cadastro de Produtos em Linha'!$E$6:$E$457)*H215","v":0},{"$f":"IF(TODAY()<$AK$26,IF(A215<>\"\",SUMIF('Custo Básico dos Produtos'!$B$7:$B$457,A215,'Custo Básico dos Produtos'!$A$7:$A$457),0),0)","v":0},{"$f":"IF('Aferi (Variáveis)'!$C$12=\"Venda para Exportar\",0,IF('Aferi (Variáveis)'!$C$12=\"ALC\",0,IF('Aferi (Variáveis)'!$C$12=\"ZFM\",0,IF('Aferi (Variáveis)'!$C$12=\"Exportação\",0,IF('Aferi (Variáveis)'!$C$12=\"AO\",0,E215/(100+(0*'Aferi (Variáveis)'!$K$12/100))*100*K215%/100*'Aferi (Variáveis)'!$K$12)))))","v":0},0,{"$f":"(E215*'Aferi (Variáveis)'!$K$12/100)","v":0},0,{"$f":"IF('Aferi (Variáveis)'!$F$20=\"Venda para Exportar\",0,IF('Aferi (Variáveis)'!$F$20=\"ALC\",0,IF('Aferi (Variáveis)'!$F$20=\"ZFM\",0,IF('Aferi (Variáveis)'!$F$20=\"Exportação\",0,IF('Aferi (Variáveis)'!$F$20=\"AO\",7*T215/100,T215*'Aferi (Variáveis)'!$F$20/100)))))","v":0},0,{"$f":"IF('Aferi (Variáveis)'!$C$12=\"ZFM\",0,IF('Aferi (Variáveis)'!$C$12=\"Exportação\",0,3*T215/100))","v":0},{"$f":"IF('Aferi (Variáveis)'!$C$12=\"ZFM\",0,IF('Aferi (Variáveis)'!$C$12=\"Exportação\",0,0.65*T215/100))","v":0},0,0,0,0,0,0,0,0,0,{"$f":"SUMIF('Custo Básico dos Produtos'!$B$7:$B$480,A215,'Custo Básico dos Produtos'!$K$7:$K$480)","v":0},null,null,0,0,0,0,0,0]
[null,{"$f":"IF(Q216<>0,VLOOKUP(Q216,'Custo Básico dos Produtos'!$A$7:$J$480,3),\"\")","v":""},null,{"$f":"SUMIF('Custo Básico dos Produtos'!$A$7:$A$480,Q216,'Custo Básico dos Produtos'!$J$7:$J$480)","v":0},0,0,{"$f":"IF(B216=\"\",0,SUMIF('Cadastro de Produtos em Linha'!$B$7:$B$457,A216,'Cadastro de Produtos em Linha'!$D$7:$D$457))","v":0},null,0,0,{"$f":"IF('Aferi (Variáveis)'!$C$12=\"ALC\",0,IF('Aferi (Variáveis)'!$C$12=\"ZFM\",0,IF('Aferi (Variáveis)'!$C$12=\"Exportação\",0,IF('Aferi (Variáveis)'!$C$12=\"Venda para Exportar\",0,IF('Aferi (Variáveis)'!$C$12=\"AO\",0,SUMIF('Custo Básico dos Produtos'!$A$7:$A$480,Q216,'Custo Básico dos Produtos'!$L$7:$L$480))))))","v":0},0,0,0,0,{"$f":"SUMIF('Cadastro de Produtos em Linha'!$A$6:$A$457,Q216,'Cadastro de Produtos em Linha'!$E$6:$E$457)*H216","v":0},{"$f":"IF(TODAY()<$AK$26,IF(A216<>\"\",SUMIF('Custo Básico dos Produtos'!$B$7:$B$457,A216,'Custo Básico dos Produtos'!$A$7:$A$457),0),0)","v":0},{"$f":"IF('Aferi (Variáveis)'!$C$12=\"Venda para Exportar\",0,IF('Aferi (Variáveis)'!$C$12=\"ALC\",0,IF('Aferi (Variáveis)'!$C$12=\"ZFM\",0,IF('Aferi (Variáveis)'!$C$12=\"Exportação\",0,IF('Aferi (Variáveis)'!$C$12=\"AO\",0,E216/(100+(0*'Aferi (Variáveis)'!$K$12/100))*100*K216%/100*'Aferi (Variáveis)'!$K$12)))))","v":0},0,{"$f":"(E216*'Aferi (Variáveis)'!$K$12/100)","v":0},0,{"$f":"IF('Aferi (Variáveis)'!$F$20=\"Venda para Exportar\",0,IF('Aferi (Variáveis)'!$F$20=\"ALC\",0,IF('Aferi (Variáveis)'!$F$20=\"ZFM\",0,IF('Aferi (Variáveis)'!$F$20=\"Exportação\",0,IF('Aferi (Variáveis)'!$F$20=\"AO\",7*T216/100,T216*'Aferi (Variáveis)'!$F$20/100)))))","v":0},0,{"$f":"IF('Aferi (Variáveis)'!$C$12=\"ZFM\",0,IF('Aferi (Variáveis)'!$C$12=\"Exportação\",0,3*T216/100))","v":0},{"$f":"IF('Aferi (Variáveis)'!$C$12=\"ZFM\",0,IF('Aferi (Variáveis)'!$C$12=\"Exportação\",0,0.65*T216/100))","v":0},0,0,0,0,0,0,0,0,0,{"$f":"SUMIF('Custo Básico dos Produtos'!$B$7:$B$480,A216,'Custo Básico dos Produtos'!$K$7:$K$480)","v":0},null,null,0,0,0,0,0,0]
[null,{"$f":"IF(Q217<>0,VLOOKUP(Q217,'Custo Básico dos Produtos'!$A$7:$J$480,3),\"\")","v":""},null,{"$f":"SUMIF('Custo Básico dos Produtos'!$A$7:$A$480,Q217,'Custo Básico dos Produtos'!$J$7:$J$480)","v":0},0,0,{"$f":"IF(B217=\"\",0,SUMIF('Cadastro de Produtos em Linha'!$B$7:$B$457,A217,'Cadastro de Produtos em Linha'!$D$7:$D$457))","v":0},null,0,0,{"$f":"IF('Aferi (Variáveis)'!$C$12=\"ALC\",0,IF('Aferi (Variáveis)'!$C$12=\"ZFM\",0,IF('Aferi (Variáveis)'!$C$12=\"Exportação\",0,IF('Aferi (Variáveis)'!$C$12=\"Venda para Exportar\",0,IF('Aferi (Variáveis)'!$C$12=\"AO\",0,SUMIF('Custo Básico dos Produtos'!$A$7:$A$480,Q217,'Custo Básico dos Produtos'!$L$7:$L$480))))))","v":0},0,0,0,0,{"$f":"SUMIF('Cadastro de Produtos em Linha'!$A$6:$A$457,Q217,'Cadastro de Produtos em Linha'!$E$6:$E$457)*H217","v":0},{"$f":"IF(TODAY()<$AK$26,IF(A217<>\"\",SUMIF('Custo Básico dos Produtos'!$B$7:$B$457,A217,'Custo Básico dos Produtos'!$A$7:$A$457),0),0)","v":0},{"$f":"IF('Aferi (Variáveis)'!$C$12=\"Venda para Exportar\",0,IF('Aferi (Variáveis)'!$C$12=\"ALC\",0,IF('Aferi (Variáveis)'!$C$12=\"ZFM\",0,IF('Aferi (Variáveis)'!$C$12=\"Exportação\",0,IF('Aferi (Variáveis)'!$C$12=\"AO\",0,E217/(100+(0*'Aferi (Variáveis)'!$K$12/100))*100*K217%/100*'Aferi (Variáveis)'!$K$12)))))","v":0},0,{"$f":"(E217*'Aferi (Variáveis)'!$K$12/100)","v":0},0,{"$f":"IF('Aferi (Variáveis)'!$F$20=\"Venda para Exportar\",0,IF('Aferi (Variáveis)'!$F$20=\"ALC\",0,IF('Aferi (Variáveis)'!$F$20=\"ZFM\",0,IF('Aferi (Variáveis)'!$F$20=\"Exportação\",0,IF('Aferi (Variáveis)'!$F$20=\"AO\",7*T217/100,T217*'Aferi (Variáveis)'!$F$20/100)))))","v":0},0,{"$f":"IF('Aferi (Variáveis)'!$C$12=\"ZFM\",0,IF('Aferi (Variáveis)'!$C$12=\"Exportação\",0,3*T217/100))","v":0},{"$f":"IF('Aferi (Variáveis)'!$C$12=\"ZFM\",0,IF('Aferi (Variáveis)'!$C$12=\"Exportação\",0,0.65*T217/100))","v":0},0,0,0,0,0,0,0,0,0,{"$f":"SUMIF('Custo Básico dos Produtos'!$B$7:$B$480,A217,'Custo Básico dos Produtos'!$K$7:$K$480)","v":0},null,null,0,0,0,0,0,0]
[null,{"$f":"IF(Q218<>0,VLOOKUP(Q218,'Custo Básico dos Produtos'!$A$7:$J$480,3),\"\")","v":""},null,{"$f":"SUMIF('Custo Básico dos Produtos'!$A$7:$A$480,Q218,'Custo Básico dos Produtos'!$J$7:$J$480)","v":0},0,0,{"$f":"IF(B218=\"\",0,SUMIF('Cadastro de Produtos em Linha'!$B$7:$B$457,A218,'Cadastro de Produtos em Linha'!$D$7:$D$457))","v":0},null,{"$f":"IF(F218=\"\",0,IF(F218>=AI218,G218*H218,0))","v":0},{"$f":"IF(F218=\"\",0,I218*E218)","v":0},{"$f":"IF('Aferi (Variáveis)'!$C$12=\"ALC\",0,IF('Aferi (Variáveis)'!$C$12=\"ZFM\",0,IF('Aferi (Variáveis)'!$C$12=\"Exportação\",0,IF('Aferi (Variáveis)'!$C$12=\"Venda para Exportar\",0,IF('Aferi (Variáveis)'!$C$12=\"AO\",0,SUMIF('Custo Básico dos Produtos'!$A$7:$A$480,Q218,'Custo Básico dos Produtos'!$L$7:$L$480))))))","v":0},0,0,0,{"$f":"IF(I218>0,AG218*I218,0)","v":0},{"$f":"SUMIF('Cadastro de Produtos em Linha'!$A$6:$A$457,Q218,'Cadastro de Produtos em Linha'!$E$6:$E$457)*H218","v":0},{"$f":"IF(TODAY()<$AK$26,IF(A218<>\"\",SUMIF('Custo Básico dos Produtos'!$B$7:$B$457,A218,'Custo Básico dos Produtos'!$A$7:$A$457),0),0)","v":0},{"$f":"IF('Aferi (Variáveis)'!$C$12=\"Venda para Exportar\",0,IF('Aferi (Variáveis)'!$C$12=\"ALC\",0,IF('Aferi (Variáveis)'!$C$12=\"ZFM\",0,IF('Aferi (Variáveis)'!$C$12=\"Exportação\",0,IF('Aferi (Variáveis)'!$C$12=\"AO\",0,E218/(100+(0*'Aferi (Variáveis)'!$K$12/100))*100*K218%/100*'Aferi (Variáveis)'!$K$12)))))","v":0},{"$f":"I218*R218","v":0},{"$f":"(E218*'Aferi (Variáveis)'!$K$12/100)","v":0},{"$f":"IF(I218>0,T218*I218,0)","v":0},{"$f":"IF('Aferi (Variáveis)'!$F$20=\"Venda para Exportar\",0,IF('Aferi (Variáveis)'!$F$20=\"ALC\",0,IF('Aferi (Variáveis)'!$F$20=\"ZFM\",0,IF('Aferi (Variáveis)'!$F$20=\"Exportação\",0,IF('Aferi (Variáveis)'!$F$20=\"AO\",7*T218/100,T218*'Aferi (Variáveis)'!$F$20/100)))))","v":0},{"$f":"T218*(W$22/100)","v":0},{"$f":"IF('Aferi (Variáveis)'!$C$12=\"ZFM\",0,IF('Aferi (Variáveis)'!$C$12=\"Exportação\",0,3*T218/100))","v":0},{"$f":"IF('Aferi (Variáveis)'!$C$12=\"ZFM\",0,IF('Aferi (Variáveis)'!$C$12=\"Exportação\",0,0.65*T218/100))","v":0},{"$f":"T218*(Z$22/100)","v":0},0,0,0,0,0,0,{"$f":"E218-AF218-D218","v":0},{"$f":"IF(AG218<>0,AG218/(E218)*100,0)","v":0},{"$f":"SUMIF('Custo Básico dos Produtos'!$B$7:$B$480,A218,'Custo Básico dos Produtos'!$K$7:$K$480)","v":0},null,null,0,0,0,0,0,0]
[null,{"$f":"IF(Q219<>0,VLOOKUP(Q219,'Custo Básico dos Produtos'!$A$7:$J$480,3),\"\")","v":""},null,{"$f":"SUMIF('Custo Básico dos Produtos'!$A$7:$A$480,Q219,'Custo Básico dos Produtos'!$J$7:$J$480)","v":0},0,0,{"$f":"IF(B219=\"\",0,SUMIF('Cadastro de Produtos em Linha'!$B$7:$B$457,A219,'Cadastro de Produtos em Linha'!$D$7:$D$457))","v":0},null,0,0,{"$f":"IF('Aferi (Variáveis)'!$C$12=\"ALC\",0,IF('Aferi (Variáveis)'!$C$12=\"ZFM\",0,IF('Aferi (Variáveis)'!$C$12=\"Exportação\",0,IF('Aferi (Variáveis)'!$C$12=\"Venda para Exportar\",0,IF('Aferi (Variáveis)'!$C$12=\"AO\",0,SUMIF('Custo Básico dos Produtos'!$A$7:$A$480,Q219,'Custo Básico dos Produtos'!$L$7:$L$480))))))","v":0},{"$f":"J219+M219","v":0},{"$f":"S219","v":0},{"$f":"J219+M219","v":0},0,{"$f":"SUMIF('Cadastro de Produtos em Linha'!$A$6:$A$457,Q219,'Cadastro de Produtos em Linha'!$E$6:$E$457)*H219","v":0},{"$f":"IF(TODAY()<$AK$26,IF(A219<>\"\",SUMIF('Custo Básico dos Produtos'!$B$7:$B$457,A219,'Custo Básico dos Produtos'!$A$7:$A$457),0),0)","v":0},{"$f":"IF('Aferi (Variáveis)'!$C$12=\"Venda para Exportar\",0,IF('Aferi (Variáveis)'!$C$12=\"ALC\",0,IF('Aferi (Variáveis)'!$C$12=\"ZFM\",0,IF('Aferi (Variáveis)'!$C$12=\"Exportação\",0,IF('Aferi (Variáveis)'!$C$12=\"AO\",0,E219/(100+(0*'Aferi (Variáveis)'!$K$12/100))*100*K219%/100*'Aferi (Variáveis)'!$K$12)))))","v":0},0,{"$f":"(E219*'Aferi (Variáveis)'!$K$12/100)","v":0},0,{"$f":"IF('Aferi (Variáveis)'!$F$20=\"Venda para Exportar\",0,IF('Aferi (Variáveis)'!$F$20=\"ALC\",0,IF('Aferi (Variáveis)'!$F$20=\"ZFM\",0,IF('Aferi (Variáveis)'!$F$20=\"Exportação\",0,IF('Aferi (Variáveis)'!$F$20=\"AO\",7*T219/100,T219*'Aferi (Variáveis)'!$F$20/100)))))","v":0},0,{"$f":"IF('Aferi (Variáveis)'!$C$12=\"ZFM\",0,IF('Aferi (Variáveis)'!$C$12=\"Exportação\",0,3*T219/100))","v":0},{"$f":"IF('Aferi (Variáveis)'!$C$12=\"ZFM\",0,IF('Aferi (Variáveis)'!$C$12=\"Exportação\",0,0.65*T219/100))","v":0},0,0,{"$f":"E219*(AB$23/100)","v":0},{"$f":"IF(A219<>\"\",E219*(AC$23/100),0)","v":0},{"$f":"E219*($AD$23/100)","v":0},{"$f":"E219*(AE$23/100)","v":0},{"$f":"SUM(V219:AE219)","v":0},0,0,{"$f":"SUMIF('Custo Básico dos Produtos'!$B$7:$B$480,A219,'Custo Básico dos Produtos'!$K$7:$K$480)","v":0},null,null,{"$f":"D219","v":0},{"$f":"AL219/(1-AM$24)","v":0},{"$f":"AM219*AM$22","v":0},{"$f":"AM219*AM$23","v":0},{"$f":"AM219-SUM(AN219:AO219)-AL219","v":0},{"$f":"IFERROR(AP219/AM219,0)","v":0}]
[null,{"$f":"IF(Q220<>0,VLOOKUP(Q220,'Custo Básico dos Produtos'!$A$7:$J$480,3),\"\")","v":""},null,{"$f":"SUMIF('Custo Básico dos Produtos'!$A$7:$A$480,Q220,'Custo Básico dos Produtos'!$J$7:$J$480)","v":0},0,{"$f":"IF(A220=\"\",0,IF(TODAY()<$AK$26,IF(E220>0,IF(H220>0,IF(AH220>=AI220,AH220,)/4),0)))","v":0},{"$f":"IF(B220=\"\",0,SUMIF('Cadastro de Produtos em Linha'!$B$7:$B$457,A220,'Cadastro de Produtos em Linha'!$D$7:$D$457))","v":0},null,0,0,{"$f":"IF('Aferi (Variáveis)'!$C$12=\"ALC\",0,IF('Aferi (Variáveis)'!$C$12=\"ZFM\",0,IF('Aferi (Variáveis)'!$C$12=\"Exportação\",0,IF('Aferi (Variáveis)'!$C$12=\"Venda para Exportar\",0,IF('Aferi (Variáveis)'!$C$12=\"AO\",0,SUMIF('Custo Básico dos Produtos'!$A$7:$A$480,Q220,'Custo Básico dos Produtos'!$L$7:$L$480))))))","v":0},0,0,0,0,{"$f":"SUMIF('Cadastro de Produtos em Linha'!$A$6:$A$457,Q220,'Cadastro de Produtos em Linha'!$E$6:$E$457)*H220","v":0},{"$f":"IF(TODAY()<$AK$26,IF(A220<>\"\",SUMIF('Custo Básico dos Produtos'!$B$7:$B$457,A220,'Custo Básico dos Produtos'!$A$7:$A$457),0),0)","v":0},{"$f":"IF('Aferi (Variáveis)'!$C$12=\"Venda para Exportar\",0,IF('Aferi (Variáveis)'!$C$12=\"ALC\",0,IF('Aferi (Variáveis)'!$C$12=\"ZFM\",0,IF('Aferi (Variáveis)'!$C$12=\"Exportação\",0,IF('Aferi (Variáveis)'!$C$12=\"AO\",0,E220/(100+(0*'Aferi (Variáveis)'!$K$12/100))*100*K220%/100*'Aferi (Variáveis)'!$K$12)))))","v":0},0,{"$f":"(E220*'Aferi (Variáveis)'!$K$12/100)","v":0},0,{"$f":"IF('Aferi (Variáveis)'!$F$20=\"Venda para Exportar\",0,IF('Aferi (Variáveis)'!$F$20=\"ALC\",0,IF('Aferi (Variáveis)'!$F$20=\"ZFM\",0,IF('Aferi (Variáveis)'!$F$20=\"Exportação\",0,IF('Aferi (Variáveis)'!$F$20=\"AO\",7*T220/100,T220*'Aferi (Variáveis)'!$F$20/100)))))","v":0},0,{"$f":"IF('Aferi (Variáveis)'!$C$12=\"ZFM\",0,IF('Aferi (Variáveis)'!$C$12=\"Exportação\",0,3*T220/100))","v":0},{"$f":"IF('Aferi (Variáveis)'!$C$12=\"ZFM\",0,IF('Aferi (Variáveis)'!$C$12=\"Exportação\",0,0.65*T220/100))","v":0},0,{"$f":"E220*(AA$23/100)","v":0},0,0,0,0,0,0,0,{"$f":"SUMIF('Custo Básico dos Produtos'!$B$7:$B$480,A220,'Custo Básico dos Produtos'!$K$7:$K$480)","v":0},null,null,0,0,0,0,0,0]
[null,{"$f":"IF(Q221<>0,VLOOKUP(Q221,'Custo Básico dos Produtos'!$A$7:$J$480,3),\"\")","v":""},null,{"$f":"SUMIF('Custo Básico dos Produtos'!$A$7:$A$480,Q221,'Custo Básico dos Produtos'!$J$7:$J$480)","v":0},0,0,{"$f":"IF(B221=\"\",0,SUMIF('Cadastro de Produtos em Linha'!$B$7:$B$457,A221,'Cadastro de Produtos em Linha'!$D$7:$D$457))","v":0},null,0,0,{"$f":"IF('Aferi (Variáveis)'!$C$12=\"ALC\",0,IF('Aferi (Variáveis)'!$C$12=\"ZFM\",0,IF('Aferi (Variáveis)'!$C$12=\"Exportação\",0,IF('Aferi (Variáveis)'!$C$12=\"Venda para Exportar\",0,IF('Aferi (Variáveis)'!$C$12=\"AO\",0,SUMIF('Custo Básico dos Produtos'!$A$7:$A$480,Q221,'Custo Básico dos Produtos'!$L$7:$L$480))))))","v":0},0,0,0,0,{"$f":"SUMIF('Cadastro de Produtos em Linha'!$A$6:$A$457,Q221,'Cadastro de Produtos em Linha'!$E$6:$E$457)*H221","v":0},{"$f":"IF(TODAY()<$AK$26,IF(A221<>\"\",SUMIF('Custo Básico dos Produtos'!$B$7:$B$457,A221,'Custo Básico dos Produtos'!$A$7:$A$457),0),0)","v":0},{"$f":"IF('Aferi (Variáveis)'!$C$12=\"Venda para Exportar\",0,IF('Aferi (Variáveis)'!$C$12=\"ALC\",0,IF('Aferi (Variáveis)'!$C$12=\"ZFM\",0,IF('Aferi (Variáveis)'!$C$12=\"Exportação\",0,IF('Aferi (Variáveis)'!$C$12=\"AO\",0,E221/(100+(0*'Aferi (Variáveis)'!$K$12/100))*100*K221%/100*'Aferi (Variáveis)'!$K$12)))))","v":0},0,{"$f":"(E221*'Aferi (Variáveis)'!$K$12/100)","v":0},0,{"$f":"IF('Aferi (Variáveis)'!$F$20=\"Venda para Exportar\",0,IF('Aferi (Variáveis)'!$F$20=\"ALC\",0,IF('Aferi (Variáveis)'!$F$20=\"ZFM\",0,IF('Aferi (Variáveis)'!$F$20=\"Exportação\",0,IF('Aferi (Variáveis)'!$F$20=\"AO\",7*T221/100,T221*'Aferi (Variáveis)'!$F$20/100)))))","v":0},0,{"$f":"IF('Aferi (Variáveis)'!$C$12=\"ZFM\",0,IF('Aferi (Variáveis)'!$C$12=\"Exportação\",0,3*T221/100))","v":0},{"$f":"IF('Aferi (Variáveis)'!$C$12=\"ZFM\",0,IF('Aferi (Variáveis)'!$C$12=\"Exportação\",0,0.65*T221/100))","v":0},0,0,0,0,0,0,0,0,0,{"$f":"SUMIF('Custo Básico dos Produtos'!$B$7:$B$480,A221,'Custo Básico dos Produtos'!$K$7:$K$480)","v":0},null,null,0,0,0,0,0,0]
[null,{"$f":"IF(Q222<>0,VLOOKUP(Q222,'Custo Básico dos Produtos'!$A$7:$J$480,3),\"\")","v":""},null,{"$f":"SUMIF('Custo Básico dos Produtos'!$A$7:$A$480,Q222,'Custo Básico dos Produtos'!$J$7:$J$480)","v":0},0,0,{"$f":"IF(B222=\"\",0,SUMIF('Cadastro de Produtos em Linha'!$B$7:$B$457,A222,'Cadastro de Produtos em Linha'!$D$7:$D$457))","v":0},null,5,0,{"$f":"IF('Aferi (Variáveis)'!$C$12=\"ALC\",0,IF('Aferi (Variáveis)'!$C$12=\"ZFM\",0,IF('Aferi (Variáveis)'!$C$12=\"Exportação\",0,IF('Aferi (Variáveis)'!$C$12=\"Venda para Exportar\",0,IF('Aferi (Variáveis)'!$C$12=\"AO\",0,SUMIF('Custo Básico dos Produtos'!$A$7:$A$480,Q222,'Custo Básico dos Produtos'!$L$7:$L$480))))))","v":0},0,0,0,0,{"$f":"SUMIF('Cadastro de Produtos em Linha'!$A$6:$A$457,Q222,'Cadastro de Produtos em Linha'!$E$6:$E$457)*H222","v":0},{"$f":"IF(TODAY()<$AK$26,IF(A222<>\"\",SUMIF('Custo Básico dos Produtos'!$B$7:$B$457,A222,'Custo Básico dos Produtos'!$A$7:$A$457),0),0)","v":0},{"$f":"IF('Aferi (Variáveis)'!$C$12=\"Venda para Exportar\",0,IF('Aferi (Variáveis)'!$C$12=\"ALC\",0,IF('Aferi (Variáveis)'!$C$12=\"ZFM\",0,IF('Aferi (Variáveis)'!$C$12=\"Exportação\",0,IF('Aferi (Variáveis)'!$C$12=\"AO\",0,E222/(100+(0*'Aferi (Variáveis)'!$K$12/100))*100*K222%/100*'Aferi (Variáveis)'!$K$12)))))","v":0},0,{"$f":"(E222*'Aferi (Variáveis)'!$K$12/100)","v":0},0,{"$f":"IF('Aferi (Variáveis)'!$F$20=\"Venda para Exportar\",0,IF('Aferi (Variáveis)'!$F$20=\"ALC\",0,IF('Aferi (Variáveis)'!$F$20=\"ZFM\",0,IF('Aferi (Variáveis)'!$F$20=\"Exportação\",0,IF('Aferi (Variáveis)'!$F$20=\"AO\",7*T222/100,T222*'Aferi (Variáveis)'!$F$20/100)))))","v":0},0,{"$f":"IF('Aferi (Variáveis)'!$C$12=\"ZFM\",0,IF('Aferi (Variáveis)'!$C$12=\"Exportação\",0,3*T222/100))","v":0},{"$f":"IF('Aferi (Variáveis)'!$C$12=\"ZFM\",0,IF('Aferi (Variáveis)'!$C$12=\"Exportação\",0,0.65*T222/100))","v":0},0,0,0,0,0,0,0,0,0,{"$f":"SUMIF('Custo Básico dos Produtos'!$B$7:$B$480,A222,'Custo Básico dos Produtos'!$K$7:$K$480)","v":0},null,null,0,0,0,0,0,0]
[null,{"$f":"IF(Q223<>0,VLOOKUP(Q223,'Custo Básico dos Produtos'!$A$7:$J$480,3),\"\")","v":""},null,{"$f":"SUMIF('Custo Básico dos Produtos'!$A$7:$A$480,Q223,'Custo Básico dos Produtos'!$J$7:$J$480)","v":0},0,0,{"$f":"IF(B223=\"\",0,SUMIF('Cadastro de Produtos em Linha'!$B$7:$B$457,A223,'Cadastro de Produtos em Linha'!$D$7:$D$457))","v":0},null,0,0,{"$f":"IF('Aferi (Variáveis)'!$C$12=\"ALC\",0,IF('Aferi (Variáveis)'!$C$12=\"ZFM\",0,IF('Aferi (Variáveis)'!$C$12=\"Exportação\",0,IF('Aferi (Variáveis)'!$C$12=\"Venda para Exportar\",0,IF('Aferi (Variáveis)'!$C$12=\"AO\",0,SUMIF('Custo Básico dos Produtos'!$A$7:$A$480,Q223,'Custo Básico dos Produtos'!$L$7:$L$480))))))","v":0},0,0,0,0,{"$f":"SUMIF('Cadastro de Produtos em Linha'!$A$6:$A$457,Q223,'Cadastro de Produtos em Linha'!$E$6:$E$457)*H223","v":0},{"$f":"IF(TODAY()<$AK$26,IF(A223<>\"\",SUMIF('Custo Básico dos Produtos'!$B$7:$B$457,A223,'Custo Básico dos Produtos'!$A$7:$A$457),0),0)","v":0},{"$f":"IF('Aferi (Variáveis)'!$C$12=\"Venda para Exportar\",0,IF('Aferi (Variáveis)'!$C$12=\"ALC\",0,IF('Aferi (Variáveis)'!$C$12=\"ZFM\",0,IF('Aferi (Variáveis)'!$C$12=\"Exportação\",0,IF('Aferi (Variáveis)'!$C$12=\"AO\",0,E223/(100+(0*'Aferi (Variáveis)'!$K$12/100))*100*K223%/100*'Aferi (Variáveis)'!$K$12)))))","v":0},0,{"$f":"(E223*'Aferi (Variáveis)'!$K$12/100)","v":0},0,{"$f":"IF('Aferi (Variáveis)'!$F$20=\"Venda para Exportar\",0,IF('Aferi (Variáveis)'!$F$20=\"ALC\",0,IF('Aferi (Variáveis)'!$F$20=\"ZFM\",0,IF('Aferi (Variáveis)'!$F$20=\"Exportação\",0,IF('Aferi (Variáveis)'!$F$20=\"AO\",7*T223/100,T223*'Aferi (Variáveis)'!$F$20/100)))))","v":0},0,{"$f":"IF('Aferi (Variáveis)'!$C$12=\"ZFM\",0,IF('Aferi (Variáveis)'!$C$12=\"Exportação\",0,3*T223/100))","v":0},{"$f":"IF('Aferi (Variáveis)'!$C$12=\"ZFM\",0,IF('Aferi (Variáveis)'!$C$12=\"Exportação\",0,0.65*T223/100))","v":0},0,0,0,0,0,0,0,0,0,{"$f":"SUMIF('Custo Básico dos Produtos'!$B$7:$B$480,A223,'Custo Básico dos Produtos'!$K$7:$K$480)","v":0},null,null,0,0,0,0,0,0]
[null,{"$f":"IF(Q224<>0,VLOOKUP(Q224,'Custo Básico dos Produtos'!$A$7:$J$480,3),\"\")","v":""},null,{"$f":"SUMIF('Custo Básico dos Produtos'!$A$7:$A$480,Q224,'Custo Básico dos Produtos'!$J$7:$J$480)","v":0},0,0,{"$f":"IF(B224=\"\",0,SUMIF('Cadastro de Produtos em Linha'!$B$7:$B$457,A224,'Cadastro de Produtos em Linha'!$D$7:$D$457))","v":0},null,0,0,{"$f":"IF('Aferi (Variáveis)'!$C$12=\"ALC\",0,IF('Aferi (Variáveis)'!$C$12=\"ZFM\",0,IF('Aferi (Variáveis)'!$C$12=\"Exportação\",0,IF('Aferi (Variáveis)'!$C$12=\"Venda para Exportar\",0,IF('Aferi (Variáveis)'!$C$12=\"AO\",0,SUMIF('Custo Básico dos Produtos'!$A$7:$A$480,Q224,'Custo Básico dos Produtos'!$L$7:$L$480))))))","v":0},0,0,0,0,{"$f":"SUMIF('Cadastro de Produtos em Linha'!$A$6:$A$457,Q224,'Cadastro de Produtos em Linha'!$E$6:$E$457)*H224","v":0},{"$f":"IF(TODAY()<$AK$26,IF(A224<>\"\",SUMIF('Custo Básico dos Produtos'!$B$7:$B$457,A224,'Custo Básico dos Produtos'!$A$7:$A$457),0),0)","v":0},{"$f":"IF('Aferi (Variáveis)'!$C$12=\"Venda para Exportar\",0,IF('Aferi (Variáveis)'!$C$12=\"ALC\",0,IF('Aferi (Variáveis)'!$C$12=\"ZFM\",0,IF('Aferi (Variáveis)'!$C$12=\"Exportação\",0,IF('Aferi (Variáveis)'!$C$12=\"AO\",0,E224/(100+(0*'Aferi (Variáveis)'!$K$12/100))*100*K224%/100*'Aferi (Variáveis)'!$K$12)))))","v":0},0,{"$f":"(E224*'Aferi (Variáveis)'!$K$12/100)","v":0},0,{"$f":"IF('Aferi (Variáveis)'!$F$20=\"Venda para Exportar\",0,IF('Aferi (Variáveis)'!$F$20=\"ALC\",0,IF('Aferi (Variáveis)'!$F$20=\"ZFM\",0,IF('Aferi (Variáveis)'!$F$20=\"Exportação\",0,IF('Aferi (Variáveis)'!$F$20=\"AO\",7*T224/100,T224*'Aferi (Variáveis)'!$F$20/100)))))","v":0},0,{"$f":"IF('Aferi (Variáveis)'!$C$12=\"ZFM\",0,IF('Aferi (Variáveis)'!$C$12=\"Exportação\",0,3*T224/100))","v":0},{"$f":"IF('Aferi (Variáveis)'!$C$12=\"ZFM\",0,IF('Aferi (Variáveis)'!$C$12=\"Exportação\",0,0.65*T224/100))","v":0},0,0,0,0,0,0,0,0,0,{"$f":"SUMIF('Custo Básico dos Produtos'!$B$7:$B$480,A224,'Custo Básico dos Produtos'!$K$7:$K$480)","v":0},null,null,0,0,0,0,0,0]
[null,{"$f":"IF(Q225<>0,VLOOKUP(Q225,'Custo Básico dos Produtos'!$A$7:$J$480,3),\"\")","v":""},null,{"$f":"SUMIF('Custo Básico dos Produtos'!$A$7:$A$480,Q225,'Custo Básico dos Produtos'!$J$7:$J$480)","v":0},0,0,{"$f":"IF(B225=\"\",0,SUMIF('Cadastro de Produtos em Linha'!$B$7:$B$457,A225,'Cadastro de Produtos em Linha'!$D$7:$D$457))","v":0},null,{"$f":"IF(F225=\"\",0,IF(F225>=AI225,G225*H225,0))","v":0},{"$f":"IF(F225=\"\",0,I225*E225)","v":0},{"$f":"IF('Aferi (Variáveis)'!$C$12=\"ALC\",0,IF('Aferi (Variáveis)'!$C$12=\"ZFM\",0,IF('Aferi (Variáveis)'!$C$12=\"Exportação\",0,IF('Aferi (Variáveis)'!$C$12=\"Venda para Exportar\",0,IF('Aferi (Variáveis)'!$C$12=\"AO\",0,SUMIF('Custo Básico dos Produtos'!$A$7:$A$480,Q225,'Custo Básico dos Produtos'!$L$7:$L$480))))))","v":0},{"$f":"J225+M225","v":0},{"$f":"S225","v":0},{"$f":"J225+M225","v":0},0,{"$f":"SUMIF('Cadastro de Produtos em Linha'!$A$6:$A$457,Q225,'Cadastro de Produtos em Linha'!$E$6:$E$457)*H225","v":0},{"$f":"IF(TODAY()<$AK$26,IF(A225<>\"\",SUMIF('Custo Básico dos Produtos'!$B$7:$B$457,A225,'Custo Básico dos Produtos'!$A$7:$A$457),0),0)","v":0},{"$f":"IF('Aferi (Variáveis)'!$C$12=\"Venda para Exportar\",0,IF('Aferi (Variáveis)'!$C$12=\"ALC\",0,IF('Aferi (Variáveis)'!$C$12=\"ZFM\",0,IF('Aferi (Variáveis)'!$C$12=\"Exportação\",0,IF('Aferi (Variáveis)'!$C$12=\"AO\",0,E225/(100+(0*'Aferi (Variáveis)'!$K$12/100))*100*K225%/100*'Aferi (Variáveis)'!$K$12)))))","v":0},0,{"$f":"(E225*'Aferi (Variáveis)'!$K$12/100)","v":0},0,{"$f":"IF('Aferi (Variáveis)'!$F$20=\"Venda para Exportar\",0,IF('Aferi (Variáveis)'!$F$20=\"ALC\",0,IF('Aferi (Variáveis)'!$F$20=\"ZFM\",0,IF('Aferi (Variáveis)'!$F$20=\"Exportação\",0,IF('Aferi (Variáveis)'!$F$20=\"AO\",7*T225/100,T225*'Aferi (Variáveis)'!$F$20/100)))))","v":0},0,{"$f":"IF('Aferi (Variáveis)'!$C$12=\"ZFM\",0,IF('Aferi (Variáveis)'!$C$12=\"Exportação\",0,3*T225/100))","v":0},{"$f":"IF('Aferi (Variáveis)'!$C$12=\"ZFM\",0,IF('Aferi (Variáveis)'!$C$12=\"Exportação\",0,0.65*T225/100))","v":0},0,0,0,0,0,0,0,0,0,{"$f":"SUMIF('Custo Básico dos Produtos'!$B$7:$B$480,A225,'Custo Básico dos Produtos'!$K$7:$K$480)","v":0},null,null,0,0,0,0,0,0]
[null,{"$f":"IF(Q226<>0,VLOOKUP(Q226,'Custo Básico dos Produtos'!$A$7:$J$480,3),\"\")","v":""},null,{"$f":"SUMIF('Custo Básico dos Produtos'!$A$7:$A$480,Q226,'Custo Básico dos Produtos'!$J$7:$J$480)","v":0},0,0,{"$f":"IF(B226=\"\",0,SUMIF('Cadastro de Produtos em Linha'!$B$7:$B$457,A226,'Cadastro de Produtos em Linha'!$D$7:$D$457))","v":0},null,0,0,{"$f":"IF('Aferi (Variáveis)'!$C$12=\"ALC\",0,IF('Aferi (Variáveis)'!$C$12=\"ZFM\",0,IF('Aferi (Variáveis)'!$C$12=\"Exportação\",0,IF('Aferi (Variáveis)'!$C$12=\"Venda para Exportar\",0,IF('Aferi (Variáveis)'!$C$12=\"AO\",0,SUMIF('Custo Básico dos Produtos'!$A$7:$A$480,Q226,'Custo Básico dos Produtos'!$L$7:$L$480))))))","v":0},0,0,0,0,{"$f":"SUMIF('Cadastro de Produtos em Linha'!$A$6:$A$457,Q226,'Cadastro de Produtos em Linha'!$E$6:$E$457)*H226","v":0},{"$f":"IF(TODAY()<$AK$26,IF(A226<>\"\",SUMIF('Custo Básico dos Produtos'!$B$7:$B$457,A226,'Custo Básico dos Produtos'!$A$7:$A$457),0),0)","v":0},{"$f":"IF('Aferi (Variáveis)'!$C$12=\"Venda para Exportar\",0,IF('Aferi (Variáveis)'!$C$12=\"ALC\",0,IF('Aferi (Variáveis)'!$C$12=\"ZFM\",0,IF('Aferi (Variáveis)'!$C$12=\"Exportação\",0,IF('Aferi (Variáveis)'!$C$12=\"AO\",0,E226/(100+(0*'Aferi (Variáveis)'!$K$12/100))*100*K226%/100*'Aferi (Variáveis)'!$K$12)))))","v":0},0,{"$f":"(E226*'Aferi (Variáveis)'!$K$12/100)","v":0},0,{"$f":"IF('Aferi (Variáveis)'!$F$20=\"Venda para Exportar\",0,IF('Aferi (Variáveis)'!$F$20=\"ALC\",0,IF('Aferi (Variáveis)'!$F$20=\"ZFM\",0,IF('Aferi (Variáveis)'!$F$20=\"Exportação\",0,IF('Aferi (Variáveis)'!$F$20=\"AO\",7*T226/100,T226*'Aferi (Variáveis)'!$F$20/100)))))","v":0},0,{"$f":"IF('Aferi (Variáveis)'!$C$12=\"ZFM\",0,IF('Aferi (Variáveis)'!$C$12=\"Exportação\",0,3*T226/100))","v":0},{"$f":"IF('Aferi (Variáveis)'!$C$12=\"ZFM\",0,IF('Aferi (Variáveis)'!$C$12=\"Exportação\",0,0.65*T226/100))","v":0},0,0,0,0,0,0,0,0,0,{"$f":"SUMIF('Custo Básico dos Produtos'!$B$7:$B$480,A226,'Custo Básico dos Produtos'!$K$7:$K$480)","v":0},null,null,0,0,0,0,0,0]
[null,{"$f":"IF(Q227<>0,VLOOKUP(Q227,'Custo Básico dos Produtos'!$A$7:$J$480,3),\"\")","v":""},null,{"$f":"SUMIF('Custo Básico dos Produtos'!$A$7:$A$480,Q227,'Custo Básico dos Produtos'!$J$7:$J$480)","v":0},0,0,{"$f":"IF(B227=\"\",0,SUMIF('Cadastro de Produtos em Linha'!$B$7:$B$457,A227,'Cadastro de Produtos em Linha'!$D$7:$D$457))","v":0},null,{"$f":"IF(F227=\"\",0,IF(F227>=AI227,G227*H227,0))","v":0},{"$f":"IF(F227=\"\",0,I227*E227)","v":0},{"$f":"IF('Aferi (Variáveis)'!$C$12=\"ALC\",0,IF('Aferi (Variáveis)'!$C$12=\"ZFM\",0,IF('Aferi (Variáveis)'!$C$12=\"Exportação\",0,IF('Aferi (Variáveis)'!$C$12=\"Venda para Exportar\",0,IF('Aferi (Variáveis)'!$C$12=\"AO\",0,SUMIF('Custo Básico dos Produtos'!$A$7:$A$480,Q227,'Custo Básico dos Produtos'!$L$7:$L$480))))))","v":0},{"$f":"J227+M227","v":0},{"$f":"S227","v":0},{"$f":"J227+M227","v":0},0,{"$f":"SUMIF('Cadastro de Produtos em Linha'!$A$6:$A$457,Q227,'Cadastro de Produtos em Linha'!$E$6:$E$457)*H227","v":0},{"$f":"IF(TODAY()<$AK$26,IF(A227<>\"\",SUMIF('Custo Básico dos Produtos'!$B$7:$B$457,A227,'Custo Básico dos Produtos'!$A$7:$A$457),0),0)","v":0},{"$f":"IF('Aferi (Variáveis)'!$C$12=\"Venda para Exportar\",0,IF('Aferi (Variáveis)'!$C$12=\"ALC\",0,IF('Aferi (Variáveis)'!$C$12=\"ZFM\",0,IF('Aferi (Variáveis)'!$C$12=\"Exportação\",0,IF('Aferi (Variáveis)'!$C$12=\"AO\",0,E227/(100+(0*'Aferi (Variáveis)'!$K$12/100))*100*K227%/100*'Aferi (Variáveis)'!$K$12)))))","v":0},0,{"$f":"(E227*'Aferi (Variáveis)'!$K$12/100)","v":0},0,{"$f":"IF('Aferi (Variáveis)'!$F$20=\"Venda para Exportar\",0,IF('Aferi (Variáveis)'!$F$20=\"ALC\",0,IF('Aferi (Variáveis)'!$F$20=\"ZFM\",0,IF('Aferi (Variáveis)'!$F$20=\"Exportação\",0,IF('Aferi (Variáveis)'!$F$20=\"AO\",7*T227/100,T227*'Aferi (Variáveis)'!$F$20/100)))))","v":0},0,{"$f":"IF('Aferi (Variáveis)'!$C$12=\"ZFM\",0,IF('Aferi (Variáveis)'!$C$12=\"Exportação\",0,3*T227/100))","v":0},{"$f":"IF('Aferi (Variáveis)'!$C$12=\"ZFM\",0,IF('Aferi (Variáveis)'!$C$12=\"Exportação\",0,0.65*T227/100))","v":0},0,0,0,0,0,0,0,0,0,{"$f":"SUMIF('Custo Básico dos Produtos'!$B$7:$B$480,A227,'Custo Básico dos Produtos'!$K$7:$K$480)","v":0},null,null,0,0,0,0,0,0]
[null,{"$f":"IF(Q228<>0,VLOOKUP(Q228,'Custo Básico dos Produtos'!$A$7:$J$480,3),\"\")","v":""},null,{"$f":"SUMIF('Custo Básico dos Produtos'!$A$7:$A$480,Q228,'Custo Básico dos Produtos'!$J$7:$J$480)","v":0},0,0,{"$f":"IF(B228=\"\",0,SUMIF('Cadastro de Produtos em Linha'!$B$7:$B$457,A228,'Cadastro de Produtos em Linha'!$D$7:$D$457))","v":0},null,0,0,{"$f":"IF('Aferi (Variáveis)'!$C$12=\"ALC\",0,IF('Aferi (Variáveis)'!$C$12=\"ZFM\",0,IF('Aferi (Variáveis)'!$C$12=\"Exportação\",0,IF('Aferi (Variáveis)'!$C$12=\"Venda para Exportar\",0,IF('Aferi (Variáveis)'!$C$12=\"AO\",0,SUMIF('Custo Básico dos Produtos'!$A$7:$A$480,Q228,'Custo Básico dos Produtos'!$L$7:$L$480))))))","v":0},0,0,0,0,{"$f":"SUMIF('Cadastro de Produtos em Linha'!$A$6:$A$457,Q228,'Cadastro de Produtos em Linha'!$E$6:$E$457)*H228","v":0},{"$f":"IF(TODAY()<$AK$26,IF(A228<>\"\",SUMIF('Custo Básico dos Produtos'!$B$7:$B$457,A228,'Custo Básico dos Produtos'!$A$7:$A$457),0),0)","v":0},{"$f":"IF('Aferi (Variáveis)'!$C$12=\"Venda para Exportar\",0,IF('Aferi (Variáveis)'!$C$12=\"ALC\",0,IF('Aferi (Variáveis)'!$C$12=\"ZFM\",0,IF('Aferi (Variáveis)'!$C$12=\"Exportação\",0,IF('Aferi (Variáveis)'!$C$12=\"AO\",0,E228/(100+(0*'Aferi (Variáveis)'!$K$12/100))*100*K228%/100*'Aferi (Variáveis)'!$K$12)))))","v":0},0,{"$f":"(E228*'Aferi (Variáveis)'!$K$12/100)","v":0},0,{"$f":"IF('Aferi (Variáveis)'!$F$20=\"Venda para Exportar\",0,IF('Aferi (Variáveis)'!$F$20=\"ALC\",0,IF('Aferi (Variáveis)'!$F$20=\"ZFM\",0,IF('Aferi (Variáveis)'!$F$20=\"Exportação\",0,IF('Aferi (Variáveis)'!$F$20=\"AO\",7*T228/100,T228*'Aferi (Variáveis)'!$F$20/100)))))","v":0},0,{"$f":"IF('Aferi (Variáveis)'!$C$12=\"ZFM\",0,IF('Aferi (Variáveis)'!$C$12=\"Exportação\",0,3*T228/100))","v":0},{"$f":"IF('Aferi (Variáveis)'!$C$12=\"ZFM\",0,IF('Aferi (Variáveis)'!$C$12=\"Exportação\",0,0.65*T228/100))","v":0},0,0,0,0,0,0,0,0,0,{"$f":"SUMIF('Custo Básico dos Produtos'!$B$7:$B$480,A228,'Custo Básico dos Produtos'!$K$7:$K$480)","v":0},null,null,0,0,0,0,0,0]
[null,{"$f":"IF(Q229<>0,VLOOKUP(Q229,'Custo Básico dos Produtos'!$A$7:$J$480,3),\"\")","v":""},null,{"$f":"SUMIF('Custo Básico dos Produtos'!$A$7:$A$480,Q229,'Custo Básico dos Produtos'!$J$7:$J$480)","v":0},0,0,{"$f":"IF(B229=\"\",0,SUMIF('Cadastro de Produtos em Linha'!$B$7:$B$457,A229,'Cadastro de Produtos em Linha'!$D$7:$D$457))","v":0},null,0,0,{"$f":"IF('Aferi (Variáveis)'!$C$12=\"ALC\",0,IF('Aferi (Variáveis)'!$C$12=\"ZFM\",0,IF('Aferi (Variáveis)'!$C$12=\"Exportação\",0,IF('Aferi (Variáveis)'!$C$12=\"Venda para Exportar\",0,IF('Aferi (Variáveis)'!$C$12=\"AO\",0,SUMIF('Custo Básico dos Produtos'!$A$7:$A$480,Q229,'Custo Básico dos Produtos'!$L$7:$L$480))))))","v":0},0,0,0,0,{"$f":"SUMIF('Cadastro de Produtos em Linha'!$A$6:$A$457,Q229,'Cadastro de Produtos em Linha'!$E$6:$E$457)*H229","v":0},{"$f":"IF(TODAY()<$AK$26,IF(A229<>\"\",SUMIF('Custo Básico dos Produtos'!$B$7:$B$457,A229,'Custo Básico dos Produtos'!$A$7:$A$457),0),0)","v":0},{"$f":"IF('Aferi (Variáveis)'!$C$12=\"Venda para Exportar\",0,IF('Aferi (Variáveis)'!$C$12=\"ALC\",0,IF('Aferi (Variáveis)'!$C$12=\"ZFM\",0,IF('Aferi (Variáveis)'!$C$12=\"Exportação\",0,IF('Aferi (Variáveis)'!$C$12=\"AO\",0,E229/(100+(0*'Aferi (Variáveis)'!$K$12/100))*100*K229%/100*'Aferi (Variáveis)'!$K$12)))))","v":0},0,{"$f":"(E229*'Aferi (Variáveis)'!$K$12/100)","v":0},0,{"$f":"IF('Aferi (Variáveis)'!$F$20=\"Venda para Exportar\",0,IF('Aferi (Variáveis)'!$F$20=\"ALC\",0,IF('Aferi (Variáveis)'!$F$20=\"ZFM\",0,IF('Aferi (Variáveis)'!$F$20=\"Exportação\",0,IF('Aferi (Variáveis)'!$F$20=\"AO\",7*T229/100,T229*'Aferi (Variáveis)'!$F$20/100)))))","v":0},0,{"$f":"IF('Aferi (Variáveis)'!$C$12=\"ZFM\",0,IF('Aferi (Variáveis)'!$C$12=\"Exportação\",0,3*T229/100))","v":0},{"$f":"IF('Aferi (Variáveis)'!$C$12=\"ZFM\",0,IF('Aferi (Variáveis)'!$C$12=\"Exportação\",0,0.65*T229/100))","v":0},0,0,0,0,0,0,0,0,0,{"$f":"SUMIF('Custo Básico dos Produtos'!$B$7:$B$480,A229,'Custo Básico dos Produtos'!$K$7:$K$480)","v":0},null,null,0,0,0,0,0,0]
[null,{"$f":"IF(Q230<>0,VLOOKUP(Q230,'Custo Básico dos Produtos'!$A$7:$J$480,3),\"\")","v":""},null,{"$f":"SUMIF('Custo Básico dos Produtos'!$A$7:$A$480,Q230,'Custo Básico dos Produtos'!$J$7:$J$480)","v":0},0,0,{"$f":"IF(B230=\"\",0,SUMIF('Cadastro de Produtos em Linha'!$B$7:$B$457,A230,'Cadastro de Produtos em Linha'!$D$7:$D$457))","v":0},null,0,0,{"$f":"IF('Aferi (Variáveis)'!$C$12=\"ALC\",0,IF('Aferi (Variáveis)'!$C$12=\"ZFM\",0,IF('Aferi (Variáveis)'!$C$12=\"Exportação\",0,IF('Aferi (Variáveis)'!$C$12=\"Venda para Exportar\",0,IF('Aferi (Variáveis)'!$C$12=\"AO\",0,SUMIF('Custo Básico dos Produtos'!$A$7:$A$480,Q230,'Custo Básico dos Produtos'!$L$7:$L$480))))))","v":0},0,0,0,0,{"$f":"SUMIF('Cadastro de Produtos em Linha'!$A$6:$A$457,Q230,'Cadastro de Produtos em Linha'!$E$6:$E$457)*H230","v":0},{"$f":"IF(TODAY()<$AK$26,IF(A230<>\"\",SUMIF('Custo Básico dos Produtos'!$B$7:$B$457,A230,'Custo Básico dos Produtos'!$A$7:$A$457),0),0)","v":0},{"$f":"IF('Aferi (Variáveis)'!$C$12=\"Venda para Exportar\",0,IF('Aferi (Variáveis)'!$C$12=\"ALC\",0,IF('Aferi (Variáveis)'!$C$12=\"ZFM\",0,IF('Aferi (Variáveis)'!$C$12=\"Exportação\",0,IF('Aferi (Variáveis)'!$C$12=\"AO\",0,E230/(100+(0*'Aferi (Variáveis)'!$K$12/100))*100*K230%/100*'Aferi (Variáveis)'!$K$12)))))","v":0},0,{"$f":"(E230*'Aferi (Variáveis)'!$K$12/100)","v":0},0,{"$f":"IF('Aferi (Variáveis)'!$F$20=\"Venda para Exportar\",0,IF('Aferi (Variáveis)'!$F$20=\"ALC\",0,IF('Aferi (Variáveis)'!$F$20=\"ZFM\",0,IF('Aferi (Variáveis)'!$F$20=\"Exportação\",0,IF('Aferi (Variáveis)'!$F$20=\"AO\",7*T230/100,T230*'Aferi (Variáveis)'!$F$20/100)))))","v":0},0,{"$f":"IF('Aferi (Variáveis)'!$C$12=\"ZFM\",0,IF('Aferi (Variáveis)'!$C$12=\"Exportação\",0,3*T230/100))","v":0},{"$f":"IF('Aferi (Variáveis)'!$C$12=\"ZFM\",0,IF('Aferi (Variáveis)'!$C$12=\"Exportação\",0,0.65*T230/100))","v":0},0,0,0,0,0,0,0,0,0,{"$f":"SUMIF('Custo Básico dos Produtos'!$B$7:$B$480,A230,'Custo Básico dos Produtos'!$K$7:$K$480)","v":0},null,null,0,0,0,0,0,0]
[null,{"$f":"IF(Q231<>0,VLOOKUP(Q231,'Custo Básico dos Produtos'!$A$7:$J$480,3),\"\")","v":""},null,{"$f":"SUMIF('Custo Básico dos Produtos'!$A$7:$A$480,Q231,'Custo Básico dos Produtos'!$J$7:$J$480)","v":0},0,0,{"$f":"IF(B231=\"\",0,SUMIF('Cadastro de Produtos em Linha'!$B$7:$B$457,A231,'Cadastro de Produtos em Linha'!$D$7:$D$457))","v":0},null,0,0,{"$f":"IF('Aferi (Variáveis)'!$C$12=\"ALC\",0,IF('Aferi (Variáveis)'!$C$12=\"ZFM\",0,IF('Aferi (Variáveis)'!$C$12=\"Exportação\",0,IF('Aferi (Variáveis)'!$C$12=\"Venda para Exportar\",0,IF('Aferi (Variáveis)'!$C$12=\"AO\",0,SUMIF('Custo Básico dos Produtos'!$A$7:$A$480,Q231,'Custo Básico dos Produtos'!$L$7:$L$480))))))","v":0},0,0,0,0,{"$f":"SUMIF('Cadastro de Produtos em Linha'!$A$6:$A$457,Q231,'Cadastro de Produtos em Linha'!$E$6:$E$457)*H231","v":0},{"$f":"IF(TODAY()<$AK$26,IF(A231<>\"\",SUMIF('Custo Básico dos Produtos'!$B$7:$B$457,A231,'Custo Básico dos Produtos'!$A$7:$A$457),0),0)","v":0},{"$f":"IF('Aferi (Variáveis)'!$C$12=\"Venda para Exportar\",0,IF('Aferi (Variáveis)'!$C$12=\"ALC\",0,IF('Aferi (Variáveis)'!$C$12=\"ZFM\",0,IF('Aferi (Variáveis)'!$C$12=\"Exportação\",0,IF('Aferi (Variáveis)'!$C$12=\"AO\",0,E231/(100+(0*'Aferi (Variáveis)'!$K$12/100))*100*K231%/100*'Aferi (Variáveis)'!$K$12)))))","v":0},0,{"$f":"(E231*'Aferi (Variáveis)'!$K$12/100)","v":0},0,{"$f":"IF('Aferi (Variáveis)'!$F$20=\"Venda para Exportar\",0,IF('Aferi (Variáveis)'!$F$20=\"ALC\",0,IF('Aferi (Variáveis)'!$F$20=\"ZFM\",0,IF('Aferi (Variáveis)'!$F$20=\"Exportação\",0,IF('Aferi (Variáveis)'!$F$20=\"AO\",7*T231/100,T231*'Aferi (Variáveis)'!$F$20/100)))))","v":0},0,{"$f":"IF('Aferi (Variáveis)'!$C$12=\"ZFM\",0,IF('Aferi (Variáveis)'!$C$12=\"Exportação\",0,3*T231/100))","v":0},{"$f":"IF('Aferi (Variáveis)'!$C$12=\"ZFM\",0,IF('Aferi (Variáveis)'!$C$12=\"Exportação\",0,0.65*T231/100))","v":0},0,0,0,0,0,0,0,0,0,{"$f":"SUMIF('Custo Básico dos Produtos'!$B$7:$B$480,A231,'Custo Básico dos Produtos'!$K$7:$K$480)","v":0},null,null,0,0,0,0,0,0]
[null,{"$f":"IF(Q232<>0,VLOOKUP(Q232,'Custo Básico dos Produtos'!$A$7:$J$480,3),\"\")","v":""},null,{"$f":"SUMIF('Custo Básico dos Produtos'!$A$7:$A$480,Q232,'Custo Básico dos Produtos'!$J$7:$J$480)","v":0},0,0,{"$f":"IF(B232=\"\",0,SUMIF('Cadastro de Produtos em Linha'!$B$7:$B$457,A232,'Cadastro de Produtos em Linha'!$D$7:$D$457))","v":0},null,0,0,{"$f":"IF('Aferi (Variáveis)'!$C$12=\"ALC\",0,IF('Aferi (Variáveis)'!$C$12=\"ZFM\",0,IF('Aferi (Variáveis)'!$C$12=\"Exportação\",0,IF('Aferi (Variáveis)'!$C$12=\"Venda para Exportar\",0,IF('Aferi (Variáveis)'!$C$12=\"AO\",0,SUMIF('Custo Básico dos Produtos'!$A$7:$A$480,Q232,'Custo Básico dos Produtos'!$L$7:$L$480))))))","v":0},0,0,0,0,{"$f":"SUMIF('Cadastro de Produtos em Linha'!$A$6:$A$457,Q232,'Cadastro de Produtos em Linha'!$E$6:$E$457)*H232","v":0},{"$f":"IF(TODAY()<$AK$26,IF(A232<>\"\",SUMIF('Custo Básico dos Produtos'!$B$7:$B$457,A232,'Custo Básico dos Produtos'!$A$7:$A$457),0),0)","v":0},{"$f":"IF('Aferi (Variáveis)'!$C$12=\"Venda para Exportar\",0,IF('Aferi (Variáveis)'!$C$12=\"ALC\",0,IF('Aferi (Variáveis)'!$C$12=\"ZFM\",0,IF('Aferi (Variáveis)'!$C$12=\"Exportação\",0,IF('Aferi (Variáveis)'!$C$12=\"AO\",0,E232/(100+(0*'Aferi (Variáveis)'!$K$12/100))*100*K232%/100*'Aferi (Variáveis)'!$K$12)))))","v":0},0,{"$f":"(E232*'Aferi (Variáveis)'!$K$12/100)","v":0},0,{"$f":"IF('Aferi (Variáveis)'!$F$20=\"Venda para Exportar\",0,IF('Aferi (Variáveis)'!$F$20=\"ALC\",0,IF('Aferi (Variáveis)'!$F$20=\"ZFM\",0,IF('Aferi (Variáveis)'!$F$20=\"Exportação\",0,IF('Aferi (Variáveis)'!$F$20=\"AO\",7*T232/100,T232*'Aferi (Variáveis)'!$F$20/100)))))","v":0},0,{"$f":"IF('Aferi (Variáveis)'!$C$12=\"ZFM\",0,IF('Aferi (Variáveis)'!$C$12=\"Exportação\",0,3*T232/100))","v":0},{"$f":"IF('Aferi (Variáveis)'!$C$12=\"ZFM\",0,IF('Aferi (Variáveis)'!$C$12=\"Exportação\",0,0.65*T232/100))","v":0},0,0,0,0,0,0,0,0,0,{"$f":"SUMIF('Custo Básico dos Produtos'!$B$7:$B$480,A232,'Custo Básico dos Produtos'!$K$7:$K$480)","v":0},null,null,0,0,0,0,0,0]
[null,{"$f":"IF(Q233<>0,VLOOKUP(Q233,'Custo Básico dos Produtos'!$A$7:$J$480,3),\"\")","v":""},null,{"$f":"SUMIF('Custo Básico dos Produtos'!$A$7:$A$480,Q233,'Custo Básico dos Produtos'!$J$7:$J$480)","v":0},0,0,{"$f":"IF(B233=\"\",0,SUMIF('Cadastro de Produtos em Linha'!$B$7:$B$457,A233,'Cadastro de Produtos em Linha'!$D$7:$D$457))","v":0},null,0,0,{"$f":"IF('Aferi (Variáveis)'!$C$12=\"ALC\",0,IF('Aferi (Variáveis)'!$C$12=\"ZFM\",0,IF('Aferi (Variáveis)'!$C$12=\"Exportação\",0,IF('Aferi (Variáveis)'!$C$12=\"Venda para Exportar\",0,IF('Aferi (Variáveis)'!$C$12=\"AO\",0,SUMIF('Custo Básico dos Produtos'!$A$7:$A$480,Q233,'Custo Básico dos Produtos'!$L$7:$L$480))))))","v":0},0,0,0,0,{"$f":"SUMIF('Cadastro de Produtos em Linha'!$A$6:$A$457,Q233,'Cadastro de Produtos em Linha'!$E$6:$E$457)*H233","v":0},{"$f":"IF(TODAY()<$AK$26,IF(A233<>\"\",SUMIF('Custo Básico dos Produtos'!$B$7:$B$457,A233,'Custo Básico dos Produtos'!$A$7:$A$457),0),0)","v":0},{"$f":"IF('Aferi (Variáveis)'!$C$12=\"Venda para Exportar\",0,IF('Aferi (Variáveis)'!$C$12=\"ALC\",0,IF('Aferi (Variáveis)'!$C$12=\"ZFM\",0,IF('Aferi (Variáveis)'!$C$12=\"Exportação\",0,IF('Aferi (Variáveis)'!$C$12=\"AO\",0,E233/(100+(0*'Aferi (Variáveis)'!$K$12/100))*100*K233%/100*'Aferi (Variáveis)'!$K$12)))))","v":0},0,{"$f":"(E233*'Aferi (Variáveis)'!$K$12/100)","v":0},0,{"$f":"IF('Aferi (Variáveis)'!$F$20=\"Venda para Exportar\",0,IF('Aferi (Variáveis)'!$F$20=\"ALC\",0,IF('Aferi (Variáveis)'!$F$20=\"ZFM\",0,IF('Aferi (Variáveis)'!$F$20=\"Exportação\",0,IF('Aferi (Variáveis)'!$F$20=\"AO\",7*T233/100,T233*'Aferi (Variáveis)'!$F$20/100)))))","v":0},0,{"$f":"IF('Aferi (Variáveis)'!$C$12=\"ZFM\",0,IF('Aferi (Variáveis)'!$C$12=\"Exportação\",0,3*T233/100))","v":0},{"$f":"IF('Aferi (Variáveis)'!$C$12=\"ZFM\",0,IF('Aferi (Variáveis)'!$C$12=\"Exportação\",0,0.65*T233/100))","v":0},0,0,0,0,0,0,0,0,0,{"$f":"SUMIF('Custo Básico dos Produtos'!$B$7:$B$480,A233,'Custo Básico dos Produtos'!$K$7:$K$480)","v":0},null,null,0,0,0,0,0,0]
[null,{"$f":"IF(Q234<>0,VLOOKUP(Q234,'Custo Básico dos Produtos'!$A$7:$J$480,3),\"\")","v":""},null,{"$f":"SUMIF('Custo Básico dos Produtos'!$A$7:$A$480,Q234,'Custo Básico dos Produtos'!$J$7:$J$480)","v":0},0,0,{"$f":"IF(B234=\"\",0,SUMIF('Cadastro de Produtos em Linha'!$B$7:$B$457,A234,'Cadastro de Produtos em Linha'!$D$7:$D$457))","v":0},null,0,0,{"$f":"IF('Aferi (Variáveis)'!$C$12=\"ALC\",0,IF('Aferi (Variáveis)'!$C$12=\"ZFM\",0,IF('Aferi (Variáveis)'!$C$12=\"Exportação\",0,IF('Aferi (Variáveis)'!$C$12=\"Venda para Exportar\",0,IF('Aferi (Variáveis)'!$C$12=\"AO\",0,SUMIF('Custo Básico dos Produtos'!$A$7:$A$480,Q234,'Custo Básico dos Produtos'!$L$7:$L$480))))))","v":0},0,0,0,0,{"$f":"SUMIF('Cadastro de Produtos em Linha'!$A$6:$A$457,Q234,'Cadastro de Produtos em Linha'!$E$6:$E$457)*H234","v":0},{"$f":"IF(TODAY()<$AK$26,IF(A234<>\"\",SUMIF('Custo Básico dos Produtos'!$B$7:$B$457,A234,'Custo Básico dos Produtos'!$A$7:$A$457),0),0)","v":0},{"$f":"IF('Aferi (Variáveis)'!$C$12=\"Venda para Exportar\",0,IF('Aferi (Variáveis)'!$C$12=\"ALC\",0,IF('Aferi (Variáveis)'!$C$12=\"ZFM\",0,IF('Aferi (Variáveis)'!$C$12=\"Exportação\",0,IF('Aferi (Variáveis)'!$C$12=\"AO\",0,E234/(100+(0*'Aferi (Variáveis)'!$K$12/100))*100*K234%/100*'Aferi (Variáveis)'!$K$12)))))","v":0},0,{"$f":"(E234*'Aferi (Variáveis)'!$K$12/100)","v":0},0,{"$f":"IF('Aferi (Variáveis)'!$F$20=\"Venda para Exportar\",0,IF('Aferi (Variáveis)'!$F$20=\"ALC\",0,IF('Aferi (Variáveis)'!$F$20=\"ZFM\",0,IF('Aferi (Variáveis)'!$F$20=\"Exportação\",0,IF('Aferi (Variáveis)'!$F$20=\"AO\",7*T234/100,T234*'Aferi (Variáveis)'!$F$20/100)))))","v":0},0,{"$f":"IF('Aferi (Variáveis)'!$C$12=\"ZFM\",0,IF('Aferi (Variáveis)'!$C$12=\"Exportação\",0,3*T234/100))","v":0},{"$f":"IF('Aferi (Variáveis)'!$C$12=\"ZFM\",0,IF('Aferi (Variáveis)'!$C$12=\"Exportação\",0,0.65*T234/100))","v":0},0,0,0,0,0,0,0,0,0,{"$f":"SUMIF('Custo Básico dos Produtos'!$B$7:$B$480,A234,'Custo Básico dos Produtos'!$K$7:$K$480)","v":0},null,null,0,0,0,0,0,0]
[null,{"$f":"IF(Q235<>0,VLOOKUP(Q235,'Custo Básico dos Produtos'!$A$7:$J$480,3),\"\")","v":""},null,{"$f":"SUMIF('Custo Básico dos Produtos'!$A$7:$A$480,Q235,'Custo Básico dos Produtos'!$J$7:$J$480)","v":0},0,0,{"$f":"IF(B235=\"\",0,SUMIF('Cadastro de Produtos em Linha'!$B$7:$B$457,A235,'Cadastro de Produtos em Linha'!$D$7:$D$457))","v":0},null,0,0,{"$f":"IF('Aferi (Variáveis)'!$C$12=\"ALC\",0,IF('Aferi (Variáveis)'!$C$12=\"ZFM\",0,IF('Aferi (Variáveis)'!$C$12=\"Exportação\",0,IF('Aferi (Variáveis)'!$C$12=\"Venda para Exportar\",0,IF('Aferi (Variáveis)'!$C$12=\"AO\",0,SUMIF('Custo Básico dos Produtos'!$A$7:$A$480,Q235,'Custo Básico dos Produtos'!$L$7:$L$480))))))","v":0},0,0,0,0,{"$f":"SUMIF('Cadastro de Produtos em Linha'!$A$6:$A$457,Q235,'Cadastro de Produtos em Linha'!$E$6:$E$457)*H235","v":0},{"$f":"IF(TODAY()<$AK$26,IF(A235<>\"\",SUMIF('Custo Básico dos Produtos'!$B$7:$B$457,A235,'Custo Básico dos Produtos'!$A$7:$A$457),0),0)","v":0},{"$f":"IF('Aferi (Variáveis)'!$C$12=\"Venda para Exportar\",0,IF('Aferi (Variáveis)'!$C$12=\"ALC\",0,IF('Aferi (Variáveis)'!$C$12=\"ZFM\",0,IF('Aferi (Variáveis)'!$C$12=\"Exportação\",0,IF('Aferi (Variáveis)'!$C$12=\"AO\",0,E235/(100+(0*'Aferi (Variáveis)'!$K$12/100))*100*K235%/100*'Aferi (Variáveis)'!$K$12)))))","v":0},0,{"$f":"(E235*'Aferi (Variáveis)'!$K$12/100)","v":0},0,{"$f":"IF('Aferi (Variáveis)'!$F$20=\"Venda para Exportar\",0,IF('Aferi (Variáveis)'!$F$20=\"ALC\",0,IF('Aferi (Variáveis)'!$F$20=\"ZFM\",0,IF('Aferi (Variáveis)'!$F$20=\"Exportação\",0,IF('Aferi (Variáveis)'!$F$20=\"AO\",7*T235/100,T235*'Aferi (Variáveis)'!$F$20/100)))))","v":0},0,{"$f":"IF('Aferi (Variáveis)'!$C$12=\"ZFM\",0,IF('Aferi (Variáveis)'!$C$12=\"Exportação\",0,3*T235/100))","v":0},{"$f":"IF('Aferi (Variáveis)'!$C$12=\"ZFM\",0,IF('Aferi (Variáveis)'!$C$12=\"Exportação\",0,0.65*T235/100))","v":0},0,0,0,0,0,0,0,0,0,{"$f":"SUMIF('Custo Básico dos Produtos'!$B$7:$B$480,A235,'Custo Básico dos Produtos'!$K$7:$K$480)","v":0},null,null,0,0,0,0,0,0]
[null,{"$f":"IF(Q236<>0,VLOOKUP(Q236,'Custo Básico dos Produtos'!$A$7:$J$480,3),\"\")","v":""},null,{"$f":"SUMIF('Custo Básico dos Produtos'!$A$7:$A$480,Q236,'Custo Básico dos Produtos'!$J$7:$J$480)","v":0},0,0,{"$f":"IF(B236=\"\",0,SUMIF('Cadastro de Produtos em Linha'!$B$7:$B$457,A236,'Cadastro de Produtos em Linha'!$D$7:$D$457))","v":0},null,0,0,{"$f":"IF('Aferi (Variáveis)'!$C$12=\"ALC\",0,IF('Aferi (Variáveis)'!$C$12=\"ZFM\",0,IF('Aferi (Variáveis)'!$C$12=\"Exportação\",0,IF('Aferi (Variáveis)'!$C$12=\"Venda para Exportar\",0,IF('Aferi (Variáveis)'!$C$12=\"AO\",0,SUMIF('Custo Básico dos Produtos'!$A$7:$A$480,Q236,'Custo Básico dos Produtos'!$L$7:$L$480))))))","v":0},0,0,0,0,{"$f":"SUMIF('Cadastro de Produtos em Linha'!$A$6:$A$457,Q236,'Cadastro de Produtos em Linha'!$E$6:$E$457)*H236","v":0},{"$f":"IF(TODAY()<$AK$26,IF(A236<>\"\",SUMIF('Custo Básico dos Produtos'!$B$7:$B$457,A236,'Custo Básico dos Produtos'!$A$7:$A$457),0),0)","v":0},{"$f":"IF('Aferi (Variáveis)'!$C$12=\"Venda para Exportar\",0,IF('Aferi (Variáveis)'!$C$12=\"ALC\",0,IF('Aferi (Variáveis)'!$C$12=\"ZFM\",0,IF('Aferi (Variáveis)'!$C$12=\"Exportação\",0,IF('Aferi (Variáveis)'!$C$12=\"AO\",0,E236/(100+(0*'Aferi (Variáveis)'!$K$12/100))*100*K236%/100*'Aferi (Variáveis)'!$K$12)))))","v":0},0,{"$f":"(E236*'Aferi (Variáveis)'!$K$12/100)","v":0},0,{"$f":"IF('Aferi (Variáveis)'!$F$20=\"Venda para Exportar\",0,IF('Aferi (Variáveis)'!$F$20=\"ALC\",0,IF('Aferi (Variáveis)'!$F$20=\"ZFM\",0,IF('Aferi (Variáveis)'!$F$20=\"Exportação\",0,IF('Aferi (Variáveis)'!$F$20=\"AO\",7*T236/100,T236*'Aferi (Variáveis)'!$F$20/100)))))","v":0},0,{"$f":"IF('Aferi (Variáveis)'!$C$12=\"ZFM\",0,IF('Aferi (Variáveis)'!$C$12=\"Exportação\",0,3*T236/100))","v":0},{"$f":"IF('Aferi (Variáveis)'!$C$12=\"ZFM\",0,IF('Aferi (Variáveis)'!$C$12=\"Exportação\",0,0.65*T236/100))","v":0},0,0,0,0,0,0,0,0,0,{"$f":"SUMIF('Custo Básico dos Produtos'!$B$7:$B$480,A236,'Custo Básico dos Produtos'!$K$7:$K$480)","v":0},null,null,0,0,0,0,0,0]
[null,{"$f":"IF(Q237<>0,VLOOKUP(Q237,'Custo Básico dos Produtos'!$A$7:$J$480,3),\"\")","v":""},null,{"$f":"SUMIF('Custo Básico dos Produtos'!$A$7:$A$480,Q237,'Custo Básico dos Produtos'!$J$7:$J$480)","v":0},0,0,{"$f":"IF(B237=\"\",0,SUMIF('Cadastro de Produtos em Linha'!$B$7:$B$457,A237,'Cadastro de Produtos em Linha'!$D$7:$D$457))","v":0},null,0,0,{"$f":"IF('Aferi (Variáveis)'!$C$12=\"ALC\",0,IF('Aferi (Variáveis)'!$C$12=\"ZFM\",0,IF('Aferi (Variáveis)'!$C$12=\"Exportação\",0,IF('Aferi (Variáveis)'!$C$12=\"Venda para Exportar\",0,IF('Aferi (Variáveis)'!$C$12=\"AO\",0,SUMIF('Custo Básico dos Produtos'!$A$7:$A$480,Q237,'Custo Básico dos Produtos'!$L$7:$L$480))))))","v":0},0,0,0,0,{"$f":"SUMIF('Cadastro de Produtos em Linha'!$A$6:$A$457,Q237,'Cadastro de Produtos em Linha'!$E$6:$E$457)*H237","v":0},{"$f":"IF(TODAY()<$AK$26,IF(A237<>\"\",SUMIF('Custo Básico dos Produtos'!$B$7:$B$457,A237,'Custo Básico dos Produtos'!$A$7:$A$457),0),0)","v":0},{"$f":"IF('Aferi (Variáveis)'!$C$12=\"Venda para Exportar\",0,IF('Aferi (Variáveis)'!$C$12=\"ALC\",0,IF('Aferi (Variáveis)'!$C$12=\"ZFM\",0,IF('Aferi (Variáveis)'!$C$12=\"Exportação\",0,IF('Aferi (Variáveis)'!$C$12=\"AO\",0,E237/(100+(0*'Aferi (Variáveis)'!$K$12/100))*100*K237%/100*'Aferi (Variáveis)'!$K$12)))))","v":0},0,{"$f":"(E237*'Aferi (Variáveis)'!$K$12/100)","v":0},0,{"$f":"IF('Aferi (Variáveis)'!$F$20=\"Venda para Exportar\",0,IF('Aferi (Variáveis)'!$F$20=\"ALC\",0,IF('Aferi (Variáveis)'!$F$20=\"ZFM\",0,IF('Aferi (Variáveis)'!$F$20=\"Exportação\",0,IF('Aferi (Variáveis)'!$F$20=\"AO\",7*T237/100,T237*'Aferi (Variáveis)'!$F$20/100)))))","v":0},0,{"$f":"IF('Aferi (Variáveis)'!$C$12=\"ZFM\",0,IF('Aferi (Variáveis)'!$C$12=\"Exportação\",0,3*T237/100))","v":0},{"$f":"IF('Aferi (Variáveis)'!$C$12=\"ZFM\",0,IF('Aferi (Variáveis)'!$C$12=\"Exportação\",0,0.65*T237/100))","v":0},0,0,0,0,0,0,0,0,0,{"$f":"SUMIF('Custo Básico dos Produtos'!$B$7:$B$480,A237,'Custo Básico dos Produtos'!$K$7:$K$480)","v":0},null,null,0,0,0,0,0,0]
[null,{"$f":"IF(Q238<>0,VLOOKUP(Q238,'Custo Básico dos Produtos'!$A$7:$J$480,3),\"\")","v":""},null,{"$f":"SUMIF('Custo Básico dos Produtos'!$A$7:$A$480,Q238,'Custo Básico dos Produtos'!$J$7:$J$480)","v":0},0,0,{"$f":"IF(B238=\"\",0,SUMIF('Cadastro de Produtos em Linha'!$B$7:$B$457,A238,'Cadastro de Produtos em Linha'!$D$7:$D$457))","v":0},null,0,0,{"$f":"IF('Aferi (Variáveis)'!$C$12=\"ALC\",0,IF('Aferi (Variáveis)'!$C$12=\"ZFM\",0,IF('Aferi (Variáveis)'!$C$12=\"Exportação\",0,IF('Aferi (Variáveis)'!$C$12=\"Venda para Exportar\",0,IF('Aferi (Variáveis)'!$C$12=\"AO\",0,SUMIF('Custo Básico dos Produtos'!$A$7:$A$480,Q238,'Custo Básico dos Produtos'!$L$7:$L$480))))))","v":0},0,0,0,0,{"$f":"SUMIF('Cadastro de Produtos em Linha'!$A$6:$A$457,Q238,'Cadastro de Produtos em Linha'!$E$6:$E$457)*H238","v":0},{"$f":"IF(TODAY()<$AK$26,IF(A238<>\"\",SUMIF('Custo Básico dos Produtos'!$B$7:$B$457,A238,'Custo Básico dos Produtos'!$A$7:$A$457),0),0)","v":0},{"$f":"IF('Aferi (Variáveis)'!$C$12=\"Venda para Exportar\",0,IF('Aferi (Variáveis)'!$C$12=\"ALC\",0,IF('Aferi (Variáveis)'!$C$12=\"ZFM\",0,IF('Aferi (Variáveis)'!$C$12=\"Exportação\",0,IF('Aferi (Variáveis)'!$C$12=\"AO\",0,E238/(100+(0*'Aferi (Variáveis)'!$K$12/100))*100*K238%/100*'Aferi (Variáveis)'!$K$12)))))","v":0},0,{"$f":"(E238*'Aferi (Variáveis)'!$K$12/100)","v":0},0,{"$f":"IF('Aferi (Variáveis)'!$F$20=\"Venda para Exportar\",0,IF('Aferi (Variáveis)'!$F$20=\"ALC\",0,IF('Aferi (Variáveis)'!$F$20=\"ZFM\",0,IF('Aferi (Variáveis)'!$F$20=\"Exportação\",0,IF('Aferi (Variáveis)'!$F$20=\"AO\",7*T238/100,T238*'Aferi (Variáveis)'!$F$20/100)))))","v":0},0,{"$f":"IF('Aferi (Variáveis)'!$C$12=\"ZFM\",0,IF('Aferi (Variáveis)'!$C$12=\"Exportação\",0,3*T238/100))","v":0},{"$f":"IF('Aferi (Variáveis)'!$C$12=\"ZFM\",0,IF('Aferi (Variáveis)'!$C$12=\"Exportação\",0,0.65*T238/100))","v":0},0,0,0,0,0,0,0,0,0,{"$f":"SUMIF('Custo Básico dos Produtos'!$B$7:$B$480,A238,'Custo Básico dos Produtos'!$K$7:$K$480)","v":0},null,null,0,0,0,0,0,0]
[null,{"$f":"IF(Q239<>0,VLOOKUP(Q239,'Custo Básico dos Produtos'!$A$7:$J$480,3),\"\")","v":""},null,{"$f":"SUMIF('Custo Básico dos Produtos'!$A$7:$A$480,Q239,'Custo Básico dos Produtos'!$J$7:$J$480)","v":0},0,0,{"$f":"IF(B239=\"\",0,SUMIF('Cadastro de Produtos em Linha'!$B$7:$B$457,A239,'Cadastro de Produtos em Linha'!$D$7:$D$457))","v":0},null,0,0,{"$f":"IF('Aferi (Variáveis)'!$C$12=\"ALC\",0,IF('Aferi (Variáveis)'!$C$12=\"ZFM\",0,IF('Aferi (Variáveis)'!$C$12=\"Exportação\",0,IF('Aferi (Variáveis)'!$C$12=\"Venda para Exportar\",0,IF('Aferi (Variáveis)'!$C$12=\"AO\",0,SUMIF('Custo Básico dos Produtos'!$A$7:$A$480,Q239,'Custo Básico dos Produtos'!$L$7:$L$480))))))","v":0},0,0,0,0,{"$f":"SUMIF('Cadastro de Produtos em Linha'!$A$6:$A$457,Q239,'Cadastro de Produtos em Linha'!$E$6:$E$457)*H239","v":0},{"$f":"IF(TODAY()<$AK$26,IF(A239<>\"\",SUMIF('Custo Básico dos Produtos'!$B$7:$B$457,A239,'Custo Básico dos Produtos'!$A$7:$A$457),0),0)","v":0},{"$f":"IF('Aferi (Variáveis)'!$C$12=\"Venda para Exportar\",0,IF('Aferi (Variáveis)'!$C$12=\"ALC\",0,IF('Aferi (Variáveis)'!$C$12=\"ZFM\",0,IF('Aferi (Variáveis)'!$C$12=\"Exportação\",0,IF('Aferi (Variáveis)'!$C$12=\"AO\",0,E239/(100+(0*'Aferi (Variáveis)'!$K$12/100))*100*K239%/100*'Aferi (Variáveis)'!$K$12)))))","v":0},0,{"$f":"(E239*'Aferi (Variáveis)'!$K$12/100)","v":0},0,{"$f":"IF('Aferi (Variáveis)'!$F$20=\"Venda para Exportar\",0,IF('Aferi (Variáveis)'!$F$20=\"ALC\",0,IF('Aferi (Variáveis)'!$F$20=\"ZFM\",0,IF('Aferi (Variáveis)'!$F$20=\"Exportação\",0,IF('Aferi (Variáveis)'!$F$20=\"AO\",7*T239/100,T239*'Aferi (Variáveis)'!$F$20/100)))))","v":0},0,{"$f":"IF('Aferi (Variáveis)'!$C$12=\"ZFM\",0,IF('Aferi (Variáveis)'!$C$12=\"Exportação\",0,3*T239/100))","v":0},{"$f":"IF('Aferi (Variáveis)'!$C$12=\"ZFM\",0,IF('Aferi (Variáveis)'!$C$12=\"Exportação\",0,0.65*T239/100))","v":0},0,0,0,0,0,0,0,0,0,{"$f":"SUMIF('Custo Básico dos Produtos'!$B$7:$B$480,A239,'Custo Básico dos Produtos'!$K$7:$K$480)","v":0},null,null,0,0,0,0,0,0]
[null,{"$f":"IF(Q240<>0,VLOOKUP(Q240,'Custo Básico dos Produtos'!$A$7:$J$480,3),\"\")","v":""},null,{"$f":"SUMIF('Custo Básico dos Produtos'!$A$7:$A$480,Q240,'Custo Básico dos Produtos'!$J$7:$J$480)","v":0},0,0,{"$f":"IF(B240=\"\",0,SUMIF('Cadastro de Produtos em Linha'!$B$7:$B$457,A240,'Cadastro de Produtos em Linha'!$D$7:$D$457))","v":0},null,0,0,{"$f":"IF('Aferi (Variáveis)'!$C$12=\"ALC\",0,IF('Aferi (Variáveis)'!$C$12=\"ZFM\",0,IF('Aferi (Variáveis)'!$C$12=\"Exportação\",0,IF('Aferi (Variáveis)'!$C$12=\"Venda para Exportar\",0,IF('Aferi (Variáveis)'!$C$12=\"AO\",0,SUMIF('Custo Básico dos Produtos'!$A$7:$A$480,Q240,'Custo Básico dos Produtos'!$L$7:$L$480))))))","v":0},0,0,0,0,{"$f":"SUMIF('Cadastro de Produtos em Linha'!$A$6:$A$457,Q240,'Cadastro de Produtos em Linha'!$E$6:$E$457)*H240","v":0},{"$f":"IF(TODAY()<$AK$26,IF(A240<>\"\",SUMIF('Custo Básico dos Produtos'!$B$7:$B$457,A240,'Custo Básico dos Produtos'!$A$7:$A$457),0),0)","v":0},{"$f":"IF('Aferi (Variáveis)'!$C$12=\"Venda para Exportar\",0,IF('Aferi (Variáveis)'!$C$12=\"ALC\",0,IF('Aferi (Variáveis)'!$C$12=\"ZFM\",0,IF('Aferi (Variáveis)'!$C$12=\"Exportação\",0,IF('Aferi (Variáveis)'!$C$12=\"AO\",0,E240/(100+(0*'Aferi (Variáveis)'!$K$12/100))*100*K240%/100*'Aferi (Variáveis)'!$K$12)))))","v":0},0,{"$f":"(E240*'Aferi (Variáveis)'!$K$12/100)","v":0},0,{"$f":"IF('Aferi (Variáveis)'!$F$20=\"Venda para Exportar\",0,IF('Aferi (Variáveis)'!$F$20=\"ALC\",0,IF('Aferi (Variáveis)'!$F$20=\"ZFM\",0,IF('Aferi (Variáveis)'!$F$20=\"Exportação\",0,IF('Aferi (Variáveis)'!$F$20=\"AO\",7*T240/100,T240*'Aferi (Variáveis)'!$F$20/100)))))","v":0},0,{"$f":"IF('Aferi (Variáveis)'!$C$12=\"ZFM\",0,IF('Aferi (Variáveis)'!$C$12=\"Exportação\",0,3*T240/100))","v":0},{"$f":"IF('Aferi (Variáveis)'!$C$12=\"ZFM\",0,IF('Aferi (Variáveis)'!$C$12=\"Exportação\",0,0.65*T240/100))","v":0},0,0,0,0,0,0,0,0,0,{"$f":"SUMIF('Custo Básico dos Produtos'!$B$7:$B$480,A240,'Custo Básico dos Produtos'!$K$7:$K$480)","v":0},null,null,0,0,0,0,0,0]
[null,{"$f":"IF(Q241<>0,VLOOKUP(Q241,'Custo Básico dos Produtos'!$A$7:$J$480,3),\"\")","v":""},null,{"$f":"SUMIF('Custo Básico dos Produtos'!$A$7:$A$480,Q241,'Custo Básico dos Produtos'!$J$7:$J$480)","v":0},0,0,{"$f":"IF(B241=\"\",0,SUMIF('Cadastro de Produtos em Linha'!$B$7:$B$457,A241,'Cadastro de Produtos em Linha'!$D$7:$D$457))","v":0},null,0,0,{"$f":"IF('Aferi (Variáveis)'!$C$12=\"ALC\",0,IF('Aferi (Variáveis)'!$C$12=\"ZFM\",0,IF('Aferi (Variáveis)'!$C$12=\"Exportação\",0,IF('Aferi (Variáveis)'!$C$12=\"Venda para Exportar\",0,IF('Aferi (Variáveis)'!$C$12=\"AO\",0,SUMIF('Custo Básico dos Produtos'!$A$7:$A$480,Q241,'Custo Básico dos Produtos'!$L$7:$L$480))))))","v":0},0,0,0,0,{"$f":"SUMIF('Cadastro de Produtos em Linha'!$A$6:$A$457,Q241,'Cadastro de Produtos em Linha'!$E$6:$E$457)*H241","v":0},{"$f":"IF(TODAY()<$AK$26,IF(A241<>\"\",SUMIF('Custo Básico dos Produtos'!$B$7:$B$457,A241,'Custo Básico dos Produtos'!$A$7:$A$457),0),0)","v":0},{"$f":"IF('Aferi (Variáveis)'!$C$12=\"Venda para Exportar\",0,IF('Aferi (Variáveis)'!$C$12=\"ALC\",0,IF('Aferi (Variáveis)'!$C$12=\"ZFM\",0,IF('Aferi (Variáveis)'!$C$12=\"Exportação\",0,IF('Aferi (Variáveis)'!$C$12=\"AO\",0,E241/(100+(0*'Aferi (Variáveis)'!$K$12/100))*100*K241%/100*'Aferi (Variáveis)'!$K$12)))))","v":0},0,{"$f":"(E241*'Aferi (Variáveis)'!$K$12/100)","v":0},0,{"$f":"IF('Aferi (Variáveis)'!$F$20=\"Venda para Exportar\",0,IF('Aferi (Variáveis)'!$F$20=\"ALC\",0,IF('Aferi (Variáveis)'!$F$20=\"ZFM\",0,IF('Aferi (Variáveis)'!$F$20=\"Exportação\",0,IF('Aferi (Variáveis)'!$F$20=\"AO\",7*T241/100,T241*'Aferi (Variáveis)'!$F$20/100)))))","v":0},0,{"$f":"IF('Aferi (Variáveis)'!$C$12=\"ZFM\",0,IF('Aferi (Variáveis)'!$C$12=\"Exportação\",0,3*T241/100))","v":0},{"$f":"IF('Aferi (Variáveis)'!$C$12=\"ZFM\",0,IF('Aferi (Variáveis)'!$C$12=\"Exportação\",0,0.65*T241/100))","v":0},0,0,0,0,0,0,0,0,0,{"$f":"SUMIF('Custo Básico dos Produtos'!$B$7:$B$480,A241,'Custo Básico dos Produtos'!$K$7:$K$480)","v":0},null,null,0,0,0,0,0,0]
[null,{"$f":"IF(Q242<>0,VLOOKUP(Q242,'Custo Básico dos Produtos'!$A$7:$J$480,3),\"\")","v":""},null,{"$f":"SUMIF('Custo Básico dos Produtos'!$A$7:$A$480,Q242,'Custo Básico dos Produtos'!$J$7:$J$480)","v":0},0,0,{"$f":"IF(B242=\"\",0,SUMIF('Cadastro de Produtos em Linha'!$B$7:$B$457,A242,'Cadastro de Produtos em Linha'!$D$7:$D$457))","v":0},null,0,0,{"$f":"IF('Aferi (Variáveis)'!$C$12=\"ALC\",0,IF('Aferi (Variáveis)'!$C$12=\"ZFM\",0,IF('Aferi (Variáveis)'!$C$12=\"Exportação\",0,IF('Aferi (Variáveis)'!$C$12=\"Venda para Exportar\",0,IF('Aferi (Variáveis)'!$C$12=\"AO\",0,SUMIF('Custo Básico dos Produtos'!$A$7:$A$480,Q242,'Custo Básico dos Produtos'!$L$7:$L$480))))))","v":0},0,0,0,0,{"$f":"SUMIF('Cadastro de Produtos em Linha'!$A$6:$A$457,Q242,'Cadastro de Produtos em Linha'!$E$6:$E$457)*H242","v":0},{"$f":"IF(TODAY()<$AK$26,IF(A242<>\"\",SUMIF('Custo Básico dos Produtos'!$B$7:$B$457,A242,'Custo Básico dos Produtos'!$A$7:$A$457),0),0)","v":0},{"$f":"IF('Aferi (Variáveis)'!$C$12=\"Venda para Exportar\",0,IF('Aferi (Variáveis)'!$C$12=\"ALC\",0,IF('Aferi (Variáveis)'!$C$12=\"ZFM\",0,IF('Aferi (Variáveis)'!$C$12=\"Exportação\",0,IF('Aferi (Variáveis)'!$C$12=\"AO\",0,E242/(100+(0*'Aferi (Variáveis)'!$K$12/100))*100*K242%/100*'Aferi (Variáveis)'!$K$12)))))","v":0},0,{"$f":"(E242*'Aferi (Variáveis)'!$K$12/100)","v":0},0,{"$f":"IF('Aferi (Variáveis)'!$F$20=\"Venda para Exportar\",0,IF('Aferi (Variáveis)'!$F$20=\"ALC\",0,IF('Aferi (Variáveis)'!$F$20=\"ZFM\",0,IF('Aferi (Variáveis)'!$F$20=\"Exportação\",0,IF('Aferi (Variáveis)'!$F$20=\"AO\",7*T242/100,T242*'Aferi (Variáveis)'!$F$20/100)))))","v":0},0,{"$f":"IF('Aferi (Variáveis)'!$C$12=\"ZFM\",0,IF('Aferi (Variáveis)'!$C$12=\"Exportação\",0,3*T242/100))","v":0},{"$f":"IF('Aferi (Variáveis)'!$C$12=\"ZFM\",0,IF('Aferi (Variáveis)'!$C$12=\"Exportação\",0,0.65*T242/100))","v":0},0,0,0,0,0,0,0,0,0,{"$f":"SUMIF('Custo Básico dos Produtos'!$B$7:$B$480,A242,'Custo Básico dos Produtos'!$K$7:$K$480)","v":0},null,null,0,0,0,0,0,0]
[null,{"$f":"IF(Q243<>0,VLOOKUP(Q243,'Custo Básico dos Produtos'!$A$7:$J$480,3),\"\")","v":""},null,{"$f":"SUMIF('Custo Básico dos Produtos'!$A$7:$A$480,Q243,'Custo Básico dos Produtos'!$J$7:$J$480)","v":0},0,0,{"$f":"IF(B243=\"\",0,SUMIF('Cadastro de Produtos em Linha'!$B$7:$B$457,A243,'Cadastro de Produtos em Linha'!$D$7:$D$457))","v":0},null,0,0,{"$f":"IF('Aferi (Variáveis)'!$C$12=\"ALC\",0,IF('Aferi (Variáveis)'!$C$12=\"ZFM\",0,IF('Aferi (Variáveis)'!$C$12=\"Exportação\",0,IF('Aferi (Variáveis)'!$C$12=\"Venda para Exportar\",0,IF('Aferi (Variáveis)'!$C$12=\"AO\",0,SUMIF('Custo Básico dos Produtos'!$A$7:$A$480,Q243,'Custo Básico dos Produtos'!$L$7:$L$480))))))","v":0},0,0,0,0,{"$f":"SUMIF('Cadastro de Produtos em Linha'!$A$6:$A$457,Q243,'Cadastro de Produtos em Linha'!$E$6:$E$457)*H243","v":0},{"$f":"IF(TODAY()<$AK$26,IF(A243<>\"\",SUMIF('Custo Básico dos Produtos'!$B$7:$B$457,A243,'Custo Básico dos Produtos'!$A$7:$A$457),0),0)","v":0},{"$f":"IF('Aferi (Variáveis)'!$C$12=\"Venda para Exportar\",0,IF('Aferi (Variáveis)'!$C$12=\"ALC\",0,IF('Aferi (Variáveis)'!$C$12=\"ZFM\",0,IF('Aferi (Variáveis)'!$C$12=\"Exportação\",0,IF('Aferi (Variáveis)'!$C$12=\"AO\",0,E243/(100+(0*'Aferi (Variáveis)'!$K$12/100))*100*K243%/100*'Aferi (Variáveis)'!$K$12)))))","v":0},0,{"$f":"(E243*'Aferi (Variáveis)'!$K$12/100)","v":0},0,{"$f":"IF('Aferi (Variáveis)'!$F$20=\"Venda para Exportar\",0,IF('Aferi (Variáveis)'!$F$20=\"ALC\",0,IF('Aferi (Variáveis)'!$F$20=\"ZFM\",0,IF('Aferi (Variáveis)'!$F$20=\"Exportação\",0,IF('Aferi (Variáveis)'!$F$20=\"AO\",7*T243/100,T243*'Aferi (Variáveis)'!$F$20/100)))))","v":0},0,{"$f":"IF('Aferi (Variáveis)'!$C$12=\"ZFM\",0,IF('Aferi (Variáveis)'!$C$12=\"Exportação\",0,3*T243/100))","v":0},{"$f":"IF('Aferi (Variáveis)'!$C$12=\"ZFM\",0,IF('Aferi (Variáveis)'!$C$12=\"Exportação\",0,0.65*T243/100))","v":0},0,0,0,0,0,0,0,0,0,{"$f":"SUMIF('Custo Básico dos Produtos'!$B$7:$B$480,A243,'Custo Básico dos Produtos'!$K$7:$K$480)","v":0},null,null,0,0,0,0,0,0]
[null,{"$f":"IF(Q244<>0,VLOOKUP(Q244,'Custo Básico dos Produtos'!$A$7:$J$480,3),\"\")","v":""},null,{"$f":"SUMIF('Custo Básico dos Produtos'!$A$7:$A$480,Q244,'Custo Básico dos Produtos'!$J$7:$J$480)","v":0},0,0,{"$f":"IF(B244=\"\",0,SUMIF('Cadastro de Produtos em Linha'!$B$7:$B$457,A244,'Cadastro de Produtos em Linha'!$D$7:$D$457))","v":0},null,0,0,{"$f":"IF('Aferi (Variáveis)'!$C$12=\"ALC\",0,IF('Aferi (Variáveis)'!$C$12=\"ZFM\",0,IF('Aferi (Variáveis)'!$C$12=\"Exportação\",0,IF('Aferi (Variáveis)'!$C$12=\"Venda para Exportar\",0,IF('Aferi (Variáveis)'!$C$12=\"AO\",0,SUMIF('Custo Básico dos Produtos'!$A$7:$A$480,Q244,'Custo Básico dos Produtos'!$L$7:$L$480))))))","v":0},0,0,0,0,{"$f":"SUMIF('Cadastro de Produtos em Linha'!$A$6:$A$457,Q244,'Cadastro de Produtos em Linha'!$E$6:$E$457)*H244","v":0},{"$f":"IF(TODAY()<$AK$26,IF(A244<>\"\",SUMIF('Custo Básico dos Produtos'!$B$7:$B$457,A244,'Custo Básico dos Produtos'!$A$7:$A$457),0),0)","v":0},{"$f":"IF('Aferi (Variáveis)'!$C$12=\"Venda para Exportar\",0,IF('Aferi (Variáveis)'!$C$12=\"ALC\",0,IF('Aferi (Variáveis)'!$C$12=\"ZFM\",0,IF('Aferi (Variáveis)'!$C$12=\"Exportação\",0,IF('Aferi (Variáveis)'!$C$12=\"AO\",0,E244/(100+(0*'Aferi (Variáveis)'!$K$12/100))*100*K244%/100*'Aferi (Variáveis)'!$K$12)))))","v":0},0,{"$f":"(E244*'Aferi (Variáveis)'!$K$12/100)","v":0},0,{"$f":"IF('Aferi (Variáveis)'!$F$20=\"Venda para Exportar\",0,IF('Aferi (Variáveis)'!$F$20=\"ALC\",0,IF('Aferi (Variáveis)'!$F$20=\"ZFM\",0,IF('Aferi (Variáveis)'!$F$20=\"Exportação\",0,IF('Aferi (Variáveis)'!$F$20=\"AO\",7*T244/100,T244*'Aferi (Variáveis)'!$F$20/100)))))","v":0},0,{"$f":"IF('Aferi (Variáveis)'!$C$12=\"ZFM\",0,IF('Aferi (Variáveis)'!$C$12=\"Exportação\",0,3*T244/100))","v":0},{"$f":"IF('Aferi (Variáveis)'!$C$12=\"ZFM\",0,IF('Aferi (Variáveis)'!$C$12=\"Exportação\",0,0.65*T244/100))","v":0},0,0,0,0,0,0,0,0,0,{"$f":"SUMIF('Custo Básico dos Produtos'!$B$7:$B$480,A244,'Custo Básico dos Produtos'!$K$7:$K$480)","v":0},null,null,0,0,0,0,0,0]
[null,{"$f":"IF(Q245<>0,VLOOKUP(Q245,'Custo Básico dos Produtos'!$A$7:$J$480,3),\"\")","v":""},null,{"$f":"SUMIF('Custo Básico dos Produtos'!$A$7:$A$480,Q245,'Custo Básico dos Produtos'!$J$7:$J$480)","v":0},0,0,{"$f":"IF(B245=\"\",0,SUMIF('Cadastro de Produtos em Linha'!$B$7:$B$457,A245,'Cadastro de Produtos em Linha'!$D$7:$D$457))","v":0},null,0,0,{"$f":"IF('Aferi (Variáveis)'!$C$12=\"ALC\",0,IF('Aferi (Variáveis)'!$C$12=\"ZFM\",0,IF('Aferi (Variáveis)'!$C$12=\"Exportação\",0,IF('Aferi (Variáveis)'!$C$12=\"Venda para Exportar\",0,IF('Aferi (Variáveis)'!$C$12=\"AO\",0,SUMIF('Custo Básico dos Produtos'!$A$7:$A$480,Q245,'Custo Básico dos Produtos'!$L$7:$L$480))))))","v":0},0,0,0,0,{"$f":"SUMIF('Cadastro de Produtos em Linha'!$A$6:$A$457,Q245,'Cadastro de Produtos em Linha'!$E$6:$E$457)*H245","v":0},{"$f":"IF(TODAY()<$AK$26,IF(A245<>\"\",SUMIF('Custo Básico dos Produtos'!$B$7:$B$457,A245,'Custo Básico dos Produtos'!$A$7:$A$457),0),0)","v":0},{"$f":"IF('Aferi (Variáveis)'!$C$12=\"Venda para Exportar\",0,IF('Aferi (Variáveis)'!$C$12=\"ALC\",0,IF('Aferi (Variáveis)'!$C$12=\"ZFM\",0,IF('Aferi (Variáveis)'!$C$12=\"Exportação\",0,IF('Aferi (Variáveis)'!$C$12=\"AO\",0,E245/(100+(0*'Aferi (Variáveis)'!$K$12/100))*100*K245%/100*'Aferi (Variáveis)'!$K$12)))))","v":0},0,{"$f":"(E245*'Aferi (Variáveis)'!$K$12/100)","v":0},0,{"$f":"IF('Aferi (Variáveis)'!$F$20=\"Venda para Exportar\",0,IF('Aferi (Variáveis)'!$F$20=\"ALC\",0,IF('Aferi (Variáveis)'!$F$20=\"ZFM\",0,IF('Aferi (Variáveis)'!$F$20=\"Exportação\",0,IF('Aferi (Variáveis)'!$F$20=\"AO\",7*T245/100,T245*'Aferi (Variáveis)'!$F$20/100)))))","v":0},0,{"$f":"IF('Aferi (Variáveis)'!$C$12=\"ZFM\",0,IF('Aferi (Variáveis)'!$C$12=\"Exportação\",0,3*T245/100))","v":0},{"$f":"IF('Aferi (Variáveis)'!$C$12=\"ZFM\",0,IF('Aferi (Variáveis)'!$C$12=\"Exportação\",0,0.65*T245/100))","v":0},0,0,0,0,0,0,0,0,0,{"$f":"SUMIF('Custo Básico dos Produtos'!$B$7:$B$480,A245,'Custo Básico dos Produtos'!$K$7:$K$480)","v":0},null,null,0,0,0,0,0,0]
[null,{"$f":"IF(Q246<>0,VLOOKUP(Q246,'Custo Básico dos Produtos'!$A$7:$J$480,3),\"\")","v":""},null,{"$f":"SUMIF('Custo Básico dos Produtos'!$A$7:$A$480,Q246,'Custo Básico dos Produtos'!$J$7:$J$480)","v":0},0,0,{"$f":"IF(B246=\"\",0,SUMIF('Cadastro de Produtos em Linha'!$B$7:$B$457,A246,'Cadastro de Produtos em Linha'!$D$7:$D$457))","v":0},null,0,0,{"$f":"IF('Aferi (Variáveis)'!$C$12=\"ALC\",0,IF('Aferi (Variáveis)'!$C$12=\"ZFM\",0,IF('Aferi (Variáveis)'!$C$12=\"Exportação\",0,IF('Aferi (Variáveis)'!$C$12=\"Venda para Exportar\",0,IF('Aferi (Variáveis)'!$C$12=\"AO\",0,SUMIF('Custo Básico dos Produtos'!$A$7:$A$480,Q246,'Custo Básico dos Produtos'!$L$7:$L$480))))))","v":0},0,0,0,0,{"$f":"SUMIF('Cadastro de Produtos em Linha'!$A$6:$A$457,Q246,'Cadastro de Produtos em Linha'!$E$6:$E$457)*H246","v":0},{"$f":"IF(TODAY()<$AK$26,IF(A246<>\"\",SUMIF('Custo Básico dos Produtos'!$B$7:$B$457,A246,'Custo Básico dos Produtos'!$A$7:$A$457),0),0)","v":0},{"$f":"IF('Aferi (Variáveis)'!$C$12=\"Venda para Exportar\",0,IF('Aferi (Variáveis)'!$C$12=\"ALC\",0,IF('Aferi (Variáveis)'!$C$12=\"ZFM\",0,IF('Aferi (Variáveis)'!$C$12=\"Exportação\",0,IF('Aferi (Variáveis)'!$C$12=\"AO\",0,E246/(100+(0*'Aferi (Variáveis)'!$K$12/100))*100*K246%/100*'Aferi (Variáveis)'!$K$12)))))","v":0},0,{"$f":"(E246*'Aferi (Variáveis)'!$K$12/100)","v":0},0,{"$f":"IF('Aferi (Variáveis)'!$F$20=\"Venda para Exportar\",0,IF('Aferi (Variáveis)'!$F$20=\"ALC\",0,IF('Aferi (Variáveis)'!$F$20=\"ZFM\",0,IF('Aferi (Variáveis)'!$F$20=\"Exportação\",0,IF('Aferi (Variáveis)'!$F$20=\"AO\",7*T246/100,T246*'Aferi (Variáveis)'!$F$20/100)))))","v":0},0,{"$f":"IF('Aferi (Variáveis)'!$C$12=\"ZFM\",0,IF('Aferi (Variáveis)'!$C$12=\"Exportação\",0,3*T246/100))","v":0},{"$f":"IF('Aferi (Variáveis)'!$C$12=\"ZFM\",0,IF('Aferi (Variáveis)'!$C$12=\"Exportação\",0,0.65*T246/100))","v":0},0,0,0,0,0,0,0,0,0,{"$f":"SUMIF('Custo Básico dos Produtos'!$B$7:$B$480,A246,'Custo Básico dos Produtos'!$K$7:$K$480)","v":0},null,null,0,0,0,0,0,0]
[null,{"$f":"IF(Q247<>0,VLOOKUP(Q247,'Custo Básico dos Produtos'!$A$7:$J$480,3),\"\")","v":""},null,{"$f":"SUMIF('Custo Básico dos Produtos'!$A$7:$A$480,Q247,'Custo Básico dos Produtos'!$J$7:$J$480)","v":0},0,0,{"$f":"IF(B247=\"\",0,SUMIF('Cadastro de Produtos em Linha'!$B$7:$B$457,A247,'Cadastro de Produtos em Linha'!$D$7:$D$457))","v":0},null,0,0,{"$f":"IF('Aferi (Variáveis)'!$C$12=\"ALC\",0,IF('Aferi (Variáveis)'!$C$12=\"ZFM\",0,IF('Aferi (Variáveis)'!$C$12=\"Exportação\",0,IF('Aferi (Variáveis)'!$C$12=\"Venda para Exportar\",0,IF('Aferi (Variáveis)'!$C$12=\"AO\",0,SUMIF('Custo Básico dos Produtos'!$A$7:$A$480,Q247,'Custo Básico dos Produtos'!$L$7:$L$480))))))","v":0},0,0,0,0,{"$f":"SUMIF('Cadastro de Produtos em Linha'!$A$6:$A$457,Q247,'Cadastro de Produtos em Linha'!$E$6:$E$457)*H247","v":0},{"$f":"IF(TODAY()<$AK$26,IF(A247<>\"\",SUMIF('Custo Básico dos Produtos'!$B$7:$B$457,A247,'Custo Básico dos Produtos'!$A$7:$A$457),0),0)","v":0},{"$f":"IF('Aferi (Variáveis)'!$C$12=\"Venda para Exportar\",0,IF('Aferi (Variáveis)'!$C$12=\"ALC\",0,IF('Aferi (Variáveis)'!$C$12=\"ZFM\",0,IF('Aferi (Variáveis)'!$C$12=\"Exportação\",0,IF('Aferi (Variáveis)'!$C$12=\"AO\",0,E247/(100+(0*'Aferi (Variáveis)'!$K$12/100))*100*K247%/100*'Aferi (Variáveis)'!$K$12)))))","v":0},0,{"$f":"(E247*'Aferi (Variáveis)'!$K$12/100)","v":0},0,{"$f":"IF('Aferi (Variáveis)'!$F$20=\"Venda para Exportar\",0,IF('Aferi (Variáveis)'!$F$20=\"ALC\",0,IF('Aferi (Variáveis)'!$F$20=\"ZFM\",0,IF('Aferi (Variáveis)'!$F$20=\"Exportação\",0,IF('Aferi (Variáveis)'!$F$20=\"AO\",7*T247/100,T247*'Aferi (Variáveis)'!$F$20/100)))))","v":0},0,{"$f":"IF('Aferi (Variáveis)'!$C$12=\"ZFM\",0,IF('Aferi (Variáveis)'!$C$12=\"Exportação\",0,3*T247/100))","v":0},{"$f":"IF('Aferi (Variáveis)'!$C$12=\"ZFM\",0,IF('Aferi (Variáveis)'!$C$12=\"Exportação\",0,0.65*T247/100))","v":0},0,0,0,0,0,0,0,0,0,{"$f":"SUMIF('Custo Básico dos Produtos'!$B$7:$B$480,A247,'Custo Básico dos Produtos'!$K$7:$K$480)","v":0},null,null,0,0,0,0,0,0]
[null,{"$f":"IF(Q248<>0,VLOOKUP(Q248,'Custo Básico dos Produtos'!$A$7:$J$480,3),\"\")","v":""},null,{"$f":"SUMIF('Custo Básico dos Produtos'!$A$7:$A$480,Q248,'Custo Básico dos Produtos'!$J$7:$J$480)","v":0},0,0,{"$f":"IF(B248=\"\",0,SUMIF('Cadastro de Produtos em Linha'!$B$7:$B$457,A248,'Cadastro de Produtos em Linha'!$D$7:$D$457))","v":0},null,0,0,{"$f":"IF('Aferi (Variáveis)'!$C$12=\"ALC\",0,IF('Aferi (Variáveis)'!$C$12=\"ZFM\",0,IF('Aferi (Variáveis)'!$C$12=\"Exportação\",0,IF('Aferi (Variáveis)'!$C$12=\"Venda para Exportar\",0,IF('Aferi (Variáveis)'!$C$12=\"AO\",0,SUMIF('Custo Básico dos Produtos'!$A$7:$A$480,Q248,'Custo Básico dos Produtos'!$L$7:$L$480))))))","v":0},0,0,0,0,{"$f":"SUMIF('Cadastro de Produtos em Linha'!$A$6:$A$457,Q248,'Cadastro de Produtos em Linha'!$E$6:$E$457)*H248","v":0},{"$f":"IF(TODAY()<$AK$26,IF(A248<>\"\",SUMIF('Custo Básico dos Produtos'!$B$7:$B$457,A248,'Custo Básico dos Produtos'!$A$7:$A$457),0),0)","v":0},{"$f":"IF('Aferi (Variáveis)'!$C$12=\"Venda para Exportar\",0,IF('Aferi (Variáveis)'!$C$12=\"ALC\",0,IF('Aferi (Variáveis)'!$C$12=\"ZFM\",0,IF('Aferi (Variáveis)'!$C$12=\"Exportação\",0,IF('Aferi (Variáveis)'!$C$12=\"AO\",0,E248/(100+(0*'Aferi (Variáveis)'!$K$12/100))*100*K248%/100*'Aferi (Variáveis)'!$K$12)))))","v":0},0,{"$f":"(E248*'Aferi (Variáveis)'!$K$12/100)","v":0},0,{"$f":"IF('Aferi (Variáveis)'!$F$20=\"Venda para Exportar\",0,IF('Aferi (Variáveis)'!$F$20=\"ALC\",0,IF('Aferi (Variáveis)'!$F$20=\"ZFM\",0,IF('Aferi (Variáveis)'!$F$20=\"Exportação\",0,IF('Aferi (Variáveis)'!$F$20=\"AO\",7*T248/100,T248*'Aferi (Variáveis)'!$F$20/100)))))","v":0},0,{"$f":"IF('Aferi (Variáveis)'!$C$12=\"ZFM\",0,IF('Aferi (Variáveis)'!$C$12=\"Exportação\",0,3*T248/100))","v":0},{"$f":"IF('Aferi (Variáveis)'!$C$12=\"ZFM\",0,IF('Aferi (Variáveis)'!$C$12=\"Exportação\",0,0.65*T248/100))","v":0},0,0,0,0,0,0,0,0,0,{"$f":"SUMIF('Custo Básico dos Produtos'!$B$7:$B$480,A248,'Custo Básico dos Produtos'!$K$7:$K$480)","v":0},null,null,0,0,0,0,0,0]
[null,{"$f":"IF(Q249<>0,VLOOKUP(Q249,'Custo Básico dos Produtos'!$A$7:$J$480,3),\"\")","v":""},null,{"$f":"SUMIF('Custo Básico dos Produtos'!$A$7:$A$480,Q249,'Custo Básico dos Produtos'!$J$7:$J$480)","v":0},0,0,{"$f":"IF(B249=\"\",0,SUMIF('Cadastro de Produtos em Linha'!$B$7:$B$457,A249,'Cadastro de Produtos em Linha'!$D$7:$D$457))","v":0},null,0,0,{"$f":"IF('Aferi (Variáveis)'!$C$12=\"ALC\",0,IF('Aferi (Variáveis)'!$C$12=\"ZFM\",0,IF('Aferi (Variáveis)'!$C$12=\"Exportação\",0,IF('Aferi (Variáveis)'!$C$12=\"Venda para Exportar\",0,IF('Aferi (Variáveis)'!$C$12=\"AO\",0,SUMIF('Custo Básico dos Produtos'!$A$7:$A$480,Q249,'Custo Básico dos Produtos'!$L$7:$L$480))))))","v":0},0,0,0,0,{"$f":"SUMIF('Cadastro de Produtos em Linha'!$A$6:$A$457,Q249,'Cadastro de Produtos em Linha'!$E$6:$E$457)*H249","v":0},{"$f":"IF(TODAY()<$AK$26,IF(A249<>\"\",SUMIF('Custo Básico dos Produtos'!$B$7:$B$457,A249,'Custo Básico dos Produtos'!$A$7:$A$457),0),0)","v":0},{"$f":"IF('Aferi (Variáveis)'!$C$12=\"Venda para Exportar\",0,IF('Aferi (Variáveis)'!$C$12=\"ALC\",0,IF('Aferi (Variáveis)'!$C$12=\"ZFM\",0,IF('Aferi (Variáveis)'!$C$12=\"Exportação\",0,IF('Aferi (Variáveis)'!$C$12=\"AO\",0,E249/(100+(0*'Aferi (Variáveis)'!$K$12/100))*100*K249%/100*'Aferi (Variáveis)'!$K$12)))))","v":0},0,{"$f":"(E249*'Aferi (Variáveis)'!$K$12/100)","v":0},0,{"$f":"IF('Aferi (Variáveis)'!$F$20=\"Venda para Exportar\",0,IF('Aferi (Variáveis)'!$F$20=\"ALC\",0,IF('Aferi (Variáveis)'!$F$20=\"ZFM\",0,IF('Aferi (Variáveis)'!$F$20=\"Exportação\",0,IF('Aferi (Variáveis)'!$F$20=\"AO\",7*T249/100,T249*'Aferi (Variáveis)'!$F$20/100)))))","v":0},0,{"$f":"IF('Aferi (Variáveis)'!$C$12=\"ZFM\",0,IF('Aferi (Variáveis)'!$C$12=\"Exportação\",0,3*T249/100))","v":0},{"$f":"IF('Aferi (Variáveis)'!$C$12=\"ZFM\",0,IF('Aferi (Variáveis)'!$C$12=\"Exportação\",0,0.65*T249/100))","v":0},0,0,0,0,0,0,0,0,0,{"$f":"SUMIF('Custo Básico dos Produtos'!$B$7:$B$480,A249,'Custo Básico dos Produtos'!$K$7:$K$480)","v":0},null,null,0,0,0,0,0,0]
[null,{"$f":"IF(Q250<>0,VLOOKUP(Q250,'Custo Básico dos Produtos'!$A$7:$J$480,3),\"\")","v":""},null,{"$f":"SUMIF('Custo Básico dos Produtos'!$A$7:$A$480,Q250,'Custo Básico dos Produtos'!$J$7:$J$480)","v":0},0,0,{"$f":"IF(B250=\"\",0,SUMIF('Cadastro de Produtos em Linha'!$B$7:$B$457,A250,'Cadastro de Produtos em Linha'!$D$7:$D$457))","v":0},null,0,0,{"$f":"IF('Aferi (Variáveis)'!$C$12=\"ALC\",0,IF('Aferi (Variáveis)'!$C$12=\"ZFM\",0,IF('Aferi (Variáveis)'!$C$12=\"Exportação\",0,IF('Aferi (Variáveis)'!$C$12=\"Venda para Exportar\",0,IF('Aferi (Variáveis)'!$C$12=\"AO\",0,SUMIF('Custo Básico dos Produtos'!$A$7:$A$480,Q250,'Custo Básico dos Produtos'!$L$7:$L$480))))))","v":0},0,0,0,0,{"$f":"SUMIF('Cadastro de Produtos em Linha'!$A$6:$A$457,Q250,'Cadastro de Produtos em Linha'!$E$6:$E$457)*H250","v":0},{"$f":"IF(TODAY()<$AK$26,IF(A250<>\"\",SUMIF('Custo Básico dos Produtos'!$B$7:$B$457,A250,'Custo Básico dos Produtos'!$A$7:$A$457),0),0)","v":0},{"$f":"IF('Aferi (Variáveis)'!$C$12=\"Venda para Exportar\",0,IF('Aferi (Variáveis)'!$C$12=\"ALC\",0,IF('Aferi (Variáveis)'!$C$12=\"ZFM\",0,IF('Aferi (Variáveis)'!$C$12=\"Exportação\",0,IF('Aferi (Variáveis)'!$C$12=\"AO\",0,E250/(100+(0*'Aferi (Variáveis)'!$K$12/100))*100*K250%/100*'Aferi (Variáveis)'!$K$12)))))","v":0},0,{"$f":"(E250*'Aferi (Variáveis)'!$K$12/100)","v":0},0,{"$f":"IF('Aferi (Variáveis)'!$F$20=\"Venda para Exportar\",0,IF('Aferi (Variáveis)'!$F$20=\"ALC\",0,IF('Aferi (Variáveis)'!$F$20=\"ZFM\",0,IF('Aferi (Variáveis)'!$F$20=\"Exportação\",0,IF('Aferi (Variáveis)'!$F$20=\"AO\",7*T250/100,T250*'Aferi (Variáveis)'!$F$20/100)))))","v":0},0,{"$f":"IF('Aferi (Variáveis)'!$C$12=\"ZFM\",0,IF('Aferi (Variáveis)'!$C$12=\"Exportação\",0,3*T250/100))","v":0},{"$f":"IF('Aferi (Variáveis)'!$C$12=\"ZFM\",0,IF('Aferi (Variáveis)'!$C$12=\"Exportação\",0,0.65*T250/100))","v":0},0,0,0,0,0,0,0,0,0,{"$f":"SUMIF('Custo Básico dos Produtos'!$B$7:$B$480,A250,'Custo Básico dos Produtos'!$K$7:$K$480)","v":0},null,null,0,0,0,0,0,0]
[null,{"$f":"IF(Q251<>0,VLOOKUP(Q251,'Custo Básico dos Produtos'!$A$7:$J$480,3),\"\")","v":""},null,{"$f":"SUMIF('Custo Básico dos Produtos'!$A$7:$A$480,Q251,'Custo Básico dos Produtos'!$J$7:$J$480)","v":0},0,0,{"$f":"IF(B251=\"\",0,SUMIF('Cadastro de Produtos em Linha'!$B$7:$B$457,A251,'Cadastro de Produtos em Linha'!$D$7:$D$457))","v":0},null,0,0,{"$f":"IF('Aferi (Variáveis)'!$C$12=\"ALC\",0,IF('Aferi (Variáveis)'!$C$12=\"ZFM\",0,IF('Aferi (Variáveis)'!$C$12=\"Exportação\",0,IF('Aferi (Variáveis)'!$C$12=\"Venda para Exportar\",0,IF('Aferi (Variáveis)'!$C$12=\"AO\",0,SUMIF('Custo Básico dos Produtos'!$A$7:$A$480,Q251,'Custo Básico dos Produtos'!$L$7:$L$480))))))","v":0},0,0,0,0,{"$f":"SUMIF('Cadastro de Produtos em Linha'!$A$6:$A$457,Q251,'Cadastro de Produtos em Linha'!$E$6:$E$457)*H251","v":0},{"$f":"IF(TODAY()<$AK$26,IF(A251<>\"\",SUMIF('Custo Básico dos Produtos'!$B$7:$B$457,A251,'Custo Básico dos Produtos'!$A$7:$A$457),0),0)","v":0},{"$f":"IF('Aferi (Variáveis)'!$C$12=\"Venda para Exportar\",0,IF('Aferi (Variáveis)'!$C$12=\"ALC\",0,IF('Aferi (Variáveis)'!$C$12=\"ZFM\",0,IF('Aferi (Variáveis)'!$C$12=\"Exportação\",0,IF('Aferi (Variáveis)'!$C$12=\"AO\",0,E251/(100+(0*'Aferi (Variáveis)'!$K$12/100))*100*K251%/100*'Aferi (Variáveis)'!$K$12)))))","v":0},0,{"$f":"(E251*'Aferi (Variáveis)'!$K$12/100)","v":0},0,{"$f":"IF('Aferi (Variáveis)'!$F$20=\"Venda para Exportar\",0,IF('Aferi (Variáveis)'!$F$20=\"ALC\",0,IF('Aferi (Variáveis)'!$F$20=\"ZFM\",0,IF('Aferi (Variáveis)'!$F$20=\"Exportação\",0,IF('Aferi (Variáveis)'!$F$20=\"AO\",7*T251/100,T251*'Aferi (Variáveis)'!$F$20/100)))))","v":0},0,{"$f":"IF('Aferi (Variáveis)'!$C$12=\"ZFM\",0,IF('Aferi (Variáveis)'!$C$12=\"Exportação\",0,3*T251/100))","v":0},{"$f":"IF('Aferi (Variáveis)'!$C$12=\"ZFM\",0,IF('Aferi (Variáveis)'!$C$12=\"Exportação\",0,0.65*T251/100))","v":0},0,0,0,0,0,0,0,0,0,{"$f":"SUMIF('Custo Básico dos Produtos'!$B$7:$B$480,A251,'Custo Básico dos Produtos'!$K$7:$K$480)","v":0},null,null,0,0,0,0,0,0]
[null,{"$f":"IF(Q252<>0,VLOOKUP(Q252,'Custo Básico dos Produtos'!$A$7:$J$480,3),\"\")","v":""},null,{"$f":"SUMIF('Custo Básico dos Produtos'!$A$7:$A$480,Q252,'Custo Básico dos Produtos'!$J$7:$J$480)","v":0},0,0,{"$f":"IF(B252=\"\",0,SUMIF('Cadastro de Produtos em Linha'!$B$7:$B$457,A252,'Cadastro de Produtos em Linha'!$D$7:$D$457))","v":0},null,0,0,{"$f":"IF('Aferi (Variáveis)'!$C$12=\"ALC\",0,IF('Aferi (Variáveis)'!$C$12=\"ZFM\",0,IF('Aferi (Variáveis)'!$C$12=\"Exportação\",0,IF('Aferi (Variáveis)'!$C$12=\"Venda para Exportar\",0,IF('Aferi (Variáveis)'!$C$12=\"AO\",0,SUMIF('Custo Básico dos Produtos'!$A$7:$A$480,Q252,'Custo Básico dos Produtos'!$L$7:$L$480))))))","v":0},0,0,0,0,{"$f":"SUMIF('Cadastro de Produtos em Linha'!$A$6:$A$457,Q252,'Cadastro de Produtos em Linha'!$E$6:$E$457)*H252","v":0},{"$f":"IF(TODAY()<$AK$26,IF(A252<>\"\",SUMIF('Custo Básico dos Produtos'!$B$7:$B$457,A252,'Custo Básico dos Produtos'!$A$7:$A$457),0),0)","v":0},{"$f":"IF('Aferi (Variáveis)'!$C$12=\"Venda para Exportar\",0,IF('Aferi (Variáveis)'!$C$12=\"ALC\",0,IF('Aferi (Variáveis)'!$C$12=\"ZFM\",0,IF('Aferi (Variáveis)'!$C$12=\"Exportação\",0,IF('Aferi (Variáveis)'!$C$12=\"AO\",0,E252/(100+(0*'Aferi (Variáveis)'!$K$12/100))*100*K252%/100*'Aferi (Variáveis)'!$K$12)))))","v":0},0,{"$f":"(E252*'Aferi (Variáveis)'!$K$12/100)","v":0},0,{"$f":"IF('Aferi (Variáveis)'!$F$20=\"Venda para Exportar\",0,IF('Aferi (Variáveis)'!$F$20=\"ALC\",0,IF('Aferi (Variáveis)'!$F$20=\"ZFM\",0,IF('Aferi (Variáveis)'!$F$20=\"Exportação\",0,IF('Aferi (Variáveis)'!$F$20=\"AO\",7*T252/100,T252*'Aferi (Variáveis)'!$F$20/100)))))","v":0},0,{"$f":"IF('Aferi (Variáveis)'!$C$12=\"ZFM\",0,IF('Aferi (Variáveis)'!$C$12=\"Exportação\",0,3*T252/100))","v":0},{"$f":"IF('Aferi (Variáveis)'!$C$12=\"ZFM\",0,IF('Aferi (Variáveis)'!$C$12=\"Exportação\",0,0.65*T252/100))","v":0},0,0,0,0,0,0,0,0,0,{"$f":"SUMIF('Custo Básico dos Produtos'!$B$7:$B$480,A252,'Custo Básico dos Produtos'!$K$7:$K$480)","v":0},null,null,0,0,0,0,0,0]
[null,{"$f":"IF(Q253<>0,VLOOKUP(Q253,'Custo Básico dos Produtos'!$A$7:$J$480,3),\"\")","v":""},null,{"$f":"SUMIF('Custo Básico dos Produtos'!$A$7:$A$480,Q253,'Custo Básico dos Produtos'!$J$7:$J$480)","v":0},0,0,{"$f":"IF(B253=\"\",0,SUMIF('Cadastro de Produtos em Linha'!$B$7:$B$457,A253,'Cadastro de Produtos em Linha'!$D$7:$D$457))","v":0},null,0,0,{"$f":"IF('Aferi (Variáveis)'!$C$12=\"ALC\",0,IF('Aferi (Variáveis)'!$C$12=\"ZFM\",0,IF('Aferi (Variáveis)'!$C$12=\"Exportação\",0,IF('Aferi (Variáveis)'!$C$12=\"Venda para Exportar\",0,IF('Aferi (Variáveis)'!$C$12=\"AO\",0,SUMIF('Custo Básico dos Produtos'!$A$7:$A$480,Q253,'Custo Básico dos Produtos'!$L$7:$L$480))))))","v":0},0,0,0,0,{"$f":"SUMIF('Cadastro de Produtos em Linha'!$A$6:$A$457,Q253,'Cadastro de Produtos em Linha'!$E$6:$E$457)*H253","v":0},{"$f":"IF(TODAY()<$AK$26,IF(A253<>\"\",SUMIF('Custo Básico dos Produtos'!$B$7:$B$457,A253,'Custo Básico dos Produtos'!$A$7:$A$457),0),0)","v":0},{"$f":"IF('Aferi (Variáveis)'!$C$12=\"Venda para Exportar\",0,IF('Aferi (Variáveis)'!$C$12=\"ALC\",0,IF('Aferi (Variáveis)'!$C$12=\"ZFM\",0,IF('Aferi (Variáveis)'!$C$12=\"Exportação\",0,IF('Aferi (Variáveis)'!$C$12=\"AO\",0,E253/(100+(0*'Aferi (Variáveis)'!$K$12/100))*100*K253%/100*'Aferi (Variáveis)'!$K$12)))))","v":0},0,{"$f":"(E253*'Aferi (Variáveis)'!$K$12/100)","v":0},0,{"$f":"IF('Aferi (Variáveis)'!$F$20=\"Venda para Exportar\",0,IF('Aferi (Variáveis)'!$F$20=\"ALC\",0,IF('Aferi (Variáveis)'!$F$20=\"ZFM\",0,IF('Aferi (Variáveis)'!$F$20=\"Exportação\",0,IF('Aferi (Variáveis)'!$F$20=\"AO\",7*T253/100,T253*'Aferi (Variáveis)'!$F$20/100)))))","v":0},0,{"$f":"IF('Aferi (Variáveis)'!$C$12=\"ZFM\",0,IF('Aferi (Variáveis)'!$C$12=\"Exportação\",0,3*T253/100))","v":0},{"$f":"IF('Aferi (Variáveis)'!$C$12=\"ZFM\",0,IF('Aferi (Variáveis)'!$C$12=\"Exportação\",0,0.65*T253/100))","v":0},0,0,0,0,0,0,0,0,0,{"$f":"SUMIF('Custo Básico dos Produtos'!$B$7:$B$480,A253,'Custo Básico dos Produtos'!$K$7:$K$480)","v":0},null,null,0,0,0,0,0,0]
[null,{"$f":"IF(Q254<>0,VLOOKUP(Q254,'Custo Básico dos Produtos'!$A$7:$J$480,3),\"\")","v":""},null,{"$f":"SUMIF('Custo Básico dos Produtos'!$A$7:$A$480,Q254,'Custo Básico dos Produtos'!$J$7:$J$480)","v":0},0,0,{"$f":"IF(B254=\"\",0,SUMIF('Cadastro de Produtos em Linha'!$B$7:$B$457,A254,'Cadastro de Produtos em Linha'!$D$7:$D$457))","v":0},null,0,0,{"$f":"IF('Aferi (Variáveis)'!$C$12=\"ALC\",0,IF('Aferi (Variáveis)'!$C$12=\"ZFM\",0,IF('Aferi (Variáveis)'!$C$12=\"Exportação\",0,IF('Aferi (Variáveis)'!$C$12=\"Venda para Exportar\",0,IF('Aferi (Variáveis)'!$C$12=\"AO\",0,SUMIF('Custo Básico dos Produtos'!$A$7:$A$480,Q254,'Custo Básico dos Produtos'!$L$7:$L$480))))))","v":0},0,0,0,0,{"$f":"SUMIF('Cadastro de Produtos em Linha'!$A$6:$A$457,Q254,'Cadastro de Produtos em Linha'!$E$6:$E$457)*H254","v":0},{"$f":"IF(TODAY()<$AK$26,IF(A254<>\"\",SUMIF('Custo Básico dos Produtos'!$B$7:$B$457,A254,'Custo Básico dos Produtos'!$A$7:$A$457),0),0)","v":0},{"$f":"IF('Aferi (Variáveis)'!$C$12=\"Venda para Exportar\",0,IF('Aferi (Variáveis)'!$C$12=\"ALC\",0,IF('Aferi (Variáveis)'!$C$12=\"ZFM\",0,IF('Aferi (Variáveis)'!$C$12=\"Exportação\",0,IF('Aferi (Variáveis)'!$C$12=\"AO\",0,E254/(100+(0*'Aferi (Variáveis)'!$K$12/100))*100*K254%/100*'Aferi (Variáveis)'!$K$12)))))","v":0},0,{"$f":"(E254*'Aferi (Variáveis)'!$K$12/100)","v":0},0,{"$f":"IF('Aferi (Variáveis)'!$F$20=\"Venda para Exportar\",0,IF('Aferi (Variáveis)'!$F$20=\"ALC\",0,IF('Aferi (Variáveis)'!$F$20=\"ZFM\",0,IF('Aferi (Variáveis)'!$F$20=\"Exportação\",0,IF('Aferi (Variáveis)'!$F$20=\"AO\",7*T254/100,T254*'Aferi (Variáveis)'!$F$20/100)))))","v":0},0,{"$f":"IF('Aferi (Variáveis)'!$C$12=\"ZFM\",0,IF('Aferi (Variáveis)'!$C$12=\"Exportação\",0,3*T254/100))","v":0},{"$f":"IF('Aferi (Variáveis)'!$C$12=\"ZFM\",0,IF('Aferi (Variáveis)'!$C$12=\"Exportação\",0,0.65*T254/100))","v":0},0,0,0,0,0,0,0,0,0,{"$f":"SUMIF('Custo Básico dos Produtos'!$B$7:$B$480,A254,'Custo Básico dos Produtos'!$K$7:$K$480)","v":0},null,null,0,0,0,0,0,0]
[null,{"$f":"IF(Q255<>0,VLOOKUP(Q255,'Custo Básico dos Produtos'!$A$7:$J$480,3),\"\")","v":""},null,{"$f":"SUMIF('Custo Básico dos Produtos'!$A$7:$A$480,Q255,'Custo Básico dos Produtos'!$J$7:$J$480)","v":0},0,0,{"$f":"IF(B255=\"\",0,SUMIF('Cadastro de Produtos em Linha'!$B$7:$B$457,A255,'Cadastro de Produtos em Linha'!$D$7:$D$457))","v":0},null,0,0,{"$f":"IF('Aferi (Variáveis)'!$C$12=\"ALC\",0,IF('Aferi (Variáveis)'!$C$12=\"ZFM\",0,IF('Aferi (Variáveis)'!$C$12=\"Exportação\",0,IF('Aferi (Variáveis)'!$C$12=\"Venda para Exportar\",0,IF('Aferi (Variáveis)'!$C$12=\"AO\",0,SUMIF('Custo Básico dos Produtos'!$A$7:$A$480,Q255,'Custo Básico dos Produtos'!$L$7:$L$480))))))","v":0},0,0,0,0,{"$f":"SUMIF('Cadastro de Produtos em Linha'!$A$6:$A$457,Q255,'Cadastro de Produtos em Linha'!$E$6:$E$457)*H255","v":0},{"$f":"IF(TODAY()<$AK$26,IF(A255<>\"\",SUMIF('Custo Básico dos Produtos'!$B$7:$B$457,A255,'Custo Básico dos Produtos'!$A$7:$A$457),0),0)","v":0},{"$f":"IF('Aferi (Variáveis)'!$C$12=\"Venda para Exportar\",0,IF('Aferi (Variáveis)'!$C$12=\"ALC\",0,IF('Aferi (Variáveis)'!$C$12=\"ZFM\",0,IF('Aferi (Variáveis)'!$C$12=\"Exportação\",0,IF('Aferi (Variáveis)'!$C$12=\"AO\",0,E255/(100+(0*'Aferi (Variáveis)'!$K$12/100))*100*K255%/100*'Aferi (Variáveis)'!$K$12)))))","v":0},0,{"$f":"(E255*'Aferi (Variáveis)'!$K$12/100)","v":0},0,{"$f":"IF('Aferi (Variáveis)'!$F$20=\"Venda para Exportar\",0,IF('Aferi (Variáveis)'!$F$20=\"ALC\",0,IF('Aferi (Variáveis)'!$F$20=\"ZFM\",0,IF('Aferi (Variáveis)'!$F$20=\"Exportação\",0,IF('Aferi (Variáveis)'!$F$20=\"AO\",7*T255/100,T255*'Aferi (Variáveis)'!$F$20/100)))))","v":0},0,{"$f":"IF('Aferi (Variáveis)'!$C$12=\"ZFM\",0,IF('Aferi (Variáveis)'!$C$12=\"Exportação\",0,3*T255/100))","v":0},{"$f":"IF('Aferi (Variáveis)'!$C$12=\"ZFM\",0,IF('Aferi (Variáveis)'!$C$12=\"Exportação\",0,0.65*T255/100))","v":0},0,0,0,0,0,0,0,0,0,{"$f":"SUMIF('Custo Básico dos Produtos'!$B$7:$B$480,A255,'Custo Básico dos Produtos'!$K$7:$K$480)","v":0},null,null,0,0,0,0,0,0]
[null,{"$f":"IF(Q256<>0,VLOOKUP(Q256,'Custo Básico dos Produtos'!$A$7:$J$480,3),\"\")","v":""},null,{"$f":"SUMIF('Custo Básico dos Produtos'!$A$7:$A$480,Q256,'Custo Básico dos Produtos'!$J$7:$J$480)","v":0},0,0,{"$f":"IF(B256=\"\",0,SUMIF('Cadastro de Produtos em Linha'!$B$7:$B$457,A256,'Cadastro de Produtos em Linha'!$D$7:$D$457))","v":0},null,0,0,{"$f":"IF('Aferi (Variáveis)'!$C$12=\"ALC\",0,IF('Aferi (Variáveis)'!$C$12=\"ZFM\",0,IF('Aferi (Variáveis)'!$C$12=\"Exportação\",0,IF('Aferi (Variáveis)'!$C$12=\"Venda para Exportar\",0,IF('Aferi (Variáveis)'!$C$12=\"AO\",0,SUMIF('Custo Básico dos Produtos'!$A$7:$A$480,Q256,'Custo Básico dos Produtos'!$L$7:$L$480))))))","v":0},0,0,0,0,{"$f":"SUMIF('Cadastro de Produtos em Linha'!$A$6:$A$457,Q256,'Cadastro de Produtos em Linha'!$E$6:$E$457)*H256","v":0},{"$f":"IF(TODAY()<$AK$26,IF(A256<>\"\",SUMIF('Custo Básico dos Produtos'!$B$7:$B$457,A256,'Custo Básico dos Produtos'!$A$7:$A$457),0),0)","v":0},{"$f":"IF('Aferi (Variáveis)'!$C$12=\"Venda para Exportar\",0,IF('Aferi (Variáveis)'!$C$12=\"ALC\",0,IF('Aferi (Variáveis)'!$C$12=\"ZFM\",0,IF('Aferi (Variáveis)'!$C$12=\"Exportação\",0,IF('Aferi (Variáveis)'!$C$12=\"AO\",0,E256/(100+(0*'Aferi (Variáveis)'!$K$12/100))*100*K256%/100*'Aferi (Variáveis)'!$K$12)))))","v":0},0,{"$f":"(E256*'Aferi (Variáveis)'!$K$12/100)","v":0},0,{"$f":"IF('Aferi (Variáveis)'!$F$20=\"Venda para Exportar\",0,IF('Aferi (Variáveis)'!$F$20=\"ALC\",0,IF('Aferi (Variáveis)'!$F$20=\"ZFM\",0,IF('Aferi (Variáveis)'!$F$20=\"Exportação\",0,IF('Aferi (Variáveis)'!$F$20=\"AO\",7*T256/100,T256*'Aferi (Variáveis)'!$F$20/100)))))","v":0},0,{"$f":"IF('Aferi (Variáveis)'!$C$12=\"ZFM\",0,IF('Aferi (Variáveis)'!$C$12=\"Exportação\",0,3*T256/100))","v":0},{"$f":"IF('Aferi (Variáveis)'!$C$12=\"ZFM\",0,IF('Aferi (Variáveis)'!$C$12=\"Exportação\",0,0.65*T256/100))","v":0},0,0,0,0,0,0,0,0,0,{"$f":"SUMIF('Custo Básico dos Produtos'!$B$7:$B$480,A256,'Custo Básico dos Produtos'!$K$7:$K$480)","v":0},null,null,0,0,0,0,0,0]
[null,{"$f":"IF(Q257<>0,VLOOKUP(Q257,'Custo Básico dos Produtos'!$A$7:$J$480,3),\"\")","v":""},null,{"$f":"SUMIF('Custo Básico dos Produtos'!$A$7:$A$480,Q257,'Custo Básico dos Produtos'!$J$7:$J$480)","v":0},0,0,{"$f":"IF(B257=\"\",0,SUMIF('Cadastro de Produtos em Linha'!$B$7:$B$457,A257,'Cadastro de Produtos em Linha'!$D$7:$D$457))","v":0},null,0,0,{"$f":"IF('Aferi (Variáveis)'!$C$12=\"ALC\",0,IF('Aferi (Variáveis)'!$C$12=\"ZFM\",0,IF('Aferi (Variáveis)'!$C$12=\"Exportação\",0,IF('Aferi (Variáveis)'!$C$12=\"Venda para Exportar\",0,IF('Aferi (Variáveis)'!$C$12=\"AO\",0,SUMIF('Custo Básico dos Produtos'!$A$7:$A$480,Q257,'Custo Básico dos Produtos'!$L$7:$L$480))))))","v":0},0,0,0,0,{"$f":"SUMIF('Cadastro de Produtos em Linha'!$A$6:$A$457,Q257,'Cadastro de Produtos em Linha'!$E$6:$E$457)*H257","v":0},{"$f":"IF(TODAY()<$AK$26,IF(A257<>\"\",SUMIF('Custo Básico dos Produtos'!$B$7:$B$457,A257,'Custo Básico dos Produtos'!$A$7:$A$457),0),0)","v":0},{"$f":"IF('Aferi (Variáveis)'!$C$12=\"Venda para Exportar\",0,IF('Aferi (Variáveis)'!$C$12=\"ALC\",0,IF('Aferi (Variáveis)'!$C$12=\"ZFM\",0,IF('Aferi (Variáveis)'!$C$12=\"Exportação\",0,IF('Aferi (Variáveis)'!$C$12=\"AO\",0,E257/(100+(0*'Aferi (Variáveis)'!$K$12/100))*100*K257%/100*'Aferi (Variáveis)'!$K$12)))))","v":0},0,{"$f":"(E257*'Aferi (Variáveis)'!$K$12/100)","v":0},0,{"$f":"IF('Aferi (Variáveis)'!$F$20=\"Venda para Exportar\",0,IF('Aferi (Variáveis)'!$F$20=\"ALC\",0,IF('Aferi (Variáveis)'!$F$20=\"ZFM\",0,IF('Aferi (Variáveis)'!$F$20=\"Exportação\",0,IF('Aferi (Variáveis)'!$F$20=\"AO\",7*T257/100,T257*'Aferi (Variáveis)'!$F$20/100)))))","v":0},0,{"$f":"IF('Aferi (Variáveis)'!$C$12=\"ZFM\",0,IF('Aferi (Variáveis)'!$C$12=\"Exportação\",0,3*T257/100))","v":0},{"$f":"IF('Aferi (Variáveis)'!$C$12=\"ZFM\",0,IF('Aferi (Variáveis)'!$C$12=\"Exportação\",0,0.65*T257/100))","v":0},0,0,0,0,0,0,0,0,0,{"$f":"SUMIF('Custo Básico dos Produtos'!$B$7:$B$480,A257,'Custo Básico dos Produtos'!$K$7:$K$480)","v":0},null,null,0,0,0,0,0,0]
[null,{"$f":"IF(Q258<>0,VLOOKUP(Q258,'Custo Básico dos Produtos'!$A$7:$J$480,3),\"\")","v":""},null,{"$f":"SUMIF('Custo Básico dos Produtos'!$A$7:$A$480,Q258,'Custo Básico dos Produtos'!$J$7:$J$480)","v":0},0,0,{"$f":"IF(B258=\"\",0,SUMIF('Cadastro de Produtos em Linha'!$B$7:$B$457,A258,'Cadastro de Produtos em Linha'!$D$7:$D$457))","v":0},null,0,0,{"$f":"IF('Aferi (Variáveis)'!$C$12=\"ALC\",0,IF('Aferi (Variáveis)'!$C$12=\"ZFM\",0,IF('Aferi (Variáveis)'!$C$12=\"Exportação\",0,IF('Aferi (Variáveis)'!$C$12=\"Venda para Exportar\",0,IF('Aferi (Variáveis)'!$C$12=\"AO\",0,SUMIF('Custo Básico dos Produtos'!$A$7:$A$480,Q258,'Custo Básico dos Produtos'!$L$7:$L$480))))))","v":0},0,0,0,0,{"$f":"SUMIF('Cadastro de Produtos em Linha'!$A$6:$A$457,Q258,'Cadastro de Produtos em Linha'!$E$6:$E$457)*H258","v":0},{"$f":"IF(TODAY()<$AK$26,IF(A258<>\"\",SUMIF('Custo Básico dos Produtos'!$B$7:$B$457,A258,'Custo Básico dos Produtos'!$A$7:$A$457),0),0)","v":0},{"$f":"IF('Aferi (Variáveis)'!$C$12=\"Venda para Exportar\",0,IF('Aferi (Variáveis)'!$C$12=\"ALC\",0,IF('Aferi (Variáveis)'!$C$12=\"ZFM\",0,IF('Aferi (Variáveis)'!$C$12=\"Exportação\",0,IF('Aferi (Variáveis)'!$C$12=\"AO\",0,E258/(100+(0*'Aferi (Variáveis)'!$K$12/100))*100*K258%/100*'Aferi (Variáveis)'!$K$12)))))","v":0},0,{"$f":"(E258*'Aferi (Variáveis)'!$K$12/100)","v":0},0,{"$f":"IF('Aferi (Variáveis)'!$F$20=\"Venda para Exportar\",0,IF('Aferi (Variáveis)'!$F$20=\"ALC\",0,IF('Aferi (Variáveis)'!$F$20=\"ZFM\",0,IF('Aferi (Variáveis)'!$F$20=\"Exportação\",0,IF('Aferi (Variáveis)'!$F$20=\"AO\",7*T258/100,T258*'Aferi (Variáveis)'!$F$20/100)))))","v":0},0,{"$f":"IF('Aferi (Variáveis)'!$C$12=\"ZFM\",0,IF('Aferi (Variáveis)'!$C$12=\"Exportação\",0,3*T258/100))","v":0},{"$f":"IF('Aferi (Variáveis)'!$C$12=\"ZFM\",0,IF('Aferi (Variáveis)'!$C$12=\"Exportação\",0,0.65*T258/100))","v":0},0,0,0,0,0,0,0,0,0,{"$f":"SUMIF('Custo Básico dos Produtos'!$B$7:$B$480,A258,'Custo Básico dos Produtos'!$K$7:$K$480)","v":0},null,null,0,0,0,0,0,0]
[null,{"$f":"IF(Q259<>0,VLOOKUP(Q259,'Custo Básico dos Produtos'!$A$7:$J$480,3),\"\")","v":""},null,{"$f":"SUMIF('Custo Básico dos Produtos'!$A$7:$A$480,Q259,'Custo Básico dos Produtos'!$J$7:$J$480)","v":0},0,0,{"$f":"IF(B259=\"\",0,SUMIF('Cadastro de Produtos em Linha'!$B$7:$B$457,A259,'Cadastro de Produtos em Linha'!$D$7:$D$457))","v":0},null,0,0,{"$f":"IF('Aferi (Variáveis)'!$C$12=\"ALC\",0,IF('Aferi (Variáveis)'!$C$12=\"ZFM\",0,IF('Aferi (Variáveis)'!$C$12=\"Exportação\",0,IF('Aferi (Variáveis)'!$C$12=\"Venda para Exportar\",0,IF('Aferi (Variáveis)'!$C$12=\"AO\",0,SUMIF('Custo Básico dos Produtos'!$A$7:$A$480,Q259,'Custo Básico dos Produtos'!$L$7:$L$480))))))","v":0},0,0,0,0,{"$f":"SUMIF('Cadastro de Produtos em Linha'!$A$6:$A$457,Q259,'Cadastro de Produtos em Linha'!$E$6:$E$457)*H259","v":0},{"$f":"IF(TODAY()<$AK$26,IF(A259<>\"\",SUMIF('Custo Básico dos Produtos'!$B$7:$B$457,A259,'Custo Básico dos Produtos'!$A$7:$A$457),0),0)","v":0},{"$f":"IF('Aferi (Variáveis)'!$C$12=\"Venda para Exportar\",0,IF('Aferi (Variáveis)'!$C$12=\"ALC\",0,IF('Aferi (Variáveis)'!$C$12=\"ZFM\",0,IF('Aferi (Variáveis)'!$C$12=\"Exportação\",0,IF('Aferi (Variáveis)'!$C$12=\"AO\",0,E259/(100+(0*'Aferi (Variáveis)'!$K$12/100))*100*K259%/100*'Aferi (Variáveis)'!$K$12)))))","v":0},0,{"$f":"(E259*'Aferi (Variáveis)'!$K$12/100)","v":0},0,{"$f":"IF('Aferi (Variáveis)'!$F$20=\"Venda para Exportar\",0,IF('Aferi (Variáveis)'!$F$20=\"ALC\",0,IF('Aferi (Variáveis)'!$F$20=\"ZFM\",0,IF('Aferi (Variáveis)'!$F$20=\"Exportação\",0,IF('Aferi (Variáveis)'!$F$20=\"AO\",7*T259/100,T259*'Aferi (Variáveis)'!$F$20/100)))))","v":0},0,{"$f":"IF('Aferi (Variáveis)'!$C$12=\"ZFM\",0,IF('Aferi (Variáveis)'!$C$12=\"Exportação\",0,3*T259/100))","v":0},{"$f":"IF('Aferi (Variáveis)'!$C$12=\"ZFM\",0,IF('Aferi (Variáveis)'!$C$12=\"Exportação\",0,0.65*T259/100))","v":0},0,0,0,0,0,0,0,0,0,{"$f":"SUMIF('Custo Básico dos Produtos'!$B$7:$B$480,A259,'Custo Básico dos Produtos'!$K$7:$K$480)","v":0},null,null,0,0,0,0,0,0]
[null,{"$f":"IF(Q260<>0,VLOOKUP(Q260,'Custo Básico dos Produtos'!$A$7:$J$480,3),\"\")","v":""},null,{"$f":"SUMIF('Custo Básico dos Produtos'!$A$7:$A$480,Q260,'Custo Básico dos Produtos'!$J$7:$J$480)","v":0},0,0,{"$f":"IF(B260=\"\",0,SUMIF('Cadastro de Produtos em Linha'!$B$7:$B$457,A260,'Cadastro de Produtos em Linha'!$D$7:$D$457))","v":0},null,0,0,{"$f":"IF('Aferi (Variáveis)'!$C$12=\"ALC\",0,IF('Aferi (Variáveis)'!$C$12=\"ZFM\",0,IF('Aferi (Variáveis)'!$C$12=\"Exportação\",0,IF('Aferi (Variáveis)'!$C$12=\"Venda para Exportar\",0,IF('Aferi (Variáveis)'!$C$12=\"AO\",0,SUMIF('Custo Básico dos Produtos'!$A$7:$A$480,Q260,'Custo Básico dos Produtos'!$L$7:$L$480))))))","v":0},0,0,0,0,{"$f":"SUMIF('Cadastro de Produtos em Linha'!$A$6:$A$457,Q260,'Cadastro de Produtos em Linha'!$E$6:$E$457)*H260","v":0},{"$f":"IF(TODAY()<$AK$26,IF(A260<>\"\",SUMIF('Custo Básico dos Produtos'!$B$7:$B$457,A260,'Custo Básico dos Produtos'!$A$7:$A$457),0),0)","v":0},{"$f":"IF('Aferi (Variáveis)'!$C$12=\"Venda para Exportar\",0,IF('Aferi (Variáveis)'!$C$12=\"ALC\",0,IF('Aferi (Variáveis)'!$C$12=\"ZFM\",0,IF('Aferi (Variáveis)'!$C$12=\"Exportação\",0,IF('Aferi (Variáveis)'!$C$12=\"AO\",0,E260/(100+(0*'Aferi (Variáveis)'!$K$12/100))*100*K260%/100*'Aferi (Variáveis)'!$K$12)))))","v":0},0,{"$f":"(E260*'Aferi (Variáveis)'!$K$12/100)","v":0},0,{"$f":"IF('Aferi (Variáveis)'!$F$20=\"Venda para Exportar\",0,IF('Aferi (Variáveis)'!$F$20=\"ALC\",0,IF('Aferi (Variáveis)'!$F$20=\"ZFM\",0,IF('Aferi (Variáveis)'!$F$20=\"Exportação\",0,IF('Aferi (Variáveis)'!$F$20=\"AO\",7*T260/100,T260*'Aferi (Variáveis)'!$F$20/100)))))","v":0},0,{"$f":"IF('Aferi (Variáveis)'!$C$12=\"ZFM\",0,IF('Aferi (Variáveis)'!$C$12=\"Exportação\",0,3*T260/100))","v":0},{"$f":"IF('Aferi (Variáveis)'!$C$12=\"ZFM\",0,IF('Aferi (Variáveis)'!$C$12=\"Exportação\",0,0.65*T260/100))","v":0},0,0,0,0,0,0,0,0,0,{"$f":"SUMIF('Custo Básico dos Produtos'!$B$7:$B$480,A260,'Custo Básico dos Produtos'!$K$7:$K$480)","v":0},null,null,0,0,0,0,0,0]
[null,{"$f":"IF(Q261<>0,VLOOKUP(Q261,'Custo Básico dos Produtos'!$A$7:$J$480,3),\"\")","v":""},null,{"$f":"SUMIF('Custo Básico dos Produtos'!$A$7:$A$480,Q261,'Custo Básico dos Produtos'!$J$7:$J$480)","v":0},0,0,{"$f":"IF(B261=\"\",0,SUMIF('Cadastro de Produtos em Linha'!$B$7:$B$457,A261,'Cadastro de Produtos em Linha'!$D$7:$D$457))","v":0},null,0,0,{"$f":"IF('Aferi (Variáveis)'!$C$12=\"ALC\",0,IF('Aferi (Variáveis)'!$C$12=\"ZFM\",0,IF('Aferi (Variáveis)'!$C$12=\"Exportação\",0,IF('Aferi (Variáveis)'!$C$12=\"Venda para Exportar\",0,IF('Aferi (Variáveis)'!$C$12=\"AO\",0,SUMIF('Custo Básico dos Produtos'!$A$7:$A$480,Q261,'Custo Básico dos Produtos'!$L$7:$L$480))))))","v":0},0,0,0,0,{"$f":"SUMIF('Cadastro de Produtos em Linha'!$A$6:$A$457,Q261,'Cadastro de Produtos em Linha'!$E$6:$E$457)*H261","v":0},{"$f":"IF(TODAY()<$AK$26,IF(A261<>\"\",SUMIF('Custo Básico dos Produtos'!$B$7:$B$457,A261,'Custo Básico dos Produtos'!$A$7:$A$457),0),0)","v":0},{"$f":"IF('Aferi (Variáveis)'!$C$12=\"Venda para Exportar\",0,IF('Aferi (Variáveis)'!$C$12=\"ALC\",0,IF('Aferi (Variáveis)'!$C$12=\"ZFM\",0,IF('Aferi (Variáveis)'!$C$12=\"Exportação\",0,IF('Aferi (Variáveis)'!$C$12=\"AO\",0,E261/(100+(0*'Aferi (Variáveis)'!$K$12/100))*100*K261%/100*'Aferi (Variáveis)'!$K$12)))))","v":0},0,{"$f":"(E261*'Aferi (Variáveis)'!$K$12/100)","v":0},0,{"$f":"IF('Aferi (Variáveis)'!$F$20=\"Venda para Exportar\",0,IF('Aferi (Variáveis)'!$F$20=\"ALC\",0,IF('Aferi (Variáveis)'!$F$20=\"ZFM\",0,IF('Aferi (Variáveis)'!$F$20=\"Exportação\",0,IF('Aferi (Variáveis)'!$F$20=\"AO\",7*T261/100,T261*'Aferi (Variáveis)'!$F$20/100)))))","v":0},0,{"$f":"IF('Aferi (Variáveis)'!$C$12=\"ZFM\",0,IF('Aferi (Variáveis)'!$C$12=\"Exportação\",0,3*T261/100))","v":0},{"$f":"IF('Aferi (Variáveis)'!$C$12=\"ZFM\",0,IF('Aferi (Variáveis)'!$C$12=\"Exportação\",0,0.65*T261/100))","v":0},0,0,0,0,0,0,0,0,0,{"$f":"SUMIF('Custo Básico dos Produtos'!$B$7:$B$480,A261,'Custo Básico dos Produtos'!$K$7:$K$480)","v":0},null,null,0,0,0,0,0,0]
[null,{"$f":"IF(Q262<>0,VLOOKUP(Q262,'Custo Básico dos Produtos'!$A$7:$J$480,3),\"\")","v":""},null,{"$f":"SUMIF('Custo Básico dos Produtos'!$A$7:$A$480,Q262,'Custo Básico dos Produtos'!$J$7:$J$480)","v":0},0,0,{"$f":"IF(B262=\"\",0,SUMIF('Cadastro de Produtos em Linha'!$B$7:$B$457,A262,'Cadastro de Produtos em Linha'!$D$7:$D$457))","v":0},null,0,0,{"$f":"IF('Aferi (Variáveis)'!$C$12=\"ALC\",0,IF('Aferi (Variáveis)'!$C$12=\"ZFM\",0,IF('Aferi (Variáveis)'!$C$12=\"Exportação\",0,IF('Aferi (Variáveis)'!$C$12=\"Venda para Exportar\",0,IF('Aferi (Variáveis)'!$C$12=\"AO\",0,SUMIF('Custo Básico dos Produtos'!$A$7:$A$480,Q262,'Custo Básico dos Produtos'!$L$7:$L$480))))))","v":0},0,0,0,0,{"$f":"SUMIF('Cadastro de Produtos em Linha'!$A$6:$A$457,Q262,'Cadastro de Produtos em Linha'!$E$6:$E$457)*H262","v":0},{"$f":"IF(TODAY()<$AK$26,IF(A262<>\"\",SUMIF('Custo Básico dos Produtos'!$B$7:$B$457,A262,'Custo Básico dos Produtos'!$A$7:$A$457),0),0)","v":0},{"$f":"IF('Aferi (Variáveis)'!$C$12=\"Venda para Exportar\",0,IF('Aferi (Variáveis)'!$C$12=\"ALC\",0,IF('Aferi (Variáveis)'!$C$12=\"ZFM\",0,IF('Aferi (Variáveis)'!$C$12=\"Exportação\",0,IF('Aferi (Variáveis)'!$C$12=\"AO\",0,E262/(100+(0*'Aferi (Variáveis)'!$K$12/100))*100*K262%/100*'Aferi (Variáveis)'!$K$12)))))","v":0},0,{"$f":"(E262*'Aferi (Variáveis)'!$K$12/100)","v":0},0,{"$f":"IF('Aferi (Variáveis)'!$F$20=\"Venda para Exportar\",0,IF('Aferi (Variáveis)'!$F$20=\"ALC\",0,IF('Aferi (Variáveis)'!$F$20=\"ZFM\",0,IF('Aferi (Variáveis)'!$F$20=\"Exportação\",0,IF('Aferi (Variáveis)'!$F$20=\"AO\",7*T262/100,T262*'Aferi (Variáveis)'!$F$20/100)))))","v":0},0,{"$f":"IF('Aferi (Variáveis)'!$C$12=\"ZFM\",0,IF('Aferi (Variáveis)'!$C$12=\"Exportação\",0,3*T262/100))","v":0},{"$f":"IF('Aferi (Variáveis)'!$C$12=\"ZFM\",0,IF('Aferi (Variáveis)'!$C$12=\"Exportação\",0,0.65*T262/100))","v":0},0,0,0,0,0,0,0,0,0,{"$f":"SUMIF('Custo Básico dos Produtos'!$B$7:$B$480,A262,'Custo Básico dos Produtos'!$K$7:$K$480)","v":0},null,null,0,0,0,0,0,0]
[null,{"$f":"IF(Q263<>0,VLOOKUP(Q263,'Custo Básico dos Produtos'!$A$7:$J$480,3),\"\")","v":""},null,{"$f":"SUMIF('Custo Básico dos Produtos'!$A$7:$A$480,Q263,'Custo Básico dos Produtos'!$J$7:$J$480)","v":0},0,0,{"$f":"IF(B263=\"\",0,SUMIF('Cadastro de Produtos em Linha'!$B$7:$B$457,A263,'Cadastro de Produtos em Linha'!$D$7:$D$457))","v":0},null,0,0,{"$f":"IF('Aferi (Variáveis)'!$C$12=\"ALC\",0,IF('Aferi (Variáveis)'!$C$12=\"ZFM\",0,IF('Aferi (Variáveis)'!$C$12=\"Exportação\",0,IF('Aferi (Variáveis)'!$C$12=\"Venda para Exportar\",0,IF('Aferi (Variáveis)'!$C$12=\"AO\",0,SUMIF('Custo Básico dos Produtos'!$A$7:$A$480,Q263,'Custo Básico dos Produtos'!$L$7:$L$480))))))","v":0},0,0,0,0,{"$f":"SUMIF('Cadastro de Produtos em Linha'!$A$6:$A$457,Q263,'Cadastro de Produtos em Linha'!$E$6:$E$457)*H263","v":0},{"$f":"IF(TODAY()<$AK$26,IF(A263<>\"\",SUMIF('Custo Básico dos Produtos'!$B$7:$B$457,A263,'Custo Básico dos Produtos'!$A$7:$A$457),0),0)","v":0},{"$f":"IF('Aferi (Variáveis)'!$C$12=\"Venda para Exportar\",0,IF('Aferi (Variáveis)'!$C$12=\"ALC\",0,IF('Aferi (Variáveis)'!$C$12=\"ZFM\",0,IF('Aferi (Variáveis)'!$C$12=\"Exportação\",0,IF('Aferi (Variáveis)'!$C$12=\"AO\",0,E263/(100+(0*'Aferi (Variáveis)'!$K$12/100))*100*K263%/100*'Aferi (Variáveis)'!$K$12)))))","v":0},0,{"$f":"(E263*'Aferi (Variáveis)'!$K$12/100)","v":0},0,{"$f":"IF('Aferi (Variáveis)'!$F$20=\"Venda para Exportar\",0,IF('Aferi (Variáveis)'!$F$20=\"ALC\",0,IF('Aferi (Variáveis)'!$F$20=\"ZFM\",0,IF('Aferi (Variáveis)'!$F$20=\"Exportação\",0,IF('Aferi (Variáveis)'!$F$20=\"AO\",7*T263/100,T263*'Aferi (Variáveis)'!$F$20/100)))))","v":0},0,{"$f":"IF('Aferi (Variáveis)'!$C$12=\"ZFM\",0,IF('Aferi (Variáveis)'!$C$12=\"Exportação\",0,3*T263/100))","v":0},{"$f":"IF('Aferi (Variáveis)'!$C$12=\"ZFM\",0,IF('Aferi (Variáveis)'!$C$12=\"Exportação\",0,0.65*T263/100))","v":0},0,0,0,0,0,0,0,0,0,{"$f":"SUMIF('Custo Básico dos Produtos'!$B$7:$B$480,A263,'Custo Básico dos Produtos'!$K$7:$K$480)","v":0},null,null,0,0,0,0,0,0]
[null,{"$f":"IF(Q264<>0,VLOOKUP(Q264,'Custo Básico dos Produtos'!$A$7:$J$480,3),\"\")","v":""},null,{"$f":"SUMIF('Custo Básico dos Produtos'!$A$7:$A$480,Q264,'Custo Básico dos Produtos'!$J$7:$J$480)","v":0},0,0,{"$f":"IF(B264=\"\",0,SUMIF('Cadastro de Produtos em Linha'!$B$7:$B$457,A264,'Cadastro de Produtos em Linha'!$D$7:$D$457))","v":0},null,0,0,{"$f":"IF('Aferi (Variáveis)'!$C$12=\"ALC\",0,IF('Aferi (Variáveis)'!$C$12=\"ZFM\",0,IF('Aferi (Variáveis)'!$C$12=\"Exportação\",0,IF('Aferi (Variáveis)'!$C$12=\"Venda para Exportar\",0,IF('Aferi (Variáveis)'!$C$12=\"AO\",0,SUMIF('Custo Básico dos Produtos'!$A$7:$A$480,Q264,'Custo Básico dos Produtos'!$L$7:$L$480))))))","v":0},0,0,0,0,{"$f":"SUMIF('Cadastro de Produtos em Linha'!$A$6:$A$457,Q264,'Cadastro de Produtos em Linha'!$E$6:$E$457)*H264","v":0},{"$f":"IF(TODAY()<$AK$26,IF(A264<>\"\",SUMIF('Custo Básico dos Produtos'!$B$7:$B$457,A264,'Custo Básico dos Produtos'!$A$7:$A$457),0),0)","v":0},{"$f":"IF('Aferi (Variáveis)'!$C$12=\"Venda para Exportar\",0,IF('Aferi (Variáveis)'!$C$12=\"ALC\",0,IF('Aferi (Variáveis)'!$C$12=\"ZFM\",0,IF('Aferi (Variáveis)'!$C$12=\"Exportação\",0,IF('Aferi (Variáveis)'!$C$12=\"AO\",0,E264/(100+(0*'Aferi (Variáveis)'!$K$12/100))*100*K264%/100*'Aferi (Variáveis)'!$K$12)))))","v":0},0,{"$f":"(E264*'Aferi (Variáveis)'!$K$12/100)","v":0},0,{"$f":"IF('Aferi (Variáveis)'!$F$20=\"Venda para Exportar\",0,IF('Aferi (Variáveis)'!$F$20=\"ALC\",0,IF('Aferi (Variáveis)'!$F$20=\"ZFM\",0,IF('Aferi (Variáveis)'!$F$20=\"Exportação\",0,IF('Aferi (Variáveis)'!$F$20=\"AO\",7*T264/100,T264*'Aferi (Variáveis)'!$F$20/100)))))","v":0},0,{"$f":"IF('Aferi (Variáveis)'!$C$12=\"ZFM\",0,IF('Aferi (Variáveis)'!$C$12=\"Exportação\",0,3*T264/100))","v":0},{"$f":"IF('Aferi (Variáveis)'!$C$12=\"ZFM\",0,IF('Aferi (Variáveis)'!$C$12=\"Exportação\",0,0.65*T264/100))","v":0},0,0,0,0,0,0,0,0,0,{"$f":"SUMIF('Custo Básico dos Produtos'!$B$7:$B$480,A264,'Custo Básico dos Produtos'!$K$7:$K$480)","v":0},null,null,0,0,0,0,0,0]
[null,{"$f":"IF(Q265<>0,VLOOKUP(Q265,'Custo Básico dos Produtos'!$A$7:$J$480,3),\"\")","v":""},null,{"$f":"SUMIF('Custo Básico dos Produtos'!$A$7:$A$480,Q265,'Custo Básico dos Produtos'!$J$7:$J$480)","v":0},0,0,{"$f":"IF(B265=\"\",0,SUMIF('Cadastro de Produtos em Linha'!$B$7:$B$457,A265,'Cadastro de Produtos em Linha'!$D$7:$D$457))","v":0},null,0,0,{"$f":"IF('Aferi (Variáveis)'!$C$12=\"ALC\",0,IF('Aferi (Variáveis)'!$C$12=\"ZFM\",0,IF('Aferi (Variáveis)'!$C$12=\"Exportação\",0,IF('Aferi (Variáveis)'!$C$12=\"Venda para Exportar\",0,IF('Aferi (Variáveis)'!$C$12=\"AO\",0,SUMIF('Custo Básico dos Produtos'!$A$7:$A$480,Q265,'Custo Básico dos Produtos'!$L$7:$L$480))))))","v":0},0,0,0,0,{"$f":"SUMIF('Cadastro de Produtos em Linha'!$A$6:$A$457,Q265,'Cadastro de Produtos em Linha'!$E$6:$E$457)*H265","v":0},{"$f":"IF(TODAY()<$AK$26,IF(A265<>\"\",SUMIF('Custo Básico dos Produtos'!$B$7:$B$457,A265,'Custo Básico dos Produtos'!$A$7:$A$457),0),0)","v":0},{"$f":"IF('Aferi (Variáveis)'!$C$12=\"Venda para Exportar\",0,IF('Aferi (Variáveis)'!$C$12=\"ALC\",0,IF('Aferi (Variáveis)'!$C$12=\"ZFM\",0,IF('Aferi (Variáveis)'!$C$12=\"Exportação\",0,IF('Aferi (Variáveis)'!$C$12=\"AO\",0,E265/(100+(0*'Aferi (Variáveis)'!$K$12/100))*100*K265%/100*'Aferi (Variáveis)'!$K$12)))))","v":0},0,{"$f":"(E265*'Aferi (Variáveis)'!$K$12/100)","v":0},0,{"$f":"IF('Aferi (Variáveis)'!$F$20=\"Venda para Exportar\",0,IF('Aferi (Variáveis)'!$F$20=\"ALC\",0,IF('Aferi (Variáveis)'!$F$20=\"ZFM\",0,IF('Aferi (Variáveis)'!$F$20=\"Exportação\",0,IF('Aferi (Variáveis)'!$F$20=\"AO\",7*T265/100,T265*'Aferi (Variáveis)'!$F$20/100)))))","v":0},0,{"$f":"IF('Aferi (Variáveis)'!$C$12=\"ZFM\",0,IF('Aferi (Variáveis)'!$C$12=\"Exportação\",0,3*T265/100))","v":0},{"$f":"IF('Aferi (Variáveis)'!$C$12=\"ZFM\",0,IF('Aferi (Variáveis)'!$C$12=\"Exportação\",0,0.65*T265/100))","v":0},0,0,0,0,0,0,0,0,0,{"$f":"SUMIF('Custo Básico dos Produtos'!$B$7:$B$480,A265,'Custo Básico dos Produtos'!$K$7:$K$480)","v":0},null,null,0,0,0,0,0,0]
[null,{"$f":"IF(Q266<>0,VLOOKUP(Q266,'Custo Básico dos Produtos'!$A$7:$J$480,3),\"\")","v":""},null,{"$f":"SUMIF('Custo Básico dos Produtos'!$A$7:$A$480,Q266,'Custo Básico dos Produtos'!$J$7:$J$480)","v":0},0,0,{"$f":"IF(B266=\"\",0,SUMIF('Cadastro de Produtos em Linha'!$B$7:$B$457,A266,'Cadastro de Produtos em Linha'!$D$7:$D$457))","v":0},null,0,0,{"$f":"IF('Aferi (Variáveis)'!$C$12=\"ALC\",0,IF('Aferi (Variáveis)'!$C$12=\"ZFM\",0,IF('Aferi (Variáveis)'!$C$12=\"Exportação\",0,IF('Aferi (Variáveis)'!$C$12=\"Venda para Exportar\",0,IF('Aferi (Variáveis)'!$C$12=\"AO\",0,SUMIF('Custo Básico dos Produtos'!$A$7:$A$480,Q266,'Custo Básico dos Produtos'!$L$7:$L$480))))))","v":0},0,0,0,0,{"$f":"SUMIF('Cadastro de Produtos em Linha'!$A$6:$A$457,Q266,'Cadastro de Produtos em Linha'!$E$6:$E$457)*H266","v":0},{"$f":"IF(TODAY()<$AK$26,IF(A266<>\"\",SUMIF('Custo Básico dos Produtos'!$B$7:$B$457,A266,'Custo Básico dos Produtos'!$A$7:$A$457),0),0)","v":0},{"$f":"IF('Aferi (Variáveis)'!$C$12=\"Venda para Exportar\",0,IF('Aferi (Variáveis)'!$C$12=\"ALC\",0,IF('Aferi (Variáveis)'!$C$12=\"ZFM\",0,IF('Aferi (Variáveis)'!$C$12=\"Exportação\",0,IF('Aferi (Variáveis)'!$C$12=\"AO\",0,E266/(100+(0*'Aferi (Variáveis)'!$K$12/100))*100*K266%/100*'Aferi (Variáveis)'!$K$12)))))","v":0},0,{"$f":"(E266*'Aferi (Variáveis)'!$K$12/100)","v":0},0,{"$f":"IF('Aferi (Variáveis)'!$F$20=\"Venda para Exportar\",0,IF('Aferi (Variáveis)'!$F$20=\"ALC\",0,IF('Aferi (Variáveis)'!$F$20=\"ZFM\",0,IF('Aferi (Variáveis)'!$F$20=\"Exportação\",0,IF('Aferi (Variáveis)'!$F$20=\"AO\",7*T266/100,T266*'Aferi (Variáveis)'!$F$20/100)))))","v":0},0,{"$f":"IF('Aferi (Variáveis)'!$C$12=\"ZFM\",0,IF('Aferi (Variáveis)'!$C$12=\"Exportação\",0,3*T266/100))","v":0},{"$f":"IF('Aferi (Variáveis)'!$C$12=\"ZFM\",0,IF('Aferi (Variáveis)'!$C$12=\"Exportação\",0,0.65*T266/100))","v":0},0,0,0,0,0,0,0,0,0,{"$f":"SUMIF('Custo Básico dos Produtos'!$B$7:$B$480,A266,'Custo Básico dos Produtos'!$K$7:$K$480)","v":0},null,null,0,0,0,0,0,0]
[null,{"$f":"IF(Q267<>0,VLOOKUP(Q267,'Custo Básico dos Produtos'!$A$7:$J$480,3),\"\")","v":""},null,{"$f":"SUMIF('Custo Básico dos Produtos'!$A$7:$A$480,Q267,'Custo Básico dos Produtos'!$J$7:$J$480)","v":0},0,0,{"$f":"IF(B267=\"\",0,SUMIF('Cadastro de Produtos em Linha'!$B$7:$B$457,A267,'Cadastro de Produtos em Linha'!$D$7:$D$457))","v":0},null,0,0,{"$f":"IF('Aferi (Variáveis)'!$C$12=\"ALC\",0,IF('Aferi (Variáveis)'!$C$12=\"ZFM\",0,IF('Aferi (Variáveis)'!$C$12=\"Exportação\",0,IF('Aferi (Variáveis)'!$C$12=\"Venda para Exportar\",0,IF('Aferi (Variáveis)'!$C$12=\"AO\",0,SUMIF('Custo Básico dos Produtos'!$A$7:$A$480,Q267,'Custo Básico dos Produtos'!$L$7:$L$480))))))","v":0},0,0,0,0,{"$f":"SUMIF('Cadastro de Produtos em Linha'!$A$6:$A$457,Q267,'Cadastro de Produtos em Linha'!$E$6:$E$457)*H267","v":0},{"$f":"IF(TODAY()<$AK$26,IF(A267<>\"\",SUMIF('Custo Básico dos Produtos'!$B$7:$B$457,A267,'Custo Básico dos Produtos'!$A$7:$A$457),0),0)","v":0},{"$f":"IF('Aferi (Variáveis)'!$C$12=\"Venda para Exportar\",0,IF('Aferi (Variáveis)'!$C$12=\"ALC\",0,IF('Aferi (Variáveis)'!$C$12=\"ZFM\",0,IF('Aferi (Variáveis)'!$C$12=\"Exportação\",0,IF('Aferi (Variáveis)'!$C$12=\"AO\",0,E267/(100+(0*'Aferi (Variáveis)'!$K$12/100))*100*K267%/100*'Aferi (Variáveis)'!$K$12)))))","v":0},0,{"$f":"(E267*'Aferi (Variáveis)'!$K$12/100)","v":0},0,{"$f":"IF('Aferi (Variáveis)'!$F$20=\"Venda para Exportar\",0,IF('Aferi (Variáveis)'!$F$20=\"ALC\",0,IF('Aferi (Variáveis)'!$F$20=\"ZFM\",0,IF('Aferi (Variáveis)'!$F$20=\"Exportação\",0,IF('Aferi (Variáveis)'!$F$20=\"AO\",7*T267/100,T267*'Aferi (Variáveis)'!$F$20/100)))))","v":0},0,{"$f":"IF('Aferi (Variáveis)'!$C$12=\"ZFM\",0,IF('Aferi (Variáveis)'!$C$12=\"Exportação\",0,3*T267/100))","v":0},{"$f":"IF('Aferi (Variáveis)'!$C$12=\"ZFM\",0,IF('Aferi (Variáveis)'!$C$12=\"Exportação\",0,0.65*T267/100))","v":0},0,0,0,0,0,0,0,0,0,{"$f":"SUMIF('Custo Básico dos Produtos'!$B$7:$B$480,A267,'Custo Básico dos Produtos'!$K$7:$K$480)","v":0},null,null,0,0,0,0,0,0]
[null,{"$f":"IF(Q268<>0,VLOOKUP(Q268,'Custo Básico dos Produtos'!$A$7:$J$480,3),\"\")","v":""},null,{"$f":"SUMIF('Custo Básico dos Produtos'!$A$7:$A$480,Q268,'Custo Básico dos Produtos'!$J$7:$J$480)","v":0},0,0,{"$f":"IF(B268=\"\",0,SUMIF('Cadastro de Produtos em Linha'!$B$7:$B$457,A268,'Cadastro de Produtos em Linha'!$D$7:$D$457))","v":0},null,0,0,{"$f":"IF('Aferi (Variáveis)'!$C$12=\"ALC\",0,IF('Aferi (Variáveis)'!$C$12=\"ZFM\",0,IF('Aferi (Variáveis)'!$C$12=\"Exportação\",0,IF('Aferi (Variáveis)'!$C$12=\"Venda para Exportar\",0,IF('Aferi (Variáveis)'!$C$12=\"AO\",0,SUMIF('Custo Básico dos Produtos'!$A$7:$A$480,Q268,'Custo Básico dos Produtos'!$L$7:$L$480))))))","v":0},0,0,0,0,{"$f":"SUMIF('Cadastro de Produtos em Linha'!$A$6:$A$457,Q268,'Cadastro de Produtos em Linha'!$E$6:$E$457)*H268","v":0},{"$f":"IF(TODAY()<$AK$26,IF(A268<>\"\",SUMIF('Custo Básico dos Produtos'!$B$7:$B$457,A268,'Custo Básico dos Produtos'!$A$7:$A$457),0),0)","v":0},{"$f":"IF('Aferi (Variáveis)'!$C$12=\"Venda para Exportar\",0,IF('Aferi (Variáveis)'!$C$12=\"ALC\",0,IF('Aferi (Variáveis)'!$C$12=\"ZFM\",0,IF('Aferi (Variáveis)'!$C$12=\"Exportação\",0,IF('Aferi (Variáveis)'!$C$12=\"AO\",0,E268/(100+(0*'Aferi (Variáveis)'!$K$12/100))*100*K268%/100*'Aferi (Variáveis)'!$K$12)))))","v":0},0,{"$f":"(E268*'Aferi (Variáveis)'!$K$12/100)","v":0},0,{"$f":"IF('Aferi (Variáveis)'!$F$20=\"Venda para Exportar\",0,IF('Aferi (Variáveis)'!$F$20=\"ALC\",0,IF('Aferi (Variáveis)'!$F$20=\"ZFM\",0,IF('Aferi (Variáveis)'!$F$20=\"Exportação\",0,IF('Aferi (Variáveis)'!$F$20=\"AO\",7*T268/100,T268*'Aferi (Variáveis)'!$F$20/100)))))","v":0},0,{"$f":"IF('Aferi (Variáveis)'!$C$12=\"ZFM\",0,IF('Aferi (Variáveis)'!$C$12=\"Exportação\",0,3*T268/100))","v":0},{"$f":"IF('Aferi (Variáveis)'!$C$12=\"ZFM\",0,IF('Aferi (Variáveis)'!$C$12=\"Exportação\",0,0.65*T268/100))","v":0},0,0,0,0,0,0,0,0,0,{"$f":"SUMIF('Custo Básico dos Produtos'!$B$7:$B$480,A268,'Custo Básico dos Produtos'!$K$7:$K$480)","v":0},null,null,0,0,0,0,0,0]
[null,{"$f":"IF(Q269<>0,VLOOKUP(Q269,'Custo Básico dos Produtos'!$A$7:$J$480,3),\"\")","v":""},null,{"$f":"SUMIF('Custo Básico dos Produtos'!$A$7:$A$480,Q269,'Custo Básico dos Produtos'!$J$7:$J$480)","v":0},0,0,{"$f":"IF(B269=\"\",0,SUMIF('Cadastro de Produtos em Linha'!$B$7:$B$457,A269,'Cadastro de Produtos em Linha'!$D$7:$D$457))","v":0},null,0,0,{"$f":"IF('Aferi (Variáveis)'!$C$12=\"ALC\",0,IF('Aferi (Variáveis)'!$C$12=\"ZFM\",0,IF('Aferi (Variáveis)'!$C$12=\"Exportação\",0,IF('Aferi (Variáveis)'!$C$12=\"Venda para Exportar\",0,IF('Aferi (Variáveis)'!$C$12=\"AO\",0,SUMIF('Custo Básico dos Produtos'!$A$7:$A$480,Q269,'Custo Básico dos Produtos'!$L$7:$L$480))))))","v":0},0,0,0,0,{"$f":"SUMIF('Cadastro de Produtos em Linha'!$A$6:$A$457,Q269,'Cadastro de Produtos em Linha'!$E$6:$E$457)*H269","v":0},{"$f":"IF(TODAY()<$AK$26,IF(A269<>\"\",SUMIF('Custo Básico dos Produtos'!$B$7:$B$457,A269,'Custo Básico dos Produtos'!$A$7:$A$457),0),0)","v":0},{"$f":"IF('Aferi (Variáveis)'!$C$12=\"Venda para Exportar\",0,IF('Aferi (Variáveis)'!$C$12=\"ALC\",0,IF('Aferi (Variáveis)'!$C$12=\"ZFM\",0,IF('Aferi (Variáveis)'!$C$12=\"Exportação\",0,IF('Aferi (Variáveis)'!$C$12=\"AO\",0,E269/(100+(0*'Aferi (Variáveis)'!$K$12/100))*100*K269%/100*'Aferi (Variáveis)'!$K$12)))))","v":0},0,{"$f":"(E269*'Aferi (Variáveis)'!$K$12/100)","v":0},0,{"$f":"IF('Aferi (Variáveis)'!$F$20=\"Venda para Exportar\",0,IF('Aferi (Variáveis)'!$F$20=\"ALC\",0,IF('Aferi (Variáveis)'!$F$20=\"ZFM\",0,IF('Aferi (Variáveis)'!$F$20=\"Exportação\",0,IF('Aferi (Variáveis)'!$F$20=\"AO\",7*T269/100,T269*'Aferi (Variáveis)'!$F$20/100)))))","v":0},0,{"$f":"IF('Aferi (Variáveis)'!$C$12=\"ZFM\",0,IF('Aferi (Variáveis)'!$C$12=\"Exportação\",0,3*T269/100))","v":0},{"$f":"IF('Aferi (Variáveis)'!$C$12=\"ZFM\",0,IF('Aferi (Variáveis)'!$C$12=\"Exportação\",0,0.65*T269/100))","v":0},0,0,0,0,0,0,0,0,0,{"$f":"SUMIF('Custo Básico dos Produtos'!$B$7:$B$480,A269,'Custo Básico dos Produtos'!$K$7:$K$480)","v":0},null,null,0,0,0,0,0,0]
[null,{"$f":"IF(Q270<>0,VLOOKUP(Q270,'Custo Básico dos Produtos'!$A$7:$J$480,3),\"\")","v":""},null,{"$f":"SUMIF('Custo Básico dos Produtos'!$A$7:$A$480,Q270,'Custo Básico dos Produtos'!$J$7:$J$480)","v":0},0,0,{"$f":"IF(B270=\"\",0,SUMIF('Cadastro de Produtos em Linha'!$B$7:$B$457,A270,'Cadastro de Produtos em Linha'!$D$7:$D$457))","v":0},null,0,0,{"$f":"IF('Aferi (Variáveis)'!$C$12=\"ALC\",0,IF('Aferi (Variáveis)'!$C$12=\"ZFM\",0,IF('Aferi (Variáveis)'!$C$12=\"Exportação\",0,IF('Aferi (Variáveis)'!$C$12=\"Venda para Exportar\",0,IF('Aferi (Variáveis)'!$C$12=\"AO\",0,SUMIF('Custo Básico dos Produtos'!$A$7:$A$480,Q270,'Custo Básico dos Produtos'!$L$7:$L$480))))))","v":0},0,0,0,0,{"$f":"SUMIF('Cadastro de Produtos em Linha'!$A$6:$A$457,Q270,'Cadastro de Produtos em Linha'!$E$6:$E$457)*H270","v":0},{"$f":"IF(TODAY()<$AK$26,IF(A270<>\"\",SUMIF('Custo Básico dos Produtos'!$B$7:$B$457,A270,'Custo Básico dos Produtos'!$A$7:$A$457),0),0)","v":0},{"$f":"IF('Aferi (Variáveis)'!$C$12=\"Venda para Exportar\",0,IF('Aferi (Variáveis)'!$C$12=\"ALC\",0,IF('Aferi (Variáveis)'!$C$12=\"ZFM\",0,IF('Aferi (Variáveis)'!$C$12=\"Exportação\",0,IF('Aferi (Variáveis)'!$C$12=\"AO\",0,E270/(100+(0*'Aferi (Variáveis)'!$K$12/100))*100*K270%/100*'Aferi (Variáveis)'!$K$12)))))","v":0},0,{"$f":"(E270*'Aferi (Variáveis)'!$K$12/100)","v":0},0,{"$f":"IF('Aferi (Variáveis)'!$F$20=\"Venda para Exportar\",0,IF('Aferi (Variáveis)'!$F$20=\"ALC\",0,IF('Aferi (Variáveis)'!$F$20=\"ZFM\",0,IF('Aferi (Variáveis)'!$F$20=\"Exportação\",0,IF('Aferi (Variáveis)'!$F$20=\"AO\",7*T270/100,T270*'Aferi (Variáveis)'!$F$20/100)))))","v":0},0,{"$f":"IF('Aferi (Variáveis)'!$C$12=\"ZFM\",0,IF('Aferi (Variáveis)'!$C$12=\"Exportação\",0,3*T270/100))","v":0},{"$f":"IF('Aferi (Variáveis)'!$C$12=\"ZFM\",0,IF('Aferi (Variáveis)'!$C$12=\"Exportação\",0,0.65*T270/100))","v":0},0,0,0,0,0,0,0,0,0,{"$f":"SUMIF('Custo Básico dos Produtos'!$B$7:$B$480,A270,'Custo Básico dos Produtos'!$K$7:$K$480)","v":0},null,null,0,0,0,0,0,0]
[null,{"$f":"IF(Q271<>0,VLOOKUP(Q271,'Custo Básico dos Produtos'!$A$7:$J$480,3),\"\")","v":""},null,{"$f":"SUMIF('Custo Básico dos Produtos'!$A$7:$A$480,Q271,'Custo Básico dos Produtos'!$J$7:$J$480)","v":0},0,0,{"$f":"IF(B271=\"\",0,SUMIF('Cadastro de Produtos em Linha'!$B$7:$B$457,A271,'Cadastro de Produtos em Linha'!$D$7:$D$457))","v":0},null,0,0,{"$f":"IF('Aferi (Variáveis)'!$C$12=\"ALC\",0,IF('Aferi (Variáveis)'!$C$12=\"ZFM\",0,IF('Aferi (Variáveis)'!$C$12=\"Exportação\",0,IF('Aferi (Variáveis)'!$C$12=\"Venda para Exportar\",0,IF('Aferi (Variáveis)'!$C$12=\"AO\",0,SUMIF('Custo Básico dos Produtos'!$A$7:$A$480,Q271,'Custo Básico dos Produtos'!$L$7:$L$480))))))","v":0},0,0,0,0,{"$f":"SUMIF('Cadastro de Produtos em Linha'!$A$6:$A$457,Q271,'Cadastro de Produtos em Linha'!$E$6:$E$457)*H271","v":0},{"$f":"IF(TODAY()<$AK$26,IF(A271<>\"\",SUMIF('Custo Básico dos Produtos'!$B$7:$B$457,A271,'Custo Básico dos Produtos'!$A$7:$A$457),0),0)","v":0},{"$f":"IF('Aferi (Variáveis)'!$C$12=\"Venda para Exportar\",0,IF('Aferi (Variáveis)'!$C$12=\"ALC\",0,IF('Aferi (Variáveis)'!$C$12=\"ZFM\",0,IF('Aferi (Variáveis)'!$C$12=\"Exportação\",0,IF('Aferi (Variáveis)'!$C$12=\"AO\",0,E271/(100+(0*'Aferi (Variáveis)'!$K$12/100))*100*K271%/100*'Aferi (Variáveis)'!$K$12)))))","v":0},0,{"$f":"(E271*'Aferi (Variáveis)'!$K$12/100)","v":0},0,{"$f":"IF('Aferi (Variáveis)'!$F$20=\"Venda para Exportar\",0,IF('Aferi (Variáveis)'!$F$20=\"ALC\",0,IF('Aferi (Variáveis)'!$F$20=\"ZFM\",0,IF('Aferi (Variáveis)'!$F$20=\"Exportação\",0,IF('Aferi (Variáveis)'!$F$20=\"AO\",7*T271/100,T271*'Aferi (Variáveis)'!$F$20/100)))))","v":0},0,{"$f":"IF('Aferi (Variáveis)'!$C$12=\"ZFM\",0,IF('Aferi (Variáveis)'!$C$12=\"Exportação\",0,3*T271/100))","v":0},{"$f":"IF('Aferi (Variáveis)'!$C$12=\"ZFM\",0,IF('Aferi (Variáveis)'!$C$12=\"Exportação\",0,0.65*T271/100))","v":0},0,0,0,0,0,0,0,0,0,{"$f":"SUMIF('Custo Básico dos Produtos'!$B$7:$B$480,A271,'Custo Básico dos Produtos'!$K$7:$K$480)","v":0},null,null,0,0,0,0,0,0]
[null,{"$f":"IF(Q272<>0,VLOOKUP(Q272,'Custo Básico dos Produtos'!$A$7:$J$480,3),\"\")","v":""},null,{"$f":"SUMIF('Custo Básico dos Produtos'!$A$7:$A$480,Q272,'Custo Básico dos Produtos'!$J$7:$J$480)","v":0},0,0,{"$f":"IF(B272=\"\",0,SUMIF('Cadastro de Produtos em Linha'!$B$7:$B$457,A272,'Cadastro de Produtos em Linha'!$D$7:$D$457))","v":0},null,0,0,{"$f":"IF('Aferi (Variáveis)'!$C$12=\"ALC\",0,IF('Aferi (Variáveis)'!$C$12=\"ZFM\",0,IF('Aferi (Variáveis)'!$C$12=\"Exportação\",0,IF('Aferi (Variáveis)'!$C$12=\"Venda para Exportar\",0,IF('Aferi (Variáveis)'!$C$12=\"AO\",0,SUMIF('Custo Básico dos Produtos'!$A$7:$A$480,Q272,'Custo Básico dos Produtos'!$L$7:$L$480))))))","v":0},0,0,0,0,{"$f":"SUMIF('Cadastro de Produtos em Linha'!$A$6:$A$457,Q272,'Cadastro de Produtos em Linha'!$E$6:$E$457)*H272","v":0},{"$f":"IF(TODAY()<$AK$26,IF(A272<>\"\",SUMIF('Custo Básico dos Produtos'!$B$7:$B$457,A272,'Custo Básico dos Produtos'!$A$7:$A$457),0),0)","v":0},{"$f":"IF('Aferi (Variáveis)'!$C$12=\"Venda para Exportar\",0,IF('Aferi (Variáveis)'!$C$12=\"ALC\",0,IF('Aferi (Variáveis)'!$C$12=\"ZFM\",0,IF('Aferi (Variáveis)'!$C$12=\"Exportação\",0,IF('Aferi (Variáveis)'!$C$12=\"AO\",0,E272/(100+(0*'Aferi (Variáveis)'!$K$12/100))*100*K272%/100*'Aferi (Variáveis)'!$K$12)))))","v":0},0,{"$f":"(E272*'Aferi (Variáveis)'!$K$12/100)","v":0},0,{"$f":"IF('Aferi (Variáveis)'!$F$20=\"Venda para Exportar\",0,IF('Aferi (Variáveis)'!$F$20=\"ALC\",0,IF('Aferi (Variáveis)'!$F$20=\"ZFM\",0,IF('Aferi (Variáveis)'!$F$20=\"Exportação\",0,IF('Aferi (Variáveis)'!$F$20=\"AO\",7*T272/100,T272*'Aferi (Variáveis)'!$F$20/100)))))","v":0},0,{"$f":"IF('Aferi (Variáveis)'!$C$12=\"ZFM\",0,IF('Aferi (Variáveis)'!$C$12=\"Exportação\",0,3*T272/100))","v":0},{"$f":"IF('Aferi (Variáveis)'!$C$12=\"ZFM\",0,IF('Aferi (Variáveis)'!$C$12=\"Exportação\",0,0.65*T272/100))","v":0},0,0,0,0,0,0,0,0,0,{"$f":"SUMIF('Custo Básico dos Produtos'!$B$7:$B$480,A272,'Custo Básico dos Produtos'!$K$7:$K$480)","v":0},null,null,0,0,0,0,0,0]
[null,{"$f":"IF(Q273<>0,VLOOKUP(Q273,'Custo Básico dos Produtos'!$A$7:$J$480,3),\"\")","v":""},null,{"$f":"SUMIF('Custo Básico dos Produtos'!$A$7:$A$480,Q273,'Custo Básico dos Produtos'!$J$7:$J$480)","v":0},0,0,{"$f":"IF(B273=\"\",0,SUMIF('Cadastro de Produtos em Linha'!$B$7:$B$457,A273,'Cadastro de Produtos em Linha'!$D$7:$D$457))","v":0},null,0,0,{"$f":"IF('Aferi (Variáveis)'!$C$12=\"ALC\",0,IF('Aferi (Variáveis)'!$C$12=\"ZFM\",0,IF('Aferi (Variáveis)'!$C$12=\"Exportação\",0,IF('Aferi (Variáveis)'!$C$12=\"Venda para Exportar\",0,IF('Aferi (Variáveis)'!$C$12=\"AO\",0,SUMIF('Custo Básico dos Produtos'!$A$7:$A$480,Q273,'Custo Básico dos Produtos'!$L$7:$L$480))))))","v":0},0,0,0,0,{"$f":"SUMIF('Cadastro de Produtos em Linha'!$A$6:$A$457,Q273,'Cadastro de Produtos em Linha'!$E$6:$E$457)*H273","v":0},{"$f":"IF(TODAY()<$AK$26,IF(A273<>\"\",SUMIF('Custo Básico dos Produtos'!$B$7:$B$457,A273,'Custo Básico dos Produtos'!$A$7:$A$457),0),0)","v":0},{"$f":"IF('Aferi (Variáveis)'!$C$12=\"Venda para Exportar\",0,IF('Aferi (Variáveis)'!$C$12=\"ALC\",0,IF('Aferi (Variáveis)'!$C$12=\"ZFM\",0,IF('Aferi (Variáveis)'!$C$12=\"Exportação\",0,IF('Aferi (Variáveis)'!$C$12=\"AO\",0,E273/(100+(0*'Aferi (Variáveis)'!$K$12/100))*100*K273%/100*'Aferi (Variáveis)'!$K$12)))))","v":0},0,{"$f":"(E273*'Aferi (Variáveis)'!$K$12/100)","v":0},0,{"$f":"IF('Aferi (Variáveis)'!$F$20=\"Venda para Exportar\",0,IF('Aferi (Variáveis)'!$F$20=\"ALC\",0,IF('Aferi (Variáveis)'!$F$20=\"ZFM\",0,IF('Aferi (Variáveis)'!$F$20=\"Exportação\",0,IF('Aferi (Variáveis)'!$F$20=\"AO\",7*T273/100,T273*'Aferi (Variáveis)'!$F$20/100)))))","v":0},0,{"$f":"IF('Aferi (Variáveis)'!$C$12=\"ZFM\",0,IF('Aferi (Variáveis)'!$C$12=\"Exportação\",0,3*T273/100))","v":0},{"$f":"IF('Aferi (Variáveis)'!$C$12=\"ZFM\",0,IF('Aferi (Variáveis)'!$C$12=\"Exportação\",0,0.65*T273/100))","v":0},0,0,0,0,0,0,0,0,0,{"$f":"SUMIF('Custo Básico dos Produtos'!$B$7:$B$480,A273,'Custo Básico dos Produtos'!$K$7:$K$480)","v":0},null,null,0,0,0,0,0,0]
[null,{"$f":"IF(Q274<>0,VLOOKUP(Q274,'Custo Básico dos Produtos'!$A$7:$J$480,3),\"\")","v":""},null,{"$f":"SUMIF('Custo Básico dos Produtos'!$A$7:$A$480,Q274,'Custo Básico dos Produtos'!$J$7:$J$480)","v":0},0,0,{"$f":"IF(B274=\"\",0,SUMIF('Cadastro de Produtos em Linha'!$B$7:$B$457,A274,'Cadastro de Produtos em Linha'!$D$7:$D$457))","v":0},null,0,0,{"$f":"IF('Aferi (Variáveis)'!$C$12=\"ALC\",0,IF('Aferi (Variáveis)'!$C$12=\"ZFM\",0,IF('Aferi (Variáveis)'!$C$12=\"Exportação\",0,IF('Aferi (Variáveis)'!$C$12=\"Venda para Exportar\",0,IF('Aferi (Variáveis)'!$C$12=\"AO\",0,SUMIF('Custo Básico dos Produtos'!$A$7:$A$480,Q274,'Custo Básico dos Produtos'!$L$7:$L$480))))))","v":0},0,0,0,0,{"$f":"SUMIF('Cadastro de Produtos em Linha'!$A$6:$A$457,Q274,'Cadastro de Produtos em Linha'!$E$6:$E$457)*H274","v":0},{"$f":"IF(TODAY()<$AK$26,IF(A274<>\"\",SUMIF('Custo Básico dos Produtos'!$B$7:$B$457,A274,'Custo Básico dos Produtos'!$A$7:$A$457),0),0)","v":0},{"$f":"IF('Aferi (Variáveis)'!$C$12=\"Venda para Exportar\",0,IF('Aferi (Variáveis)'!$C$12=\"ALC\",0,IF('Aferi (Variáveis)'!$C$12=\"ZFM\",0,IF('Aferi (Variáveis)'!$C$12=\"Exportação\",0,IF('Aferi (Variáveis)'!$C$12=\"AO\",0,E274/(100+(0*'Aferi (Variáveis)'!$K$12/100))*100*K274%/100*'Aferi (Variáveis)'!$K$12)))))","v":0},0,{"$f":"(E274*'Aferi (Variáveis)'!$K$12/100)","v":0},0,{"$f":"IF('Aferi (Variáveis)'!$F$20=\"Venda para Exportar\",0,IF('Aferi (Variáveis)'!$F$20=\"ALC\",0,IF('Aferi (Variáveis)'!$F$20=\"ZFM\",0,IF('Aferi (Variáveis)'!$F$20=\"Exportação\",0,IF('Aferi (Variáveis)'!$F$20=\"AO\",7*T274/100,T274*'Aferi (Variáveis)'!$F$20/100)))))","v":0},0,{"$f":"IF('Aferi (Variáveis)'!$C$12=\"ZFM\",0,IF('Aferi (Variáveis)'!$C$12=\"Exportação\",0,3*T274/100))","v":0},{"$f":"IF('Aferi (Variáveis)'!$C$12=\"ZFM\",0,IF('Aferi (Variáveis)'!$C$12=\"Exportação\",0,0.65*T274/100))","v":0},0,0,0,0,0,0,0,0,0,{"$f":"SUMIF('Custo Básico dos Produtos'!$B$7:$B$480,A274,'Custo Básico dos Produtos'!$K$7:$K$480)","v":0},null,null,0,0,0,0,0,0]
[null,{"$f":"IF(Q275<>0,VLOOKUP(Q275,'Custo Básico dos Produtos'!$A$7:$J$480,3),\"\")","v":""},null,{"$f":"SUMIF('Custo Básico dos Produtos'!$A$7:$A$480,Q275,'Custo Básico dos Produtos'!$J$7:$J$480)","v":0},0,0,{"$f":"IF(B275=\"\",0,SUMIF('Cadastro de Produtos em Linha'!$B$7:$B$457,A275,'Cadastro de Produtos em Linha'!$D$7:$D$457))","v":0},null,0,0,{"$f":"IF('Aferi (Variáveis)'!$C$12=\"ALC\",0,IF('Aferi (Variáveis)'!$C$12=\"ZFM\",0,IF('Aferi (Variáveis)'!$C$12=\"Exportação\",0,IF('Aferi (Variáveis)'!$C$12=\"Venda para Exportar\",0,IF('Aferi (Variáveis)'!$C$12=\"AO\",0,SUMIF('Custo Básico dos Produtos'!$A$7:$A$480,Q275,'Custo Básico dos Produtos'!$L$7:$L$480))))))","v":0},0,0,0,0,{"$f":"SUMIF('Cadastro de Produtos em Linha'!$A$6:$A$457,Q275,'Cadastro de Produtos em Linha'!$E$6:$E$457)*H275","v":0},{"$f":"IF(TODAY()<$AK$26,IF(A275<>\"\",SUMIF('Custo Básico dos Produtos'!$B$7:$B$457,A275,'Custo Básico dos Produtos'!$A$7:$A$457),0),0)","v":0},{"$f":"IF('Aferi (Variáveis)'!$C$12=\"Venda para Exportar\",0,IF('Aferi (Variáveis)'!$C$12=\"ALC\",0,IF('Aferi (Variáveis)'!$C$12=\"ZFM\",0,IF('Aferi (Variáveis)'!$C$12=\"Exportação\",0,IF('Aferi (Variáveis)'!$C$12=\"AO\",0,E275/(100+(0*'Aferi (Variáveis)'!$K$12/100))*100*K275%/100*'Aferi (Variáveis)'!$K$12)))))","v":0},0,{"$f":"(E275*'Aferi (Variáveis)'!$K$12/100)","v":0},0,{"$f":"IF('Aferi (Variáveis)'!$F$20=\"Venda para Exportar\",0,IF('Aferi (Variáveis)'!$F$20=\"ALC\",0,IF('Aferi (Variáveis)'!$F$20=\"ZFM\",0,IF('Aferi (Variáveis)'!$F$20=\"Exportação\",0,IF('Aferi (Variáveis)'!$F$20=\"AO\",7*T275/100,T275*'Aferi (Variáveis)'!$F$20/100)))))","v":0},0,{"$f":"IF('Aferi (Variáveis)'!$C$12=\"ZFM\",0,IF('Aferi (Variáveis)'!$C$12=\"Exportação\",0,3*T275/100))","v":0},{"$f":"IF('Aferi (Variáveis)'!$C$12=\"ZFM\",0,IF('Aferi (Variáveis)'!$C$12=\"Exportação\",0,0.65*T275/100))","v":0},0,0,0,0,0,0,0,0,0,{"$f":"SUMIF('Custo Básico dos Produtos'!$B$7:$B$480,A275,'Custo Básico dos Produtos'!$K$7:$K$480)","v":0},null,null,0,0,0,0,0,0]
[null,{"$f":"IF(Q276<>0,VLOOKUP(Q276,'Custo Básico dos Produtos'!$A$7:$J$480,3),\"\")","v":""},null,{"$f":"SUMIF('Custo Básico dos Produtos'!$A$7:$A$480,Q276,'Custo Básico dos Produtos'!$J$7:$J$480)","v":0},0,0,{"$f":"IF(B276=\"\",0,SUMIF('Cadastro de Produtos em Linha'!$B$7:$B$457,A276,'Cadastro de Produtos em Linha'!$D$7:$D$457))","v":0},null,0,0,{"$f":"IF('Aferi (Variáveis)'!$C$12=\"ALC\",0,IF('Aferi (Variáveis)'!$C$12=\"ZFM\",0,IF('Aferi (Variáveis)'!$C$12=\"Exportação\",0,IF('Aferi (Variáveis)'!$C$12=\"Venda para Exportar\",0,IF('Aferi (Variáveis)'!$C$12=\"AO\",0,SUMIF('Custo Básico dos Produtos'!$A$7:$A$480,Q276,'Custo Básico dos Produtos'!$L$7:$L$480))))))","v":0},0,0,0,0,{"$f":"SUMIF('Cadastro de Produtos em Linha'!$A$6:$A$457,Q276,'Cadastro de Produtos em Linha'!$E$6:$E$457)*H276","v":0},{"$f":"IF(TODAY()<$AK$26,IF(A276<>\"\",SUMIF('Custo Básico dos Produtos'!$B$7:$B$457,A276,'Custo Básico dos Produtos'!$A$7:$A$457),0),0)","v":0},{"$f":"IF('Aferi (Variáveis)'!$C$12=\"Venda para Exportar\",0,IF('Aferi (Variáveis)'!$C$12=\"ALC\",0,IF('Aferi (Variáveis)'!$C$12=\"ZFM\",0,IF('Aferi (Variáveis)'!$C$12=\"Exportação\",0,IF('Aferi (Variáveis)'!$C$12=\"AO\",0,E276/(100+(0*'Aferi (Variáveis)'!$K$12/100))*100*K276%/100*'Aferi (Variáveis)'!$K$12)))))","v":0},0,{"$f":"(E276*'Aferi (Variáveis)'!$K$12/100)","v":0},0,{"$f":"IF('Aferi (Variáveis)'!$F$20=\"Venda para Exportar\",0,IF('Aferi (Variáveis)'!$F$20=\"ALC\",0,IF('Aferi (Variáveis)'!$F$20=\"ZFM\",0,IF('Aferi (Variáveis)'!$F$20=\"Exportação\",0,IF('Aferi (Variáveis)'!$F$20=\"AO\",7*T276/100,T276*'Aferi (Variáveis)'!$F$20/100)))))","v":0},0,{"$f":"IF('Aferi (Variáveis)'!$C$12=\"ZFM\",0,IF('Aferi (Variáveis)'!$C$12=\"Exportação\",0,3*T276/100))","v":0},{"$f":"IF('Aferi (Variáveis)'!$C$12=\"ZFM\",0,IF('Aferi (Variáveis)'!$C$12=\"Exportação\",0,0.65*T276/100))","v":0},0,0,0,0,0,0,0,0,0,{"$f":"SUMIF('Custo Básico dos Produtos'!$B$7:$B$480,A276,'Custo Básico dos Produtos'!$K$7:$K$480)","v":0},null,null,0,0,0,0,0,0]
[null,{"$f":"IF(Q277<>0,VLOOKUP(Q277,'Custo Básico dos Produtos'!$A$7:$J$480,3),\"\")","v":""},null,{"$f":"SUMIF('Custo Básico dos Produtos'!$A$7:$A$480,Q277,'Custo Básico dos Produtos'!$J$7:$J$480)","v":0},0,0,{"$f":"IF(B277=\"\",0,SUMIF('Cadastro de Produtos em Linha'!$B$7:$B$457,A277,'Cadastro de Produtos em Linha'!$D$7:$D$457))","v":0},null,0,0,{"$f":"IF('Aferi (Variáveis)'!$C$12=\"ALC\",0,IF('Aferi (Variáveis)'!$C$12=\"ZFM\",0,IF('Aferi (Variáveis)'!$C$12=\"Exportação\",0,IF('Aferi (Variáveis)'!$C$12=\"Venda para Exportar\",0,IF('Aferi (Variáveis)'!$C$12=\"AO\",0,SUMIF('Custo Básico dos Produtos'!$A$7:$A$480,Q277,'Custo Básico dos Produtos'!$L$7:$L$480))))))","v":0},0,0,0,0,{"$f":"SUMIF('Cadastro de Produtos em Linha'!$A$6:$A$457,Q277,'Cadastro de Produtos em Linha'!$E$6:$E$457)*H277","v":0},{"$f":"IF(TODAY()<$AK$26,IF(A277<>\"\",SUMIF('Custo Básico dos Produtos'!$B$7:$B$457,A277,'Custo Básico dos Produtos'!$A$7:$A$457),0),0)","v":0},{"$f":"IF('Aferi (Variáveis)'!$C$12=\"Venda para Exportar\",0,IF('Aferi (Variáveis)'!$C$12=\"ALC\",0,IF('Aferi (Variáveis)'!$C$12=\"ZFM\",0,IF('Aferi (Variáveis)'!$C$12=\"Exportação\",0,IF('Aferi (Variáveis)'!$C$12=\"AO\",0,E277/(100+(0*'Aferi (Variáveis)'!$K$12/100))*100*K277%/100*'Aferi (Variáveis)'!$K$12)))))","v":0},0,{"$f":"(E277*'Aferi (Variáveis)'!$K$12/100)","v":0},0,{"$f":"IF('Aferi (Variáveis)'!$F$20=\"Venda para Exportar\",0,IF('Aferi (Variáveis)'!$F$20=\"ALC\",0,IF('Aferi (Variáveis)'!$F$20=\"ZFM\",0,IF('Aferi (Variáveis)'!$F$20=\"Exportação\",0,IF('Aferi (Variáveis)'!$F$20=\"AO\",7*T277/100,T277*'Aferi (Variáveis)'!$F$20/100)))))","v":0},0,{"$f":"IF('Aferi (Variáveis)'!$C$12=\"ZFM\",0,IF('Aferi (Variáveis)'!$C$12=\"Exportação\",0,3*T277/100))","v":0},{"$f":"IF('Aferi (Variáveis)'!$C$12=\"ZFM\",0,IF('Aferi (Variáveis)'!$C$12=\"Exportação\",0,0.65*T277/100))","v":0},0,0,0,0,0,0,0,0,0,{"$f":"SUMIF('Custo Básico dos Produtos'!$B$7:$B$480,A277,'Custo Básico dos Produtos'!$K$7:$K$480)","v":0},null,null,0,0,0,0,0,0]
[null,{"$f":"IF(Q278<>0,VLOOKUP(Q278,'Custo Básico dos Produtos'!$A$7:$J$480,3),\"\")","v":""},null,{"$f":"SUMIF('Custo Básico dos Produtos'!$A$7:$A$480,Q278,'Custo Básico dos Produtos'!$J$7:$J$480)","v":0},0,0,{"$f":"IF(B278=\"\",0,SUMIF('Cadastro de Produtos em Linha'!$B$7:$B$457,A278,'Cadastro de Produtos em Linha'!$D$7:$D$457))","v":0},null,0,0,{"$f":"IF('Aferi (Variáveis)'!$C$12=\"ALC\",0,IF('Aferi (Variáveis)'!$C$12=\"ZFM\",0,IF('Aferi (Variáveis)'!$C$12=\"Exportação\",0,IF('Aferi (Variáveis)'!$C$12=\"Venda para Exportar\",0,IF('Aferi (Variáveis)'!$C$12=\"AO\",0,SUMIF('Custo Básico dos Produtos'!$A$7:$A$480,Q278,'Custo Básico dos Produtos'!$L$7:$L$480))))))","v":0},0,0,0,0,{"$f":"SUMIF('Cadastro de Produtos em Linha'!$A$6:$A$457,Q278,'Cadastro de Produtos em Linha'!$E$6:$E$457)*H278","v":0},{"$f":"IF(TODAY()<$AK$26,IF(A278<>\"\",SUMIF('Custo Básico dos Produtos'!$B$7:$B$457,A278,'Custo Básico dos Produtos'!$A$7:$A$457),0),0)","v":0},{"$f":"IF('Aferi (Variáveis)'!$C$12=\"Venda para Exportar\",0,IF('Aferi (Variáveis)'!$C$12=\"ALC\",0,IF('Aferi (Variáveis)'!$C$12=\"ZFM\",0,IF('Aferi (Variáveis)'!$C$12=\"Exportação\",0,IF('Aferi (Variáveis)'!$C$12=\"AO\",0,E278/(100+(0*'Aferi (Variáveis)'!$K$12/100))*100*K278%/100*'Aferi (Variáveis)'!$K$12)))))","v":0},0,{"$f":"(E278*'Aferi (Variáveis)'!$K$12/100)","v":0},0,{"$f":"IF('Aferi (Variáveis)'!$F$20=\"Venda para Exportar\",0,IF('Aferi (Variáveis)'!$F$20=\"ALC\",0,IF('Aferi (Variáveis)'!$F$20=\"ZFM\",0,IF('Aferi (Variáveis)'!$F$20=\"Exportação\",0,IF('Aferi (Variáveis)'!$F$20=\"AO\",7*T278/100,T278*'Aferi (Variáveis)'!$F$20/100)))))","v":0},0,{"$f":"IF('Aferi (Variáveis)'!$C$12=\"ZFM\",0,IF('Aferi (Variáveis)'!$C$12=\"Exportação\",0,3*T278/100))","v":0},{"$f":"IF('Aferi (Variáveis)'!$C$12=\"ZFM\",0,IF('Aferi (Variáveis)'!$C$12=\"Exportação\",0,0.65*T278/100))","v":0},0,0,0,0,0,0,0,0,0,{"$f":"SUMIF('Custo Básico dos Produtos'!$B$7:$B$480,A278,'Custo Básico dos Produtos'!$K$7:$K$480)","v":0},null,null,0,0,0,0,0,0]
[null,{"$f":"IF(Q279<>0,VLOOKUP(Q279,'Custo Básico dos Produtos'!$A$7:$J$480,3),\"\")","v":""},null,{"$f":"SUMIF('Custo Básico dos Produtos'!$A$7:$A$480,Q279,'Custo Básico dos Produtos'!$J$7:$J$480)","v":0},0,0,{"$f":"IF(B279=\"\",0,SUMIF('Cadastro de Produtos em Linha'!$B$7:$B$457,A279,'Cadastro de Produtos em Linha'!$D$7:$D$457))","v":0},null,0,0,{"$f":"IF('Aferi (Variáveis)'!$C$12=\"ALC\",0,IF('Aferi (Variáveis)'!$C$12=\"ZFM\",0,IF('Aferi (Variáveis)'!$C$12=\"Exportação\",0,IF('Aferi (Variáveis)'!$C$12=\"Venda para Exportar\",0,IF('Aferi (Variáveis)'!$C$12=\"AO\",0,SUMIF('Custo Básico dos Produtos'!$A$7:$A$480,Q279,'Custo Básico dos Produtos'!$L$7:$L$480))))))","v":0},0,0,0,0,{"$f":"SUMIF('Cadastro de Produtos em Linha'!$A$6:$A$457,Q279,'Cadastro de Produtos em Linha'!$E$6:$E$457)*H279","v":0},{"$f":"IF(TODAY()<$AK$26,IF(A279<>\"\",SUMIF('Custo Básico dos Produtos'!$B$7:$B$457,A279,'Custo Básico dos Produtos'!$A$7:$A$457),0),0)","v":0},{"$f":"IF('Aferi (Variáveis)'!$C$12=\"Venda para Exportar\",0,IF('Aferi (Variáveis)'!$C$12=\"ALC\",0,IF('Aferi (Variáveis)'!$C$12=\"ZFM\",0,IF('Aferi (Variáveis)'!$C$12=\"Exportação\",0,IF('Aferi (Variáveis)'!$C$12=\"AO\",0,E279/(100+(0*'Aferi (Variáveis)'!$K$12/100))*100*K279%/100*'Aferi (Variáveis)'!$K$12)))))","v":0},0,{"$f":"(E279*'Aferi (Variáveis)'!$K$12/100)","v":0},0,{"$f":"IF('Aferi (Variáveis)'!$F$20=\"Venda para Exportar\",0,IF('Aferi (Variáveis)'!$F$20=\"ALC\",0,IF('Aferi (Variáveis)'!$F$20=\"ZFM\",0,IF('Aferi (Variáveis)'!$F$20=\"Exportação\",0,IF('Aferi (Variáveis)'!$F$20=\"AO\",7*T279/100,T279*'Aferi (Variáveis)'!$F$20/100)))))","v":0},0,{"$f":"IF('Aferi (Variáveis)'!$C$12=\"ZFM\",0,IF('Aferi (Variáveis)'!$C$12=\"Exportação\",0,3*T279/100))","v":0},{"$f":"IF('Aferi (Variáveis)'!$C$12=\"ZFM\",0,IF('Aferi (Variáveis)'!$C$12=\"Exportação\",0,0.65*T279/100))","v":0},0,0,0,0,0,0,0,0,0,{"$f":"SUMIF('Custo Básico dos Produtos'!$B$7:$B$480,A279,'Custo Básico dos Produtos'!$K$7:$K$480)","v":0},null,null,0,0,0,0,0,0]
[null,{"$f":"IF(Q280<>0,VLOOKUP(Q280,'Custo Básico dos Produtos'!$A$7:$J$480,3),\"\")","v":""},null,{"$f":"SUMIF('Custo Básico dos Produtos'!$A$7:$A$480,Q280,'Custo Básico dos Produtos'!$J$7:$J$480)","v":0},0,0,{"$f":"IF(B280=\"\",0,SUMIF('Cadastro de Produtos em Linha'!$B$7:$B$457,A280,'Cadastro de Produtos em Linha'!$D$7:$D$457))","v":0},null,0,0,{"$f":"IF('Aferi (Variáveis)'!$C$12=\"ALC\",0,IF('Aferi (Variáveis)'!$C$12=\"ZFM\",0,IF('Aferi (Variáveis)'!$C$12=\"Exportação\",0,IF('Aferi (Variáveis)'!$C$12=\"Venda para Exportar\",0,IF('Aferi (Variáveis)'!$C$12=\"AO\",0,SUMIF('Custo Básico dos Produtos'!$A$7:$A$480,Q280,'Custo Básico dos Produtos'!$L$7:$L$480))))))","v":0},0,0,0,0,{"$f":"SUMIF('Cadastro de Produtos em Linha'!$A$6:$A$457,Q280,'Cadastro de Produtos em Linha'!$E$6:$E$457)*H280","v":0},{"$f":"IF(TODAY()<$AK$26,IF(A280<>\"\",SUMIF('Custo Básico dos Produtos'!$B$7:$B$457,A280,'Custo Básico dos Produtos'!$A$7:$A$457),0),0)","v":0},{"$f":"IF('Aferi (Variáveis)'!$C$12=\"Venda para Exportar\",0,IF('Aferi (Variáveis)'!$C$12=\"ALC\",0,IF('Aferi (Variáveis)'!$C$12=\"ZFM\",0,IF('Aferi (Variáveis)'!$C$12=\"Exportação\",0,IF('Aferi (Variáveis)'!$C$12=\"AO\",0,E280/(100+(0*'Aferi (Variáveis)'!$K$12/100))*100*K280%/100*'Aferi (Variáveis)'!$K$12)))))","v":0},0,{"$f":"(E280*'Aferi (Variáveis)'!$K$12/100)","v":0},0,{"$f":"IF('Aferi (Variáveis)'!$F$20=\"Venda para Exportar\",0,IF('Aferi (Variáveis)'!$F$20=\"ALC\",0,IF('Aferi (Variáveis)'!$F$20=\"ZFM\",0,IF('Aferi (Variáveis)'!$F$20=\"Exportação\",0,IF('Aferi (Variáveis)'!$F$20=\"AO\",7*T280/100,T280*'Aferi (Variáveis)'!$F$20/100)))))","v":0},0,{"$f":"IF('Aferi (Variáveis)'!$C$12=\"ZFM\",0,IF('Aferi (Variáveis)'!$C$12=\"Exportação\",0,3*T280/100))","v":0},{"$f":"IF('Aferi (Variáveis)'!$C$12=\"ZFM\",0,IF('Aferi (Variáveis)'!$C$12=\"Exportação\",0,0.65*T280/100))","v":0},0,0,0,0,0,0,0,0,0,{"$f":"SUMIF('Custo Básico dos Produtos'!$B$7:$B$480,A280,'Custo Básico dos Produtos'!$K$7:$K$480)","v":0},null,null,0,0,0,0,0,0]
[null,{"$f":"IF(Q281<>0,VLOOKUP(Q281,'Custo Básico dos Produtos'!$A$7:$J$480,3),\"\")","v":""},null,{"$f":"SUMIF('Custo Básico dos Produtos'!$A$7:$A$480,Q281,'Custo Básico dos Produtos'!$J$7:$J$480)","v":0},0,0,{"$f":"IF(B281=\"\",0,SUMIF('Cadastro de Produtos em Linha'!$B$7:$B$457,A281,'Cadastro de Produtos em Linha'!$D$7:$D$457))","v":0},null,0,0,{"$f":"IF('Aferi (Variáveis)'!$C$12=\"ALC\",0,IF('Aferi (Variáveis)'!$C$12=\"ZFM\",0,IF('Aferi (Variáveis)'!$C$12=\"Exportação\",0,IF('Aferi (Variáveis)'!$C$12=\"Venda para Exportar\",0,IF('Aferi (Variáveis)'!$C$12=\"AO\",0,SUMIF('Custo Básico dos Produtos'!$A$7:$A$480,Q281,'Custo Básico dos Produtos'!$L$7:$L$480))))))","v":0},0,0,0,0,{"$f":"SUMIF('Cadastro de Produtos em Linha'!$A$6:$A$457,Q281,'Cadastro de Produtos em Linha'!$E$6:$E$457)*H281","v":0},{"$f":"IF(TODAY()<$AK$26,IF(A281<>\"\",SUMIF('Custo Básico dos Produtos'!$B$7:$B$457,A281,'Custo Básico dos Produtos'!$A$7:$A$457),0),0)","v":0},{"$f":"IF('Aferi (Variáveis)'!$C$12=\"Venda para Exportar\",0,IF('Aferi (Variáveis)'!$C$12=\"ALC\",0,IF('Aferi (Variáveis)'!$C$12=\"ZFM\",0,IF('Aferi (Variáveis)'!$C$12=\"Exportação\",0,IF('Aferi (Variáveis)'!$C$12=\"AO\",0,E281/(100+(0*'Aferi (Variáveis)'!$K$12/100))*100*K281%/100*'Aferi (Variáveis)'!$K$12)))))","v":0},0,{"$f":"(E281*'Aferi (Variáveis)'!$K$12/100)","v":0},0,{"$f":"IF('Aferi (Variáveis)'!$F$20=\"Venda para Exportar\",0,IF('Aferi (Variáveis)'!$F$20=\"ALC\",0,IF('Aferi (Variáveis)'!$F$20=\"ZFM\",0,IF('Aferi (Variáveis)'!$F$20=\"Exportação\",0,IF('Aferi (Variáveis)'!$F$20=\"AO\",7*T281/100,T281*'Aferi (Variáveis)'!$F$20/100)))))","v":0},0,{"$f":"IF('Aferi (Variáveis)'!$C$12=\"ZFM\",0,IF('Aferi (Variáveis)'!$C$12=\"Exportação\",0,3*T281/100))","v":0},{"$f":"IF('Aferi (Variáveis)'!$C$12=\"ZFM\",0,IF('Aferi (Variáveis)'!$C$12=\"Exportação\",0,0.65*T281/100))","v":0},0,0,0,0,0,0,0,0,0,{"$f":"SUMIF('Custo Básico dos Produtos'!$B$7:$B$480,A281,'Custo Básico dos Produtos'!$K$7:$K$480)","v":0},null,null,0,0,0,0,0,0]
[null,{"$f":"IF(Q282<>0,VLOOKUP(Q282,'Custo Básico dos Produtos'!$A$7:$J$480,3),\"\")","v":""},null,{"$f":"SUMIF('Custo Básico dos Produtos'!$A$7:$A$480,Q282,'Custo Básico dos Produtos'!$J$7:$J$480)","v":0},0,0,{"$f":"IF(B282=\"\",0,SUMIF('Cadastro de Produtos em Linha'!$B$7:$B$457,A282,'Cadastro de Produtos em Linha'!$D$7:$D$457))","v":0},null,0,0,{"$f":"IF('Aferi (Variáveis)'!$C$12=\"ALC\",0,IF('Aferi (Variáveis)'!$C$12=\"ZFM\",0,IF('Aferi (Variáveis)'!$C$12=\"Exportação\",0,IF('Aferi (Variáveis)'!$C$12=\"Venda para Exportar\",0,IF('Aferi (Variáveis)'!$C$12=\"AO\",0,SUMIF('Custo Básico dos Produtos'!$A$7:$A$480,Q282,'Custo Básico dos Produtos'!$L$7:$L$480))))))","v":0},0,0,0,{"$f":"IF(I282>0,AG282*I282,0)","v":0},{"$f":"SUMIF('Cadastro de Produtos em Linha'!$A$6:$A$457,Q282,'Cadastro de Produtos em Linha'!$E$6:$E$457)*H282","v":0},{"$f":"IF(TODAY()<$AK$26,IF(A282<>\"\",SUMIF('Custo Básico dos Produtos'!$B$7:$B$457,A282,'Custo Básico dos Produtos'!$A$7:$A$457),0),0)","v":0},{"$f":"IF('Aferi (Variáveis)'!$C$12=\"Venda para Exportar\",0,IF('Aferi (Variáveis)'!$C$12=\"ALC\",0,IF('Aferi (Variáveis)'!$C$12=\"ZFM\",0,IF('Aferi (Variáveis)'!$C$12=\"Exportação\",0,IF('Aferi (Variáveis)'!$C$12=\"AO\",0,E282/(100+(0*'Aferi (Variáveis)'!$K$12/100))*100*K282%/100*'Aferi (Variáveis)'!$K$12)))))","v":0},{"$f":"I282*R282","v":0},{"$f":"(E282*'Aferi (Variáveis)'!$K$12/100)","v":0},{"$f":"IF(I282>0,T282*I282,0)","v":0},{"$f":"IF('Aferi (Variáveis)'!$F$20=\"Venda para Exportar\",0,IF('Aferi (Variáveis)'!$F$20=\"ALC\",0,IF('Aferi (Variáveis)'!$F$20=\"ZFM\",0,IF('Aferi (Variáveis)'!$F$20=\"Exportação\",0,IF('Aferi (Variáveis)'!$F$20=\"AO\",7*T282/100,T282*'Aferi (Variáveis)'!$F$20/100)))))","v":0},{"$f":"T282*(W$22/100)","v":0},{"$f":"IF('Aferi (Variáveis)'!$C$12=\"ZFM\",0,IF('Aferi (Variáveis)'!$C$12=\"Exportação\",0,3*T282/100))","v":0},{"$f":"IF('Aferi (Variáveis)'!$C$12=\"ZFM\",0,IF('Aferi (Variáveis)'!$C$12=\"Exportação\",0,0.65*T282/100))","v":0},{"$f":"T282*(Z$22/100)","v":0},0,0,0,0,0,0,{"$f":"E282-AF282-D282","v":0},{"$f":"IF(AG282<>0,AG282/(E282)*100,0)","v":0},{"$f":"SUMIF('Custo Básico dos Produtos'!$B$7:$B$480,A282,'Custo Básico dos Produtos'!$K$7:$K$480)","v":0},null,null,0,0,0,0,0,0]
[null,{"$f":"IF(Q283<>0,VLOOKUP(Q283,'Custo Básico dos Produtos'!$A$7:$J$480,3),\"\")","v":""},null,{"$f":"SUMIF('Custo Básico dos Produtos'!$A$7:$A$480,Q283,'Custo Básico dos Produtos'!$J$7:$J$480)","v":0},0,0,{"$f":"IF(B283=\"\",0,SUMIF('Cadastro de Produtos em Linha'!$B$7:$B$457,A283,'Cadastro de Produtos em Linha'!$D$7:$D$457))","v":0},null,0,0,{"$f":"IF('Aferi (Variáveis)'!$C$12=\"ALC\",0,IF('Aferi (Variáveis)'!$C$12=\"ZFM\",0,IF('Aferi (Variáveis)'!$C$12=\"Exportação\",0,IF('Aferi (Variáveis)'!$C$12=\"Venda para Exportar\",0,IF('Aferi (Variáveis)'!$C$12=\"AO\",0,SUMIF('Custo Básico dos Produtos'!$A$7:$A$480,Q283,'Custo Básico dos Produtos'!$L$7:$L$480))))))","v":0},0,0,0,0,{"$f":"SUMIF('Cadastro de Produtos em Linha'!$A$6:$A$457,Q283,'Cadastro de Produtos em Linha'!$E$6:$E$457)*H283","v":0},{"$f":"IF(TODAY()<$AK$26,IF(A283<>\"\",SUMIF('Custo Básico dos Produtos'!$B$7:$B$457,A283,'Custo Básico dos Produtos'!$A$7:$A$457),0),0)","v":0},{"$f":"IF('Aferi (Variáveis)'!$C$12=\"Venda para Exportar\",0,IF('Aferi (Variáveis)'!$C$12=\"ALC\",0,IF('Aferi (Variáveis)'!$C$12=\"ZFM\",0,IF('Aferi (Variáveis)'!$C$12=\"Exportação\",0,IF('Aferi (Variáveis)'!$C$12=\"AO\",0,E283/(100+(0*'Aferi (Variáveis)'!$K$12/100))*100*K283%/100*'Aferi (Variáveis)'!$K$12)))))","v":0},0,{"$f":"(E283*'Aferi (Variáveis)'!$K$12/100)","v":0},0,{"$f":"IF('Aferi (Variáveis)'!$F$20=\"Venda para Exportar\",0,IF('Aferi (Variáveis)'!$F$20=\"ALC\",0,IF('Aferi (Variáveis)'!$F$20=\"ZFM\",0,IF('Aferi (Variáveis)'!$F$20=\"Exportação\",0,IF('Aferi (Variáveis)'!$F$20=\"AO\",7*T283/100,T283*'Aferi (Variáveis)'!$F$20/100)))))","v":0},0,{"$f":"IF('Aferi (Variáveis)'!$C$12=\"ZFM\",0,IF('Aferi (Variáveis)'!$C$12=\"Exportação\",0,3*T283/100))","v":0},{"$f":"IF('Aferi (Variáveis)'!$C$12=\"ZFM\",0,IF('Aferi (Variáveis)'!$C$12=\"Exportação\",0,0.65*T283/100))","v":0},0,0,{"$f":"E283*(AB$23/100)","v":0},{"$f":"IF(A283<>\"\",E283*(AC$23/100),0)","v":0},{"$f":"E283*($AD$23/100)","v":0},{"$f":"E283*(AE$23/100)","v":0},{"$f":"SUM(V283:AE283)","v":0},0,0,{"$f":"SUMIF('Custo Básico dos Produtos'!$B$7:$B$480,A283,'Custo Básico dos Produtos'!$K$7:$K$480)","v":0},null,null,{"$f":"D283","v":0},{"$f":"AL283/(1-AM$24)","v":0},{"$f":"AM283*AM$22","v":0},{"$f":"AM283*AM$23","v":0},{"$f":"AM283-SUM(AN283:AO283)-AL283","v":0},{"$f":"IFERROR(AP283/AM283,0)","v":0}]
[null,{"$f":"IF(Q284<>0,VLOOKUP(Q284,'Custo Básico dos Produtos'!$A$7:$J$480,3),\"\")","v":""},null,{"$f":"SUMIF('Custo Básico dos Produtos'!$A$7:$A$480,Q284,'Custo Básico dos Produtos'!$J$7:$J$480)","v":0},0,{"$f":"IF(A284=\"\",0,IF(TODAY()<$AK$26,IF(E284>0,IF(H284>0,IF(AH284>=AI284,AH284,)/4),0)))","v":0},{"$f":"IF(B284=\"\",0,SUMIF('Cadastro de Produtos em Linha'!$B$7:$B$457,A284,'Cadastro de Produtos em Linha'!$D$7:$D$457))","v":0},null,0,0,{"$f":"IF('Aferi (Variáveis)'!$C$12=\"ALC\",0,IF('Aferi (Variáveis)'!$C$12=\"ZFM\",0,IF('Aferi (Variáveis)'!$C$12=\"Exportação\",0,IF('Aferi (Variáveis)'!$C$12=\"Venda para Exportar\",0,IF('Aferi (Variáveis)'!$C$12=\"AO\",0,SUMIF('Custo Básico dos Produtos'!$A$7:$A$480,Q284,'Custo Básico dos Produtos'!$L$7:$L$480))))))","v":0},0,0,0,0,{"$f":"SUMIF('Cadastro de Produtos em Linha'!$A$6:$A$457,Q284,'Cadastro de Produtos em Linha'!$E$6:$E$457)*H284","v":0},{"$f":"IF(TODAY()<$AK$26,IF(A284<>\"\",SUMIF('Custo Básico dos Produtos'!$B$7:$B$457,A284,'Custo Básico dos Produtos'!$A$7:$A$457),0),0)","v":0},{"$f":"IF('Aferi (Variáveis)'!$C$12=\"Venda para Exportar\",0,IF('Aferi (Variáveis)'!$C$12=\"ALC\",0,IF('Aferi (Variáveis)'!$C$12=\"ZFM\",0,IF('Aferi (Variáveis)'!$C$12=\"Exportação\",0,IF('Aferi (Variáveis)'!$C$12=\"AO\",0,E284/(100+(0*'Aferi (Variáveis)'!$K$12/100))*100*K284%/100*'Aferi (Variáveis)'!$K$12)))))","v":0},0,{"$f":"(E284*'Aferi (Variáveis)'!$K$12/100)","v":0},0,{"$f":"IF('Aferi (Variáveis)'!$F$20=\"Venda para Exportar\",0,IF('Aferi (Variáveis)'!$F$20=\"ALC\",0,IF('Aferi (Variáveis)'!$F$20=\"ZFM\",0,IF('Aferi (Variáveis)'!$F$20=\"Exportação\",0,IF('Aferi (Variáveis)'!$F$20=\"AO\",7*T284/100,T284*'Aferi (Variáveis)'!$F$20/100)))))","v":0},0,{"$f":"IF('Aferi (Variáveis)'!$C$12=\"ZFM\",0,IF('Aferi (Variáveis)'!$C$12=\"Exportação\",0,3*T284/100))","v":0},{"$f":"IF('Aferi (Variáveis)'!$C$12=\"ZFM\",0,IF('Aferi (Variáveis)'!$C$12=\"Exportação\",0,0.65*T284/100))","v":0},0,{"$f":"E284*(AA$23/100)","v":0},0,0,0,0,0,0,0,{"$f":"SUMIF('Custo Básico dos Produtos'!$B$7:$B$480,A284,'Custo Básico dos Produtos'!$K$7:$K$480)","v":0},null,null,0,0,0,0,0,0]
[null,{"$f":"IF(Q285<>0,VLOOKUP(Q285,'Custo Básico dos Produtos'!$A$7:$J$480,3),\"\")","v":""},null,{"$f":"SUMIF('Custo Básico dos Produtos'!$A$7:$A$480,Q285,'Custo Básico dos Produtos'!$J$7:$J$480)","v":0},0,0,{"$f":"IF(B285=\"\",0,SUMIF('Cadastro de Produtos em Linha'!$B$7:$B$457,A285,'Cadastro de Produtos em Linha'!$D$7:$D$457))","v":0},null,0,0,{"$f":"IF('Aferi (Variáveis)'!$C$12=\"ALC\",0,IF('Aferi (Variáveis)'!$C$12=\"ZFM\",0,IF('Aferi (Variáveis)'!$C$12=\"Exportação\",0,IF('Aferi (Variáveis)'!$C$12=\"Venda para Exportar\",0,IF('Aferi (Variáveis)'!$C$12=\"AO\",0,SUMIF('Custo Básico dos Produtos'!$A$7:$A$480,Q285,'Custo Básico dos Produtos'!$L$7:$L$480))))))","v":0},0,0,0,0,{"$f":"SUMIF('Cadastro de Produtos em Linha'!$A$6:$A$457,Q285,'Cadastro de Produtos em Linha'!$E$6:$E$457)*H285","v":0},{"$f":"IF(TODAY()<$AK$26,IF(A285<>\"\",SUMIF('Custo Básico dos Produtos'!$B$7:$B$457,A285,'Custo Básico dos Produtos'!$A$7:$A$457),0),0)","v":0},{"$f":"IF('Aferi (Variáveis)'!$C$12=\"Venda para Exportar\",0,IF('Aferi (Variáveis)'!$C$12=\"ALC\",0,IF('Aferi (Variáveis)'!$C$12=\"ZFM\",0,IF('Aferi (Variáveis)'!$C$12=\"Exportação\",0,IF('Aferi (Variáveis)'!$C$12=\"AO\",0,E285/(100+(0*'Aferi (Variáveis)'!$K$12/100))*100*K285%/100*'Aferi (Variáveis)'!$K$12)))))","v":0},0,{"$f":"(E285*'Aferi (Variáveis)'!$K$12/100)","v":0},0,{"$f":"IF('Aferi (Variáveis)'!$F$20=\"Venda para Exportar\",0,IF('Aferi (Variáveis)'!$F$20=\"ALC\",0,IF('Aferi (Variáveis)'!$F$20=\"ZFM\",0,IF('Aferi (Variáveis)'!$F$20=\"Exportação\",0,IF('Aferi (Variáveis)'!$F$20=\"AO\",7*T285/100,T285*'Aferi (Variáveis)'!$F$20/100)))))","v":0},0,{"$f":"IF('Aferi (Variáveis)'!$C$12=\"ZFM\",0,IF('Aferi (Variáveis)'!$C$12=\"Exportação\",0,3*T285/100))","v":0},{"$f":"IF('Aferi (Variáveis)'!$C$12=\"ZFM\",0,IF('Aferi (Variáveis)'!$C$12=\"Exportação\",0,0.65*T285/100))","v":0},0,0,0,0,0,0,0,0,0,{"$f":"SUMIF('Custo Básico dos Produtos'!$B$7:$B$480,A285,'Custo Básico dos Produtos'!$K$7:$K$480)","v":0},null,null,0,0,0,0,0,0]
[null,{"$f":"IF(Q286<>0,VLOOKUP(Q286,'Custo Básico dos Produtos'!$A$7:$J$480,3),\"\")","v":""},null,{"$f":"SUMIF('Custo Básico dos Produtos'!$A$7:$A$480,Q286,'Custo Básico dos Produtos'!$J$7:$J$480)","v":0},0,0,{"$f":"IF(B286=\"\",0,SUMIF('Cadastro de Produtos em Linha'!$B$7:$B$457,A286,'Cadastro de Produtos em Linha'!$D$7:$D$457))","v":0},null,0,0,{"$f":"IF('Aferi (Variáveis)'!$C$12=\"ALC\",0,IF('Aferi (Variáveis)'!$C$12=\"ZFM\",0,IF('Aferi (Variáveis)'!$C$12=\"Exportação\",0,IF('Aferi (Variáveis)'!$C$12=\"Venda para Exportar\",0,IF('Aferi (Variáveis)'!$C$12=\"AO\",0,SUMIF('Custo Básico dos Produtos'!$A$7:$A$480,Q286,'Custo Básico dos Produtos'!$L$7:$L$480))))))","v":0},0,0,0,0,{"$f":"SUMIF('Cadastro de Produtos em Linha'!$A$6:$A$457,Q286,'Cadastro de Produtos em Linha'!$E$6:$E$457)*H286","v":0},{"$f":"IF(TODAY()<$AK$26,IF(A286<>\"\",SUMIF('Custo Básico dos Produtos'!$B$7:$B$457,A286,'Custo Básico dos Produtos'!$A$7:$A$457),0),0)","v":0},{"$f":"IF('Aferi (Variáveis)'!$C$12=\"Venda para Exportar\",0,IF('Aferi (Variáveis)'!$C$12=\"ALC\",0,IF('Aferi (Variáveis)'!$C$12=\"ZFM\",0,IF('Aferi (Variáveis)'!$C$12=\"Exportação\",0,IF('Aferi (Variáveis)'!$C$12=\"AO\",0,E286/(100+(0*'Aferi (Variáveis)'!$K$12/100))*100*K286%/100*'Aferi (Variáveis)'!$K$12)))))","v":0},0,{"$f":"(E286*'Aferi (Variáveis)'!$K$12/100)","v":0},0,{"$f":"IF('Aferi (Variáveis)'!$F$20=\"Venda para Exportar\",0,IF('Aferi (Variáveis)'!$F$20=\"ALC\",0,IF('Aferi (Variáveis)'!$F$20=\"ZFM\",0,IF('Aferi (Variáveis)'!$F$20=\"Exportação\",0,IF('Aferi (Variáveis)'!$F$20=\"AO\",7*T286/100,T286*'Aferi (Variáveis)'!$F$20/100)))))","v":0},0,{"$f":"IF('Aferi (Variáveis)'!$C$12=\"ZFM\",0,IF('Aferi (Variáveis)'!$C$12=\"Exportação\",0,3*T286/100))","v":0},{"$f":"IF('Aferi (Variáveis)'!$C$12=\"ZFM\",0,IF('Aferi (Variáveis)'!$C$12=\"Exportação\",0,0.65*T286/100))","v":0},0,0,0,0,0,0,0,0,0,{"$f":"SUMIF('Custo Básico dos Produtos'!$B$7:$B$480,A286,'Custo Básico dos Produtos'!$K$7:$K$480)","v":0},null,null,0,0,0,0,0,0]
[null,{"$f":"IF(Q287<>0,VLOOKUP(Q287,'Custo Básico dos Produtos'!$A$7:$J$480,3),\"\")","v":""},null,{"$f":"SUMIF('Custo Básico dos Produtos'!$A$7:$A$480,Q287,'Custo Básico dos Produtos'!$J$7:$J$480)","v":0},0,0,{"$f":"IF(B287=\"\",0,SUMIF('Cadastro de Produtos em Linha'!$B$7:$B$457,A287,'Cadastro de Produtos em Linha'!$D$7:$D$457))","v":0},null,0,0,{"$f":"IF('Aferi (Variáveis)'!$C$12=\"ALC\",0,IF('Aferi (Variáveis)'!$C$12=\"ZFM\",0,IF('Aferi (Variáveis)'!$C$12=\"Exportação\",0,IF('Aferi (Variáveis)'!$C$12=\"Venda para Exportar\",0,IF('Aferi (Variáveis)'!$C$12=\"AO\",0,SUMIF('Custo Básico dos Produtos'!$A$7:$A$480,Q287,'Custo Básico dos Produtos'!$L$7:$L$480))))))","v":0},0,0,0,0,{"$f":"SUMIF('Cadastro de Produtos em Linha'!$A$6:$A$457,Q287,'Cadastro de Produtos em Linha'!$E$6:$E$457)*H287","v":0},{"$f":"IF(TODAY()<$AK$26,IF(A287<>\"\",SUMIF('Custo Básico dos Produtos'!$B$7:$B$457,A287,'Custo Básico dos Produtos'!$A$7:$A$457),0),0)","v":0},{"$f":"IF('Aferi (Variáveis)'!$C$12=\"Venda para Exportar\",0,IF('Aferi (Variáveis)'!$C$12=\"ALC\",0,IF('Aferi (Variáveis)'!$C$12=\"ZFM\",0,IF('Aferi (Variáveis)'!$C$12=\"Exportação\",0,IF('Aferi (Variáveis)'!$C$12=\"AO\",0,E287/(100+(0*'Aferi (Variáveis)'!$K$12/100))*100*K287%/100*'Aferi (Variáveis)'!$K$12)))))","v":0},0,{"$f":"(E287*'Aferi (Variáveis)'!$K$12/100)","v":0},0,{"$f":"IF('Aferi (Variáveis)'!$F$20=\"Venda para Exportar\",0,IF('Aferi (Variáveis)'!$F$20=\"ALC\",0,IF('Aferi (Variáveis)'!$F$20=\"ZFM\",0,IF('Aferi (Variáveis)'!$F$20=\"Exportação\",0,IF('Aferi (Variáveis)'!$F$20=\"AO\",7*T287/100,T287*'Aferi (Variáveis)'!$F$20/100)))))","v":0},0,{"$f":"IF('Aferi (Variáveis)'!$C$12=\"ZFM\",0,IF('Aferi (Variáveis)'!$C$12=\"Exportação\",0,3*T287/100))","v":0},{"$f":"IF('Aferi (Variáveis)'!$C$12=\"ZFM\",0,IF('Aferi (Variáveis)'!$C$12=\"Exportação\",0,0.65*T287/100))","v":0},0,0,0,0,0,0,0,0,0,{"$f":"SUMIF('Custo Básico dos Produtos'!$B$7:$B$480,A287,'Custo Básico dos Produtos'!$K$7:$K$480)","v":0},null,null,0,0,0,0,0,0]
[null,{"$f":"IF(Q288<>0,VLOOKUP(Q288,'Custo Básico dos Produtos'!$A$7:$J$480,3),\"\")","v":""},null,{"$f":"SUMIF('Custo Básico dos Produtos'!$A$7:$A$480,Q288,'Custo Básico dos Produtos'!$J$7:$J$480)","v":0},0,0,{"$f":"IF(B288=\"\",0,SUMIF('Cadastro de Produtos em Linha'!$B$7:$B$457,A288,'Cadastro de Produtos em Linha'!$D$7:$D$457))","v":0},null,0,0,{"$f":"IF('Aferi (Variáveis)'!$C$12=\"ALC\",0,IF('Aferi (Variáveis)'!$C$12=\"ZFM\",0,IF('Aferi (Variáveis)'!$C$12=\"Exportação\",0,IF('Aferi (Variáveis)'!$C$12=\"Venda para Exportar\",0,IF('Aferi (Variáveis)'!$C$12=\"AO\",0,SUMIF('Custo Básico dos Produtos'!$A$7:$A$480,Q288,'Custo Básico dos Produtos'!$L$7:$L$480))))))","v":0},0,0,0,0,{"$f":"SUMIF('Cadastro de Produtos em Linha'!$A$6:$A$457,Q288,'Cadastro de Produtos em Linha'!$E$6:$E$457)*H288","v":0},{"$f":"IF(TODAY()<$AK$26,IF(A288<>\"\",SUMIF('Custo Básico dos Produtos'!$B$7:$B$457,A288,'Custo Básico dos Produtos'!$A$7:$A$457),0),0)","v":0},{"$f":"IF('Aferi (Variáveis)'!$C$12=\"Venda para Exportar\",0,IF('Aferi (Variáveis)'!$C$12=\"ALC\",0,IF('Aferi (Variáveis)'!$C$12=\"ZFM\",0,IF('Aferi (Variáveis)'!$C$12=\"Exportação\",0,IF('Aferi (Variáveis)'!$C$12=\"AO\",0,E288/(100+(0*'Aferi (Variáveis)'!$K$12/100))*100*K288%/100*'Aferi (Variáveis)'!$K$12)))))","v":0},0,{"$f":"(E288*'Aferi (Variáveis)'!$K$12/100)","v":0},0,{"$f":"IF('Aferi (Variáveis)'!$F$20=\"Venda para Exportar\",0,IF('Aferi (Variáveis)'!$F$20=\"ALC\",0,IF('Aferi (Variáveis)'!$F$20=\"ZFM\",0,IF('Aferi (Variáveis)'!$F$20=\"Exportação\",0,IF('Aferi (Variáveis)'!$F$20=\"AO\",7*T288/100,T288*'Aferi (Variáveis)'!$F$20/100)))))","v":0},0,{"$f":"IF('Aferi (Variáveis)'!$C$12=\"ZFM\",0,IF('Aferi (Variáveis)'!$C$12=\"Exportação\",0,3*T288/100))","v":0},{"$f":"IF('Aferi (Variáveis)'!$C$12=\"ZFM\",0,IF('Aferi (Variáveis)'!$C$12=\"Exportação\",0,0.65*T288/100))","v":0},0,0,0,0,0,0,0,0,0,{"$f":"SUMIF('Custo Básico dos Produtos'!$B$7:$B$480,A288,'Custo Básico dos Produtos'!$K$7:$K$480)","v":0},null,null,0,0,0,0,0,0]
[null,{"$f":"IF(Q289<>0,VLOOKUP(Q289,'Custo Básico dos Produtos'!$A$7:$J$480,3),\"\")","v":""},null,{"$f":"SUMIF('Custo Básico dos Produtos'!$A$7:$A$480,Q289,'Custo Básico dos Produtos'!$J$7:$J$480)","v":0},0,0,{"$f":"IF(B289=\"\",0,SUMIF('Cadastro de Produtos em Linha'!$B$7:$B$457,A289,'Cadastro de Produtos em Linha'!$D$7:$D$457))","v":0},null,0,0,{"$f":"IF('Aferi (Variáveis)'!$C$12=\"ALC\",0,IF('Aferi (Variáveis)'!$C$12=\"ZFM\",0,IF('Aferi (Variáveis)'!$C$12=\"Exportação\",0,IF('Aferi (Variáveis)'!$C$12=\"Venda para Exportar\",0,IF('Aferi (Variáveis)'!$C$12=\"AO\",0,SUMIF('Custo Básico dos Produtos'!$A$7:$A$480,Q289,'Custo Básico dos Produtos'!$L$7:$L$480))))))","v":0},0,0,0,0,{"$f":"SUMIF('Cadastro de Produtos em Linha'!$A$6:$A$457,Q289,'Cadastro de Produtos em Linha'!$E$6:$E$457)*H289","v":0},{"$f":"IF(TODAY()<$AK$26,IF(A289<>\"\",SUMIF('Custo Básico dos Produtos'!$B$7:$B$457,A289,'Custo Básico dos Produtos'!$A$7:$A$457),0),0)","v":0},{"$f":"IF('Aferi (Variáveis)'!$C$12=\"Venda para Exportar\",0,IF('Aferi (Variáveis)'!$C$12=\"ALC\",0,IF('Aferi (Variáveis)'!$C$12=\"ZFM\",0,IF('Aferi (Variáveis)'!$C$12=\"Exportação\",0,IF('Aferi (Variáveis)'!$C$12=\"AO\",0,E289/(100+(0*'Aferi (Variáveis)'!$K$12/100))*100*K289%/100*'Aferi (Variáveis)'!$K$12)))))","v":0},0,{"$f":"(E289*'Aferi (Variáveis)'!$K$12/100)","v":0},0,{"$f":"IF('Aferi (Variáveis)'!$F$20=\"Venda para Exportar\",0,IF('Aferi (Variáveis)'!$F$20=\"ALC\",0,IF('Aferi (Variáveis)'!$F$20=\"ZFM\",0,IF('Aferi (Variáveis)'!$F$20=\"Exportação\",0,IF('Aferi (Variáveis)'!$F$20=\"AO\",7*T289/100,T289*'Aferi (Variáveis)'!$F$20/100)))))","v":0},0,{"$f":"IF('Aferi (Variáveis)'!$C$12=\"ZFM\",0,IF('Aferi (Variáveis)'!$C$12=\"Exportação\",0,3*T289/100))","v":0},{"$f":"IF('Aferi (Variáveis)'!$C$12=\"ZFM\",0,IF('Aferi (Variáveis)'!$C$12=\"Exportação\",0,0.65*T289/100))","v":0},0,0,0,0,0,0,0,0,0,{"$f":"SUMIF('Custo Básico dos Produtos'!$B$7:$B$480,A289,'Custo Básico dos Produtos'!$K$7:$K$480)","v":0},null,null,0,0,0,0,0,0]
[null,{"$f":"IF(Q290<>0,VLOOKUP(Q290,'Custo Básico dos Produtos'!$A$7:$J$480,3),\"\")","v":""},null,{"$f":"SUMIF('Custo Básico dos Produtos'!$A$7:$A$480,Q290,'Custo Básico dos Produtos'!$J$7:$J$480)","v":0},0,0,{"$f":"IF(B290=\"\",0,SUMIF('Cadastro de Produtos em Linha'!$B$7:$B$457,A290,'Cadastro de Produtos em Linha'!$D$7:$D$457))","v":0},null,0,0,{"$f":"IF('Aferi (Variáveis)'!$C$12=\"ALC\",0,IF('Aferi (Variáveis)'!$C$12=\"ZFM\",0,IF('Aferi (Variáveis)'!$C$12=\"Exportação\",0,IF('Aferi (Variáveis)'!$C$12=\"Venda para Exportar\",0,IF('Aferi (Variáveis)'!$C$12=\"AO\",0,SUMIF('Custo Básico dos Produtos'!$A$7:$A$480,Q290,'Custo Básico dos Produtos'!$L$7:$L$480))))))","v":0},0,0,0,0,{"$f":"SUMIF('Cadastro de Produtos em Linha'!$A$6:$A$457,Q290,'Cadastro de Produtos em Linha'!$E$6:$E$457)*H290","v":0},{"$f":"IF(TODAY()<$AK$26,IF(A290<>\"\",SUMIF('Custo Básico dos Produtos'!$B$7:$B$457,A290,'Custo Básico dos Produtos'!$A$7:$A$457),0),0)","v":0},{"$f":"IF('Aferi (Variáveis)'!$C$12=\"Venda para Exportar\",0,IF('Aferi (Variáveis)'!$C$12=\"ALC\",0,IF('Aferi (Variáveis)'!$C$12=\"ZFM\",0,IF('Aferi (Variáveis)'!$C$12=\"Exportação\",0,IF('Aferi (Variáveis)'!$C$12=\"AO\",0,E290/(100+(0*'Aferi (Variáveis)'!$K$12/100))*100*K290%/100*'Aferi (Variáveis)'!$K$12)))))","v":0},0,{"$f":"(E290*'Aferi (Variáveis)'!$K$12/100)","v":0},0,{"$f":"IF('Aferi (Variáveis)'!$F$20=\"Venda para Exportar\",0,IF('Aferi (Variáveis)'!$F$20=\"ALC\",0,IF('Aferi (Variáveis)'!$F$20=\"ZFM\",0,IF('Aferi (Variáveis)'!$F$20=\"Exportação\",0,IF('Aferi (Variáveis)'!$F$20=\"AO\",7*T290/100,T290*'Aferi (Variáveis)'!$F$20/100)))))","v":0},0,{"$f":"IF('Aferi (Variáveis)'!$C$12=\"ZFM\",0,IF('Aferi (Variáveis)'!$C$12=\"Exportação\",0,3*T290/100))","v":0},{"$f":"IF('Aferi (Variáveis)'!$C$12=\"ZFM\",0,IF('Aferi (Variáveis)'!$C$12=\"Exportação\",0,0.65*T290/100))","v":0},0,0,0,0,0,0,0,0,0,{"$f":"SUMIF('Custo Básico dos Produtos'!$B$7:$B$480,A290,'Custo Básico dos Produtos'!$K$7:$K$480)","v":0},null,null,0,0,0,0,0,0]
[null,{"$f":"IF(Q291<>0,VLOOKUP(Q291,'Custo Básico dos Produtos'!$A$7:$J$480,3),\"\")","v":""},null,{"$f":"SUMIF('Custo Básico dos Produtos'!$A$7:$A$480,Q291,'Custo Básico dos Produtos'!$J$7:$J$480)","v":0},0,0,{"$f":"IF(B291=\"\",0,SUMIF('Cadastro de Produtos em Linha'!$B$7:$B$457,A291,'Cadastro de Produtos em Linha'!$D$7:$D$457))","v":0},null,{"$f":"IF(F291=\"\",0,IF(F291>=AI291,G291*H291,0))","v":0},{"$f":"IF(F291=\"\",0,I291*E291)","v":0},{"$f":"IF('Aferi (Variáveis)'!$C$12=\"ALC\",0,IF('Aferi (Variáveis)'!$C$12=\"ZFM\",0,IF('Aferi (Variáveis)'!$C$12=\"Exportação\",0,IF('Aferi (Variáveis)'!$C$12=\"Venda para Exportar\",0,IF('Aferi (Variáveis)'!$C$12=\"AO\",0,SUMIF('Custo Básico dos Produtos'!$A$7:$A$480,Q291,'Custo Básico dos Produtos'!$L$7:$L$480))))))","v":0},{"$f":"J291+M291","v":0},{"$f":"S291","v":0},{"$f":"J291+M291","v":0},0,{"$f":"SUMIF('Cadastro de Produtos em Linha'!$A$6:$A$457,Q291,'Cadastro de Produtos em Linha'!$E$6:$E$457)*H291","v":0},{"$f":"IF(TODAY()<$AK$26,IF(A291<>\"\",SUMIF('Custo Básico dos Produtos'!$B$7:$B$457,A291,'Custo Básico dos Produtos'!$A$7:$A$457),0),0)","v":0},{"$f":"IF('Aferi (Variáveis)'!$C$12=\"Venda para Exportar\",0,IF('Aferi (Variáveis)'!$C$12=\"ALC\",0,IF('Aferi (Variáveis)'!$C$12=\"ZFM\",0,IF('Aferi (Variáveis)'!$C$12=\"Exportação\",0,IF('Aferi (Variáveis)'!$C$12=\"AO\",0,E291/(100+(0*'Aferi (Variáveis)'!$K$12/100))*100*K291%/100*'Aferi (Variáveis)'!$K$12)))))","v":0},0,{"$f":"(E291*'Aferi (Variáveis)'!$K$12/100)","v":0},0,{"$f":"IF('Aferi (Variáveis)'!$F$20=\"Venda para Exportar\",0,IF('Aferi (Variáveis)'!$F$20=\"ALC\",0,IF('Aferi (Variáveis)'!$F$20=\"ZFM\",0,IF('Aferi (Variáveis)'!$F$20=\"Exportação\",0,IF('Aferi (Variáveis)'!$F$20=\"AO\",7*T291/100,T291*'Aferi (Variáveis)'!$F$20/100)))))","v":0},0,{"$f":"IF('Aferi (Variáveis)'!$C$12=\"ZFM\",0,IF('Aferi (Variáveis)'!$C$12=\"Exportação\",0,3*T291/100))","v":0},{"$f":"IF('Aferi (Variáveis)'!$C$12=\"ZFM\",0,IF('Aferi (Variáveis)'!$C$12=\"Exportação\",0,0.65*T291/100))","v":0},0,0,0,0,0,0,0,0,0,{"$f":"SUMIF('Custo Básico dos Produtos'!$B$7:$B$480,A291,'Custo Básico dos Produtos'!$K$7:$K$480)","v":0},null,null,0,0,0,0,0,0]
[null,{"$f":"IF(Q292<>0,VLOOKUP(Q292,'Custo Básico dos Produtos'!$A$7:$J$480,3),\"\")","v":""},null,{"$f":"SUMIF('Custo Básico dos Produtos'!$A$7:$A$480,Q292,'Custo Básico dos Produtos'!$J$7:$J$480)","v":0},0,0,{"$f":"IF(B292=\"\",0,SUMIF('Cadastro de Produtos em Linha'!$B$7:$B$457,A292,'Cadastro de Produtos em Linha'!$D$7:$D$457))","v":0},null,0,0,{"$f":"IF('Aferi (Variáveis)'!$C$12=\"ALC\",0,IF('Aferi (Variáveis)'!$C$12=\"ZFM\",0,IF('Aferi (Variáveis)'!$C$12=\"Exportação\",0,IF('Aferi (Variáveis)'!$C$12=\"Venda para Exportar\",0,IF('Aferi (Variáveis)'!$C$12=\"AO\",0,SUMIF('Custo Básico dos Produtos'!$A$7:$A$480,Q292,'Custo Básico dos Produtos'!$L$7:$L$480))))))","v":0},0,0,0,0,{"$f":"SUMIF('Cadastro de Produtos em Linha'!$A$6:$A$457,Q292,'Cadastro de Produtos em Linha'!$E$6:$E$457)*H292","v":0},{"$f":"IF(TODAY()<$AK$26,IF(A292<>\"\",SUMIF('Custo Básico dos Produtos'!$B$7:$B$457,A292,'Custo Básico dos Produtos'!$A$7:$A$457),0),0)","v":0},{"$f":"IF('Aferi (Variáveis)'!$C$12=\"Venda para Exportar\",0,IF('Aferi (Variáveis)'!$C$12=\"ALC\",0,IF('Aferi (Variáveis)'!$C$12=\"ZFM\",0,IF('Aferi (Variáveis)'!$C$12=\"Exportação\",0,IF('Aferi (Variáveis)'!$C$12=\"AO\",0,E292/(100+(0*'Aferi (Variáveis)'!$K$12/100))*100*K292%/100*'Aferi (Variáveis)'!$K$12)))))","v":0},0,{"$f":"(E292*'Aferi (Variáveis)'!$K$12/100)","v":0},0,{"$f":"IF('Aferi (Variáveis)'!$F$20=\"Venda para Exportar\",0,IF('Aferi (Variáveis)'!$F$20=\"ALC\",0,IF('Aferi (Variáveis)'!$F$20=\"ZFM\",0,IF('Aferi (Variáveis)'!$F$20=\"Exportação\",0,IF('Aferi (Variáveis)'!$F$20=\"AO\",7*T292/100,T292*'Aferi (Variáveis)'!$F$20/100)))))","v":0},0,{"$f":"IF('Aferi (Variáveis)'!$C$12=\"ZFM\",0,IF('Aferi (Variáveis)'!$C$12=\"Exportação\",0,3*T292/100))","v":0},{"$f":"IF('Aferi (Variáveis)'!$C$12=\"ZFM\",0,IF('Aferi (Variáveis)'!$C$12=\"Exportação\",0,0.65*T292/100))","v":0},0,0,0,0,0,0,0,0,0,{"$f":"SUMIF('Custo Básico dos Produtos'!$B$7:$B$480,A292,'Custo Básico dos Produtos'!$K$7:$K$480)","v":0},null,null,0,0,0,0,0,0]
[null,{"$f":"IF(Q293<>0,VLOOKUP(Q293,'Custo Básico dos Produtos'!$A$7:$J$480,3),\"\")","v":""},null,{"$f":"SUMIF('Custo Básico dos Produtos'!$A$7:$A$480,Q293,'Custo Básico dos Produtos'!$J$7:$J$480)","v":0},0,0,{"$f":"IF(B293=\"\",0,SUMIF('Cadastro de Produtos em Linha'!$B$7:$B$457,A293,'Cadastro de Produtos em Linha'!$D$7:$D$457))","v":0},null,0,0,{"$f":"IF('Aferi (Variáveis)'!$C$12=\"ALC\",0,IF('Aferi (Variáveis)'!$C$12=\"ZFM\",0,IF('Aferi (Variáveis)'!$C$12=\"Exportação\",0,IF('Aferi (Variáveis)'!$C$12=\"Venda para Exportar\",0,IF('Aferi (Variáveis)'!$C$12=\"AO\",0,SUMIF('Custo Básico dos Produtos'!$A$7:$A$480,Q293,'Custo Básico dos Produtos'!$L$7:$L$480))))))","v":0},0,0,0,0,{"$f":"SUMIF('Cadastro de Produtos em Linha'!$A$6:$A$457,Q293,'Cadastro de Produtos em Linha'!$E$6:$E$457)*H293","v":0},{"$f":"IF(TODAY()<$AK$26,IF(A293<>\"\",SUMIF('Custo Básico dos Produtos'!$B$7:$B$457,A293,'Custo Básico dos Produtos'!$A$7:$A$457),0),0)","v":0},{"$f":"IF('Aferi (Variáveis)'!$C$12=\"Venda para Exportar\",0,IF('Aferi (Variáveis)'!$C$12=\"ALC\",0,IF('Aferi (Variáveis)'!$C$12=\"ZFM\",0,IF('Aferi (Variáveis)'!$C$12=\"Exportação\",0,IF('Aferi (Variáveis)'!$C$12=\"AO\",0,E293/(100+(0*'Aferi (Variáveis)'!$K$12/100))*100*K293%/100*'Aferi (Variáveis)'!$K$12)))))","v":0},0,{"$f":"(E293*'Aferi (Variáveis)'!$K$12/100)","v":0},0,{"$f":"IF('Aferi (Variáveis)'!$F$20=\"Venda para Exportar\",0,IF('Aferi (Variáveis)'!$F$20=\"ALC\",0,IF('Aferi (Variáveis)'!$F$20=\"ZFM\",0,IF('Aferi (Variáveis)'!$F$20=\"Exportação\",0,IF('Aferi (Variáveis)'!$F$20=\"AO\",7*T293/100,T293*'Aferi (Variáveis)'!$F$20/100)))))","v":0},0,{"$f":"IF('Aferi (Variáveis)'!$C$12=\"ZFM\",0,IF('Aferi (Variáveis)'!$C$12=\"Exportação\",0,3*T293/100))","v":0},{"$f":"IF('Aferi (Variáveis)'!$C$12=\"ZFM\",0,IF('Aferi (Variáveis)'!$C$12=\"Exportação\",0,0.65*T293/100))","v":0},0,0,0,0,0,0,0,0,0,{"$f":"SUMIF('Custo Básico dos Produtos'!$B$7:$B$480,A293,'Custo Básico dos Produtos'!$K$7:$K$480)","v":0},null,null,0,0,0,0,0,0]
[null,{"$f":"IF(Q294<>0,VLOOKUP(Q294,'Custo Básico dos Produtos'!$A$7:$J$480,3),\"\")","v":""},null,{"$f":"SUMIF('Custo Básico dos Produtos'!$A$7:$A$480,Q294,'Custo Básico dos Produtos'!$J$7:$J$480)","v":0},0,0,{"$f":"IF(B294=\"\",0,SUMIF('Cadastro de Produtos em Linha'!$B$7:$B$457,A294,'Cadastro de Produtos em Linha'!$D$7:$D$457))","v":0},null,0,0,{"$f":"IF('Aferi (Variáveis)'!$C$12=\"ALC\",0,IF('Aferi (Variáveis)'!$C$12=\"ZFM\",0,IF('Aferi (Variáveis)'!$C$12=\"Exportação\",0,IF('Aferi (Variáveis)'!$C$12=\"Venda para Exportar\",0,IF('Aferi (Variáveis)'!$C$12=\"AO\",0,SUMIF('Custo Básico dos Produtos'!$A$7:$A$480,Q294,'Custo Básico dos Produtos'!$L$7:$L$480))))))","v":0},0,0,0,0,{"$f":"SUMIF('Cadastro de Produtos em Linha'!$A$6:$A$457,Q294,'Cadastro de Produtos em Linha'!$E$6:$E$457)*H294","v":0},{"$f":"IF(TODAY()<$AK$26,IF(A294<>\"\",SUMIF('Custo Básico dos Produtos'!$B$7:$B$457,A294,'Custo Básico dos Produtos'!$A$7:$A$457),0),0)","v":0},{"$f":"IF('Aferi (Variáveis)'!$C$12=\"Venda para Exportar\",0,IF('Aferi (Variáveis)'!$C$12=\"ALC\",0,IF('Aferi (Variáveis)'!$C$12=\"ZFM\",0,IF('Aferi (Variáveis)'!$C$12=\"Exportação\",0,IF('Aferi (Variáveis)'!$C$12=\"AO\",0,E294/(100+(0*'Aferi (Variáveis)'!$K$12/100))*100*K294%/100*'Aferi (Variáveis)'!$K$12)))))","v":0},0,{"$f":"(E294*'Aferi (Variáveis)'!$K$12/100)","v":0},0,{"$f":"IF('Aferi (Variáveis)'!$F$20=\"Venda para Exportar\",0,IF('Aferi (Variáveis)'!$F$20=\"ALC\",0,IF('Aferi (Variáveis)'!$F$20=\"ZFM\",0,IF('Aferi (Variáveis)'!$F$20=\"Exportação\",0,IF('Aferi (Variáveis)'!$F$20=\"AO\",7*T294/100,T294*'Aferi (Variáveis)'!$F$20/100)))))","v":0},0,{"$f":"IF('Aferi (Variáveis)'!$C$12=\"ZFM\",0,IF('Aferi (Variáveis)'!$C$12=\"Exportação\",0,3*T294/100))","v":0},{"$f":"IF('Aferi (Variáveis)'!$C$12=\"ZFM\",0,IF('Aferi (Variáveis)'!$C$12=\"Exportação\",0,0.65*T294/100))","v":0},0,0,0,0,0,0,0,0,0,{"$f":"SUMIF('Custo Básico dos Produtos'!$B$7:$B$480,A294,'Custo Básico dos Produtos'!$K$7:$K$480)","v":0},null,null,0,0,0,0,0,0]
[null,{"$f":"IF(Q295<>0,VLOOKUP(Q295,'Custo Básico dos Produtos'!$A$7:$J$480,3),\"\")","v":""},null,{"$f":"SUMIF('Custo Básico dos Produtos'!$A$7:$A$480,Q295,'Custo Básico dos Produtos'!$J$7:$J$480)","v":0},0,0,{"$f":"IF(B295=\"\",0,SUMIF('Cadastro de Produtos em Linha'!$B$7:$B$457,A295,'Cadastro de Produtos em Linha'!$D$7:$D$457))","v":0},null,0,0,{"$f":"IF('Aferi (Variáveis)'!$C$12=\"ALC\",0,IF('Aferi (Variáveis)'!$C$12=\"ZFM\",0,IF('Aferi (Variáveis)'!$C$12=\"Exportação\",0,IF('Aferi (Variáveis)'!$C$12=\"Venda para Exportar\",0,IF('Aferi (Variáveis)'!$C$12=\"AO\",0,SUMIF('Custo Básico dos Produtos'!$A$7:$A$480,Q295,'Custo Básico dos Produtos'!$L$7:$L$480))))))","v":0},0,0,0,0,{"$f":"SUMIF('Cadastro de Produtos em Linha'!$A$6:$A$457,Q295,'Cadastro de Produtos em Linha'!$E$6:$E$457)*H295","v":0},{"$f":"IF(TODAY()<$AK$26,IF(A295<>\"\",SUMIF('Custo Básico dos Produtos'!$B$7:$B$457,A295,'Custo Básico dos Produtos'!$A$7:$A$457),0),0)","v":0},{"$f":"IF('Aferi (Variáveis)'!$C$12=\"Venda para Exportar\",0,IF('Aferi (Variáveis)'!$C$12=\"ALC\",0,IF('Aferi (Variáveis)'!$C$12=\"ZFM\",0,IF('Aferi (Variáveis)'!$C$12=\"Exportação\",0,IF('Aferi (Variáveis)'!$C$12=\"AO\",0,E295/(100+(0*'Aferi (Variáveis)'!$K$12/100))*100*K295%/100*'Aferi (Variáveis)'!$K$12)))))","v":0},0,{"$f":"(E295*'Aferi (Variáveis)'!$K$12/100)","v":0},0,{"$f":"IF('Aferi (Variáveis)'!$F$20=\"Venda para Exportar\",0,IF('Aferi (Variáveis)'!$F$20=\"ALC\",0,IF('Aferi (Variáveis)'!$F$20=\"ZFM\",0,IF('Aferi (Variáveis)'!$F$20=\"Exportação\",0,IF('Aferi (Variáveis)'!$F$20=\"AO\",7*T295/100,T295*'Aferi (Variáveis)'!$F$20/100)))))","v":0},0,{"$f":"IF('Aferi (Variáveis)'!$C$12=\"ZFM\",0,IF('Aferi (Variáveis)'!$C$12=\"Exportação\",0,3*T295/100))","v":0},{"$f":"IF('Aferi (Variáveis)'!$C$12=\"ZFM\",0,IF('Aferi (Variáveis)'!$C$12=\"Exportação\",0,0.65*T295/100))","v":0},0,0,0,0,0,0,0,0,0,{"$f":"SUMIF('Custo Básico dos Produtos'!$B$7:$B$480,A295,'Custo Básico dos Produtos'!$K$7:$K$480)","v":0},null,null,0,0,0,0,0,0]
[null,{"$f":"IF(Q296<>0,VLOOKUP(Q296,'Custo Básico dos Produtos'!$A$7:$J$480,3),\"\")","v":""},null,{"$f":"SUMIF('Custo Básico dos Produtos'!$A$7:$A$480,Q296,'Custo Básico dos Produtos'!$J$7:$J$480)","v":0},0,0,{"$f":"IF(B296=\"\",0,SUMIF('Cadastro de Produtos em Linha'!$B$7:$B$457,A296,'Cadastro de Produtos em Linha'!$D$7:$D$457))","v":0},null,0,0,{"$f":"IF('Aferi (Variáveis)'!$C$12=\"ALC\",0,IF('Aferi (Variáveis)'!$C$12=\"ZFM\",0,IF('Aferi (Variáveis)'!$C$12=\"Exportação\",0,IF('Aferi (Variáveis)'!$C$12=\"Venda para Exportar\",0,IF('Aferi (Variáveis)'!$C$12=\"AO\",0,SUMIF('Custo Básico dos Produtos'!$A$7:$A$480,Q296,'Custo Básico dos Produtos'!$L$7:$L$480))))))","v":0},0,0,0,0,{"$f":"SUMIF('Cadastro de Produtos em Linha'!$A$6:$A$457,Q296,'Cadastro de Produtos em Linha'!$E$6:$E$457)*H296","v":0},{"$f":"IF(TODAY()<$AK$26,IF(A296<>\"\",SUMIF('Custo Básico dos Produtos'!$B$7:$B$457,A296,'Custo Básico dos Produtos'!$A$7:$A$457),0),0)","v":0},{"$f":"IF('Aferi (Variáveis)'!$C$12=\"Venda para Exportar\",0,IF('Aferi (Variáveis)'!$C$12=\"ALC\",0,IF('Aferi (Variáveis)'!$C$12=\"ZFM\",0,IF('Aferi (Variáveis)'!$C$12=\"Exportação\",0,IF('Aferi (Variáveis)'!$C$12=\"AO\",0,E296/(100+(0*'Aferi (Variáveis)'!$K$12/100))*100*K296%/100*'Aferi (Variáveis)'!$K$12)))))","v":0},0,{"$f":"(E296*'Aferi (Variáveis)'!$K$12/100)","v":0},0,{"$f":"IF('Aferi (Variáveis)'!$F$20=\"Venda para Exportar\",0,IF('Aferi (Variáveis)'!$F$20=\"ALC\",0,IF('Aferi (Variáveis)'!$F$20=\"ZFM\",0,IF('Aferi (Variáveis)'!$F$20=\"Exportação\",0,IF('Aferi (Variáveis)'!$F$20=\"AO\",7*T296/100,T296*'Aferi (Variáveis)'!$F$20/100)))))","v":0},0,{"$f":"IF('Aferi (Variáveis)'!$C$12=\"ZFM\",0,IF('Aferi (Variáveis)'!$C$12=\"Exportação\",0,3*T296/100))","v":0},{"$f":"IF('Aferi (Variáveis)'!$C$12=\"ZFM\",0,IF('Aferi (Variáveis)'!$C$12=\"Exportação\",0,0.65*T296/100))","v":0},0,0,0,0,0,0,0,0,0,{"$f":"SUMIF('Custo Básico dos Produtos'!$B$7:$B$480,A296,'Custo Básico dos Produtos'!$K$7:$K$480)","v":0},null,null,0,0,0,0,0,0]
[null,{"$f":"IF(Q297<>0,VLOOKUP(Q297,'Custo Básico dos Produtos'!$A$7:$J$480,3),\"\")","v":""},null,{"$f":"SUMIF('Custo Básico dos Produtos'!$A$7:$A$480,Q297,'Custo Básico dos Produtos'!$J$7:$J$480)","v":0},0,0,{"$f":"IF(B297=\"\",0,SUMIF('Cadastro de Produtos em Linha'!$B$7:$B$457,A297,'Cadastro de Produtos em Linha'!$D$7:$D$457))","v":0},null,0,0,{"$f":"IF('Aferi (Variáveis)'!$C$12=\"ALC\",0,IF('Aferi (Variáveis)'!$C$12=\"ZFM\",0,IF('Aferi (Variáveis)'!$C$12=\"Exportação\",0,IF('Aferi (Variáveis)'!$C$12=\"Venda para Exportar\",0,IF('Aferi (Variáveis)'!$C$12=\"AO\",0,SUMIF('Custo Básico dos Produtos'!$A$7:$A$480,Q297,'Custo Básico dos Produtos'!$L$7:$L$480))))))","v":0},0,0,0,0,{"$f":"SUMIF('Cadastro de Produtos em Linha'!$A$6:$A$457,Q297,'Cadastro de Produtos em Linha'!$E$6:$E$457)*H297","v":0},{"$f":"IF(TODAY()<$AK$26,IF(A297<>\"\",SUMIF('Custo Básico dos Produtos'!$B$7:$B$457,A297,'Custo Básico dos Produtos'!$A$7:$A$457),0),0)","v":0},{"$f":"IF('Aferi (Variáveis)'!$C$12=\"Venda para Exportar\",0,IF('Aferi (Variáveis)'!$C$12=\"ALC\",0,IF('Aferi (Variáveis)'!$C$12=\"ZFM\",0,IF('Aferi (Variáveis)'!$C$12=\"Exportação\",0,IF('Aferi (Variáveis)'!$C$12=\"AO\",0,E297/(100+(0*'Aferi (Variáveis)'!$K$12/100))*100*K297%/100*'Aferi (Variáveis)'!$K$12)))))","v":0},0,{"$f":"(E297*'Aferi (Variáveis)'!$K$12/100)","v":0},0,{"$f":"IF('Aferi (Variáveis)'!$F$20=\"Venda para Exportar\",0,IF('Aferi (Variáveis)'!$F$20=\"ALC\",0,IF('Aferi (Variáveis)'!$F$20=\"ZFM\",0,IF('Aferi (Variáveis)'!$F$20=\"Exportação\",0,IF('Aferi (Variáveis)'!$F$20=\"AO\",7*T297/100,T297*'Aferi (Variáveis)'!$F$20/100)))))","v":0},0,{"$f":"IF('Aferi (Variáveis)'!$C$12=\"ZFM\",0,IF('Aferi (Variáveis)'!$C$12=\"Exportação\",0,3*T297/100))","v":0},{"$f":"IF('Aferi (Variáveis)'!$C$12=\"ZFM\",0,IF('Aferi (Variáveis)'!$C$12=\"Exportação\",0,0.65*T297/100))","v":0},0,0,0,0,0,0,0,0,0,{"$f":"SUMIF('Custo Básico dos Produtos'!$B$7:$B$480,A297,'Custo Básico dos Produtos'!$K$7:$K$480)","v":0},null,null,0,0,0,0,0,0]
[null,{"$f":"IF(Q298<>0,VLOOKUP(Q298,'Custo Básico dos Produtos'!$A$7:$J$480,3),\"\")","v":""},null,{"$f":"SUMIF('Custo Básico dos Produtos'!$A$7:$A$480,Q298,'Custo Básico dos Produtos'!$J$7:$J$480)","v":0},0,0,{"$f":"IF(B298=\"\",0,SUMIF('Cadastro de Produtos em Linha'!$B$7:$B$457,A298,'Cadastro de Produtos em Linha'!$D$7:$D$457))","v":0},null,0,0,{"$f":"IF('Aferi (Variáveis)'!$C$12=\"ALC\",0,IF('Aferi (Variáveis)'!$C$12=\"ZFM\",0,IF('Aferi (Variáveis)'!$C$12=\"Exportação\",0,IF('Aferi (Variáveis)'!$C$12=\"Venda para Exportar\",0,IF('Aferi (Variáveis)'!$C$12=\"AO\",0,SUMIF('Custo Básico dos Produtos'!$A$7:$A$480,Q298,'Custo Básico dos Produtos'!$L$7:$L$480))))))","v":0},0,0,0,0,{"$f":"SUMIF('Cadastro de Produtos em Linha'!$A$6:$A$457,Q298,'Cadastro de Produtos em Linha'!$E$6:$E$457)*H298","v":0},{"$f":"IF(TODAY()<$AK$26,IF(A298<>\"\",SUMIF('Custo Básico dos Produtos'!$B$7:$B$457,A298,'Custo Básico dos Produtos'!$A$7:$A$457),0),0)","v":0},{"$f":"IF('Aferi (Variáveis)'!$C$12=\"Venda para Exportar\",0,IF('Aferi (Variáveis)'!$C$12=\"ALC\",0,IF('Aferi (Variáveis)'!$C$12=\"ZFM\",0,IF('Aferi (Variáveis)'!$C$12=\"Exportação\",0,IF('Aferi (Variáveis)'!$C$12=\"AO\",0,E298/(100+(0*'Aferi (Variáveis)'!$K$12/100))*100*K298%/100*'Aferi (Variáveis)'!$K$12)))))","v":0},0,{"$f":"(E298*'Aferi (Variáveis)'!$K$12/100)","v":0},0,{"$f":"IF('Aferi (Variáveis)'!$F$20=\"Venda para Exportar\",0,IF('Aferi (Variáveis)'!$F$20=\"ALC\",0,IF('Aferi (Variáveis)'!$F$20=\"ZFM\",0,IF('Aferi (Variáveis)'!$F$20=\"Exportação\",0,IF('Aferi (Variáveis)'!$F$20=\"AO\",7*T298/100,T298*'Aferi (Variáveis)'!$F$20/100)))))","v":0},0,{"$f":"IF('Aferi (Variáveis)'!$C$12=\"ZFM\",0,IF('Aferi (Variáveis)'!$C$12=\"Exportação\",0,3*T298/100))","v":0},{"$f":"IF('Aferi (Variáveis)'!$C$12=\"ZFM\",0,IF('Aferi (Variáveis)'!$C$12=\"Exportação\",0,0.65*T298/100))","v":0},0,0,0,0,0,0,0,0,0,{"$f":"SUMIF('Custo Básico dos Produtos'!$B$7:$B$480,A298,'Custo Básico dos Produtos'!$K$7:$K$480)","v":0},null,null,0,0,0,0,0,0]
[null,{"$f":"IF(Q299<>0,VLOOKUP(Q299,'Custo Básico dos Produtos'!$A$7:$J$480,3),\"\")","v":""},null,{"$f":"SUMIF('Custo Básico dos Produtos'!$A$7:$A$480,Q299,'Custo Básico dos Produtos'!$J$7:$J$480)","v":0},0,0,{"$f":"IF(B299=\"\",0,SUMIF('Cadastro de Produtos em Linha'!$B$7:$B$457,A299,'Cadastro de Produtos em Linha'!$D$7:$D$457))","v":0},null,0,0,{"$f":"IF('Aferi (Variáveis)'!$C$12=\"ALC\",0,IF('Aferi (Variáveis)'!$C$12=\"ZFM\",0,IF('Aferi (Variáveis)'!$C$12=\"Exportação\",0,IF('Aferi (Variáveis)'!$C$12=\"Venda para Exportar\",0,IF('Aferi (Variáveis)'!$C$12=\"AO\",0,SUMIF('Custo Básico dos Produtos'!$A$7:$A$480,Q299,'Custo Básico dos Produtos'!$L$7:$L$480))))))","v":0},0,0,0,0,{"$f":"SUMIF('Cadastro de Produtos em Linha'!$A$6:$A$457,Q299,'Cadastro de Produtos em Linha'!$E$6:$E$457)*H299","v":0},{"$f":"IF(TODAY()<$AK$26,IF(A299<>\"\",SUMIF('Custo Básico dos Produtos'!$B$7:$B$457,A299,'Custo Básico dos Produtos'!$A$7:$A$457),0),0)","v":0},{"$f":"IF('Aferi (Variáveis)'!$C$12=\"Venda para Exportar\",0,IF('Aferi (Variáveis)'!$C$12=\"ALC\",0,IF('Aferi (Variáveis)'!$C$12=\"ZFM\",0,IF('Aferi (Variáveis)'!$C$12=\"Exportação\",0,IF('Aferi (Variáveis)'!$C$12=\"AO\",0,E299/(100+(0*'Aferi (Variáveis)'!$K$12/100))*100*K299%/100*'Aferi (Variáveis)'!$K$12)))))","v":0},0,{"$f":"(E299*'Aferi (Variáveis)'!$K$12/100)","v":0},0,{"$f":"IF('Aferi (Variáveis)'!$F$20=\"Venda para Exportar\",0,IF('Aferi (Variáveis)'!$F$20=\"ALC\",0,IF('Aferi (Variáveis)'!$F$20=\"ZFM\",0,IF('Aferi (Variáveis)'!$F$20=\"Exportação\",0,IF('Aferi (Variáveis)'!$F$20=\"AO\",7*T299/100,T299*'Aferi (Variáveis)'!$F$20/100)))))","v":0},0,{"$f":"IF('Aferi (Variáveis)'!$C$12=\"ZFM\",0,IF('Aferi (Variáveis)'!$C$12=\"Exportação\",0,3*T299/100))","v":0},{"$f":"IF('Aferi (Variáveis)'!$C$12=\"ZFM\",0,IF('Aferi (Variáveis)'!$C$12=\"Exportação\",0,0.65*T299/100))","v":0},0,0,0,0,0,0,0,0,0,{"$f":"SUMIF('Custo Básico dos Produtos'!$B$7:$B$480,A299,'Custo Básico dos Produtos'!$K$7:$K$480)","v":0},null,null,0,0,0,0,0,0]
[null,{"$f":"IF(Q300<>0,VLOOKUP(Q300,'Custo Básico dos Produtos'!$A$7:$J$480,3),\"\")","v":""},null,{"$f":"SUMIF('Custo Básico dos Produtos'!$A$7:$A$480,Q300,'Custo Básico dos Produtos'!$J$7:$J$480)","v":0},0,0,{"$f":"IF(B300=\"\",0,SUMIF('Cadastro de Produtos em Linha'!$B$7:$B$457,A300,'Cadastro de Produtos em Linha'!$D$7:$D$457))","v":0},null,0,0,{"$f":"IF('Aferi (Variáveis)'!$C$12=\"ALC\",0,IF('Aferi (Variáveis)'!$C$12=\"ZFM\",0,IF('Aferi (Variáveis)'!$C$12=\"Exportação\",0,IF('Aferi (Variáveis)'!$C$12=\"Venda para Exportar\",0,IF('Aferi (Variáveis)'!$C$12=\"AO\",0,SUMIF('Custo Básico dos Produtos'!$A$7:$A$480,Q300,'Custo Básico dos Produtos'!$L$7:$L$480))))))","v":0},0,0,0,0,{"$f":"SUMIF('Cadastro de Produtos em Linha'!$A$6:$A$457,Q300,'Cadastro de Produtos em Linha'!$E$6:$E$457)*H300","v":0},{"$f":"IF(TODAY()<$AK$26,IF(A300<>\"\",SUMIF('Custo Básico dos Produtos'!$B$7:$B$457,A300,'Custo Básico dos Produtos'!$A$7:$A$457),0),0)","v":0},{"$f":"IF('Aferi (Variáveis)'!$C$12=\"Venda para Exportar\",0,IF('Aferi (Variáveis)'!$C$12=\"ALC\",0,IF('Aferi (Variáveis)'!$C$12=\"ZFM\",0,IF('Aferi (Variáveis)'!$C$12=\"Exportação\",0,IF('Aferi (Variáveis)'!$C$12=\"AO\",0,E300/(100+(0*'Aferi (Variáveis)'!$K$12/100))*100*K300%/100*'Aferi (Variáveis)'!$K$12)))))","v":0},0,{"$f":"(E300*'Aferi (Variáveis)'!$K$12/100)","v":0},0,{"$f":"IF('Aferi (Variáveis)'!$F$20=\"Venda para Exportar\",0,IF('Aferi (Variáveis)'!$F$20=\"ALC\",0,IF('Aferi (Variáveis)'!$F$20=\"ZFM\",0,IF('Aferi (Variáveis)'!$F$20=\"Exportação\",0,IF('Aferi (Variáveis)'!$F$20=\"AO\",7*T300/100,T300*'Aferi (Variáveis)'!$F$20/100)))))","v":0},0,{"$f":"IF('Aferi (Variáveis)'!$C$12=\"ZFM\",0,IF('Aferi (Variáveis)'!$C$12=\"Exportação\",0,3*T300/100))","v":0},{"$f":"IF('Aferi (Variáveis)'!$C$12=\"ZFM\",0,IF('Aferi (Variáveis)'!$C$12=\"Exportação\",0,0.65*T300/100))","v":0},0,0,0,0,0,0,0,0,0,{"$f":"SUMIF('Custo Básico dos Produtos'!$B$7:$B$480,A300,'Custo Básico dos Produtos'!$K$7:$K$480)","v":0},null,null,0,0,0,0,0,0]
[null,{"$f":"IF(Q301<>0,VLOOKUP(Q301,'Custo Básico dos Produtos'!$A$7:$J$480,3),\"\")","v":""},null,{"$f":"SUMIF('Custo Básico dos Produtos'!$A$7:$A$480,Q301,'Custo Básico dos Produtos'!$J$7:$J$480)","v":0},0,0,{"$f":"IF(B301=\"\",0,SUMIF('Cadastro de Produtos em Linha'!$B$7:$B$457,A301,'Cadastro de Produtos em Linha'!$D$7:$D$457))","v":0},null,0,0,{"$f":"IF('Aferi (Variáveis)'!$C$12=\"ALC\",0,IF('Aferi (Variáveis)'!$C$12=\"ZFM\",0,IF('Aferi (Variáveis)'!$C$12=\"Exportação\",0,IF('Aferi (Variáveis)'!$C$12=\"Venda para Exportar\",0,IF('Aferi (Variáveis)'!$C$12=\"AO\",0,SUMIF('Custo Básico dos Produtos'!$A$7:$A$480,Q301,'Custo Básico dos Produtos'!$L$7:$L$480))))))","v":0},0,0,0,0,{"$f":"SUMIF('Cadastro de Produtos em Linha'!$A$6:$A$457,Q301,'Cadastro de Produtos em Linha'!$E$6:$E$457)*H301","v":0},{"$f":"IF(TODAY()<$AK$26,IF(A301<>\"\",SUMIF('Custo Básico dos Produtos'!$B$7:$B$457,A301,'Custo Básico dos Produtos'!$A$7:$A$457),0),0)","v":0},{"$f":"IF('Aferi (Variáveis)'!$C$12=\"Venda para Exportar\",0,IF('Aferi (Variáveis)'!$C$12=\"ALC\",0,IF('Aferi (Variáveis)'!$C$12=\"ZFM\",0,IF('Aferi (Variáveis)'!$C$12=\"Exportação\",0,IF('Aferi (Variáveis)'!$C$12=\"AO\",0,E301/(100+(0*'Aferi (Variáveis)'!$K$12/100))*100*K301%/100*'Aferi (Variáveis)'!$K$12)))))","v":0},0,{"$f":"(E301*'Aferi (Variáveis)'!$K$12/100)","v":0},0,{"$f":"IF('Aferi (Variáveis)'!$F$20=\"Venda para Exportar\",0,IF('Aferi (Variáveis)'!$F$20=\"ALC\",0,IF('Aferi (Variáveis)'!$F$20=\"ZFM\",0,IF('Aferi (Variáveis)'!$F$20=\"Exportação\",0,IF('Aferi (Variáveis)'!$F$20=\"AO\",7*T301/100,T301*'Aferi (Variáveis)'!$F$20/100)))))","v":0},0,{"$f":"IF('Aferi (Variáveis)'!$C$12=\"ZFM\",0,IF('Aferi (Variáveis)'!$C$12=\"Exportação\",0,3*T301/100))","v":0},{"$f":"IF('Aferi (Variáveis)'!$C$12=\"ZFM\",0,IF('Aferi (Variáveis)'!$C$12=\"Exportação\",0,0.65*T301/100))","v":0},0,0,0,0,0,0,0,0,0,{"$f":"SUMIF('Custo Básico dos Produtos'!$B$7:$B$480,A301,'Custo Básico dos Produtos'!$K$7:$K$480)","v":0},null,null,0,0,0,0,0,0]
[null,{"$f":"IF(Q302<>0,VLOOKUP(Q302,'Custo Básico dos Produtos'!$A$7:$J$480,3),\"\")","v":""},null,{"$f":"SUMIF('Custo Básico dos Produtos'!$A$7:$A$480,Q302,'Custo Básico dos Produtos'!$J$7:$J$480)","v":0},0,0,{"$f":"IF(B302=\"\",0,SUMIF('Cadastro de Produtos em Linha'!$B$7:$B$457,A302,'Cadastro de Produtos em Linha'!$D$7:$D$457))","v":0},null,0,0,{"$f":"IF('Aferi (Variáveis)'!$C$12=\"ALC\",0,IF('Aferi (Variáveis)'!$C$12=\"ZFM\",0,IF('Aferi (Variáveis)'!$C$12=\"Exportação\",0,IF('Aferi (Variáveis)'!$C$12=\"Venda para Exportar\",0,IF('Aferi (Variáveis)'!$C$12=\"AO\",0,SUMIF('Custo Básico dos Produtos'!$A$7:$A$480,Q302,'Custo Básico dos Produtos'!$L$7:$L$480))))))","v":0},0,0,0,0,{"$f":"SUMIF('Cadastro de Produtos em Linha'!$A$6:$A$457,Q302,'Cadastro de Produtos em Linha'!$E$6:$E$457)*H302","v":0},{"$f":"IF(TODAY()<$AK$26,IF(A302<>\"\",SUMIF('Custo Básico dos Produtos'!$B$7:$B$457,A302,'Custo Básico dos Produtos'!$A$7:$A$457),0),0)","v":0},{"$f":"IF('Aferi (Variáveis)'!$C$12=\"Venda para Exportar\",0,IF('Aferi (Variáveis)'!$C$12=\"ALC\",0,IF('Aferi (Variáveis)'!$C$12=\"ZFM\",0,IF('Aferi (Variáveis)'!$C$12=\"Exportação\",0,IF('Aferi (Variáveis)'!$C$12=\"AO\",0,E302/(100+(0*'Aferi (Variáveis)'!$K$12/100))*100*K302%/100*'Aferi (Variáveis)'!$K$12)))))","v":0},0,{"$f":"(E302*'Aferi (Variáveis)'!$K$12/100)","v":0},0,{"$f":"IF('Aferi (Variáveis)'!$F$20=\"Venda para Exportar\",0,IF('Aferi (Variáveis)'!$F$20=\"ALC\",0,IF('Aferi (Variáveis)'!$F$20=\"ZFM\",0,IF('Aferi (Variáveis)'!$F$20=\"Exportação\",0,IF('Aferi (Variáveis)'!$F$20=\"AO\",7*T302/100,T302*'Aferi (Variáveis)'!$F$20/100)))))","v":0},0,{"$f":"IF('Aferi (Variáveis)'!$C$12=\"ZFM\",0,IF('Aferi (Variáveis)'!$C$12=\"Exportação\",0,3*T302/100))","v":0},{"$f":"IF('Aferi (Variáveis)'!$C$12=\"ZFM\",0,IF('Aferi (Variáveis)'!$C$12=\"Exportação\",0,0.65*T302/100))","v":0},0,0,0,0,0,0,0,0,0,{"$f":"SUMIF('Custo Básico dos Produtos'!$B$7:$B$480,A302,'Custo Básico dos Produtos'!$K$7:$K$480)","v":0},null,null,0,0,0,0,0,0]
[null,{"$f":"IF(Q303<>0,VLOOKUP(Q303,'Custo Básico dos Produtos'!$A$7:$J$480,3),\"\")","v":""},null,{"$f":"SUMIF('Custo Básico dos Produtos'!$A$7:$A$480,Q303,'Custo Básico dos Produtos'!$J$7:$J$480)","v":0},0,0,{"$f":"IF(B303=\"\",0,SUMIF('Cadastro de Produtos em Linha'!$B$7:$B$457,A303,'Cadastro de Produtos em Linha'!$D$7:$D$457))","v":0},null,0,0,{"$f":"IF('Aferi (Variáveis)'!$C$12=\"ALC\",0,IF('Aferi (Variáveis)'!$C$12=\"ZFM\",0,IF('Aferi (Variáveis)'!$C$12=\"Exportação\",0,IF('Aferi (Variáveis)'!$C$12=\"Venda para Exportar\",0,IF('Aferi (Variáveis)'!$C$12=\"AO\",0,SUMIF('Custo Básico dos Produtos'!$A$7:$A$480,Q303,'Custo Básico dos Produtos'!$L$7:$L$480))))))","v":0},0,0,0,0,{"$f":"SUMIF('Cadastro de Produtos em Linha'!$A$6:$A$457,Q303,'Cadastro de Produtos em Linha'!$E$6:$E$457)*H303","v":0},{"$f":"IF(TODAY()<$AK$26,IF(A303<>\"\",SUMIF('Custo Básico dos Produtos'!$B$7:$B$457,A303,'Custo Básico dos Produtos'!$A$7:$A$457),0),0)","v":0},{"$f":"IF('Aferi (Variáveis)'!$C$12=\"Venda para Exportar\",0,IF('Aferi (Variáveis)'!$C$12=\"ALC\",0,IF('Aferi (Variáveis)'!$C$12=\"ZFM\",0,IF('Aferi (Variáveis)'!$C$12=\"Exportação\",0,IF('Aferi (Variáveis)'!$C$12=\"AO\",0,E303/(100+(0*'Aferi (Variáveis)'!$K$12/100))*100*K303%/100*'Aferi (Variáveis)'!$K$12)))))","v":0},0,{"$f":"(E303*'Aferi (Variáveis)'!$K$12/100)","v":0},0,{"$f":"IF('Aferi (Variáveis)'!$F$20=\"Venda para Exportar\",0,IF('Aferi (Variáveis)'!$F$20=\"ALC\",0,IF('Aferi (Variáveis)'!$F$20=\"ZFM\",0,IF('Aferi (Variáveis)'!$F$20=\"Exportação\",0,IF('Aferi (Variáveis)'!$F$20=\"AO\",7*T303/100,T303*'Aferi (Variáveis)'!$F$20/100)))))","v":0},0,{"$f":"IF('Aferi (Variáveis)'!$C$12=\"ZFM\",0,IF('Aferi (Variáveis)'!$C$12=\"Exportação\",0,3*T303/100))","v":0},{"$f":"IF('Aferi (Variáveis)'!$C$12=\"ZFM\",0,IF('Aferi (Variáveis)'!$C$12=\"Exportação\",0,0.65*T303/100))","v":0},0,0,0,0,0,0,0,0,0,{"$f":"SUMIF('Custo Básico dos Produtos'!$B$7:$B$480,A303,'Custo Básico dos Produtos'!$K$7:$K$480)","v":0},null,null,0,0,0,0,0,0]
[null,{"$f":"IF(Q304<>0,VLOOKUP(Q304,'Custo Básico dos Produtos'!$A$7:$J$480,3),\"\")","v":""},null,{"$f":"SUMIF('Custo Básico dos Produtos'!$A$7:$A$480,Q304,'Custo Básico dos Produtos'!$J$7:$J$480)","v":0},0,0,{"$f":"IF(B304=\"\",0,SUMIF('Cadastro de Produtos em Linha'!$B$7:$B$457,A304,'Cadastro de Produtos em Linha'!$D$7:$D$457))","v":0},null,0,0,{"$f":"IF('Aferi (Variáveis)'!$C$12=\"ALC\",0,IF('Aferi (Variáveis)'!$C$12=\"ZFM\",0,IF('Aferi (Variáveis)'!$C$12=\"Exportação\",0,IF('Aferi (Variáveis)'!$C$12=\"Venda para Exportar\",0,IF('Aferi (Variáveis)'!$C$12=\"AO\",0,SUMIF('Custo Básico dos Produtos'!$A$7:$A$480,Q304,'Custo Básico dos Produtos'!$L$7:$L$480))))))","v":0},0,0,0,0,{"$f":"SUMIF('Cadastro de Produtos em Linha'!$A$6:$A$457,Q304,'Cadastro de Produtos em Linha'!$E$6:$E$457)*H304","v":0},{"$f":"IF(TODAY()<$AK$26,IF(A304<>\"\",SUMIF('Custo Básico dos Produtos'!$B$7:$B$457,A304,'Custo Básico dos Produtos'!$A$7:$A$457),0),0)","v":0},{"$f":"IF('Aferi (Variáveis)'!$C$12=\"Venda para Exportar\",0,IF('Aferi (Variáveis)'!$C$12=\"ALC\",0,IF('Aferi (Variáveis)'!$C$12=\"ZFM\",0,IF('Aferi (Variáveis)'!$C$12=\"Exportação\",0,IF('Aferi (Variáveis)'!$C$12=\"AO\",0,E304/(100+(0*'Aferi (Variáveis)'!$K$12/100))*100*K304%/100*'Aferi (Variáveis)'!$K$12)))))","v":0},0,{"$f":"(E304*'Aferi (Variáveis)'!$K$12/100)","v":0},0,{"$f":"IF('Aferi (Variáveis)'!$F$20=\"Venda para Exportar\",0,IF('Aferi (Variáveis)'!$F$20=\"ALC\",0,IF('Aferi (Variáveis)'!$F$20=\"ZFM\",0,IF('Aferi (Variáveis)'!$F$20=\"Exportação\",0,IF('Aferi (Variáveis)'!$F$20=\"AO\",7*T304/100,T304*'Aferi (Variáveis)'!$F$20/100)))))","v":0},0,{"$f":"IF('Aferi (Variáveis)'!$C$12=\"ZFM\",0,IF('Aferi (Variáveis)'!$C$12=\"Exportação\",0,3*T304/100))","v":0},{"$f":"IF('Aferi (Variáveis)'!$C$12=\"ZFM\",0,IF('Aferi (Variáveis)'!$C$12=\"Exportação\",0,0.65*T304/100))","v":0},0,0,0,0,0,0,0,0,0,{"$f":"SUMIF('Custo Básico dos Produtos'!$B$7:$B$480,A304,'Custo Básico dos Produtos'!$K$7:$K$480)","v":0},null,null,0,0,0,0,0,0]
[null,{"$f":"IF(Q305<>0,VLOOKUP(Q305,'Custo Básico dos Produtos'!$A$7:$J$480,3),\"\")","v":""},null,{"$f":"SUMIF('Custo Básico dos Produtos'!$A$7:$A$480,Q305,'Custo Básico dos Produtos'!$J$7:$J$480)","v":0},0,0,{"$f":"IF(B305=\"\",0,SUMIF('Cadastro de Produtos em Linha'!$B$7:$B$457,A305,'Cadastro de Produtos em Linha'!$D$7:$D$457))","v":0},null,0,0,{"$f":"IF('Aferi (Variáveis)'!$C$12=\"ALC\",0,IF('Aferi (Variáveis)'!$C$12=\"ZFM\",0,IF('Aferi (Variáveis)'!$C$12=\"Exportação\",0,IF('Aferi (Variáveis)'!$C$12=\"Venda para Exportar\",0,IF('Aferi (Variáveis)'!$C$12=\"AO\",0,SUMIF('Custo Básico dos Produtos'!$A$7:$A$480,Q305,'Custo Básico dos Produtos'!$L$7:$L$480))))))","v":0},0,0,0,0,{"$f":"SUMIF('Cadastro de Produtos em Linha'!$A$6:$A$457,Q305,'Cadastro de Produtos em Linha'!$E$6:$E$457)*H305","v":0},{"$f":"IF(TODAY()<$AK$26,IF(A305<>\"\",SUMIF('Custo Básico dos Produtos'!$B$7:$B$457,A305,'Custo Básico dos Produtos'!$A$7:$A$457),0),0)","v":0},{"$f":"IF('Aferi (Variáveis)'!$C$12=\"Venda para Exportar\",0,IF('Aferi (Variáveis)'!$C$12=\"ALC\",0,IF('Aferi (Variáveis)'!$C$12=\"ZFM\",0,IF('Aferi (Variáveis)'!$C$12=\"Exportação\",0,IF('Aferi (Variáveis)'!$C$12=\"AO\",0,E305/(100+(0*'Aferi (Variáveis)'!$K$12/100))*100*K305%/100*'Aferi (Variáveis)'!$K$12)))))","v":0},0,{"$f":"(E305*'Aferi (Variáveis)'!$K$12/100)","v":0},0,{"$f":"IF('Aferi (Variáveis)'!$F$20=\"Venda para Exportar\",0,IF('Aferi (Variáveis)'!$F$20=\"ALC\",0,IF('Aferi (Variáveis)'!$F$20=\"ZFM\",0,IF('Aferi (Variáveis)'!$F$20=\"Exportação\",0,IF('Aferi (Variáveis)'!$F$20=\"AO\",7*T305/100,T305*'Aferi (Variáveis)'!$F$20/100)))))","v":0},0,{"$f":"IF('Aferi (Variáveis)'!$C$12=\"ZFM\",0,IF('Aferi (Variáveis)'!$C$12=\"Exportação\",0,3*T305/100))","v":0},{"$f":"IF('Aferi (Variáveis)'!$C$12=\"ZFM\",0,IF('Aferi (Variáveis)'!$C$12=\"Exportação\",0,0.65*T305/100))","v":0},0,0,0,0,0,0,0,0,0,{"$f":"SUMIF('Custo Básico dos Produtos'!$B$7:$B$480,A305,'Custo Básico dos Produtos'!$K$7:$K$480)","v":0},null,null,0,0,0,0,0,0]
[null,{"$f":"IF(Q306<>0,VLOOKUP(Q306,'Custo Básico dos Produtos'!$A$7:$J$480,3),\"\")","v":""},null,{"$f":"SUMIF('Custo Básico dos Produtos'!$A$7:$A$480,Q306,'Custo Básico dos Produtos'!$J$7:$J$480)","v":0},0,0,{"$f":"IF(B306=\"\",0,SUMIF('Cadastro de Produtos em Linha'!$B$7:$B$457,A306,'Cadastro de Produtos em Linha'!$D$7:$D$457))","v":0},null,0,0,{"$f":"IF('Aferi (Variáveis)'!$C$12=\"ALC\",0,IF('Aferi (Variáveis)'!$C$12=\"ZFM\",0,IF('Aferi (Variáveis)'!$C$12=\"Exportação\",0,IF('Aferi (Variáveis)'!$C$12=\"Venda para Exportar\",0,IF('Aferi (Variáveis)'!$C$12=\"AO\",0,SUMIF('Custo Básico dos Produtos'!$A$7:$A$480,Q306,'Custo Básico dos Produtos'!$L$7:$L$480))))))","v":0},0,0,0,0,{"$f":"SUMIF('Cadastro de Produtos em Linha'!$A$6:$A$457,Q306,'Cadastro de Produtos em Linha'!$E$6:$E$457)*H306","v":0},{"$f":"IF(TODAY()<$AK$26,IF(A306<>\"\",SUMIF('Custo Básico dos Produtos'!$B$7:$B$457,A306,'Custo Básico dos Produtos'!$A$7:$A$457),0),0)","v":0},{"$f":"IF('Aferi (Variáveis)'!$C$12=\"Venda para Exportar\",0,IF('Aferi (Variáveis)'!$C$12=\"ALC\",0,IF('Aferi (Variáveis)'!$C$12=\"ZFM\",0,IF('Aferi (Variáveis)'!$C$12=\"Exportação\",0,IF('Aferi (Variáveis)'!$C$12=\"AO\",0,E306/(100+(0*'Aferi (Variáveis)'!$K$12/100))*100*K306%/100*'Aferi (Variáveis)'!$K$12)))))","v":0},0,{"$f":"(E306*'Aferi (Variáveis)'!$K$12/100)","v":0},0,{"$f":"IF('Aferi (Variáveis)'!$F$20=\"Venda para Exportar\",0,IF('Aferi (Variáveis)'!$F$20=\"ALC\",0,IF('Aferi (Variáveis)'!$F$20=\"ZFM\",0,IF('Aferi (Variáveis)'!$F$20=\"Exportação\",0,IF('Aferi (Variáveis)'!$F$20=\"AO\",7*T306/100,T306*'Aferi (Variáveis)'!$F$20/100)))))","v":0},0,{"$f":"IF('Aferi (Variáveis)'!$C$12=\"ZFM\",0,IF('Aferi (Variáveis)'!$C$12=\"Exportação\",0,3*T306/100))","v":0},{"$f":"IF('Aferi (Variáveis)'!$C$12=\"ZFM\",0,IF('Aferi (Variáveis)'!$C$12=\"Exportação\",0,0.65*T306/100))","v":0},0,0,0,0,0,0,0,0,0,{"$f":"SUMIF('Custo Básico dos Produtos'!$B$7:$B$480,A306,'Custo Básico dos Produtos'!$K$7:$K$480)","v":0},null,null,0,0,0,0,0,0]
[null,{"$f":"IF(Q307<>0,VLOOKUP(Q307,'Custo Básico dos Produtos'!$A$7:$J$480,3),\"\")","v":""},null,{"$f":"SUMIF('Custo Básico dos Produtos'!$A$7:$A$480,Q307,'Custo Básico dos Produtos'!$J$7:$J$480)","v":0},0,0,{"$f":"IF(B307=\"\",0,SUMIF('Cadastro de Produtos em Linha'!$B$7:$B$457,A307,'Cadastro de Produtos em Linha'!$D$7:$D$457))","v":0},null,0,0,{"$f":"IF('Aferi (Variáveis)'!$C$12=\"ALC\",0,IF('Aferi (Variáveis)'!$C$12=\"ZFM\",0,IF('Aferi (Variáveis)'!$C$12=\"Exportação\",0,IF('Aferi (Variáveis)'!$C$12=\"Venda para Exportar\",0,IF('Aferi (Variáveis)'!$C$12=\"AO\",0,SUMIF('Custo Básico dos Produtos'!$A$7:$A$480,Q307,'Custo Básico dos Produtos'!$L$7:$L$480))))))","v":0},0,0,0,0,{"$f":"SUMIF('Cadastro de Produtos em Linha'!$A$6:$A$457,Q307,'Cadastro de Produtos em Linha'!$E$6:$E$457)*H307","v":0},{"$f":"IF(TODAY()<$AK$26,IF(A307<>\"\",SUMIF('Custo Básico dos Produtos'!$B$7:$B$457,A307,'Custo Básico dos Produtos'!$A$7:$A$457),0),0)","v":0},{"$f":"IF('Aferi (Variáveis)'!$C$12=\"Venda para Exportar\",0,IF('Aferi (Variáveis)'!$C$12=\"ALC\",0,IF('Aferi (Variáveis)'!$C$12=\"ZFM\",0,IF('Aferi (Variáveis)'!$C$12=\"Exportação\",0,IF('Aferi (Variáveis)'!$C$12=\"AO\",0,E307/(100+(0*'Aferi (Variáveis)'!$K$12/100))*100*K307%/100*'Aferi (Variáveis)'!$K$12)))))","v":0},0,{"$f":"(E307*'Aferi (Variáveis)'!$K$12/100)","v":0},0,{"$f":"IF('Aferi (Variáveis)'!$F$20=\"Venda para Exportar\",0,IF('Aferi (Variáveis)'!$F$20=\"ALC\",0,IF('Aferi (Variáveis)'!$F$20=\"ZFM\",0,IF('Aferi (Variáveis)'!$F$20=\"Exportação\",0,IF('Aferi (Variáveis)'!$F$20=\"AO\",7*T307/100,T307*'Aferi (Variáveis)'!$F$20/100)))))","v":0},0,{"$f":"IF('Aferi (Variáveis)'!$C$12=\"ZFM\",0,IF('Aferi (Variáveis)'!$C$12=\"Exportação\",0,3*T307/100))","v":0},{"$f":"IF('Aferi (Variáveis)'!$C$12=\"ZFM\",0,IF('Aferi (Variáveis)'!$C$12=\"Exportação\",0,0.65*T307/100))","v":0},0,0,0,0,0,0,0,0,0,{"$f":"SUMIF('Custo Básico dos Produtos'!$B$7:$B$480,A307,'Custo Básico dos Produtos'!$K$7:$K$480)","v":0},null,null,0,0,0,0,0,0]
[null,{"$f":"IF(Q308<>0,VLOOKUP(Q308,'Custo Básico dos Produtos'!$A$7:$J$480,3),\"\")","v":""},null,{"$f":"SUMIF('Custo Básico dos Produtos'!$A$7:$A$480,Q308,'Custo Básico dos Produtos'!$J$7:$J$480)","v":0},0,0,{"$f":"IF(B308=\"\",0,SUMIF('Cadastro de Produtos em Linha'!$B$7:$B$457,A308,'Cadastro de Produtos em Linha'!$D$7:$D$457))","v":0},null,0,0,{"$f":"IF('Aferi (Variáveis)'!$C$12=\"ALC\",0,IF('Aferi (Variáveis)'!$C$12=\"ZFM\",0,IF('Aferi (Variáveis)'!$C$12=\"Exportação\",0,IF('Aferi (Variáveis)'!$C$12=\"Venda para Exportar\",0,IF('Aferi (Variáveis)'!$C$12=\"AO\",0,SUMIF('Custo Básico dos Produtos'!$A$7:$A$480,Q308,'Custo Básico dos Produtos'!$L$7:$L$480))))))","v":0},0,0,0,0,{"$f":"SUMIF('Cadastro de Produtos em Linha'!$A$6:$A$457,Q308,'Cadastro de Produtos em Linha'!$E$6:$E$457)*H308","v":0},{"$f":"IF(TODAY()<$AK$26,IF(A308<>\"\",SUMIF('Custo Básico dos Produtos'!$B$7:$B$457,A308,'Custo Básico dos Produtos'!$A$7:$A$457),0),0)","v":0},{"$f":"IF('Aferi (Variáveis)'!$C$12=\"Venda para Exportar\",0,IF('Aferi (Variáveis)'!$C$12=\"ALC\",0,IF('Aferi (Variáveis)'!$C$12=\"ZFM\",0,IF('Aferi (Variáveis)'!$C$12=\"Exportação\",0,IF('Aferi (Variáveis)'!$C$12=\"AO\",0,E308/(100+(0*'Aferi (Variáveis)'!$K$12/100))*100*K308%/100*'Aferi (Variáveis)'!$K$12)))))","v":0},0,{"$f":"(E308*'Aferi (Variáveis)'!$K$12/100)","v":0},0,{"$f":"IF('Aferi (Variáveis)'!$F$20=\"Venda para Exportar\",0,IF('Aferi (Variáveis)'!$F$20=\"ALC\",0,IF('Aferi (Variáveis)'!$F$20=\"ZFM\",0,IF('Aferi (Variáveis)'!$F$20=\"Exportação\",0,IF('Aferi (Variáveis)'!$F$20=\"AO\",7*T308/100,T308*'Aferi (Variáveis)'!$F$20/100)))))","v":0},0,{"$f":"IF('Aferi (Variáveis)'!$C$12=\"ZFM\",0,IF('Aferi (Variáveis)'!$C$12=\"Exportação\",0,3*T308/100))","v":0},{"$f":"IF('Aferi (Variáveis)'!$C$12=\"ZFM\",0,IF('Aferi (Variáveis)'!$C$12=\"Exportação\",0,0.65*T308/100))","v":0},0,0,0,0,0,0,0,0,0,{"$f":"SUMIF('Custo Básico dos Produtos'!$B$7:$B$480,A308,'Custo Básico dos Produtos'!$K$7:$K$480)","v":0},null,null,0,0,0,0,0,0]
[null,{"$f":"IF(Q309<>0,VLOOKUP(Q309,'Custo Básico dos Produtos'!$A$7:$J$480,3),\"\")","v":""},null,{"$f":"SUMIF('Custo Básico dos Produtos'!$A$7:$A$480,Q309,'Custo Básico dos Produtos'!$J$7:$J$480)","v":0},0,0,{"$f":"IF(B309=\"\",0,SUMIF('Cadastro de Produtos em Linha'!$B$7:$B$457,A309,'Cadastro de Produtos em Linha'!$D$7:$D$457))","v":0},null,0,0,{"$f":"IF('Aferi (Variáveis)'!$C$12=\"ALC\",0,IF('Aferi (Variáveis)'!$C$12=\"ZFM\",0,IF('Aferi (Variáveis)'!$C$12=\"Exportação\",0,IF('Aferi (Variáveis)'!$C$12=\"Venda para Exportar\",0,IF('Aferi (Variáveis)'!$C$12=\"AO\",0,SUMIF('Custo Básico dos Produtos'!$A$7:$A$480,Q309,'Custo Básico dos Produtos'!$L$7:$L$480))))))","v":0},0,0,0,0,{"$f":"SUMIF('Cadastro de Produtos em Linha'!$A$6:$A$457,Q309,'Cadastro de Produtos em Linha'!$E$6:$E$457)*H309","v":0},{"$f":"IF(TODAY()<$AK$26,IF(A309<>\"\",SUMIF('Custo Básico dos Produtos'!$B$7:$B$457,A309,'Custo Básico dos Produtos'!$A$7:$A$457),0),0)","v":0},{"$f":"IF('Aferi (Variáveis)'!$C$12=\"Venda para Exportar\",0,IF('Aferi (Variáveis)'!$C$12=\"ALC\",0,IF('Aferi (Variáveis)'!$C$12=\"ZFM\",0,IF('Aferi (Variáveis)'!$C$12=\"Exportação\",0,IF('Aferi (Variáveis)'!$C$12=\"AO\",0,E309/(100+(0*'Aferi (Variáveis)'!$K$12/100))*100*K309%/100*'Aferi (Variáveis)'!$K$12)))))","v":0},0,{"$f":"(E309*'Aferi (Variáveis)'!$K$12/100)","v":0},0,{"$f":"IF('Aferi (Variáveis)'!$F$20=\"Venda para Exportar\",0,IF('Aferi (Variáveis)'!$F$20=\"ALC\",0,IF('Aferi (Variáveis)'!$F$20=\"ZFM\",0,IF('Aferi (Variáveis)'!$F$20=\"Exportação\",0,IF('Aferi (Variáveis)'!$F$20=\"AO\",7*T309/100,T309*'Aferi (Variáveis)'!$F$20/100)))))","v":0},0,{"$f":"IF('Aferi (Variáveis)'!$C$12=\"ZFM\",0,IF('Aferi (Variáveis)'!$C$12=\"Exportação\",0,3*T309/100))","v":0},{"$f":"IF('Aferi (Variáveis)'!$C$12=\"ZFM\",0,IF('Aferi (Variáveis)'!$C$12=\"Exportação\",0,0.65*T309/100))","v":0},0,0,0,0,0,0,0,0,0,{"$f":"SUMIF('Custo Básico dos Produtos'!$B$7:$B$480,A309,'Custo Básico dos Produtos'!$K$7:$K$480)","v":0},null,null,0,0,0,0,0,0]
[null,{"$f":"IF(Q310<>0,VLOOKUP(Q310,'Custo Básico dos Produtos'!$A$7:$J$480,3),\"\")","v":""},null,{"$f":"SUMIF('Custo Básico dos Produtos'!$A$7:$A$480,Q310,'Custo Básico dos Produtos'!$J$7:$J$480)","v":0},0,0,{"$f":"IF(B310=\"\",0,SUMIF('Cadastro de Produtos em Linha'!$B$7:$B$457,A310,'Cadastro de Produtos em Linha'!$D$7:$D$457))","v":0},null,0,0,{"$f":"IF('Aferi (Variáveis)'!$C$12=\"ALC\",0,IF('Aferi (Variáveis)'!$C$12=\"ZFM\",0,IF('Aferi (Variáveis)'!$C$12=\"Exportação\",0,IF('Aferi (Variáveis)'!$C$12=\"Venda para Exportar\",0,IF('Aferi (Variáveis)'!$C$12=\"AO\",0,SUMIF('Custo Básico dos Produtos'!$A$7:$A$480,Q310,'Custo Básico dos Produtos'!$L$7:$L$480))))))","v":0},0,0,0,0,{"$f":"SUMIF('Cadastro de Produtos em Linha'!$A$6:$A$457,Q310,'Cadastro de Produtos em Linha'!$E$6:$E$457)*H310","v":0},{"$f":"IF(TODAY()<$AK$26,IF(A310<>\"\",SUMIF('Custo Básico dos Produtos'!$B$7:$B$457,A310,'Custo Básico dos Produtos'!$A$7:$A$457),0),0)","v":0},{"$f":"IF('Aferi (Variáveis)'!$C$12=\"Venda para Exportar\",0,IF('Aferi (Variáveis)'!$C$12=\"ALC\",0,IF('Aferi (Variáveis)'!$C$12=\"ZFM\",0,IF('Aferi (Variáveis)'!$C$12=\"Exportação\",0,IF('Aferi (Variáveis)'!$C$12=\"AO\",0,E310/(100+(0*'Aferi (Variáveis)'!$K$12/100))*100*K310%/100*'Aferi (Variáveis)'!$K$12)))))","v":0},0,{"$f":"(E310*'Aferi (Variáveis)'!$K$12/100)","v":0},0,{"$f":"IF('Aferi (Variáveis)'!$F$20=\"Venda para Exportar\",0,IF('Aferi (Variáveis)'!$F$20=\"ALC\",0,IF('Aferi (Variáveis)'!$F$20=\"ZFM\",0,IF('Aferi (Variáveis)'!$F$20=\"Exportação\",0,IF('Aferi (Variáveis)'!$F$20=\"AO\",7*T310/100,T310*'Aferi (Variáveis)'!$F$20/100)))))","v":0},0,{"$f":"IF('Aferi (Variáveis)'!$C$12=\"ZFM\",0,IF('Aferi (Variáveis)'!$C$12=\"Exportação\",0,3*T310/100))","v":0},{"$f":"IF('Aferi (Variáveis)'!$C$12=\"ZFM\",0,IF('Aferi (Variáveis)'!$C$12=\"Exportação\",0,0.65*T310/100))","v":0},0,0,0,0,0,0,0,0,0,{"$f":"SUMIF('Custo Básico dos Produtos'!$B$7:$B$480,A310,'Custo Básico dos Produtos'!$K$7:$K$480)","v":0},null,null,0,0,0,0,0,0]
[null,{"$f":"IF(Q311<>0,VLOOKUP(Q311,'Custo Básico dos Produtos'!$A$7:$J$480,3),\"\")","v":""},null,{"$f":"SUMIF('Custo Básico dos Produtos'!$A$7:$A$480,Q311,'Custo Básico dos Produtos'!$J$7:$J$480)","v":0},0,0,{"$f":"IF(B311=\"\",0,SUMIF('Cadastro de Produtos em Linha'!$B$7:$B$457,A311,'Cadastro de Produtos em Linha'!$D$7:$D$457))","v":0},null,0,0,{"$f":"IF('Aferi (Variáveis)'!$C$12=\"ALC\",0,IF('Aferi (Variáveis)'!$C$12=\"ZFM\",0,IF('Aferi (Variáveis)'!$C$12=\"Exportação\",0,IF('Aferi (Variáveis)'!$C$12=\"Venda para Exportar\",0,IF('Aferi (Variáveis)'!$C$12=\"AO\",0,SUMIF('Custo Básico dos Produtos'!$A$7:$A$480,Q311,'Custo Básico dos Produtos'!$L$7:$L$480))))))","v":0},0,0,0,0,{"$f":"SUMIF('Cadastro de Produtos em Linha'!$A$6:$A$457,Q311,'Cadastro de Produtos em Linha'!$E$6:$E$457)*H311","v":0},{"$f":"IF(TODAY()<$AK$26,IF(A311<>\"\",SUMIF('Custo Básico dos Produtos'!$B$7:$B$457,A311,'Custo Básico dos Produtos'!$A$7:$A$457),0),0)","v":0},{"$f":"IF('Aferi (Variáveis)'!$C$12=\"Venda para Exportar\",0,IF('Aferi (Variáveis)'!$C$12=\"ALC\",0,IF('Aferi (Variáveis)'!$C$12=\"ZFM\",0,IF('Aferi (Variáveis)'!$C$12=\"Exportação\",0,IF('Aferi (Variáveis)'!$C$12=\"AO\",0,E311/(100+(0*'Aferi (Variáveis)'!$K$12/100))*100*K311%/100*'Aferi (Variáveis)'!$K$12)))))","v":0},0,{"$f":"(E311*'Aferi (Variáveis)'!$K$12/100)","v":0},0,{"$f":"IF('Aferi (Variáveis)'!$F$20=\"Venda para Exportar\",0,IF('Aferi (Variáveis)'!$F$20=\"ALC\",0,IF('Aferi (Variáveis)'!$F$20=\"ZFM\",0,IF('Aferi (Variáveis)'!$F$20=\"Exportação\",0,IF('Aferi (Variáveis)'!$F$20=\"AO\",7*T311/100,T311*'Aferi (Variáveis)'!$F$20/100)))))","v":0},0,{"$f":"IF('Aferi (Variáveis)'!$C$12=\"ZFM\",0,IF('Aferi (Variáveis)'!$C$12=\"Exportação\",0,3*T311/100))","v":0},{"$f":"IF('Aferi (Variáveis)'!$C$12=\"ZFM\",0,IF('Aferi (Variáveis)'!$C$12=\"Exportação\",0,0.65*T311/100))","v":0},0,0,0,0,0,0,0,0,0,{"$f":"SUMIF('Custo Básico dos Produtos'!$B$7:$B$480,A311,'Custo Básico dos Produtos'!$K$7:$K$480)","v":0},null,null,0,0,0,0,0,0]
[null,{"$f":"IF(Q312<>0,VLOOKUP(Q312,'Custo Básico dos Produtos'!$A$7:$J$480,3),\"\")","v":""},null,{"$f":"SUMIF('Custo Básico dos Produtos'!$A$7:$A$480,Q312,'Custo Básico dos Produtos'!$J$7:$J$480)","v":0},0,0,{"$f":"IF(B312=\"\",0,SUMIF('Cadastro de Produtos em Linha'!$B$7:$B$457,A312,'Cadastro de Produtos em Linha'!$D$7:$D$457))","v":0},null,0,0,{"$f":"IF('Aferi (Variáveis)'!$C$12=\"ALC\",0,IF('Aferi (Variáveis)'!$C$12=\"ZFM\",0,IF('Aferi (Variáveis)'!$C$12=\"Exportação\",0,IF('Aferi (Variáveis)'!$C$12=\"Venda para Exportar\",0,IF('Aferi (Variáveis)'!$C$12=\"AO\",0,SUMIF('Custo Básico dos Produtos'!$A$7:$A$480,Q312,'Custo Básico dos Produtos'!$L$7:$L$480))))))","v":0},0,0,0,0,{"$f":"SUMIF('Cadastro de Produtos em Linha'!$A$6:$A$457,Q312,'Cadastro de Produtos em Linha'!$E$6:$E$457)*H312","v":0},{"$f":"IF(TODAY()<$AK$26,IF(A312<>\"\",SUMIF('Custo Básico dos Produtos'!$B$7:$B$457,A312,'Custo Básico dos Produtos'!$A$7:$A$457),0),0)","v":0},{"$f":"IF('Aferi (Variáveis)'!$C$12=\"Venda para Exportar\",0,IF('Aferi (Variáveis)'!$C$12=\"ALC\",0,IF('Aferi (Variáveis)'!$C$12=\"ZFM\",0,IF('Aferi (Variáveis)'!$C$12=\"Exportação\",0,IF('Aferi (Variáveis)'!$C$12=\"AO\",0,E312/(100+(0*'Aferi (Variáveis)'!$K$12/100))*100*K312%/100*'Aferi (Variáveis)'!$K$12)))))","v":0},0,{"$f":"(E312*'Aferi (Variáveis)'!$K$12/100)","v":0},0,{"$f":"IF('Aferi (Variáveis)'!$F$20=\"Venda para Exportar\",0,IF('Aferi (Variáveis)'!$F$20=\"ALC\",0,IF('Aferi (Variáveis)'!$F$20=\"ZFM\",0,IF('Aferi (Variáveis)'!$F$20=\"Exportação\",0,IF('Aferi (Variáveis)'!$F$20=\"AO\",7*T312/100,T312*'Aferi (Variáveis)'!$F$20/100)))))","v":0},0,{"$f":"IF('Aferi (Variáveis)'!$C$12=\"ZFM\",0,IF('Aferi (Variáveis)'!$C$12=\"Exportação\",0,3*T312/100))","v":0},{"$f":"IF('Aferi (Variáveis)'!$C$12=\"ZFM\",0,IF('Aferi (Variáveis)'!$C$12=\"Exportação\",0,0.65*T312/100))","v":0},0,0,0,0,0,0,0,0,0,{"$f":"SUMIF('Custo Básico dos Produtos'!$B$7:$B$480,A312,'Custo Básico dos Produtos'!$K$7:$K$480)","v":0},null,null,0,0,0,0,0,0]
[null,{"$f":"IF(Q313<>0,VLOOKUP(Q313,'Custo Básico dos Produtos'!$A$7:$J$480,3),\"\")","v":""},null,{"$f":"SUMIF('Custo Básico dos Produtos'!$A$7:$A$480,Q313,'Custo Básico dos Produtos'!$J$7:$J$480)","v":0},0,0,{"$f":"IF(B313=\"\",0,SUMIF('Cadastro de Produtos em Linha'!$B$7:$B$457,A313,'Cadastro de Produtos em Linha'!$D$7:$D$457))","v":0},null,0,0,{"$f":"IF('Aferi (Variáveis)'!$C$12=\"ALC\",0,IF('Aferi (Variáveis)'!$C$12=\"ZFM\",0,IF('Aferi (Variáveis)'!$C$12=\"Exportação\",0,IF('Aferi (Variáveis)'!$C$12=\"Venda para Exportar\",0,IF('Aferi (Variáveis)'!$C$12=\"AO\",0,SUMIF('Custo Básico dos Produtos'!$A$7:$A$480,Q313,'Custo Básico dos Produtos'!$L$7:$L$480))))))","v":0},0,0,0,0,{"$f":"SUMIF('Cadastro de Produtos em Linha'!$A$6:$A$457,Q313,'Cadastro de Produtos em Linha'!$E$6:$E$457)*H313","v":0},{"$f":"IF(TODAY()<$AK$26,IF(A313<>\"\",SUMIF('Custo Básico dos Produtos'!$B$7:$B$457,A313,'Custo Básico dos Produtos'!$A$7:$A$457),0),0)","v":0},{"$f":"IF('Aferi (Variáveis)'!$C$12=\"Venda para Exportar\",0,IF('Aferi (Variáveis)'!$C$12=\"ALC\",0,IF('Aferi (Variáveis)'!$C$12=\"ZFM\",0,IF('Aferi (Variáveis)'!$C$12=\"Exportação\",0,IF('Aferi (Variáveis)'!$C$12=\"AO\",0,E313/(100+(0*'Aferi (Variáveis)'!$K$12/100))*100*K313%/100*'Aferi (Variáveis)'!$K$12)))))","v":0},0,{"$f":"(E313*'Aferi (Variáveis)'!$K$12/100)","v":0},0,{"$f":"IF('Aferi (Variáveis)'!$F$20=\"Venda para Exportar\",0,IF('Aferi (Variáveis)'!$F$20=\"ALC\",0,IF('Aferi (Variáveis)'!$F$20=\"ZFM\",0,IF('Aferi (Variáveis)'!$F$20=\"Exportação\",0,IF('Aferi (Variáveis)'!$F$20=\"AO\",7*T313/100,T313*'Aferi (Variáveis)'!$F$20/100)))))","v":0},0,{"$f":"IF('Aferi (Variáveis)'!$C$12=\"ZFM\",0,IF('Aferi (Variáveis)'!$C$12=\"Exportação\",0,3*T313/100))","v":0},{"$f":"IF('Aferi (Variáveis)'!$C$12=\"ZFM\",0,IF('Aferi (Variáveis)'!$C$12=\"Exportação\",0,0.65*T313/100))","v":0},0,0,0,0,0,0,0,0,0,{"$f":"SUMIF('Custo Básico dos Produtos'!$B$7:$B$480,A313,'Custo Básico dos Produtos'!$K$7:$K$480)","v":0},null,null,0,0,0,0,0,0]
[null,{"$f":"IF(Q314<>0,VLOOKUP(Q314,'Custo Básico dos Produtos'!$A$7:$J$480,3),\"\")","v":""},null,{"$f":"SUMIF('Custo Básico dos Produtos'!$A$7:$A$480,Q314,'Custo Básico dos Produtos'!$J$7:$J$480)","v":0},0,0,{"$f":"IF(B314=\"\",0,SUMIF('Cadastro de Produtos em Linha'!$B$7:$B$457,A314,'Cadastro de Produtos em Linha'!$D$7:$D$457))","v":0},null,0,0,{"$f":"IF('Aferi (Variáveis)'!$C$12=\"ALC\",0,IF('Aferi (Variáveis)'!$C$12=\"ZFM\",0,IF('Aferi (Variáveis)'!$C$12=\"Exportação\",0,IF('Aferi (Variáveis)'!$C$12=\"Venda para Exportar\",0,IF('Aferi (Variáveis)'!$C$12=\"AO\",0,SUMIF('Custo Básico dos Produtos'!$A$7:$A$480,Q314,'Custo Básico dos Produtos'!$L$7:$L$480))))))","v":0},0,0,0,0,{"$f":"SUMIF('Cadastro de Produtos em Linha'!$A$6:$A$457,Q314,'Cadastro de Produtos em Linha'!$E$6:$E$457)*H314","v":0},{"$f":"IF(TODAY()<$AK$26,IF(A314<>\"\",SUMIF('Custo Básico dos Produtos'!$B$7:$B$457,A314,'Custo Básico dos Produtos'!$A$7:$A$457),0),0)","v":0},{"$f":"IF('Aferi (Variáveis)'!$C$12=\"Venda para Exportar\",0,IF('Aferi (Variáveis)'!$C$12=\"ALC\",0,IF('Aferi (Variáveis)'!$C$12=\"ZFM\",0,IF('Aferi (Variáveis)'!$C$12=\"Exportação\",0,IF('Aferi (Variáveis)'!$C$12=\"AO\",0,E314/(100+(0*'Aferi (Variáveis)'!$K$12/100))*100*K314%/100*'Aferi (Variáveis)'!$K$12)))))","v":0},0,{"$f":"(E314*'Aferi (Variáveis)'!$K$12/100)","v":0},0,{"$f":"IF('Aferi (Variáveis)'!$F$20=\"Venda para Exportar\",0,IF('Aferi (Variáveis)'!$F$20=\"ALC\",0,IF('Aferi (Variáveis)'!$F$20=\"ZFM\",0,IF('Aferi (Variáveis)'!$F$20=\"Exportação\",0,IF('Aferi (Variáveis)'!$F$20=\"AO\",7*T314/100,T314*'Aferi (Variáveis)'!$F$20/100)))))","v":0},0,{"$f":"IF('Aferi (Variáveis)'!$C$12=\"ZFM\",0,IF('Aferi (Variáveis)'!$C$12=\"Exportação\",0,3*T314/100))","v":0},{"$f":"IF('Aferi (Variáveis)'!$C$12=\"ZFM\",0,IF('Aferi (Variáveis)'!$C$12=\"Exportação\",0,0.65*T314/100))","v":0},0,0,0,0,0,0,0,0,0,{"$f":"SUMIF('Custo Básico dos Produtos'!$B$7:$B$480,A314,'Custo Básico dos Produtos'!$K$7:$K$480)","v":0},null,null,0,0,0,0,0,0]
[null,{"$f":"IF(Q315<>0,VLOOKUP(Q315,'Custo Básico dos Produtos'!$A$7:$J$480,3),\"\")","v":""},null,{"$f":"SUMIF('Custo Básico dos Produtos'!$A$7:$A$480,Q315,'Custo Básico dos Produtos'!$J$7:$J$480)","v":0},0,0,{"$f":"IF(B315=\"\",0,SUMIF('Cadastro de Produtos em Linha'!$B$7:$B$457,A315,'Cadastro de Produtos em Linha'!$D$7:$D$457))","v":0},null,0,0,{"$f":"IF('Aferi (Variáveis)'!$C$12=\"ALC\",0,IF('Aferi (Variáveis)'!$C$12=\"ZFM\",0,IF('Aferi (Variáveis)'!$C$12=\"Exportação\",0,IF('Aferi (Variáveis)'!$C$12=\"Venda para Exportar\",0,IF('Aferi (Variáveis)'!$C$12=\"AO\",0,SUMIF('Custo Básico dos Produtos'!$A$7:$A$480,Q315,'Custo Básico dos Produtos'!$L$7:$L$480))))))","v":0},0,0,0,0,{"$f":"SUMIF('Cadastro de Produtos em Linha'!$A$6:$A$457,Q315,'Cadastro de Produtos em Linha'!$E$6:$E$457)*H315","v":0},{"$f":"IF(TODAY()<$AK$26,IF(A315<>\"\",SUMIF('Custo Básico dos Produtos'!$B$7:$B$457,A315,'Custo Básico dos Produtos'!$A$7:$A$457),0),0)","v":0},{"$f":"IF('Aferi (Variáveis)'!$C$12=\"Venda para Exportar\",0,IF('Aferi (Variáveis)'!$C$12=\"ALC\",0,IF('Aferi (Variáveis)'!$C$12=\"ZFM\",0,IF('Aferi (Variáveis)'!$C$12=\"Exportação\",0,IF('Aferi (Variáveis)'!$C$12=\"AO\",0,E315/(100+(0*'Aferi (Variáveis)'!$K$12/100))*100*K315%/100*'Aferi (Variáveis)'!$K$12)))))","v":0},0,{"$f":"(E315*'Aferi (Variáveis)'!$K$12/100)","v":0},0,{"$f":"IF('Aferi (Variáveis)'!$F$20=\"Venda para Exportar\",0,IF('Aferi (Variáveis)'!$F$20=\"ALC\",0,IF('Aferi (Variáveis)'!$F$20=\"ZFM\",0,IF('Aferi (Variáveis)'!$F$20=\"Exportação\",0,IF('Aferi (Variáveis)'!$F$20=\"AO\",7*T315/100,T315*'Aferi (Variáveis)'!$F$20/100)))))","v":0},0,{"$f":"IF('Aferi (Variáveis)'!$C$12=\"ZFM\",0,IF('Aferi (Variáveis)'!$C$12=\"Exportação\",0,3*T315/100))","v":0},{"$f":"IF('Aferi (Variáveis)'!$C$12=\"ZFM\",0,IF('Aferi (Variáveis)'!$C$12=\"Exportação\",0,0.65*T315/100))","v":0},0,0,0,0,0,0,0,0,0,{"$f":"SUMIF('Custo Básico dos Produtos'!$B$7:$B$480,A315,'Custo Básico dos Produtos'!$K$7:$K$480)","v":0},null,null,0,0,0,0,0,0]
[null,{"$f":"IF(Q316<>0,VLOOKUP(Q316,'Custo Básico dos Produtos'!$A$7:$J$480,3),\"\")","v":""},null,{"$f":"SUMIF('Custo Básico dos Produtos'!$A$7:$A$480,Q316,'Custo Básico dos Produtos'!$J$7:$J$480)","v":0},0,0,{"$f":"IF(B316=\"\",0,SUMIF('Cadastro de Produtos em Linha'!$B$7:$B$457,A316,'Cadastro de Produtos em Linha'!$D$7:$D$457))","v":0},null,0,0,{"$f":"IF('Aferi (Variáveis)'!$C$12=\"ALC\",0,IF('Aferi (Variáveis)'!$C$12=\"ZFM\",0,IF('Aferi (Variáveis)'!$C$12=\"Exportação\",0,IF('Aferi (Variáveis)'!$C$12=\"Venda para Exportar\",0,IF('Aferi (Variáveis)'!$C$12=\"AO\",0,SUMIF('Custo Básico dos Produtos'!$A$7:$A$480,Q316,'Custo Básico dos Produtos'!$L$7:$L$480))))))","v":0},0,0,0,0,{"$f":"SUMIF('Cadastro de Produtos em Linha'!$A$6:$A$457,Q316,'Cadastro de Produtos em Linha'!$E$6:$E$457)*H316","v":0},{"$f":"IF(TODAY()<$AK$26,IF(A316<>\"\",SUMIF('Custo Básico dos Produtos'!$B$7:$B$457,A316,'Custo Básico dos Produtos'!$A$7:$A$457),0),0)","v":0},{"$f":"IF('Aferi (Variáveis)'!$C$12=\"Venda para Exportar\",0,IF('Aferi (Variáveis)'!$C$12=\"ALC\",0,IF('Aferi (Variáveis)'!$C$12=\"ZFM\",0,IF('Aferi (Variáveis)'!$C$12=\"Exportação\",0,IF('Aferi (Variáveis)'!$C$12=\"AO\",0,E316/(100+(0*'Aferi (Variáveis)'!$K$12/100))*100*K316%/100*'Aferi (Variáveis)'!$K$12)))))","v":0},0,{"$f":"(E316*'Aferi (Variáveis)'!$K$12/100)","v":0},0,{"$f":"IF('Aferi (Variáveis)'!$F$20=\"Venda para Exportar\",0,IF('Aferi (Variáveis)'!$F$20=\"ALC\",0,IF('Aferi (Variáveis)'!$F$20=\"ZFM\",0,IF('Aferi (Variáveis)'!$F$20=\"Exportação\",0,IF('Aferi (Variáveis)'!$F$20=\"AO\",7*T316/100,T316*'Aferi (Variáveis)'!$F$20/100)))))","v":0},0,{"$f":"IF('Aferi (Variáveis)'!$C$12=\"ZFM\",0,IF('Aferi (Variáveis)'!$C$12=\"Exportação\",0,3*T316/100))","v":0},{"$f":"IF('Aferi (Variáveis)'!$C$12=\"ZFM\",0,IF('Aferi (Variáveis)'!$C$12=\"Exportação\",0,0.65*T316/100))","v":0},0,0,0,0,0,0,0,0,0,{"$f":"SUMIF('Custo Básico dos Produtos'!$B$7:$B$480,A316,'Custo Básico dos Produtos'!$K$7:$K$480)","v":0},null,null,0,0,0,0,0,0]
[null,{"$f":"IF(Q317<>0,VLOOKUP(Q317,'Custo Básico dos Produtos'!$A$7:$J$480,3),\"\")","v":""},null,{"$f":"SUMIF('Custo Básico dos Produtos'!$A$7:$A$480,Q317,'Custo Básico dos Produtos'!$J$7:$J$480)","v":0},0,0,{"$f":"IF(B317=\"\",0,SUMIF('Cadastro de Produtos em Linha'!$B$7:$B$457,A317,'Cadastro de Produtos em Linha'!$D$7:$D$457))","v":0},null,0,0,{"$f":"IF('Aferi (Variáveis)'!$C$12=\"ALC\",0,IF('Aferi (Variáveis)'!$C$12=\"ZFM\",0,IF('Aferi (Variáveis)'!$C$12=\"Exportação\",0,IF('Aferi (Variáveis)'!$C$12=\"Venda para Exportar\",0,IF('Aferi (Variáveis)'!$C$12=\"AO\",0,SUMIF('Custo Básico dos Produtos'!$A$7:$A$480,Q317,'Custo Básico dos Produtos'!$L$7:$L$480))))))","v":0},0,0,0,0,{"$f":"SUMIF('Cadastro de Produtos em Linha'!$A$6:$A$457,Q317,'Cadastro de Produtos em Linha'!$E$6:$E$457)*H317","v":0},{"$f":"IF(TODAY()<$AK$26,IF(A317<>\"\",SUMIF('Custo Básico dos Produtos'!$B$7:$B$457,A317,'Custo Básico dos Produtos'!$A$7:$A$457),0),0)","v":0},{"$f":"IF('Aferi (Variáveis)'!$C$12=\"Venda para Exportar\",0,IF('Aferi (Variáveis)'!$C$12=\"ALC\",0,IF('Aferi (Variáveis)'!$C$12=\"ZFM\",0,IF('Aferi (Variáveis)'!$C$12=\"Exportação\",0,IF('Aferi (Variáveis)'!$C$12=\"AO\",0,E317/(100+(0*'Aferi (Variáveis)'!$K$12/100))*100*K317%/100*'Aferi (Variáveis)'!$K$12)))))","v":0},0,{"$f":"(E317*'Aferi (Variáveis)'!$K$12/100)","v":0},0,{"$f":"IF('Aferi (Variáveis)'!$F$20=\"Venda para Exportar\",0,IF('Aferi (Variáveis)'!$F$20=\"ALC\",0,IF('Aferi (Variáveis)'!$F$20=\"ZFM\",0,IF('Aferi (Variáveis)'!$F$20=\"Exportação\",0,IF('Aferi (Variáveis)'!$F$20=\"AO\",7*T317/100,T317*'Aferi (Variáveis)'!$F$20/100)))))","v":0},0,{"$f":"IF('Aferi (Variáveis)'!$C$12=\"ZFM\",0,IF('Aferi (Variáveis)'!$C$12=\"Exportação\",0,3*T317/100))","v":0},{"$f":"IF('Aferi (Variáveis)'!$C$12=\"ZFM\",0,IF('Aferi (Variáveis)'!$C$12=\"Exportação\",0,0.65*T317/100))","v":0},0,0,0,0,0,0,0,0,0,{"$f":"SUMIF('Custo Básico dos Produtos'!$B$7:$B$480,A317,'Custo Básico dos Produtos'!$K$7:$K$480)","v":0},null,null,0,0,0,0,0,0]
[null,{"$f":"IF(Q318<>0,VLOOKUP(Q318,'Custo Básico dos Produtos'!$A$7:$J$480,3),\"\")","v":""},null,{"$f":"SUMIF('Custo Básico dos Produtos'!$A$7:$A$480,Q318,'Custo Básico dos Produtos'!$J$7:$J$480)","v":0},0,0,{"$f":"IF(B318=\"\",0,SUMIF('Cadastro de Produtos em Linha'!$B$7:$B$457,A318,'Cadastro de Produtos em Linha'!$D$7:$D$457))","v":0},null,0,0,{"$f":"IF('Aferi (Variáveis)'!$C$12=\"ALC\",0,IF('Aferi (Variáveis)'!$C$12=\"ZFM\",0,IF('Aferi (Variáveis)'!$C$12=\"Exportação\",0,IF('Aferi (Variáveis)'!$C$12=\"Venda para Exportar\",0,IF('Aferi (Variáveis)'!$C$12=\"AO\",0,SUMIF('Custo Básico dos Produtos'!$A$7:$A$480,Q318,'Custo Básico dos Produtos'!$L$7:$L$480))))))","v":0},0,0,0,0,{"$f":"SUMIF('Cadastro de Produtos em Linha'!$A$6:$A$457,Q318,'Cadastro de Produtos em Linha'!$E$6:$E$457)*H318","v":0},{"$f":"IF(TODAY()<$AK$26,IF(A318<>\"\",SUMIF('Custo Básico dos Produtos'!$B$7:$B$457,A318,'Custo Básico dos Produtos'!$A$7:$A$457),0),0)","v":0},{"$f":"IF('Aferi (Variáveis)'!$C$12=\"Venda para Exportar\",0,IF('Aferi (Variáveis)'!$C$12=\"ALC\",0,IF('Aferi (Variáveis)'!$C$12=\"ZFM\",0,IF('Aferi (Variáveis)'!$C$12=\"Exportação\",0,IF('Aferi (Variáveis)'!$C$12=\"AO\",0,E318/(100+(0*'Aferi (Variáveis)'!$K$12/100))*100*K318%/100*'Aferi (Variáveis)'!$K$12)))))","v":0},0,{"$f":"(E318*'Aferi (Variáveis)'!$K$12/100)","v":0},0,{"$f":"IF('Aferi (Variáveis)'!$F$20=\"Venda para Exportar\",0,IF('Aferi (Variáveis)'!$F$20=\"ALC\",0,IF('Aferi (Variáveis)'!$F$20=\"ZFM\",0,IF('Aferi (Variáveis)'!$F$20=\"Exportação\",0,IF('Aferi (Variáveis)'!$F$20=\"AO\",7*T318/100,T318*'Aferi (Variáveis)'!$F$20/100)))))","v":0},0,{"$f":"IF('Aferi (Variáveis)'!$C$12=\"ZFM\",0,IF('Aferi (Variáveis)'!$C$12=\"Exportação\",0,3*T318/100))","v":0},{"$f":"IF('Aferi (Variáveis)'!$C$12=\"ZFM\",0,IF('Aferi (Variáveis)'!$C$12=\"Exportação\",0,0.65*T318/100))","v":0},0,0,0,0,0,0,0,0,0,{"$f":"SUMIF('Custo Básico dos Produtos'!$B$7:$B$480,A318,'Custo Básico dos Produtos'!$K$7:$K$480)","v":0},null,null,0,0,0,0,0,0]
[null,{"$f":"IF(Q319<>0,VLOOKUP(Q319,'Custo Básico dos Produtos'!$A$7:$J$480,3),\"\")","v":""},null,{"$f":"SUMIF('Custo Básico dos Produtos'!$A$7:$A$480,Q319,'Custo Básico dos Produtos'!$J$7:$J$480)","v":0},0,0,{"$f":"IF(B319=\"\",0,SUMIF('Cadastro de Produtos em Linha'!$B$7:$B$457,A319,'Cadastro de Produtos em Linha'!$D$7:$D$457))","v":0},null,0,0,{"$f":"IF('Aferi (Variáveis)'!$C$12=\"ALC\",0,IF('Aferi (Variáveis)'!$C$12=\"ZFM\",0,IF('Aferi (Variáveis)'!$C$12=\"Exportação\",0,IF('Aferi (Variáveis)'!$C$12=\"Venda para Exportar\",0,IF('Aferi (Variáveis)'!$C$12=\"AO\",0,SUMIF('Custo Básico dos Produtos'!$A$7:$A$480,Q319,'Custo Básico dos Produtos'!$L$7:$L$480))))))","v":0},0,0,0,0,{"$f":"SUMIF('Cadastro de Produtos em Linha'!$A$6:$A$457,Q319,'Cadastro de Produtos em Linha'!$E$6:$E$457)*H319","v":0},{"$f":"IF(TODAY()<$AK$26,IF(A319<>\"\",SUMIF('Custo Básico dos Produtos'!$B$7:$B$457,A319,'Custo Básico dos Produtos'!$A$7:$A$457),0),0)","v":0},{"$f":"IF('Aferi (Variáveis)'!$C$12=\"Venda para Exportar\",0,IF('Aferi (Variáveis)'!$C$12=\"ALC\",0,IF('Aferi (Variáveis)'!$C$12=\"ZFM\",0,IF('Aferi (Variáveis)'!$C$12=\"Exportação\",0,IF('Aferi (Variáveis)'!$C$12=\"AO\",0,E319/(100+(0*'Aferi (Variáveis)'!$K$12/100))*100*K319%/100*'Aferi (Variáveis)'!$K$12)))))","v":0},0,{"$f":"(E319*'Aferi (Variáveis)'!$K$12/100)","v":0},0,{"$f":"IF('Aferi (Variáveis)'!$F$20=\"Venda para Exportar\",0,IF('Aferi (Variáveis)'!$F$20=\"ALC\",0,IF('Aferi (Variáveis)'!$F$20=\"ZFM\",0,IF('Aferi (Variáveis)'!$F$20=\"Exportação\",0,IF('Aferi (Variáveis)'!$F$20=\"AO\",7*T319/100,T319*'Aferi (Variáveis)'!$F$20/100)))))","v":0},0,{"$f":"IF('Aferi (Variáveis)'!$C$12=\"ZFM\",0,IF('Aferi (Variáveis)'!$C$12=\"Exportação\",0,3*T319/100))","v":0},{"$f":"IF('Aferi (Variáveis)'!$C$12=\"ZFM\",0,IF('Aferi (Variáveis)'!$C$12=\"Exportação\",0,0.65*T319/100))","v":0},0,0,0,0,0,0,0,0,0,{"$f":"SUMIF('Custo Básico dos Produtos'!$B$7:$B$480,A319,'Custo Básico dos Produtos'!$K$7:$K$480)","v":0},null,null,0,0,0,0,0,0]
[null,{"$f":"IF(Q320<>0,VLOOKUP(Q320,'Custo Básico dos Produtos'!$A$7:$J$480,3),\"\")","v":""},null,{"$f":"SUMIF('Custo Básico dos Produtos'!$A$7:$A$480,Q320,'Custo Básico dos Produtos'!$J$7:$J$480)","v":0},0,0,{"$f":"IF(B320=\"\",0,SUMIF('Cadastro de Produtos em Linha'!$B$7:$B$457,A320,'Cadastro de Produtos em Linha'!$D$7:$D$457))","v":0},null,0,0,{"$f":"IF('Aferi (Variáveis)'!$C$12=\"ALC\",0,IF('Aferi (Variáveis)'!$C$12=\"ZFM\",0,IF('Aferi (Variáveis)'!$C$12=\"Exportação\",0,IF('Aferi (Variáveis)'!$C$12=\"Venda para Exportar\",0,IF('Aferi (Variáveis)'!$C$12=\"AO\",0,SUMIF('Custo Básico dos Produtos'!$A$7:$A$480,Q320,'Custo Básico dos Produtos'!$L$7:$L$480))))))","v":0},0,0,0,0,{"$f":"SUMIF('Cadastro de Produtos em Linha'!$A$6:$A$457,Q320,'Cadastro de Produtos em Linha'!$E$6:$E$457)*H320","v":0},{"$f":"IF(TODAY()<$AK$26,IF(A320<>\"\",SUMIF('Custo Básico dos Produtos'!$B$7:$B$457,A320,'Custo Básico dos Produtos'!$A$7:$A$457),0),0)","v":0},{"$f":"IF('Aferi (Variáveis)'!$C$12=\"Venda para Exportar\",0,IF('Aferi (Variáveis)'!$C$12=\"ALC\",0,IF('Aferi (Variáveis)'!$C$12=\"ZFM\",0,IF('Aferi (Variáveis)'!$C$12=\"Exportação\",0,IF('Aferi (Variáveis)'!$C$12=\"AO\",0,E320/(100+(0*'Aferi (Variáveis)'!$K$12/100))*100*K320%/100*'Aferi (Variáveis)'!$K$12)))))","v":0},0,{"$f":"(E320*'Aferi (Variáveis)'!$K$12/100)","v":0},0,{"$f":"IF('Aferi (Variáveis)'!$F$20=\"Venda para Exportar\",0,IF('Aferi (Variáveis)'!$F$20=\"ALC\",0,IF('Aferi (Variáveis)'!$F$20=\"ZFM\",0,IF('Aferi (Variáveis)'!$F$20=\"Exportação\",0,IF('Aferi (Variáveis)'!$F$20=\"AO\",7*T320/100,T320*'Aferi (Variáveis)'!$F$20/100)))))","v":0},0,{"$f":"IF('Aferi (Variáveis)'!$C$12=\"ZFM\",0,IF('Aferi (Variáveis)'!$C$12=\"Exportação\",0,3*T320/100))","v":0},{"$f":"IF('Aferi (Variáveis)'!$C$12=\"ZFM\",0,IF('Aferi (Variáveis)'!$C$12=\"Exportação\",0,0.65*T320/100))","v":0},0,0,0,0,0,0,0,0,0,{"$f":"SUMIF('Custo Básico dos Produtos'!$B$7:$B$480,A320,'Custo Básico dos Produtos'!$K$7:$K$480)","v":0},null,null,0,0,0,0,0,0]
[null,{"$f":"IF(Q321<>0,VLOOKUP(Q321,'Custo Básico dos Produtos'!$A$7:$J$480,3),\"\")","v":""},null,{"$f":"SUMIF('Custo Básico dos Produtos'!$A$7:$A$480,Q321,'Custo Básico dos Produtos'!$J$7:$J$480)","v":0},0,0,{"$f":"IF(B321=\"\",0,SUMIF('Cadastro de Produtos em Linha'!$B$7:$B$457,A321,'Cadastro de Produtos em Linha'!$D$7:$D$457))","v":0},null,0,0,{"$f":"IF('Aferi (Variáveis)'!$C$12=\"ALC\",0,IF('Aferi (Variáveis)'!$C$12=\"ZFM\",0,IF('Aferi (Variáveis)'!$C$12=\"Exportação\",0,IF('Aferi (Variáveis)'!$C$12=\"Venda para Exportar\",0,IF('Aferi (Variáveis)'!$C$12=\"AO\",0,SUMIF('Custo Básico dos Produtos'!$A$7:$A$480,Q321,'Custo Básico dos Produtos'!$L$7:$L$480))))))","v":0},0,0,0,0,{"$f":"SUMIF('Cadastro de Produtos em Linha'!$A$6:$A$457,Q321,'Cadastro de Produtos em Linha'!$E$6:$E$457)*H321","v":0},{"$f":"IF(TODAY()<$AK$26,IF(A321<>\"\",SUMIF('Custo Básico dos Produtos'!$B$7:$B$457,A321,'Custo Básico dos Produtos'!$A$7:$A$457),0),0)","v":0},{"$f":"IF('Aferi (Variáveis)'!$C$12=\"Venda para Exportar\",0,IF('Aferi (Variáveis)'!$C$12=\"ALC\",0,IF('Aferi (Variáveis)'!$C$12=\"ZFM\",0,IF('Aferi (Variáveis)'!$C$12=\"Exportação\",0,IF('Aferi (Variáveis)'!$C$12=\"AO\",0,E321/(100+(0*'Aferi (Variáveis)'!$K$12/100))*100*K321%/100*'Aferi (Variáveis)'!$K$12)))))","v":0},0,{"$f":"(E321*'Aferi (Variáveis)'!$K$12/100)","v":0},0,{"$f":"IF('Aferi (Variáveis)'!$F$20=\"Venda para Exportar\",0,IF('Aferi (Variáveis)'!$F$20=\"ALC\",0,IF('Aferi (Variáveis)'!$F$20=\"ZFM\",0,IF('Aferi (Variáveis)'!$F$20=\"Exportação\",0,IF('Aferi (Variáveis)'!$F$20=\"AO\",7*T321/100,T321*'Aferi (Variáveis)'!$F$20/100)))))","v":0},0,{"$f":"IF('Aferi (Variáveis)'!$C$12=\"ZFM\",0,IF('Aferi (Variáveis)'!$C$12=\"Exportação\",0,3*T321/100))","v":0},{"$f":"IF('Aferi (Variáveis)'!$C$12=\"ZFM\",0,IF('Aferi (Variáveis)'!$C$12=\"Exportação\",0,0.65*T321/100))","v":0},0,0,0,0,0,0,0,0,0,{"$f":"SUMIF('Custo Básico dos Produtos'!$B$7:$B$480,A321,'Custo Básico dos Produtos'!$K$7:$K$480)","v":0},null,null,0,0,0,0,0,0]
[null,{"$f":"IF(Q322<>0,VLOOKUP(Q322,'Custo Básico dos Produtos'!$A$7:$J$480,3),\"\")","v":""},null,{"$f":"SUMIF('Custo Básico dos Produtos'!$A$7:$A$480,Q322,'Custo Básico dos Produtos'!$J$7:$J$480)","v":0},0,0,{"$f":"IF(B322=\"\",0,SUMIF('Cadastro de Produtos em Linha'!$B$7:$B$457,A322,'Cadastro de Produtos em Linha'!$D$7:$D$457))","v":0},null,0,0,{"$f":"IF('Aferi (Variáveis)'!$C$12=\"ALC\",0,IF('Aferi (Variáveis)'!$C$12=\"ZFM\",0,IF('Aferi (Variáveis)'!$C$12=\"Exportação\",0,IF('Aferi (Variáveis)'!$C$12=\"Venda para Exportar\",0,IF('Aferi (Variáveis)'!$C$12=\"AO\",0,SUMIF('Custo Básico dos Produtos'!$A$7:$A$480,Q322,'Custo Básico dos Produtos'!$L$7:$L$480))))))","v":0},0,0,0,0,{"$f":"SUMIF('Cadastro de Produtos em Linha'!$A$6:$A$457,Q322,'Cadastro de Produtos em Linha'!$E$6:$E$457)*H322","v":0},{"$f":"IF(TODAY()<$AK$26,IF(A322<>\"\",SUMIF('Custo Básico dos Produtos'!$B$7:$B$457,A322,'Custo Básico dos Produtos'!$A$7:$A$457),0),0)","v":0},{"$f":"IF('Aferi (Variáveis)'!$C$12=\"Venda para Exportar\",0,IF('Aferi (Variáveis)'!$C$12=\"ALC\",0,IF('Aferi (Variáveis)'!$C$12=\"ZFM\",0,IF('Aferi (Variáveis)'!$C$12=\"Exportação\",0,IF('Aferi (Variáveis)'!$C$12=\"AO\",0,E322/(100+(0*'Aferi (Variáveis)'!$K$12/100))*100*K322%/100*'Aferi (Variáveis)'!$K$12)))))","v":0},0,{"$f":"(E322*'Aferi (Variáveis)'!$K$12/100)","v":0},0,{"$f":"IF('Aferi (Variáveis)'!$F$20=\"Venda para Exportar\",0,IF('Aferi (Variáveis)'!$F$20=\"ALC\",0,IF('Aferi (Variáveis)'!$F$20=\"ZFM\",0,IF('Aferi (Variáveis)'!$F$20=\"Exportação\",0,IF('Aferi (Variáveis)'!$F$20=\"AO\",7*T322/100,T322*'Aferi (Variáveis)'!$F$20/100)))))","v":0},0,{"$f":"IF('Aferi (Variáveis)'!$C$12=\"ZFM\",0,IF('Aferi (Variáveis)'!$C$12=\"Exportação\",0,3*T322/100))","v":0},{"$f":"IF('Aferi (Variáveis)'!$C$12=\"ZFM\",0,IF('Aferi (Variáveis)'!$C$12=\"Exportação\",0,0.65*T322/100))","v":0},0,0,0,0,0,0,0,0,0,{"$f":"SUMIF('Custo Básico dos Produtos'!$B$7:$B$480,A322,'Custo Básico dos Produtos'!$K$7:$K$480)","v":0},null,null,0,0,0,0,0,0]
[null,{"$f":"IF(Q323<>0,VLOOKUP(Q323,'Custo Básico dos Produtos'!$A$7:$J$480,3),\"\")","v":""},null,{"$f":"SUMIF('Custo Básico dos Produtos'!$A$7:$A$480,Q323,'Custo Básico dos Produtos'!$J$7:$J$480)","v":0},0,0,{"$f":"IF(B323=\"\",0,SUMIF('Cadastro de Produtos em Linha'!$B$7:$B$457,A323,'Cadastro de Produtos em Linha'!$D$7:$D$457))","v":0},null,0,0,{"$f":"IF('Aferi (Variáveis)'!$C$12=\"ALC\",0,IF('Aferi (Variáveis)'!$C$12=\"ZFM\",0,IF('Aferi (Variáveis)'!$C$12=\"Exportação\",0,IF('Aferi (Variáveis)'!$C$12=\"Venda para Exportar\",0,IF('Aferi (Variáveis)'!$C$12=\"AO\",0,SUMIF('Custo Básico dos Produtos'!$A$7:$A$480,Q323,'Custo Básico dos Produtos'!$L$7:$L$480))))))","v":0},0,0,0,0,{"$f":"SUMIF('Cadastro de Produtos em Linha'!$A$6:$A$457,Q323,'Cadastro de Produtos em Linha'!$E$6:$E$457)*H323","v":0},{"$f":"IF(TODAY()<$AK$26,IF(A323<>\"\",SUMIF('Custo Básico dos Produtos'!$B$7:$B$457,A323,'Custo Básico dos Produtos'!$A$7:$A$457),0),0)","v":0},{"$f":"IF('Aferi (Variáveis)'!$C$12=\"Venda para Exportar\",0,IF('Aferi (Variáveis)'!$C$12=\"ALC\",0,IF('Aferi (Variáveis)'!$C$12=\"ZFM\",0,IF('Aferi (Variáveis)'!$C$12=\"Exportação\",0,IF('Aferi (Variáveis)'!$C$12=\"AO\",0,E323/(100+(0*'Aferi (Variáveis)'!$K$12/100))*100*K323%/100*'Aferi (Variáveis)'!$K$12)))))","v":0},0,{"$f":"(E323*'Aferi (Variáveis)'!$K$12/100)","v":0},0,{"$f":"IF('Aferi (Variáveis)'!$F$20=\"Venda para Exportar\",0,IF('Aferi (Variáveis)'!$F$20=\"ALC\",0,IF('Aferi (Variáveis)'!$F$20=\"ZFM\",0,IF('Aferi (Variáveis)'!$F$20=\"Exportação\",0,IF('Aferi (Variáveis)'!$F$20=\"AO\",7*T323/100,T323*'Aferi (Variáveis)'!$F$20/100)))))","v":0},0,{"$f":"IF('Aferi (Variáveis)'!$C$12=\"ZFM\",0,IF('Aferi (Variáveis)'!$C$12=\"Exportação\",0,3*T323/100))","v":0},{"$f":"IF('Aferi (Variáveis)'!$C$12=\"ZFM\",0,IF('Aferi (Variáveis)'!$C$12=\"Exportação\",0,0.65*T323/100))","v":0},0,0,0,0,0,0,0,0,0,{"$f":"SUMIF('Custo Básico dos Produtos'!$B$7:$B$480,A323,'Custo Básico dos Produtos'!$K$7:$K$480)","v":0},null,null,0,0,0,0,0,0]
[null,{"$f":"IF(Q324<>0,VLOOKUP(Q324,'Custo Básico dos Produtos'!$A$7:$J$480,3),\"\")","v":""},null,{"$f":"SUMIF('Custo Básico dos Produtos'!$A$7:$A$480,Q324,'Custo Básico dos Produtos'!$J$7:$J$480)","v":0},0,0,{"$f":"IF(B324=\"\",0,SUMIF('Cadastro de Produtos em Linha'!$B$7:$B$457,A324,'Cadastro de Produtos em Linha'!$D$7:$D$457))","v":0},null,0,0,{"$f":"IF('Aferi (Variáveis)'!$C$12=\"ALC\",0,IF('Aferi (Variáveis)'!$C$12=\"ZFM\",0,IF('Aferi (Variáveis)'!$C$12=\"Exportação\",0,IF('Aferi (Variáveis)'!$C$12=\"Venda para Exportar\",0,IF('Aferi (Variáveis)'!$C$12=\"AO\",0,SUMIF('Custo Básico dos Produtos'!$A$7:$A$480,Q324,'Custo Básico dos Produtos'!$L$7:$L$480))))))","v":0},0,0,0,0,{"$f":"SUMIF('Cadastro de Produtos em Linha'!$A$6:$A$457,Q324,'Cadastro de Produtos em Linha'!$E$6:$E$457)*H324","v":0},{"$f":"IF(TODAY()<$AK$26,IF(A324<>\"\",SUMIF('Custo Básico dos Produtos'!$B$7:$B$457,A324,'Custo Básico dos Produtos'!$A$7:$A$457),0),0)","v":0},{"$f":"IF('Aferi (Variáveis)'!$C$12=\"Venda para Exportar\",0,IF('Aferi (Variáveis)'!$C$12=\"ALC\",0,IF('Aferi (Variáveis)'!$C$12=\"ZFM\",0,IF('Aferi (Variáveis)'!$C$12=\"Exportação\",0,IF('Aferi (Variáveis)'!$C$12=\"AO\",0,E324/(100+(0*'Aferi (Variáveis)'!$K$12/100))*100*K324%/100*'Aferi (Variáveis)'!$K$12)))))","v":0},0,{"$f":"(E324*'Aferi (Variáveis)'!$K$12/100)","v":0},0,{"$f":"IF('Aferi (Variáveis)'!$F$20=\"Venda para Exportar\",0,IF('Aferi (Variáveis)'!$F$20=\"ALC\",0,IF('Aferi (Variáveis)'!$F$20=\"ZFM\",0,IF('Aferi (Variáveis)'!$F$20=\"Exportação\",0,IF('Aferi (Variáveis)'!$F$20=\"AO\",7*T324/100,T324*'Aferi (Variáveis)'!$F$20/100)))))","v":0},0,{"$f":"IF('Aferi (Variáveis)'!$C$12=\"ZFM\",0,IF('Aferi (Variáveis)'!$C$12=\"Exportação\",0,3*T324/100))","v":0},{"$f":"IF('Aferi (Variáveis)'!$C$12=\"ZFM\",0,IF('Aferi (Variáveis)'!$C$12=\"Exportação\",0,0.65*T324/100))","v":0},0,0,0,0,0,0,0,0,0,{"$f":"SUMIF('Custo Básico dos Produtos'!$B$7:$B$480,A324,'Custo Básico dos Produtos'!$K$7:$K$480)","v":0},null,null,0,0,0,0,0,0]
[null,{"$f":"IF(Q325<>0,VLOOKUP(Q325,'Custo Básico dos Produtos'!$A$7:$J$480,3),\"\")","v":""},null,{"$f":"SUMIF('Custo Básico dos Produtos'!$A$7:$A$480,Q325,'Custo Básico dos Produtos'!$J$7:$J$480)","v":0},0,0,{"$f":"IF(B325=\"\",0,SUMIF('Cadastro de Produtos em Linha'!$B$7:$B$457,A325,'Cadastro de Produtos em Linha'!$D$7:$D$457))","v":0},null,0,0,{"$f":"IF('Aferi (Variáveis)'!$C$12=\"ALC\",0,IF('Aferi (Variáveis)'!$C$12=\"ZFM\",0,IF('Aferi (Variáveis)'!$C$12=\"Exportação\",0,IF('Aferi (Variáveis)'!$C$12=\"Venda para Exportar\",0,IF('Aferi (Variáveis)'!$C$12=\"AO\",0,SUMIF('Custo Básico dos Produtos'!$A$7:$A$480,Q325,'Custo Básico dos Produtos'!$L$7:$L$480))))))","v":0},0,0,0,0,{"$f":"SUMIF('Cadastro de Produtos em Linha'!$A$6:$A$457,Q325,'Cadastro de Produtos em Linha'!$E$6:$E$457)*H325","v":0},{"$f":"IF(TODAY()<$AK$26,IF(A325<>\"\",SUMIF('Custo Básico dos Produtos'!$B$7:$B$457,A325,'Custo Básico dos Produtos'!$A$7:$A$457),0),0)","v":0},{"$f":"IF('Aferi (Variáveis)'!$C$12=\"Venda para Exportar\",0,IF('Aferi (Variáveis)'!$C$12=\"ALC\",0,IF('Aferi (Variáveis)'!$C$12=\"ZFM\",0,IF('Aferi (Variáveis)'!$C$12=\"Exportação\",0,IF('Aferi (Variáveis)'!$C$12=\"AO\",0,E325/(100+(0*'Aferi (Variáveis)'!$K$12/100))*100*K325%/100*'Aferi (Variáveis)'!$K$12)))))","v":0},0,{"$f":"(E325*'Aferi (Variáveis)'!$K$12/100)","v":0},0,{"$f":"IF('Aferi (Variáveis)'!$F$20=\"Venda para Exportar\",0,IF('Aferi (Variáveis)'!$F$20=\"ALC\",0,IF('Aferi (Variáveis)'!$F$20=\"ZFM\",0,IF('Aferi (Variáveis)'!$F$20=\"Exportação\",0,IF('Aferi (Variáveis)'!$F$20=\"AO\",7*T325/100,T325*'Aferi (Variáveis)'!$F$20/100)))))","v":0},0,{"$f":"IF('Aferi (Variáveis)'!$C$12=\"ZFM\",0,IF('Aferi (Variáveis)'!$C$12=\"Exportação\",0,3*T325/100))","v":0},{"$f":"IF('Aferi (Variáveis)'!$C$12=\"ZFM\",0,IF('Aferi (Variáveis)'!$C$12=\"Exportação\",0,0.65*T325/100))","v":0},0,0,0,0,0,0,0,0,0,{"$f":"SUMIF('Custo Básico dos Produtos'!$B$7:$B$480,A325,'Custo Básico dos Produtos'!$K$7:$K$480)","v":0},null,null,0,0,0,0,0,0]
[null,{"$f":"IF(Q326<>0,VLOOKUP(Q326,'Custo Básico dos Produtos'!$A$7:$J$480,3),\"\")","v":""},null,{"$f":"SUMIF('Custo Básico dos Produtos'!$A$7:$A$480,Q326,'Custo Básico dos Produtos'!$J$7:$J$480)","v":0},0,0,{"$f":"IF(B326=\"\",0,SUMIF('Cadastro de Produtos em Linha'!$B$7:$B$457,A326,'Cadastro de Produtos em Linha'!$D$7:$D$457))","v":0},null,0,0,{"$f":"IF('Aferi (Variáveis)'!$C$12=\"ALC\",0,IF('Aferi (Variáveis)'!$C$12=\"ZFM\",0,IF('Aferi (Variáveis)'!$C$12=\"Exportação\",0,IF('Aferi (Variáveis)'!$C$12=\"Venda para Exportar\",0,IF('Aferi (Variáveis)'!$C$12=\"AO\",0,SUMIF('Custo Básico dos Produtos'!$A$7:$A$480,Q326,'Custo Básico dos Produtos'!$L$7:$L$480))))))","v":0},0,0,0,0,{"$f":"SUMIF('Cadastro de Produtos em Linha'!$A$6:$A$457,Q326,'Cadastro de Produtos em Linha'!$E$6:$E$457)*H326","v":0},{"$f":"IF(TODAY()<$AK$26,IF(A326<>\"\",SUMIF('Custo Básico dos Produtos'!$B$7:$B$457,A326,'Custo Básico dos Produtos'!$A$7:$A$457),0),0)","v":0},{"$f":"IF('Aferi (Variáveis)'!$C$12=\"Venda para Exportar\",0,IF('Aferi (Variáveis)'!$C$12=\"ALC\",0,IF('Aferi (Variáveis)'!$C$12=\"ZFM\",0,IF('Aferi (Variáveis)'!$C$12=\"Exportação\",0,IF('Aferi (Variáveis)'!$C$12=\"AO\",0,E326/(100+(0*'Aferi (Variáveis)'!$K$12/100))*100*K326%/100*'Aferi (Variáveis)'!$K$12)))))","v":0},0,{"$f":"(E326*'Aferi (Variáveis)'!$K$12/100)","v":0},0,{"$f":"IF('Aferi (Variáveis)'!$F$20=\"Venda para Exportar\",0,IF('Aferi (Variáveis)'!$F$20=\"ALC\",0,IF('Aferi (Variáveis)'!$F$20=\"ZFM\",0,IF('Aferi (Variáveis)'!$F$20=\"Exportação\",0,IF('Aferi (Variáveis)'!$F$20=\"AO\",7*T326/100,T326*'Aferi (Variáveis)'!$F$20/100)))))","v":0},0,{"$f":"IF('Aferi (Variáveis)'!$C$12=\"ZFM\",0,IF('Aferi (Variáveis)'!$C$12=\"Exportação\",0,3*T326/100))","v":0},{"$f":"IF('Aferi (Variáveis)'!$C$12=\"ZFM\",0,IF('Aferi (Variáveis)'!$C$12=\"Exportação\",0,0.65*T326/100))","v":0},0,0,0,0,0,0,0,0,0,{"$f":"SUMIF('Custo Básico dos Produtos'!$B$7:$B$480,A326,'Custo Básico dos Produtos'!$K$7:$K$480)","v":0},null,null,0,0,0,0,0,0]
[null,{"$f":"IF(Q327<>0,VLOOKUP(Q327,'Custo Básico dos Produtos'!$A$7:$J$480,3),\"\")","v":""},null,{"$f":"SUMIF('Custo Básico dos Produtos'!$A$7:$A$480,Q327,'Custo Básico dos Produtos'!$J$7:$J$480)","v":0},0,0,{"$f":"IF(B327=\"\",0,SUMIF('Cadastro de Produtos em Linha'!$B$7:$B$457,A327,'Cadastro de Produtos em Linha'!$D$7:$D$457))","v":0},null,0,0,{"$f":"IF('Aferi (Variáveis)'!$C$12=\"ALC\",0,IF('Aferi (Variáveis)'!$C$12=\"ZFM\",0,IF('Aferi (Variáveis)'!$C$12=\"Exportação\",0,IF('Aferi (Variáveis)'!$C$12=\"Venda para Exportar\",0,IF('Aferi (Variáveis)'!$C$12=\"AO\",0,SUMIF('Custo Básico dos Produtos'!$A$7:$A$480,Q327,'Custo Básico dos Produtos'!$L$7:$L$480))))))","v":0},0,0,0,0,{"$f":"SUMIF('Cadastro de Produtos em Linha'!$A$6:$A$457,Q327,'Cadastro de Produtos em Linha'!$E$6:$E$457)*H327","v":0},{"$f":"IF(TODAY()<$AK$26,IF(A327<>\"\",SUMIF('Custo Básico dos Produtos'!$B$7:$B$457,A327,'Custo Básico dos Produtos'!$A$7:$A$457),0),0)","v":0},{"$f":"IF('Aferi (Variáveis)'!$C$12=\"Venda para Exportar\",0,IF('Aferi (Variáveis)'!$C$12=\"ALC\",0,IF('Aferi (Variáveis)'!$C$12=\"ZFM\",0,IF('Aferi (Variáveis)'!$C$12=\"Exportação\",0,IF('Aferi (Variáveis)'!$C$12=\"AO\",0,E327/(100+(0*'Aferi (Variáveis)'!$K$12/100))*100*K327%/100*'Aferi (Variáveis)'!$K$12)))))","v":0},0,{"$f":"(E327*'Aferi (Variáveis)'!$K$12/100)","v":0},0,{"$f":"IF('Aferi (Variáveis)'!$F$20=\"Venda para Exportar\",0,IF('Aferi (Variáveis)'!$F$20=\"ALC\",0,IF('Aferi (Variáveis)'!$F$20=\"ZFM\",0,IF('Aferi (Variáveis)'!$F$20=\"Exportação\",0,IF('Aferi (Variáveis)'!$F$20=\"AO\",7*T327/100,T327*'Aferi (Variáveis)'!$F$20/100)))))","v":0},0,{"$f":"IF('Aferi (Variáveis)'!$C$12=\"ZFM\",0,IF('Aferi (Variáveis)'!$C$12=\"Exportação\",0,3*T327/100))","v":0},{"$f":"IF('Aferi (Variáveis)'!$C$12=\"ZFM\",0,IF('Aferi (Variáveis)'!$C$12=\"Exportação\",0,0.65*T327/100))","v":0},0,0,0,0,0,0,0,0,0,{"$f":"SUMIF('Custo Básico dos Produtos'!$B$7:$B$480,A327,'Custo Básico dos Produtos'!$K$7:$K$480)","v":0},null,null,0,0,0,0,0,0]
[null,{"$f":"IF(Q328<>0,VLOOKUP(Q328,'Custo Básico dos Produtos'!$A$7:$J$480,3),\"\")","v":""},null,{"$f":"SUMIF('Custo Básico dos Produtos'!$A$7:$A$480,Q328,'Custo Básico dos Produtos'!$J$7:$J$480)","v":0},0,0,{"$f":"IF(B328=\"\",0,SUMIF('Cadastro de Produtos em Linha'!$B$7:$B$457,A328,'Cadastro de Produtos em Linha'!$D$7:$D$457))","v":0},null,0,0,{"$f":"IF('Aferi (Variáveis)'!$C$12=\"ALC\",0,IF('Aferi (Variáveis)'!$C$12=\"ZFM\",0,IF('Aferi (Variáveis)'!$C$12=\"Exportação\",0,IF('Aferi (Variáveis)'!$C$12=\"Venda para Exportar\",0,IF('Aferi (Variáveis)'!$C$12=\"AO\",0,SUMIF('Custo Básico dos Produtos'!$A$7:$A$480,Q328,'Custo Básico dos Produtos'!$L$7:$L$480))))))","v":0},0,0,0,0,{"$f":"SUMIF('Cadastro de Produtos em Linha'!$A$6:$A$457,Q328,'Cadastro de Produtos em Linha'!$E$6:$E$457)*H328","v":0},{"$f":"IF(TODAY()<$AK$26,IF(A328<>\"\",SUMIF('Custo Básico dos Produtos'!$B$7:$B$457,A328,'Custo Básico dos Produtos'!$A$7:$A$457),0),0)","v":0},{"$f":"IF('Aferi (Variáveis)'!$C$12=\"Venda para Exportar\",0,IF('Aferi (Variáveis)'!$C$12=\"ALC\",0,IF('Aferi (Variáveis)'!$C$12=\"ZFM\",0,IF('Aferi (Variáveis)'!$C$12=\"Exportação\",0,IF('Aferi (Variáveis)'!$C$12=\"AO\",0,E328/(100+(0*'Aferi (Variáveis)'!$K$12/100))*100*K328%/100*'Aferi (Variáveis)'!$K$12)))))","v":0},0,{"$f":"(E328*'Aferi (Variáveis)'!$K$12/100)","v":0},0,{"$f":"IF('Aferi (Variáveis)'!$F$20=\"Venda para Exportar\",0,IF('Aferi (Variáveis)'!$F$20=\"ALC\",0,IF('Aferi (Variáveis)'!$F$20=\"ZFM\",0,IF('Aferi (Variáveis)'!$F$20=\"Exportação\",0,IF('Aferi (Variáveis)'!$F$20=\"AO\",7*T328/100,T328*'Aferi (Variáveis)'!$F$20/100)))))","v":0},0,{"$f":"IF('Aferi (Variáveis)'!$C$12=\"ZFM\",0,IF('Aferi (Variáveis)'!$C$12=\"Exportação\",0,3*T328/100))","v":0},{"$f":"IF('Aferi (Variáveis)'!$C$12=\"ZFM\",0,IF('Aferi (Variáveis)'!$C$12=\"Exportação\",0,0.65*T328/100))","v":0},0,0,0,0,0,0,0,0,0,{"$f":"SUMIF('Custo Básico dos Produtos'!$B$7:$B$480,A328,'Custo Básico dos Produtos'!$K$7:$K$480)","v":0},null,null,0,0,0,0,0,0]
[null,{"$f":"IF(Q329<>0,VLOOKUP(Q329,'Custo Básico dos Produtos'!$A$7:$J$480,3),\"\")","v":""},null,{"$f":"SUMIF('Custo Básico dos Produtos'!$A$7:$A$480,Q329,'Custo Básico dos Produtos'!$J$7:$J$480)","v":0},0,0,{"$f":"IF(B329=\"\",0,SUMIF('Cadastro de Produtos em Linha'!$B$7:$B$457,A329,'Cadastro de Produtos em Linha'!$D$7:$D$457))","v":0},null,0,0,{"$f":"IF('Aferi (Variáveis)'!$C$12=\"ALC\",0,IF('Aferi (Variáveis)'!$C$12=\"ZFM\",0,IF('Aferi (Variáveis)'!$C$12=\"Exportação\",0,IF('Aferi (Variáveis)'!$C$12=\"Venda para Exportar\",0,IF('Aferi (Variáveis)'!$C$12=\"AO\",0,SUMIF('Custo Básico dos Produtos'!$A$7:$A$480,Q329,'Custo Básico dos Produtos'!$L$7:$L$480))))))","v":0},0,0,0,0,{"$f":"SUMIF('Cadastro de Produtos em Linha'!$A$6:$A$457,Q329,'Cadastro de Produtos em Linha'!$E$6:$E$457)*H329","v":0},{"$f":"IF(TODAY()<$AK$26,IF(A329<>\"\",SUMIF('Custo Básico dos Produtos'!$B$7:$B$457,A329,'Custo Básico dos Produtos'!$A$7:$A$457),0),0)","v":0},{"$f":"IF('Aferi (Variáveis)'!$C$12=\"Venda para Exportar\",0,IF('Aferi (Variáveis)'!$C$12=\"ALC\",0,IF('Aferi (Variáveis)'!$C$12=\"ZFM\",0,IF('Aferi (Variáveis)'!$C$12=\"Exportação\",0,IF('Aferi (Variáveis)'!$C$12=\"AO\",0,E329/(100+(0*'Aferi (Variáveis)'!$K$12/100))*100*K329%/100*'Aferi (Variáveis)'!$K$12)))))","v":0},0,{"$f":"(E329*'Aferi (Variáveis)'!$K$12/100)","v":0},0,{"$f":"IF('Aferi (Variáveis)'!$F$20=\"Venda para Exportar\",0,IF('Aferi (Variáveis)'!$F$20=\"ALC\",0,IF('Aferi (Variáveis)'!$F$20=\"ZFM\",0,IF('Aferi (Variáveis)'!$F$20=\"Exportação\",0,IF('Aferi (Variáveis)'!$F$20=\"AO\",7*T329/100,T329*'Aferi (Variáveis)'!$F$20/100)))))","v":0},0,{"$f":"IF('Aferi (Variáveis)'!$C$12=\"ZFM\",0,IF('Aferi (Variáveis)'!$C$12=\"Exportação\",0,3*T329/100))","v":0},{"$f":"IF('Aferi (Variáveis)'!$C$12=\"ZFM\",0,IF('Aferi (Variáveis)'!$C$12=\"Exportação\",0,0.65*T329/100))","v":0},0,0,0,0,0,0,0,0,0,{"$f":"SUMIF('Custo Básico dos Produtos'!$B$7:$B$480,A329,'Custo Básico dos Produtos'!$K$7:$K$480)","v":0},null,null,0,0,0,0,0,0]
[null,{"$f":"IF(Q330<>0,VLOOKUP(Q330,'Custo Básico dos Produtos'!$A$7:$J$480,3),\"\")","v":""},null,{"$f":"SUMIF('Custo Básico dos Produtos'!$A$7:$A$480,Q330,'Custo Básico dos Produtos'!$J$7:$J$480)","v":0},0,0,{"$f":"IF(B330=\"\",0,SUMIF('Cadastro de Produtos em Linha'!$B$7:$B$457,A330,'Cadastro de Produtos em Linha'!$D$7:$D$457))","v":0},null,0,0,{"$f":"IF('Aferi (Variáveis)'!$C$12=\"ALC\",0,IF('Aferi (Variáveis)'!$C$12=\"ZFM\",0,IF('Aferi (Variáveis)'!$C$12=\"Exportação\",0,IF('Aferi (Variáveis)'!$C$12=\"Venda para Exportar\",0,IF('Aferi (Variáveis)'!$C$12=\"AO\",0,SUMIF('Custo Básico dos Produtos'!$A$7:$A$480,Q330,'Custo Básico dos Produtos'!$L$7:$L$480))))))","v":0},0,0,0,0,{"$f":"SUMIF('Cadastro de Produtos em Linha'!$A$6:$A$457,Q330,'Cadastro de Produtos em Linha'!$E$6:$E$457)*H330","v":0},{"$f":"IF(TODAY()<$AK$26,IF(A330<>\"\",SUMIF('Custo Básico dos Produtos'!$B$7:$B$457,A330,'Custo Básico dos Produtos'!$A$7:$A$457),0),0)","v":0},{"$f":"IF('Aferi (Variáveis)'!$C$12=\"Venda para Exportar\",0,IF('Aferi (Variáveis)'!$C$12=\"ALC\",0,IF('Aferi (Variáveis)'!$C$12=\"ZFM\",0,IF('Aferi (Variáveis)'!$C$12=\"Exportação\",0,IF('Aferi (Variáveis)'!$C$12=\"AO\",0,E330/(100+(0*'Aferi (Variáveis)'!$K$12/100))*100*K330%/100*'Aferi (Variáveis)'!$K$12)))))","v":0},0,{"$f":"(E330*'Aferi (Variáveis)'!$K$12/100)","v":0},0,{"$f":"IF('Aferi (Variáveis)'!$F$20=\"Venda para Exportar\",0,IF('Aferi (Variáveis)'!$F$20=\"ALC\",0,IF('Aferi (Variáveis)'!$F$20=\"ZFM\",0,IF('Aferi (Variáveis)'!$F$20=\"Exportação\",0,IF('Aferi (Variáveis)'!$F$20=\"AO\",7*T330/100,T330*'Aferi (Variáveis)'!$F$20/100)))))","v":0},0,{"$f":"IF('Aferi (Variáveis)'!$C$12=\"ZFM\",0,IF('Aferi (Variáveis)'!$C$12=\"Exportação\",0,3*T330/100))","v":0},{"$f":"IF('Aferi (Variáveis)'!$C$12=\"ZFM\",0,IF('Aferi (Variáveis)'!$C$12=\"Exportação\",0,0.65*T330/100))","v":0},0,0,0,0,0,0,0,0,0,{"$f":"SUMIF('Custo Básico dos Produtos'!$B$7:$B$480,A330,'Custo Básico dos Produtos'!$K$7:$K$480)","v":0},null,null,0,0,0,0,0,0]
[null,{"$f":"IF(Q331<>0,VLOOKUP(Q331,'Custo Básico dos Produtos'!$A$7:$J$480,3),\"\")","v":""},null,{"$f":"SUMIF('Custo Básico dos Produtos'!$A$7:$A$480,Q331,'Custo Básico dos Produtos'!$J$7:$J$480)","v":0},0,0,{"$f":"IF(B331=\"\",0,SUMIF('Cadastro de Produtos em Linha'!$B$7:$B$457,A331,'Cadastro de Produtos em Linha'!$D$7:$D$457))","v":0},null,0,0,{"$f":"IF('Aferi (Variáveis)'!$C$12=\"ALC\",0,IF('Aferi (Variáveis)'!$C$12=\"ZFM\",0,IF('Aferi (Variáveis)'!$C$12=\"Exportação\",0,IF('Aferi (Variáveis)'!$C$12=\"Venda para Exportar\",0,IF('Aferi (Variáveis)'!$C$12=\"AO\",0,SUMIF('Custo Básico dos Produtos'!$A$7:$A$480,Q331,'Custo Básico dos Produtos'!$L$7:$L$480))))))","v":0},0,0,0,0,{"$f":"SUMIF('Cadastro de Produtos em Linha'!$A$6:$A$457,Q331,'Cadastro de Produtos em Linha'!$E$6:$E$457)*H331","v":0},{"$f":"IF(TODAY()<$AK$26,IF(A331<>\"\",SUMIF('Custo Básico dos Produtos'!$B$7:$B$457,A331,'Custo Básico dos Produtos'!$A$7:$A$457),0),0)","v":0},{"$f":"IF('Aferi (Variáveis)'!$C$12=\"Venda para Exportar\",0,IF('Aferi (Variáveis)'!$C$12=\"ALC\",0,IF('Aferi (Variáveis)'!$C$12=\"ZFM\",0,IF('Aferi (Variáveis)'!$C$12=\"Exportação\",0,IF('Aferi (Variáveis)'!$C$12=\"AO\",0,E331/(100+(0*'Aferi (Variáveis)'!$K$12/100))*100*K331%/100*'Aferi (Variáveis)'!$K$12)))))","v":0},0,{"$f":"(E331*'Aferi (Variáveis)'!$K$12/100)","v":0},0,{"$f":"IF('Aferi (Variáveis)'!$F$20=\"Venda para Exportar\",0,IF('Aferi (Variáveis)'!$F$20=\"ALC\",0,IF('Aferi (Variáveis)'!$F$20=\"ZFM\",0,IF('Aferi (Variáveis)'!$F$20=\"Exportação\",0,IF('Aferi (Variáveis)'!$F$20=\"AO\",7*T331/100,T331*'Aferi (Variáveis)'!$F$20/100)))))","v":0},0,{"$f":"IF('Aferi (Variáveis)'!$C$12=\"ZFM\",0,IF('Aferi (Variáveis)'!$C$12=\"Exportação\",0,3*T331/100))","v":0},{"$f":"IF('Aferi (Variáveis)'!$C$12=\"ZFM\",0,IF('Aferi (Variáveis)'!$C$12=\"Exportação\",0,0.65*T331/100))","v":0},0,0,0,0,0,0,0,0,0,{"$f":"SUMIF('Custo Básico dos Produtos'!$B$7:$B$480,A331,'Custo Básico dos Produtos'!$K$7:$K$480)","v":0},null,null,0,0,0,0,0,0]
[null,{"$f":"IF(Q332<>0,VLOOKUP(Q332,'Custo Básico dos Produtos'!$A$7:$J$480,3),\"\")","v":""},null,{"$f":"SUMIF('Custo Básico dos Produtos'!$A$7:$A$480,Q332,'Custo Básico dos Produtos'!$J$7:$J$480)","v":0},0,0,{"$f":"IF(B332=\"\",0,SUMIF('Cadastro de Produtos em Linha'!$B$7:$B$457,A332,'Cadastro de Produtos em Linha'!$D$7:$D$457))","v":0},null,0,0,{"$f":"IF('Aferi (Variáveis)'!$C$12=\"ALC\",0,IF('Aferi (Variáveis)'!$C$12=\"ZFM\",0,IF('Aferi (Variáveis)'!$C$12=\"Exportação\",0,IF('Aferi (Variáveis)'!$C$12=\"Venda para Exportar\",0,IF('Aferi (Variáveis)'!$C$12=\"AO\",0,SUMIF('Custo Básico dos Produtos'!$A$7:$A$480,Q332,'Custo Básico dos Produtos'!$L$7:$L$480))))))","v":0},0,0,0,0,{"$f":"SUMIF('Cadastro de Produtos em Linha'!$A$6:$A$457,Q332,'Cadastro de Produtos em Linha'!$E$6:$E$457)*H332","v":0},{"$f":"IF(TODAY()<$AK$26,IF(A332<>\"\",SUMIF('Custo Básico dos Produtos'!$B$7:$B$457,A332,'Custo Básico dos Produtos'!$A$7:$A$457),0),0)","v":0},{"$f":"IF('Aferi (Variáveis)'!$C$12=\"Venda para Exportar\",0,IF('Aferi (Variáveis)'!$C$12=\"ALC\",0,IF('Aferi (Variáveis)'!$C$12=\"ZFM\",0,IF('Aferi (Variáveis)'!$C$12=\"Exportação\",0,IF('Aferi (Variáveis)'!$C$12=\"AO\",0,E332/(100+(0*'Aferi (Variáveis)'!$K$12/100))*100*K332%/100*'Aferi (Variáveis)'!$K$12)))))","v":0},0,{"$f":"(E332*'Aferi (Variáveis)'!$K$12/100)","v":0},0,{"$f":"IF('Aferi (Variáveis)'!$F$20=\"Venda para Exportar\",0,IF('Aferi (Variáveis)'!$F$20=\"ALC\",0,IF('Aferi (Variáveis)'!$F$20=\"ZFM\",0,IF('Aferi (Variáveis)'!$F$20=\"Exportação\",0,IF('Aferi (Variáveis)'!$F$20=\"AO\",7*T332/100,T332*'Aferi (Variáveis)'!$F$20/100)))))","v":0},0,{"$f":"IF('Aferi (Variáveis)'!$C$12=\"ZFM\",0,IF('Aferi (Variáveis)'!$C$12=\"Exportação\",0,3*T332/100))","v":0},{"$f":"IF('Aferi (Variáveis)'!$C$12=\"ZFM\",0,IF('Aferi (Variáveis)'!$C$12=\"Exportação\",0,0.65*T332/100))","v":0},0,0,0,0,0,0,0,0,0,{"$f":"SUMIF('Custo Básico dos Produtos'!$B$7:$B$480,A332,'Custo Básico dos Produtos'!$K$7:$K$480)","v":0},null,null,0,0,0,0,0,0]
[null,{"$f":"IF(Q333<>0,VLOOKUP(Q333,'Custo Básico dos Produtos'!$A$7:$J$480,3),\"\")","v":""},null,{"$f":"SUMIF('Custo Básico dos Produtos'!$A$7:$A$480,Q333,'Custo Básico dos Produtos'!$J$7:$J$480)","v":0},0,0,{"$f":"IF(B333=\"\",0,SUMIF('Cadastro de Produtos em Linha'!$B$7:$B$457,A333,'Cadastro de Produtos em Linha'!$D$7:$D$457))","v":0},null,0,0,{"$f":"IF('Aferi (Variáveis)'!$C$12=\"ALC\",0,IF('Aferi (Variáveis)'!$C$12=\"ZFM\",0,IF('Aferi (Variáveis)'!$C$12=\"Exportação\",0,IF('Aferi (Variáveis)'!$C$12=\"Venda para Exportar\",0,IF('Aferi (Variáveis)'!$C$12=\"AO\",0,SUMIF('Custo Básico dos Produtos'!$A$7:$A$480,Q333,'Custo Básico dos Produtos'!$L$7:$L$480))))))","v":0},0,0,0,0,{"$f":"SUMIF('Cadastro de Produtos em Linha'!$A$6:$A$457,Q333,'Cadastro de Produtos em Linha'!$E$6:$E$457)*H333","v":0},{"$f":"IF(TODAY()<$AK$26,IF(A333<>\"\",SUMIF('Custo Básico dos Produtos'!$B$7:$B$457,A333,'Custo Básico dos Produtos'!$A$7:$A$457),0),0)","v":0},{"$f":"IF('Aferi (Variáveis)'!$C$12=\"Venda para Exportar\",0,IF('Aferi (Variáveis)'!$C$12=\"ALC\",0,IF('Aferi (Variáveis)'!$C$12=\"ZFM\",0,IF('Aferi (Variáveis)'!$C$12=\"Exportação\",0,IF('Aferi (Variáveis)'!$C$12=\"AO\",0,E333/(100+(0*'Aferi (Variáveis)'!$K$12/100))*100*K333%/100*'Aferi (Variáveis)'!$K$12)))))","v":0},0,{"$f":"(E333*'Aferi (Variáveis)'!$K$12/100)","v":0},0,{"$f":"IF('Aferi (Variáveis)'!$F$20=\"Venda para Exportar\",0,IF('Aferi (Variáveis)'!$F$20=\"ALC\",0,IF('Aferi (Variáveis)'!$F$20=\"ZFM\",0,IF('Aferi (Variáveis)'!$F$20=\"Exportação\",0,IF('Aferi (Variáveis)'!$F$20=\"AO\",7*T333/100,T333*'Aferi (Variáveis)'!$F$20/100)))))","v":0},0,{"$f":"IF('Aferi (Variáveis)'!$C$12=\"ZFM\",0,IF('Aferi (Variáveis)'!$C$12=\"Exportação\",0,3*T333/100))","v":0},{"$f":"IF('Aferi (Variáveis)'!$C$12=\"ZFM\",0,IF('Aferi (Variáveis)'!$C$12=\"Exportação\",0,0.65*T333/100))","v":0},0,0,0,0,0,0,0,0,0,{"$f":"SUMIF('Custo Básico dos Produtos'!$B$7:$B$480,A333,'Custo Básico dos Produtos'!$K$7:$K$480)","v":0},null,null,0,0,0,0,0,0]
[null,{"$f":"IF(Q334<>0,VLOOKUP(Q334,'Custo Básico dos Produtos'!$A$7:$J$480,3),\"\")","v":""},null,{"$f":"SUMIF('Custo Básico dos Produtos'!$A$7:$A$480,Q334,'Custo Básico dos Produtos'!$J$7:$J$480)","v":0},0,0,{"$f":"IF(B334=\"\",0,SUMIF('Cadastro de Produtos em Linha'!$B$7:$B$457,A334,'Cadastro de Produtos em Linha'!$D$7:$D$457))","v":0},null,0,0,{"$f":"IF('Aferi (Variáveis)'!$C$12=\"ALC\",0,IF('Aferi (Variáveis)'!$C$12=\"ZFM\",0,IF('Aferi (Variáveis)'!$C$12=\"Exportação\",0,IF('Aferi (Variáveis)'!$C$12=\"Venda para Exportar\",0,IF('Aferi (Variáveis)'!$C$12=\"AO\",0,SUMIF('Custo Básico dos Produtos'!$A$7:$A$480,Q334,'Custo Básico dos Produtos'!$L$7:$L$480))))))","v":0},0,0,0,0,{"$f":"SUMIF('Cadastro de Produtos em Linha'!$A$6:$A$457,Q334,'Cadastro de Produtos em Linha'!$E$6:$E$457)*H334","v":0},{"$f":"IF(TODAY()<$AK$26,IF(A334<>\"\",SUMIF('Custo Básico dos Produtos'!$B$7:$B$457,A334,'Custo Básico dos Produtos'!$A$7:$A$457),0),0)","v":0},{"$f":"IF('Aferi (Variáveis)'!$C$12=\"Venda para Exportar\",0,IF('Aferi (Variáveis)'!$C$12=\"ALC\",0,IF('Aferi (Variáveis)'!$C$12=\"ZFM\",0,IF('Aferi (Variáveis)'!$C$12=\"Exportação\",0,IF('Aferi (Variáveis)'!$C$12=\"AO\",0,E334/(100+(0*'Aferi (Variáveis)'!$K$12/100))*100*K334%/100*'Aferi (Variáveis)'!$K$12)))))","v":0},0,{"$f":"(E334*'Aferi (Variáveis)'!$K$12/100)","v":0},0,{"$f":"IF('Aferi (Variáveis)'!$F$20=\"Venda para Exportar\",0,IF('Aferi (Variáveis)'!$F$20=\"ALC\",0,IF('Aferi (Variáveis)'!$F$20=\"ZFM\",0,IF('Aferi (Variáveis)'!$F$20=\"Exportação\",0,IF('Aferi (Variáveis)'!$F$20=\"AO\",7*T334/100,T334*'Aferi (Variáveis)'!$F$20/100)))))","v":0},0,{"$f":"IF('Aferi (Variáveis)'!$C$12=\"ZFM\",0,IF('Aferi (Variáveis)'!$C$12=\"Exportação\",0,3*T334/100))","v":0},{"$f":"IF('Aferi (Variáveis)'!$C$12=\"ZFM\",0,IF('Aferi (Variáveis)'!$C$12=\"Exportação\",0,0.65*T334/100))","v":0},0,0,0,0,0,0,0,0,0,{"$f":"SUMIF('Custo Básico dos Produtos'!$B$7:$B$480,A334,'Custo Básico dos Produtos'!$K$7:$K$480)","v":0},null,null,0,0,0,0,0,0]
[null,{"$f":"IF(Q335<>0,VLOOKUP(Q335,'Custo Básico dos Produtos'!$A$7:$J$480,3),\"\")","v":""},null,{"$f":"SUMIF('Custo Básico dos Produtos'!$A$7:$A$480,Q335,'Custo Básico dos Produtos'!$J$7:$J$480)","v":0},0,0,{"$f":"IF(B335=\"\",0,SUMIF('Cadastro de Produtos em Linha'!$B$7:$B$457,A335,'Cadastro de Produtos em Linha'!$D$7:$D$457))","v":0},null,0,0,{"$f":"IF('Aferi (Variáveis)'!$C$12=\"ALC\",0,IF('Aferi (Variáveis)'!$C$12=\"ZFM\",0,IF('Aferi (Variáveis)'!$C$12=\"Exportação\",0,IF('Aferi (Variáveis)'!$C$12=\"Venda para Exportar\",0,IF('Aferi (Variáveis)'!$C$12=\"AO\",0,SUMIF('Custo Básico dos Produtos'!$A$7:$A$480,Q335,'Custo Básico dos Produtos'!$L$7:$L$480))))))","v":0},0,0,0,0,{"$f":"SUMIF('Cadastro de Produtos em Linha'!$A$6:$A$457,Q335,'Cadastro de Produtos em Linha'!$E$6:$E$457)*H335","v":0},{"$f":"IF(TODAY()<$AK$26,IF(A335<>\"\",SUMIF('Custo Básico dos Produtos'!$B$7:$B$457,A335,'Custo Básico dos Produtos'!$A$7:$A$457),0),0)","v":0},{"$f":"IF('Aferi (Variáveis)'!$C$12=\"Venda para Exportar\",0,IF('Aferi (Variáveis)'!$C$12=\"ALC\",0,IF('Aferi (Variáveis)'!$C$12=\"ZFM\",0,IF('Aferi (Variáveis)'!$C$12=\"Exportação\",0,IF('Aferi (Variáveis)'!$C$12=\"AO\",0,E335/(100+(0*'Aferi (Variáveis)'!$K$12/100))*100*K335%/100*'Aferi (Variáveis)'!$K$12)))))","v":0},0,{"$f":"(E335*'Aferi (Variáveis)'!$K$12/100)","v":0},0,{"$f":"IF('Aferi (Variáveis)'!$F$20=\"Venda para Exportar\",0,IF('Aferi (Variáveis)'!$F$20=\"ALC\",0,IF('Aferi (Variáveis)'!$F$20=\"ZFM\",0,IF('Aferi (Variáveis)'!$F$20=\"Exportação\",0,IF('Aferi (Variáveis)'!$F$20=\"AO\",7*T335/100,T335*'Aferi (Variáveis)'!$F$20/100)))))","v":0},0,{"$f":"IF('Aferi (Variáveis)'!$C$12=\"ZFM\",0,IF('Aferi (Variáveis)'!$C$12=\"Exportação\",0,3*T335/100))","v":0},{"$f":"IF('Aferi (Variáveis)'!$C$12=\"ZFM\",0,IF('Aferi (Variáveis)'!$C$12=\"Exportação\",0,0.65*T335/100))","v":0},0,0,0,0,0,0,0,0,0,{"$f":"SUMIF('Custo Básico dos Produtos'!$B$7:$B$480,A335,'Custo Básico dos Produtos'!$K$7:$K$480)","v":0},null,null,0,0,0,0,0,0]
[null,{"$f":"IF(Q336<>0,VLOOKUP(Q336,'Custo Básico dos Produtos'!$A$7:$J$480,3),\"\")","v":""},null,{"$f":"SUMIF('Custo Básico dos Produtos'!$A$7:$A$480,Q336,'Custo Básico dos Produtos'!$J$7:$J$480)","v":0},0,0,{"$f":"IF(B336=\"\",0,SUMIF('Cadastro de Produtos em Linha'!$B$7:$B$457,A336,'Cadastro de Produtos em Linha'!$D$7:$D$457))","v":0},null,0,0,{"$f":"IF('Aferi (Variáveis)'!$C$12=\"ALC\",0,IF('Aferi (Variáveis)'!$C$12=\"ZFM\",0,IF('Aferi (Variáveis)'!$C$12=\"Exportação\",0,IF('Aferi (Variáveis)'!$C$12=\"Venda para Exportar\",0,IF('Aferi (Variáveis)'!$C$12=\"AO\",0,SUMIF('Custo Básico dos Produtos'!$A$7:$A$480,Q336,'Custo Básico dos Produtos'!$L$7:$L$480))))))","v":0},0,0,0,0,{"$f":"SUMIF('Cadastro de Produtos em Linha'!$A$6:$A$457,Q336,'Cadastro de Produtos em Linha'!$E$6:$E$457)*H336","v":0},{"$f":"IF(TODAY()<$AK$26,IF(A336<>\"\",SUMIF('Custo Básico dos Produtos'!$B$7:$B$457,A336,'Custo Básico dos Produtos'!$A$7:$A$457),0),0)","v":0},{"$f":"IF('Aferi (Variáveis)'!$C$12=\"Venda para Exportar\",0,IF('Aferi (Variáveis)'!$C$12=\"ALC\",0,IF('Aferi (Variáveis)'!$C$12=\"ZFM\",0,IF('Aferi (Variáveis)'!$C$12=\"Exportação\",0,IF('Aferi (Variáveis)'!$C$12=\"AO\",0,E336/(100+(0*'Aferi (Variáveis)'!$K$12/100))*100*K336%/100*'Aferi (Variáveis)'!$K$12)))))","v":0},0,{"$f":"(E336*'Aferi (Variáveis)'!$K$12/100)","v":0},0,{"$f":"IF('Aferi (Variáveis)'!$F$20=\"Venda para Exportar\",0,IF('Aferi (Variáveis)'!$F$20=\"ALC\",0,IF('Aferi (Variáveis)'!$F$20=\"ZFM\",0,IF('Aferi (Variáveis)'!$F$20=\"Exportação\",0,IF('Aferi (Variáveis)'!$F$20=\"AO\",7*T336/100,T336*'Aferi (Variáveis)'!$F$20/100)))))","v":0},0,{"$f":"IF('Aferi (Variáveis)'!$C$12=\"ZFM\",0,IF('Aferi (Variáveis)'!$C$12=\"Exportação\",0,3*T336/100))","v":0},{"$f":"IF('Aferi (Variáveis)'!$C$12=\"ZFM\",0,IF('Aferi (Variáveis)'!$C$12=\"Exportação\",0,0.65*T336/100))","v":0},0,0,0,0,0,0,0,0,0,{"$f":"SUMIF('Custo Básico dos Produtos'!$B$7:$B$480,A336,'Custo Básico dos Produtos'!$K$7:$K$480)","v":0},null,null,0,0,0,0,0,0]
[null,{"$f":"IF(Q337<>0,VLOOKUP(Q337,'Custo Básico dos Produtos'!$A$7:$J$480,3),\"\")","v":""},null,{"$f":"SUMIF('Custo Básico dos Produtos'!$A$7:$A$480,Q337,'Custo Básico dos Produtos'!$J$7:$J$480)","v":0},0,0,{"$f":"IF(B337=\"\",0,SUMIF('Cadastro de Produtos em Linha'!$B$7:$B$457,A337,'Cadastro de Produtos em Linha'!$D$7:$D$457))","v":0},null,0,0,{"$f":"IF('Aferi (Variáveis)'!$C$12=\"ALC\",0,IF('Aferi (Variáveis)'!$C$12=\"ZFM\",0,IF('Aferi (Variáveis)'!$C$12=\"Exportação\",0,IF('Aferi (Variáveis)'!$C$12=\"Venda para Exportar\",0,IF('Aferi (Variáveis)'!$C$12=\"AO\",0,SUMIF('Custo Básico dos Produtos'!$A$7:$A$480,Q337,'Custo Básico dos Produtos'!$L$7:$L$480))))))","v":0},0,0,0,0,{"$f":"SUMIF('Cadastro de Produtos em Linha'!$A$6:$A$457,Q337,'Cadastro de Produtos em Linha'!$E$6:$E$457)*H337","v":0},{"$f":"IF(TODAY()<$AK$26,IF(A337<>\"\",SUMIF('Custo Básico dos Produtos'!$B$7:$B$457,A337,'Custo Básico dos Produtos'!$A$7:$A$457),0),0)","v":0},{"$f":"IF('Aferi (Variáveis)'!$C$12=\"Venda para Exportar\",0,IF('Aferi (Variáveis)'!$C$12=\"ALC\",0,IF('Aferi (Variáveis)'!$C$12=\"ZFM\",0,IF('Aferi (Variáveis)'!$C$12=\"Exportação\",0,IF('Aferi (Variáveis)'!$C$12=\"AO\",0,E337/(100+(0*'Aferi (Variáveis)'!$K$12/100))*100*K337%/100*'Aferi (Variáveis)'!$K$12)))))","v":0},0,{"$f":"(E337*'Aferi (Variáveis)'!$K$12/100)","v":0},0,{"$f":"IF('Aferi (Variáveis)'!$F$20=\"Venda para Exportar\",0,IF('Aferi (Variáveis)'!$F$20=\"ALC\",0,IF('Aferi (Variáveis)'!$F$20=\"ZFM\",0,IF('Aferi (Variáveis)'!$F$20=\"Exportação\",0,IF('Aferi (Variáveis)'!$F$20=\"AO\",7*T337/100,T337*'Aferi (Variáveis)'!$F$20/100)))))","v":0},0,{"$f":"IF('Aferi (Variáveis)'!$C$12=\"ZFM\",0,IF('Aferi (Variáveis)'!$C$12=\"Exportação\",0,3*T337/100))","v":0},{"$f":"IF('Aferi (Variáveis)'!$C$12=\"ZFM\",0,IF('Aferi (Variáveis)'!$C$12=\"Exportação\",0,0.65*T337/100))","v":0},0,0,0,0,0,0,0,0,0,{"$f":"SUMIF('Custo Básico dos Produtos'!$B$7:$B$480,A337,'Custo Básico dos Produtos'!$K$7:$K$480)","v":0},null,null,0,0,0,0,0,0]
[null,{"$f":"IF(Q338<>0,VLOOKUP(Q338,'Custo Básico dos Produtos'!$A$7:$J$480,3),\"\")","v":""},null,{"$f":"SUMIF('Custo Básico dos Produtos'!$A$7:$A$480,Q338,'Custo Básico dos Produtos'!$J$7:$J$480)","v":0},0,0,{"$f":"IF(B338=\"\",0,SUMIF('Cadastro de Produtos em Linha'!$B$7:$B$457,A338,'Cadastro de Produtos em Linha'!$D$7:$D$457))","v":0},null,0,0,{"$f":"IF('Aferi (Variáveis)'!$C$12=\"ALC\",0,IF('Aferi (Variáveis)'!$C$12=\"ZFM\",0,IF('Aferi (Variáveis)'!$C$12=\"Exportação\",0,IF('Aferi (Variáveis)'!$C$12=\"Venda para Exportar\",0,IF('Aferi (Variáveis)'!$C$12=\"AO\",0,SUMIF('Custo Básico dos Produtos'!$A$7:$A$480,Q338,'Custo Básico dos Produtos'!$L$7:$L$480))))))","v":0},0,0,0,0,{"$f":"SUMIF('Cadastro de Produtos em Linha'!$A$6:$A$457,Q338,'Cadastro de Produtos em Linha'!$E$6:$E$457)*H338","v":0},{"$f":"IF(TODAY()<$AK$26,IF(A338<>\"\",SUMIF('Custo Básico dos Produtos'!$B$7:$B$457,A338,'Custo Básico dos Produtos'!$A$7:$A$457),0),0)","v":0},{"$f":"IF('Aferi (Variáveis)'!$C$12=\"Venda para Exportar\",0,IF('Aferi (Variáveis)'!$C$12=\"ALC\",0,IF('Aferi (Variáveis)'!$C$12=\"ZFM\",0,IF('Aferi (Variáveis)'!$C$12=\"Exportação\",0,IF('Aferi (Variáveis)'!$C$12=\"AO\",0,E338/(100+(0*'Aferi (Variáveis)'!$K$12/100))*100*K338%/100*'Aferi (Variáveis)'!$K$12)))))","v":0},0,{"$f":"(E338*'Aferi (Variáveis)'!$K$12/100)","v":0},0,{"$f":"IF('Aferi (Variáveis)'!$F$20=\"Venda para Exportar\",0,IF('Aferi (Variáveis)'!$F$20=\"ALC\",0,IF('Aferi (Variáveis)'!$F$20=\"ZFM\",0,IF('Aferi (Variáveis)'!$F$20=\"Exportação\",0,IF('Aferi (Variáveis)'!$F$20=\"AO\",7*T338/100,T338*'Aferi (Variáveis)'!$F$20/100)))))","v":0},0,{"$f":"IF('Aferi (Variáveis)'!$C$12=\"ZFM\",0,IF('Aferi (Variáveis)'!$C$12=\"Exportação\",0,3*T338/100))","v":0},{"$f":"IF('Aferi (Variáveis)'!$C$12=\"ZFM\",0,IF('Aferi (Variáveis)'!$C$12=\"Exportação\",0,0.65*T338/100))","v":0},0,0,0,0,0,0,0,0,0,{"$f":"SUMIF('Custo Básico dos Produtos'!$B$7:$B$480,A338,'Custo Básico dos Produtos'!$K$7:$K$480)","v":0},null,null,0,0,0,0,0,0]
[null,{"$f":"IF(Q339<>0,VLOOKUP(Q339,'Custo Básico dos Produtos'!$A$7:$J$480,3),\"\")","v":""},null,{"$f":"SUMIF('Custo Básico dos Produtos'!$A$7:$A$480,Q339,'Custo Básico dos Produtos'!$J$7:$J$480)","v":0},0,0,{"$f":"IF(B339=\"\",0,SUMIF('Cadastro de Produtos em Linha'!$B$7:$B$457,A339,'Cadastro de Produtos em Linha'!$D$7:$D$457))","v":0},null,0,0,{"$f":"IF('Aferi (Variáveis)'!$C$12=\"ALC\",0,IF('Aferi (Variáveis)'!$C$12=\"ZFM\",0,IF('Aferi (Variáveis)'!$C$12=\"Exportação\",0,IF('Aferi (Variáveis)'!$C$12=\"Venda para Exportar\",0,IF('Aferi (Variáveis)'!$C$12=\"AO\",0,SUMIF('Custo Básico dos Produtos'!$A$7:$A$480,Q339,'Custo Básico dos Produtos'!$L$7:$L$480))))))","v":0},0,0,0,0,{"$f":"SUMIF('Cadastro de Produtos em Linha'!$A$6:$A$457,Q339,'Cadastro de Produtos em Linha'!$E$6:$E$457)*H339","v":0},{"$f":"IF(TODAY()<$AK$26,IF(A339<>\"\",SUMIF('Custo Básico dos Produtos'!$B$7:$B$457,A339,'Custo Básico dos Produtos'!$A$7:$A$457),0),0)","v":0},{"$f":"IF('Aferi (Variáveis)'!$C$12=\"Venda para Exportar\",0,IF('Aferi (Variáveis)'!$C$12=\"ALC\",0,IF('Aferi (Variáveis)'!$C$12=\"ZFM\",0,IF('Aferi (Variáveis)'!$C$12=\"Exportação\",0,IF('Aferi (Variáveis)'!$C$12=\"AO\",0,E339/(100+(0*'Aferi (Variáveis)'!$K$12/100))*100*K339%/100*'Aferi (Variáveis)'!$K$12)))))","v":0},0,{"$f":"(E339*'Aferi (Variáveis)'!$K$12/100)","v":0},0,{"$f":"IF('Aferi (Variáveis)'!$F$20=\"Venda para Exportar\",0,IF('Aferi (Variáveis)'!$F$20=\"ALC\",0,IF('Aferi (Variáveis)'!$F$20=\"ZFM\",0,IF('Aferi (Variáveis)'!$F$20=\"Exportação\",0,IF('Aferi (Variáveis)'!$F$20=\"AO\",7*T339/100,T339*'Aferi (Variáveis)'!$F$20/100)))))","v":0},0,{"$f":"IF('Aferi (Variáveis)'!$C$12=\"ZFM\",0,IF('Aferi (Variáveis)'!$C$12=\"Exportação\",0,3*T339/100))","v":0},{"$f":"IF('Aferi (Variáveis)'!$C$12=\"ZFM\",0,IF('Aferi (Variáveis)'!$C$12=\"Exportação\",0,0.65*T339/100))","v":0},0,0,0,0,0,0,0,0,0,{"$f":"SUMIF('Custo Básico dos Produtos'!$B$7:$B$480,A339,'Custo Básico dos Produtos'!$K$7:$K$480)","v":0},null,null,0,0,0,0,0,0]
[null,{"$f":"IF(Q340<>0,VLOOKUP(Q340,'Custo Básico dos Produtos'!$A$7:$J$480,3),\"\")","v":""},null,{"$f":"SUMIF('Custo Básico dos Produtos'!$A$7:$A$480,Q340,'Custo Básico dos Produtos'!$J$7:$J$480)","v":0},0,0,{"$f":"IF(B340=\"\",0,SUMIF('Cadastro de Produtos em Linha'!$B$7:$B$457,A340,'Cadastro de Produtos em Linha'!$D$7:$D$457))","v":0},null,0,0,{"$f":"IF('Aferi (Variáveis)'!$C$12=\"ALC\",0,IF('Aferi (Variáveis)'!$C$12=\"ZFM\",0,IF('Aferi (Variáveis)'!$C$12=\"Exportação\",0,IF('Aferi (Variáveis)'!$C$12=\"Venda para Exportar\",0,IF('Aferi (Variáveis)'!$C$12=\"AO\",0,SUMIF('Custo Básico dos Produtos'!$A$7:$A$480,Q340,'Custo Básico dos Produtos'!$L$7:$L$480))))))","v":0},0,0,0,0,{"$f":"SUMIF('Cadastro de Produtos em Linha'!$A$6:$A$457,Q340,'Cadastro de Produtos em Linha'!$E$6:$E$457)*H340","v":0},{"$f":"IF(TODAY()<$AK$26,IF(A340<>\"\",SUMIF('Custo Básico dos Produtos'!$B$7:$B$457,A340,'Custo Básico dos Produtos'!$A$7:$A$457),0),0)","v":0},{"$f":"IF('Aferi (Variáveis)'!$C$12=\"Venda para Exportar\",0,IF('Aferi (Variáveis)'!$C$12=\"ALC\",0,IF('Aferi (Variáveis)'!$C$12=\"ZFM\",0,IF('Aferi (Variáveis)'!$C$12=\"Exportação\",0,IF('Aferi (Variáveis)'!$C$12=\"AO\",0,E340/(100+(0*'Aferi (Variáveis)'!$K$12/100))*100*K340%/100*'Aferi (Variáveis)'!$K$12)))))","v":0},0,{"$f":"(E340*'Aferi (Variáveis)'!$K$12/100)","v":0},0,{"$f":"IF('Aferi (Variáveis)'!$F$20=\"Venda para Exportar\",0,IF('Aferi (Variáveis)'!$F$20=\"ALC\",0,IF('Aferi (Variáveis)'!$F$20=\"ZFM\",0,IF('Aferi (Variáveis)'!$F$20=\"Exportação\",0,IF('Aferi (Variáveis)'!$F$20=\"AO\",7*T340/100,T340*'Aferi (Variáveis)'!$F$20/100)))))","v":0},0,{"$f":"IF('Aferi (Variáveis)'!$C$12=\"ZFM\",0,IF('Aferi (Variáveis)'!$C$12=\"Exportação\",0,3*T340/100))","v":0},{"$f":"IF('Aferi (Variáveis)'!$C$12=\"ZFM\",0,IF('Aferi (Variáveis)'!$C$12=\"Exportação\",0,0.65*T340/100))","v":0},0,0,0,0,0,0,0,0,0,{"$f":"SUMIF('Custo Básico dos Produtos'!$B$7:$B$480,A340,'Custo Básico dos Produtos'!$K$7:$K$480)","v":0},null,null,0,0,0,0,0,0]
[null,{"$f":"IF(Q341<>0,VLOOKUP(Q341,'Custo Básico dos Produtos'!$A$7:$J$480,3),\"\")","v":""},null,{"$f":"SUMIF('Custo Básico dos Produtos'!$A$7:$A$480,Q341,'Custo Básico dos Produtos'!$J$7:$J$480)","v":0},0,0,{"$f":"IF(B341=\"\",0,SUMIF('Cadastro de Produtos em Linha'!$B$7:$B$457,A341,'Cadastro de Produtos em Linha'!$D$7:$D$457))","v":0},null,0,0,{"$f":"IF('Aferi (Variáveis)'!$C$12=\"ALC\",0,IF('Aferi (Variáveis)'!$C$12=\"ZFM\",0,IF('Aferi (Variáveis)'!$C$12=\"Exportação\",0,IF('Aferi (Variáveis)'!$C$12=\"Venda para Exportar\",0,IF('Aferi (Variáveis)'!$C$12=\"AO\",0,SUMIF('Custo Básico dos Produtos'!$A$7:$A$480,Q341,'Custo Básico dos Produtos'!$L$7:$L$480))))))","v":0},0,0,0,0,{"$f":"SUMIF('Cadastro de Produtos em Linha'!$A$6:$A$457,Q341,'Cadastro de Produtos em Linha'!$E$6:$E$457)*H341","v":0},{"$f":"IF(TODAY()<$AK$26,IF(A341<>\"\",SUMIF('Custo Básico dos Produtos'!$B$7:$B$457,A341,'Custo Básico dos Produtos'!$A$7:$A$457),0),0)","v":0},{"$f":"IF('Aferi (Variáveis)'!$C$12=\"Venda para Exportar\",0,IF('Aferi (Variáveis)'!$C$12=\"ALC\",0,IF('Aferi (Variáveis)'!$C$12=\"ZFM\",0,IF('Aferi (Variáveis)'!$C$12=\"Exportação\",0,IF('Aferi (Variáveis)'!$C$12=\"AO\",0,E341/(100+(0*'Aferi (Variáveis)'!$K$12/100))*100*K341%/100*'Aferi (Variáveis)'!$K$12)))))","v":0},0,{"$f":"(E341*'Aferi (Variáveis)'!$K$12/100)","v":0},0,{"$f":"IF('Aferi (Variáveis)'!$F$20=\"Venda para Exportar\",0,IF('Aferi (Variáveis)'!$F$20=\"ALC\",0,IF('Aferi (Variáveis)'!$F$20=\"ZFM\",0,IF('Aferi (Variáveis)'!$F$20=\"Exportação\",0,IF('Aferi (Variáveis)'!$F$20=\"AO\",7*T341/100,T341*'Aferi (Variáveis)'!$F$20/100)))))","v":0},0,{"$f":"IF('Aferi (Variáveis)'!$C$12=\"ZFM\",0,IF('Aferi (Variáveis)'!$C$12=\"Exportação\",0,3*T341/100))","v":0},{"$f":"IF('Aferi (Variáveis)'!$C$12=\"ZFM\",0,IF('Aferi (Variáveis)'!$C$12=\"Exportação\",0,0.65*T341/100))","v":0},0,0,0,0,0,0,0,0,0,{"$f":"SUMIF('Custo Básico dos Produtos'!$B$7:$B$480,A341,'Custo Básico dos Produtos'!$K$7:$K$480)","v":0},null,null,0,0,0,0,0,0]
[null,{"$f":"IF(Q342<>0,VLOOKUP(Q342,'Custo Básico dos Produtos'!$A$7:$J$480,3),\"\")","v":""},null,{"$f":"SUMIF('Custo Básico dos Produtos'!$A$7:$A$480,Q342,'Custo Básico dos Produtos'!$J$7:$J$480)","v":0},0,0,{"$f":"IF(B342=\"\",0,SUMIF('Cadastro de Produtos em Linha'!$B$7:$B$457,A342,'Cadastro de Produtos em Linha'!$D$7:$D$457))","v":0},null,0,0,{"$f":"IF('Aferi (Variáveis)'!$C$12=\"ALC\",0,IF('Aferi (Variáveis)'!$C$12=\"ZFM\",0,IF('Aferi (Variáveis)'!$C$12=\"Exportação\",0,IF('Aferi (Variáveis)'!$C$12=\"Venda para Exportar\",0,IF('Aferi (Variáveis)'!$C$12=\"AO\",0,SUMIF('Custo Básico dos Produtos'!$A$7:$A$480,Q342,'Custo Básico dos Produtos'!$L$7:$L$480))))))","v":0},0,0,0,0,{"$f":"SUMIF('Cadastro de Produtos em Linha'!$A$6:$A$457,Q342,'Cadastro de Produtos em Linha'!$E$6:$E$457)*H342","v":0},{"$f":"IF(TODAY()<$AK$26,IF(A342<>\"\",SUMIF('Custo Básico dos Produtos'!$B$7:$B$457,A342,'Custo Básico dos Produtos'!$A$7:$A$457),0),0)","v":0},{"$f":"IF('Aferi (Variáveis)'!$C$12=\"Venda para Exportar\",0,IF('Aferi (Variáveis)'!$C$12=\"ALC\",0,IF('Aferi (Variáveis)'!$C$12=\"ZFM\",0,IF('Aferi (Variáveis)'!$C$12=\"Exportação\",0,IF('Aferi (Variáveis)'!$C$12=\"AO\",0,E342/(100+(0*'Aferi (Variáveis)'!$K$12/100))*100*K342%/100*'Aferi (Variáveis)'!$K$12)))))","v":0},0,{"$f":"(E342*'Aferi (Variáveis)'!$K$12/100)","v":0},0,{"$f":"IF('Aferi (Variáveis)'!$F$20=\"Venda para Exportar\",0,IF('Aferi (Variáveis)'!$F$20=\"ALC\",0,IF('Aferi (Variáveis)'!$F$20=\"ZFM\",0,IF('Aferi (Variáveis)'!$F$20=\"Exportação\",0,IF('Aferi (Variáveis)'!$F$20=\"AO\",7*T342/100,T342*'Aferi (Variáveis)'!$F$20/100)))))","v":0},0,{"$f":"IF('Aferi (Variáveis)'!$C$12=\"ZFM\",0,IF('Aferi (Variáveis)'!$C$12=\"Exportação\",0,3*T342/100))","v":0},{"$f":"IF('Aferi (Variáveis)'!$C$12=\"ZFM\",0,IF('Aferi (Variáveis)'!$C$12=\"Exportação\",0,0.65*T342/100))","v":0},0,0,0,0,0,0,0,0,0,{"$f":"SUMIF('Custo Básico dos Produtos'!$B$7:$B$480,A342,'Custo Básico dos Produtos'!$K$7:$K$480)","v":0},null,null,0,0,0,0,0,0]
[null,{"$f":"IF(Q343<>0,VLOOKUP(Q343,'Custo Básico dos Produtos'!$A$7:$J$480,3),\"\")","v":""},null,{"$f":"SUMIF('Custo Básico dos Produtos'!$A$7:$A$480,Q343,'Custo Básico dos Produtos'!$J$7:$J$480)","v":0},0,0,{"$f":"IF(B343=\"\",0,SUMIF('Cadastro de Produtos em Linha'!$B$7:$B$457,A343,'Cadastro de Produtos em Linha'!$D$7:$D$457))","v":0},null,0,0,{"$f":"IF('Aferi (Variáveis)'!$C$12=\"ALC\",0,IF('Aferi (Variáveis)'!$C$12=\"ZFM\",0,IF('Aferi (Variáveis)'!$C$12=\"Exportação\",0,IF('Aferi (Variáveis)'!$C$12=\"Venda para Exportar\",0,IF('Aferi (Variáveis)'!$C$12=\"AO\",0,SUMIF('Custo Básico dos Produtos'!$A$7:$A$480,Q343,'Custo Básico dos Produtos'!$L$7:$L$480))))))","v":0},0,0,0,0,{"$f":"SUMIF('Cadastro de Produtos em Linha'!$A$6:$A$457,Q343,'Cadastro de Produtos em Linha'!$E$6:$E$457)*H343","v":0},{"$f":"IF(TODAY()<$AK$26,IF(A343<>\"\",SUMIF('Custo Básico dos Produtos'!$B$7:$B$457,A343,'Custo Básico dos Produtos'!$A$7:$A$457),0),0)","v":0},{"$f":"IF('Aferi (Variáveis)'!$C$12=\"Venda para Exportar\",0,IF('Aferi (Variáveis)'!$C$12=\"ALC\",0,IF('Aferi (Variáveis)'!$C$12=\"ZFM\",0,IF('Aferi (Variáveis)'!$C$12=\"Exportação\",0,IF('Aferi (Variáveis)'!$C$12=\"AO\",0,E343/(100+(0*'Aferi (Variáveis)'!$K$12/100))*100*K343%/100*'Aferi (Variáveis)'!$K$12)))))","v":0},0,{"$f":"(E343*'Aferi (Variáveis)'!$K$12/100)","v":0},0,{"$f":"IF('Aferi (Variáveis)'!$F$20=\"Venda para Exportar\",0,IF('Aferi (Variáveis)'!$F$20=\"ALC\",0,IF('Aferi (Variáveis)'!$F$20=\"ZFM\",0,IF('Aferi (Variáveis)'!$F$20=\"Exportação\",0,IF('Aferi (Variáveis)'!$F$20=\"AO\",7*T343/100,T343*'Aferi (Variáveis)'!$F$20/100)))))","v":0},0,{"$f":"IF('Aferi (Variáveis)'!$C$12=\"ZFM\",0,IF('Aferi (Variáveis)'!$C$12=\"Exportação\",0,3*T343/100))","v":0},{"$f":"IF('Aferi (Variáveis)'!$C$12=\"ZFM\",0,IF('Aferi (Variáveis)'!$C$12=\"Exportação\",0,0.65*T343/100))","v":0},0,0,0,0,0,0,0,0,0,{"$f":"SUMIF('Custo Básico dos Produtos'!$B$7:$B$480,A343,'Custo Básico dos Produtos'!$K$7:$K$480)","v":0},null,null,0,0,0,0,0,0]
[null,{"$f":"IF(Q344<>0,VLOOKUP(Q344,'Custo Básico dos Produtos'!$A$7:$J$480,3),\"\")","v":""},null,{"$f":"SUMIF('Custo Básico dos Produtos'!$A$7:$A$480,Q344,'Custo Básico dos Produtos'!$J$7:$J$480)","v":0},0,0,{"$f":"IF(B344=\"\",0,SUMIF('Cadastro de Produtos em Linha'!$B$7:$B$457,A344,'Cadastro de Produtos em Linha'!$D$7:$D$457))","v":0},null,0,0,{"$f":"IF('Aferi (Variáveis)'!$C$12=\"ALC\",0,IF('Aferi (Variáveis)'!$C$12=\"ZFM\",0,IF('Aferi (Variáveis)'!$C$12=\"Exportação\",0,IF('Aferi (Variáveis)'!$C$12=\"Venda para Exportar\",0,IF('Aferi (Variáveis)'!$C$12=\"AO\",0,SUMIF('Custo Básico dos Produtos'!$A$7:$A$480,Q344,'Custo Básico dos Produtos'!$L$7:$L$480))))))","v":0},0,0,0,0,{"$f":"SUMIF('Cadastro de Produtos em Linha'!$A$6:$A$457,Q344,'Cadastro de Produtos em Linha'!$E$6:$E$457)*H344","v":0},{"$f":"IF(TODAY()<$AK$26,IF(A344<>\"\",SUMIF('Custo Básico dos Produtos'!$B$7:$B$457,A344,'Custo Básico dos Produtos'!$A$7:$A$457),0),0)","v":0},{"$f":"IF('Aferi (Variáveis)'!$C$12=\"Venda para Exportar\",0,IF('Aferi (Variáveis)'!$C$12=\"ALC\",0,IF('Aferi (Variáveis)'!$C$12=\"ZFM\",0,IF('Aferi (Variáveis)'!$C$12=\"Exportação\",0,IF('Aferi (Variáveis)'!$C$12=\"AO\",0,E344/(100+(0*'Aferi (Variáveis)'!$K$12/100))*100*K344%/100*'Aferi (Variáveis)'!$K$12)))))","v":0},0,{"$f":"(E344*'Aferi (Variáveis)'!$K$12/100)","v":0},0,{"$f":"IF('Aferi (Variáveis)'!$F$20=\"Venda para Exportar\",0,IF('Aferi (Variáveis)'!$F$20=\"ALC\",0,IF('Aferi (Variáveis)'!$F$20=\"ZFM\",0,IF('Aferi (Variáveis)'!$F$20=\"Exportação\",0,IF('Aferi (Variáveis)'!$F$20=\"AO\",7*T344/100,T344*'Aferi (Variáveis)'!$F$20/100)))))","v":0},0,{"$f":"IF('Aferi (Variáveis)'!$C$12=\"ZFM\",0,IF('Aferi (Variáveis)'!$C$12=\"Exportação\",0,3*T344/100))","v":0},{"$f":"IF('Aferi (Variáveis)'!$C$12=\"ZFM\",0,IF('Aferi (Variáveis)'!$C$12=\"Exportação\",0,0.65*T344/100))","v":0},0,0,0,0,0,0,0,0,0,{"$f":"SUMIF('Custo Básico dos Produtos'!$B$7:$B$480,A344,'Custo Básico dos Produtos'!$K$7:$K$480)","v":0},null,null,0,0,0,0,0,0]
[null,{"$f":"IF(Q345<>0,VLOOKUP(Q345,'Custo Básico dos Produtos'!$A$7:$J$480,3),\"\")","v":""},null,{"$f":"SUMIF('Custo Básico dos Produtos'!$A$7:$A$480,Q345,'Custo Básico dos Produtos'!$J$7:$J$480)","v":0},0,0,{"$f":"IF(B345=\"\",0,SUMIF('Cadastro de Produtos em Linha'!$B$7:$B$457,A345,'Cadastro de Produtos em Linha'!$D$7:$D$457))","v":0},null,0,0,{"$f":"IF('Aferi (Variáveis)'!$C$12=\"ALC\",0,IF('Aferi (Variáveis)'!$C$12=\"ZFM\",0,IF('Aferi (Variáveis)'!$C$12=\"Exportação\",0,IF('Aferi (Variáveis)'!$C$12=\"Venda para Exportar\",0,IF('Aferi (Variáveis)'!$C$12=\"AO\",0,SUMIF('Custo Básico dos Produtos'!$A$7:$A$480,Q345,'Custo Básico dos Produtos'!$L$7:$L$480))))))","v":0},0,0,0,0,{"$f":"SUMIF('Cadastro de Produtos em Linha'!$A$6:$A$457,Q345,'Cadastro de Produtos em Linha'!$E$6:$E$457)*H345","v":0},{"$f":"IF(TODAY()<$AK$26,IF(A345<>\"\",SUMIF('Custo Básico dos Produtos'!$B$7:$B$457,A345,'Custo Básico dos Produtos'!$A$7:$A$457),0),0)","v":0},{"$f":"IF('Aferi (Variáveis)'!$C$12=\"Venda para Exportar\",0,IF('Aferi (Variáveis)'!$C$12=\"ALC\",0,IF('Aferi (Variáveis)'!$C$12=\"ZFM\",0,IF('Aferi (Variáveis)'!$C$12=\"Exportação\",0,IF('Aferi (Variáveis)'!$C$12=\"AO\",0,E345/(100+(0*'Aferi (Variáveis)'!$K$12/100))*100*K345%/100*'Aferi (Variáveis)'!$K$12)))))","v":0},0,{"$f":"(E345*'Aferi (Variáveis)'!$K$12/100)","v":0},0,{"$f":"IF('Aferi (Variáveis)'!$F$20=\"Venda para Exportar\",0,IF('Aferi (Variáveis)'!$F$20=\"ALC\",0,IF('Aferi (Variáveis)'!$F$20=\"ZFM\",0,IF('Aferi (Variáveis)'!$F$20=\"Exportação\",0,IF('Aferi (Variáveis)'!$F$20=\"AO\",7*T345/100,T345*'Aferi (Variáveis)'!$F$20/100)))))","v":0},0,{"$f":"IF('Aferi (Variáveis)'!$C$12=\"ZFM\",0,IF('Aferi (Variáveis)'!$C$12=\"Exportação\",0,3*T345/100))","v":0},{"$f":"IF('Aferi (Variáveis)'!$C$12=\"ZFM\",0,IF('Aferi (Variáveis)'!$C$12=\"Exportação\",0,0.65*T345/100))","v":0},0,0,0,0,0,0,0,0,0,{"$f":"SUMIF('Custo Básico dos Produtos'!$B$7:$B$480,A345,'Custo Básico dos Produtos'!$K$7:$K$480)","v":0},null,null,0,0,0,0,0,0]
[null,{"$f":"IF(Q346<>0,VLOOKUP(Q346,'Custo Básico dos Produtos'!$A$7:$J$480,3),\"\")","v":""},null,{"$f":"SUMIF('Custo Básico dos Produtos'!$A$7:$A$480,Q346,'Custo Básico dos Produtos'!$J$7:$J$480)","v":0},0,0,{"$f":"IF(B346=\"\",0,SUMIF('Cadastro de Produtos em Linha'!$B$7:$B$457,A346,'Cadastro de Produtos em Linha'!$D$7:$D$457))","v":0},null,0,0,{"$f":"IF('Aferi (Variáveis)'!$C$12=\"ALC\",0,IF('Aferi (Variáveis)'!$C$12=\"ZFM\",0,IF('Aferi (Variáveis)'!$C$12=\"Exportação\",0,IF('Aferi (Variáveis)'!$C$12=\"Venda para Exportar\",0,IF('Aferi (Variáveis)'!$C$12=\"AO\",0,SUMIF('Custo Básico dos Produtos'!$A$7:$A$480,Q346,'Custo Básico dos Produtos'!$L$7:$L$480))))))","v":0},0,0,0,{"$f":"IF(I346>0,AG346*I346,0)","v":0},{"$f":"SUMIF('Cadastro de Produtos em Linha'!$A$6:$A$457,Q346,'Cadastro de Produtos em Linha'!$E$6:$E$457)*H346","v":0},{"$f":"IF(TODAY()<$AK$26,IF(A346<>\"\",SUMIF('Custo Básico dos Produtos'!$B$7:$B$457,A346,'Custo Básico dos Produtos'!$A$7:$A$457),0),0)","v":0},{"$f":"IF('Aferi (Variáveis)'!$C$12=\"Venda para Exportar\",0,IF('Aferi (Variáveis)'!$C$12=\"ALC\",0,IF('Aferi (Variáveis)'!$C$12=\"ZFM\",0,IF('Aferi (Variáveis)'!$C$12=\"Exportação\",0,IF('Aferi (Variáveis)'!$C$12=\"AO\",0,E346/(100+(0*'Aferi (Variáveis)'!$K$12/100))*100*K346%/100*'Aferi (Variáveis)'!$K$12)))))","v":0},{"$f":"I346*R346","v":0},{"$f":"(E346*'Aferi (Variáveis)'!$K$12/100)","v":0},{"$f":"IF(I346>0,T346*I346,0)","v":0},{"$f":"IF('Aferi (Variáveis)'!$F$20=\"Venda para Exportar\",0,IF('Aferi (Variáveis)'!$F$20=\"ALC\",0,IF('Aferi (Variáveis)'!$F$20=\"ZFM\",0,IF('Aferi (Variáveis)'!$F$20=\"Exportação\",0,IF('Aferi (Variáveis)'!$F$20=\"AO\",7*T346/100,T346*'Aferi (Variáveis)'!$F$20/100)))))","v":0},{"$f":"T346*(W$22/100)","v":0},{"$f":"IF('Aferi (Variáveis)'!$C$12=\"ZFM\",0,IF('Aferi (Variáveis)'!$C$12=\"Exportação\",0,3*T346/100))","v":0},{"$f":"IF('Aferi (Variáveis)'!$C$12=\"ZFM\",0,IF('Aferi (Variáveis)'!$C$12=\"Exportação\",0,0.65*T346/100))","v":0},{"$f":"T346*(Z$22/100)","v":0},0,0,0,0,0,0,{"$f":"E346-AF346-D346","v":0},{"$f":"IF(AG346<>0,AG346/(E346)*100,0)","v":0},{"$f":"SUMIF('Custo Básico dos Produtos'!$B$7:$B$480,A346,'Custo Básico dos Produtos'!$K$7:$K$480)","v":0},null,null,0,0,0,0,0,0]
[null,{"$f":"IF(Q347<>0,VLOOKUP(Q347,'Custo Básico dos Produtos'!$A$7:$J$480,3),\"\")","v":""},null,{"$f":"SUMIF('Custo Básico dos Produtos'!$A$7:$A$480,Q347,'Custo Básico dos Produtos'!$J$7:$J$480)","v":0},0,0,{"$f":"IF(B347=\"\",0,SUMIF('Cadastro de Produtos em Linha'!$B$7:$B$457,A347,'Cadastro de Produtos em Linha'!$D$7:$D$457))","v":0},null,0,0,{"$f":"IF('Aferi (Variáveis)'!$C$12=\"ALC\",0,IF('Aferi (Variáveis)'!$C$12=\"ZFM\",0,IF('Aferi (Variáveis)'!$C$12=\"Exportação\",0,IF('Aferi (Variáveis)'!$C$12=\"Venda para Exportar\",0,IF('Aferi (Variáveis)'!$C$12=\"AO\",0,SUMIF('Custo Básico dos Produtos'!$A$7:$A$480,Q347,'Custo Básico dos Produtos'!$L$7:$L$480))))))","v":0},0,0,0,0,{"$f":"SUMIF('Cadastro de Produtos em Linha'!$A$6:$A$457,Q347,'Cadastro de Produtos em Linha'!$E$6:$E$457)*H347","v":0},{"$f":"IF(TODAY()<$AK$26,IF(A347<>\"\",SUMIF('Custo Básico dos Produtos'!$B$7:$B$457,A347,'Custo Básico dos Produtos'!$A$7:$A$457),0),0)","v":0},{"$f":"IF('Aferi (Variáveis)'!$C$12=\"Venda para Exportar\",0,IF('Aferi (Variáveis)'!$C$12=\"ALC\",0,IF('Aferi (Variáveis)'!$C$12=\"ZFM\",0,IF('Aferi (Variáveis)'!$C$12=\"Exportação\",0,IF('Aferi (Variáveis)'!$C$12=\"AO\",0,E347/(100+(0*'Aferi (Variáveis)'!$K$12/100))*100*K347%/100*'Aferi (Variáveis)'!$K$12)))))","v":0},0,{"$f":"(E347*'Aferi (Variáveis)'!$K$12/100)","v":0},0,{"$f":"IF('Aferi (Variáveis)'!$F$20=\"Venda para Exportar\",0,IF('Aferi (Variáveis)'!$F$20=\"ALC\",0,IF('Aferi (Variáveis)'!$F$20=\"ZFM\",0,IF('Aferi (Variáveis)'!$F$20=\"Exportação\",0,IF('Aferi (Variáveis)'!$F$20=\"AO\",7*T347/100,T347*'Aferi (Variáveis)'!$F$20/100)))))","v":0},0,{"$f":"IF('Aferi (Variáveis)'!$C$12=\"ZFM\",0,IF('Aferi (Variáveis)'!$C$12=\"Exportação\",0,3*T347/100))","v":0},{"$f":"IF('Aferi (Variáveis)'!$C$12=\"ZFM\",0,IF('Aferi (Variáveis)'!$C$12=\"Exportação\",0,0.65*T347/100))","v":0},0,0,{"$f":"E347*(AB$23/100)","v":0},{"$f":"IF(A347<>\"\",E347*(AC$23/100),0)","v":0},{"$f":"E347*($AD$23/100)","v":0},{"$f":"E347*(AE$23/100)","v":0},{"$f":"SUM(V347:AE347)","v":0},0,0,{"$f":"SUMIF('Custo Básico dos Produtos'!$B$7:$B$480,A347,'Custo Básico dos Produtos'!$K$7:$K$480)","v":0},null,null,{"$f":"D347","v":0},{"$f":"AL347/(1-AM$24)","v":0},{"$f":"AM347*AM$22","v":0},{"$f":"AM347*AM$23","v":0},{"$f":"AM347-SUM(AN347:AO347)-AL347","v":0},{"$f":"IFERROR(AP347/AM347,0)","v":0}]
[null,{"$f":"IF(Q348<>0,VLOOKUP(Q348,'Custo Básico dos Produtos'!$A$7:$J$480,3),\"\")","v":""},null,{"$f":"SUMIF('Custo Básico dos Produtos'!$A$7:$A$480,Q348,'Custo Básico dos Produtos'!$J$7:$J$480)","v":0},0,{"$f":"IF(A348=\"\",0,IF(TODAY()<$AK$26,IF(E348>0,IF(H348>0,IF(AH348>=AI348,AH348,)/4),0)))","v":0},{"$f":"IF(B348=\"\",0,SUMIF('Cadastro de Produtos em Linha'!$B$7:$B$457,A348,'Cadastro de Produtos em Linha'!$D$7:$D$457))","v":0},null,0,0,{"$f":"IF('Aferi (Variáveis)'!$C$12=\"ALC\",0,IF('Aferi (Variáveis)'!$C$12=\"ZFM\",0,IF('Aferi (Variáveis)'!$C$12=\"Exportação\",0,IF('Aferi (Variáveis)'!$C$12=\"Venda para Exportar\",0,IF('Aferi (Variáveis)'!$C$12=\"AO\",0,SUMIF('Custo Básico dos Produtos'!$A$7:$A$480,Q348,'Custo Básico dos Produtos'!$L$7:$L$480))))))","v":0},0,0,0,0,{"$f":"SUMIF('Cadastro de Produtos em Linha'!$A$6:$A$457,Q348,'Cadastro de Produtos em Linha'!$E$6:$E$457)*H348","v":0},{"$f":"IF(TODAY()<$AK$26,IF(A348<>\"\",SUMIF('Custo Básico dos Produtos'!$B$7:$B$457,A348,'Custo Básico dos Produtos'!$A$7:$A$457),0),0)","v":0},{"$f":"IF('Aferi (Variáveis)'!$C$12=\"Venda para Exportar\",0,IF('Aferi (Variáveis)'!$C$12=\"ALC\",0,IF('Aferi (Variáveis)'!$C$12=\"ZFM\",0,IF('Aferi (Variáveis)'!$C$12=\"Exportação\",0,IF('Aferi (Variáveis)'!$C$12=\"AO\",0,E348/(100+(0*'Aferi (Variáveis)'!$K$12/100))*100*K348%/100*'Aferi (Variáveis)'!$K$12)))))","v":0},0,{"$f":"(E348*'Aferi (Variáveis)'!$K$12/100)","v":0},0,{"$f":"IF('Aferi (Variáveis)'!$F$20=\"Venda para Exportar\",0,IF('Aferi (Variáveis)'!$F$20=\"ALC\",0,IF('Aferi (Variáveis)'!$F$20=\"ZFM\",0,IF('Aferi (Variáveis)'!$F$20=\"Exportação\",0,IF('Aferi (Variáveis)'!$F$20=\"AO\",7*T348/100,T348*'Aferi (Variáveis)'!$F$20/100)))))","v":0},0,{"$f":"IF('Aferi (Variáveis)'!$C$12=\"ZFM\",0,IF('Aferi (Variáveis)'!$C$12=\"Exportação\",0,3*T348/100))","v":0},{"$f":"IF('Aferi (Variáveis)'!$C$12=\"ZFM\",0,IF('Aferi (Variáveis)'!$C$12=\"Exportação\",0,0.65*T348/100))","v":0},0,{"$f":"E348*(AA$23/100)","v":0},0,0,0,0,0,0,0,{"$f":"SUMIF('Custo Básico dos Produtos'!$B$7:$B$480,A348,'Custo Básico dos Produtos'!$K$7:$K$480)","v":0},null,null,0,0,0,0,0,0]
[null,{"$f":"IF(Q349<>0,VLOOKUP(Q349,'Custo Básico dos Produtos'!$A$7:$J$480,3),\"\")","v":""},null,{"$f":"SUMIF('Custo Básico dos Produtos'!$A$7:$A$480,Q349,'Custo Básico dos Produtos'!$J$7:$J$480)","v":0},0,0,{"$f":"IF(B349=\"\",0,SUMIF('Cadastro de Produtos em Linha'!$B$7:$B$457,A349,'Cadastro de Produtos em Linha'!$D$7:$D$457))","v":0},null,0,0,{"$f":"IF('Aferi (Variáveis)'!$C$12=\"ALC\",0,IF('Aferi (Variáveis)'!$C$12=\"ZFM\",0,IF('Aferi (Variáveis)'!$C$12=\"Exportação\",0,IF('Aferi (Variáveis)'!$C$12=\"Venda para Exportar\",0,IF('Aferi (Variáveis)'!$C$12=\"AO\",0,SUMIF('Custo Básico dos Produtos'!$A$7:$A$480,Q349,'Custo Básico dos Produtos'!$L$7:$L$480))))))","v":0},0,0,0,0,{"$f":"SUMIF('Cadastro de Produtos em Linha'!$A$6:$A$457,Q349,'Cadastro de Produtos em Linha'!$E$6:$E$457)*H349","v":0},{"$f":"IF(TODAY()<$AK$26,IF(A349<>\"\",SUMIF('Custo Básico dos Produtos'!$B$7:$B$457,A349,'Custo Básico dos Produtos'!$A$7:$A$457),0),0)","v":0},{"$f":"IF('Aferi (Variáveis)'!$C$12=\"Venda para Exportar\",0,IF('Aferi (Variáveis)'!$C$12=\"ALC\",0,IF('Aferi (Variáveis)'!$C$12=\"ZFM\",0,IF('Aferi (Variáveis)'!$C$12=\"Exportação\",0,IF('Aferi (Variáveis)'!$C$12=\"AO\",0,E349/(100+(0*'Aferi (Variáveis)'!$K$12/100))*100*K349%/100*'Aferi (Variáveis)'!$K$12)))))","v":0},0,{"$f":"(E349*'Aferi (Variáveis)'!$K$12/100)","v":0},0,{"$f":"IF('Aferi (Variáveis)'!$F$20=\"Venda para Exportar\",0,IF('Aferi (Variáveis)'!$F$20=\"ALC\",0,IF('Aferi (Variáveis)'!$F$20=\"ZFM\",0,IF('Aferi (Variáveis)'!$F$20=\"Exportação\",0,IF('Aferi (Variáveis)'!$F$20=\"AO\",7*T349/100,T349*'Aferi (Variáveis)'!$F$20/100)))))","v":0},0,{"$f":"IF('Aferi (Variáveis)'!$C$12=\"ZFM\",0,IF('Aferi (Variáveis)'!$C$12=\"Exportação\",0,3*T349/100))","v":0},{"$f":"IF('Aferi (Variáveis)'!$C$12=\"ZFM\",0,IF('Aferi (Variáveis)'!$C$12=\"Exportação\",0,0.65*T349/100))","v":0},0,0,0,0,0,0,0,0,0,{"$f":"SUMIF('Custo Básico dos Produtos'!$B$7:$B$480,A349,'Custo Básico dos Produtos'!$K$7:$K$480)","v":0},null,null,0,0,0,0,0,0]
[null,{"$f":"IF(Q350<>0,VLOOKUP(Q350,'Custo Básico dos Produtos'!$A$7:$J$480,3),\"\")","v":""},null,{"$f":"SUMIF('Custo Básico dos Produtos'!$A$7:$A$480,Q350,'Custo Básico dos Produtos'!$J$7:$J$480)","v":0},0,0,{"$f":"IF(B350=\"\",0,SUMIF('Cadastro de Produtos em Linha'!$B$7:$B$457,A350,'Cadastro de Produtos em Linha'!$D$7:$D$457))","v":0},null,0,0,{"$f":"IF('Aferi (Variáveis)'!$C$12=\"ALC\",0,IF('Aferi (Variáveis)'!$C$12=\"ZFM\",0,IF('Aferi (Variáveis)'!$C$12=\"Exportação\",0,IF('Aferi (Variáveis)'!$C$12=\"Venda para Exportar\",0,IF('Aferi (Variáveis)'!$C$12=\"AO\",0,SUMIF('Custo Básico dos Produtos'!$A$7:$A$480,Q350,'Custo Básico dos Produtos'!$L$7:$L$480))))))","v":0},0,0,0,0,{"$f":"SUMIF('Cadastro de Produtos em Linha'!$A$6:$A$457,Q350,'Cadastro de Produtos em Linha'!$E$6:$E$457)*H350","v":0},{"$f":"IF(TODAY()<$AK$26,IF(A350<>\"\",SUMIF('Custo Básico dos Produtos'!$B$7:$B$457,A350,'Custo Básico dos Produtos'!$A$7:$A$457),0),0)","v":0},{"$f":"IF('Aferi (Variáveis)'!$C$12=\"Venda para Exportar\",0,IF('Aferi (Variáveis)'!$C$12=\"ALC\",0,IF('Aferi (Variáveis)'!$C$12=\"ZFM\",0,IF('Aferi (Variáveis)'!$C$12=\"Exportação\",0,IF('Aferi (Variáveis)'!$C$12=\"AO\",0,E350/(100+(0*'Aferi (Variáveis)'!$K$12/100))*100*K350%/100*'Aferi (Variáveis)'!$K$12)))))","v":0},0,{"$f":"(E350*'Aferi (Variáveis)'!$K$12/100)","v":0},0,{"$f":"IF('Aferi (Variáveis)'!$F$20=\"Venda para Exportar\",0,IF('Aferi (Variáveis)'!$F$20=\"ALC\",0,IF('Aferi (Variáveis)'!$F$20=\"ZFM\",0,IF('Aferi (Variáveis)'!$F$20=\"Exportação\",0,IF('Aferi (Variáveis)'!$F$20=\"AO\",7*T350/100,T350*'Aferi (Variáveis)'!$F$20/100)))))","v":0},0,{"$f":"IF('Aferi (Variáveis)'!$C$12=\"ZFM\",0,IF('Aferi (Variáveis)'!$C$12=\"Exportação\",0,3*T350/100))","v":0},{"$f":"IF('Aferi (Variáveis)'!$C$12=\"ZFM\",0,IF('Aferi (Variáveis)'!$C$12=\"Exportação\",0,0.65*T350/100))","v":0},0,0,0,0,0,0,0,0,0,{"$f":"SUMIF('Custo Básico dos Produtos'!$B$7:$B$480,A350,'Custo Básico dos Produtos'!$K$7:$K$480)","v":0},null,null,0,0,0,0,0,0]
[null,{"$f":"IF(Q351<>0,VLOOKUP(Q351,'Custo Básico dos Produtos'!$A$7:$J$480,3),\"\")","v":""},null,{"$f":"SUMIF('Custo Básico dos Produtos'!$A$7:$A$480,Q351,'Custo Básico dos Produtos'!$J$7:$J$480)","v":0},0,0,{"$f":"IF(B351=\"\",0,SUMIF('Cadastro de Produtos em Linha'!$B$7:$B$457,A351,'Cadastro de Produtos em Linha'!$D$7:$D$457))","v":0},null,0,0,{"$f":"IF('Aferi (Variáveis)'!$C$12=\"ALC\",0,IF('Aferi (Variáveis)'!$C$12=\"ZFM\",0,IF('Aferi (Variáveis)'!$C$12=\"Exportação\",0,IF('Aferi (Variáveis)'!$C$12=\"Venda para Exportar\",0,IF('Aferi (Variáveis)'!$C$12=\"AO\",0,SUMIF('Custo Básico dos Produtos'!$A$7:$A$480,Q351,'Custo Básico dos Produtos'!$L$7:$L$480))))))","v":0},0,0,0,0,{"$f":"SUMIF('Cadastro de Produtos em Linha'!$A$6:$A$457,Q351,'Cadastro de Produtos em Linha'!$E$6:$E$457)*H351","v":0},{"$f":"IF(TODAY()<$AK$26,IF(A351<>\"\",SUMIF('Custo Básico dos Produtos'!$B$7:$B$457,A351,'Custo Básico dos Produtos'!$A$7:$A$457),0),0)","v":0},{"$f":"IF('Aferi (Variáveis)'!$C$12=\"Venda para Exportar\",0,IF('Aferi (Variáveis)'!$C$12=\"ALC\",0,IF('Aferi (Variáveis)'!$C$12=\"ZFM\",0,IF('Aferi (Variáveis)'!$C$12=\"Exportação\",0,IF('Aferi (Variáveis)'!$C$12=\"AO\",0,E351/(100+(0*'Aferi (Variáveis)'!$K$12/100))*100*K351%/100*'Aferi (Variáveis)'!$K$12)))))","v":0},0,{"$f":"(E351*'Aferi (Variáveis)'!$K$12/100)","v":0},0,{"$f":"IF('Aferi (Variáveis)'!$F$20=\"Venda para Exportar\",0,IF('Aferi (Variáveis)'!$F$20=\"ALC\",0,IF('Aferi (Variáveis)'!$F$20=\"ZFM\",0,IF('Aferi (Variáveis)'!$F$20=\"Exportação\",0,IF('Aferi (Variáveis)'!$F$20=\"AO\",7*T351/100,T351*'Aferi (Variáveis)'!$F$20/100)))))","v":0},0,{"$f":"IF('Aferi (Variáveis)'!$C$12=\"ZFM\",0,IF('Aferi (Variáveis)'!$C$12=\"Exportação\",0,3*T351/100))","v":0},{"$f":"IF('Aferi (Variáveis)'!$C$12=\"ZFM\",0,IF('Aferi (Variáveis)'!$C$12=\"Exportação\",0,0.65*T351/100))","v":0},0,0,0,0,0,0,0,0,0,{"$f":"SUMIF('Custo Básico dos Produtos'!$B$7:$B$480,A351,'Custo Básico dos Produtos'!$K$7:$K$480)","v":0},null,null,0,0,0,0,0,0]
[null,{"$f":"IF(Q352<>0,VLOOKUP(Q352,'Custo Básico dos Produtos'!$A$7:$J$480,3),\"\")","v":""},null,{"$f":"SUMIF('Custo Básico dos Produtos'!$A$7:$A$480,Q352,'Custo Básico dos Produtos'!$J$7:$J$480)","v":0},0,0,{"$f":"IF(B352=\"\",0,SUMIF('Cadastro de Produtos em Linha'!$B$7:$B$457,A352,'Cadastro de Produtos em Linha'!$D$7:$D$457))","v":0},null,0,0,{"$f":"IF('Aferi (Variáveis)'!$C$12=\"ALC\",0,IF('Aferi (Variáveis)'!$C$12=\"ZFM\",0,IF('Aferi (Variáveis)'!$C$12=\"Exportação\",0,IF('Aferi (Variáveis)'!$C$12=\"Venda para Exportar\",0,IF('Aferi (Variáveis)'!$C$12=\"AO\",0,SUMIF('Custo Básico dos Produtos'!$A$7:$A$480,Q352,'Custo Básico dos Produtos'!$L$7:$L$480))))))","v":0},0,0,0,0,{"$f":"SUMIF('Cadastro de Produtos em Linha'!$A$6:$A$457,Q352,'Cadastro de Produtos em Linha'!$E$6:$E$457)*H352","v":0},{"$f":"IF(TODAY()<$AK$26,IF(A352<>\"\",SUMIF('Custo Básico dos Produtos'!$B$7:$B$457,A352,'Custo Básico dos Produtos'!$A$7:$A$457),0),0)","v":0},{"$f":"IF('Aferi (Variáveis)'!$C$12=\"Venda para Exportar\",0,IF('Aferi (Variáveis)'!$C$12=\"ALC\",0,IF('Aferi (Variáveis)'!$C$12=\"ZFM\",0,IF('Aferi (Variáveis)'!$C$12=\"Exportação\",0,IF('Aferi (Variáveis)'!$C$12=\"AO\",0,E352/(100+(0*'Aferi (Variáveis)'!$K$12/100))*100*K352%/100*'Aferi (Variáveis)'!$K$12)))))","v":0},0,{"$f":"(E352*'Aferi (Variáveis)'!$K$12/100)","v":0},0,{"$f":"IF('Aferi (Variáveis)'!$F$20=\"Venda para Exportar\",0,IF('Aferi (Variáveis)'!$F$20=\"ALC\",0,IF('Aferi (Variáveis)'!$F$20=\"ZFM\",0,IF('Aferi (Variáveis)'!$F$20=\"Exportação\",0,IF('Aferi (Variáveis)'!$F$20=\"AO\",7*T352/100,T352*'Aferi (Variáveis)'!$F$20/100)))))","v":0},0,{"$f":"IF('Aferi (Variáveis)'!$C$12=\"ZFM\",0,IF('Aferi (Variáveis)'!$C$12=\"Exportação\",0,3*T352/100))","v":0},{"$f":"IF('Aferi (Variáveis)'!$C$12=\"ZFM\",0,IF('Aferi (Variáveis)'!$C$12=\"Exportação\",0,0.65*T352/100))","v":0},0,0,0,0,0,0,0,0,0,{"$f":"SUMIF('Custo Básico dos Produtos'!$B$7:$B$480,A352,'Custo Básico dos Produtos'!$K$7:$K$480)","v":0},null,null,0,0,0,0,0,0]
[null,{"$f":"IF(Q353<>0,VLOOKUP(Q353,'Custo Básico dos Produtos'!$A$7:$J$480,3),\"\")","v":""},null,{"$f":"SUMIF('Custo Básico dos Produtos'!$A$7:$A$480,Q353,'Custo Básico dos Produtos'!$J$7:$J$480)","v":0},0,0,{"$f":"IF(B353=\"\",0,SUMIF('Cadastro de Produtos em Linha'!$B$7:$B$457,A353,'Cadastro de Produtos em Linha'!$D$7:$D$457))","v":0},null,0,0,{"$f":"IF('Aferi (Variáveis)'!$C$12=\"ALC\",0,IF('Aferi (Variáveis)'!$C$12=\"ZFM\",0,IF('Aferi (Variáveis)'!$C$12=\"Exportação\",0,IF('Aferi (Variáveis)'!$C$12=\"Venda para Exportar\",0,IF('Aferi (Variáveis)'!$C$12=\"AO\",0,SUMIF('Custo Básico dos Produtos'!$A$7:$A$480,Q353,'Custo Básico dos Produtos'!$L$7:$L$480))))))","v":0},0,0,0,0,{"$f":"SUMIF('Cadastro de Produtos em Linha'!$A$6:$A$457,Q353,'Cadastro de Produtos em Linha'!$E$6:$E$457)*H353","v":0},{"$f":"IF(TODAY()<$AK$26,IF(A353<>\"\",SUMIF('Custo Básico dos Produtos'!$B$7:$B$457,A353,'Custo Básico dos Produtos'!$A$7:$A$457),0),0)","v":0},{"$f":"IF('Aferi (Variáveis)'!$C$12=\"Venda para Exportar\",0,IF('Aferi (Variáveis)'!$C$12=\"ALC\",0,IF('Aferi (Variáveis)'!$C$12=\"ZFM\",0,IF('Aferi (Variáveis)'!$C$12=\"Exportação\",0,IF('Aferi (Variáveis)'!$C$12=\"AO\",0,E353/(100+(0*'Aferi (Variáveis)'!$K$12/100))*100*K353%/100*'Aferi (Variáveis)'!$K$12)))))","v":0},0,{"$f":"(E353*'Aferi (Variáveis)'!$K$12/100)","v":0},0,{"$f":"IF('Aferi (Variáveis)'!$F$20=\"Venda para Exportar\",0,IF('Aferi (Variáveis)'!$F$20=\"ALC\",0,IF('Aferi (Variáveis)'!$F$20=\"ZFM\",0,IF('Aferi (Variáveis)'!$F$20=\"Exportação\",0,IF('Aferi (Variáveis)'!$F$20=\"AO\",7*T353/100,T353*'Aferi (Variáveis)'!$F$20/100)))))","v":0},0,{"$f":"IF('Aferi (Variáveis)'!$C$12=\"ZFM\",0,IF('Aferi (Variáveis)'!$C$12=\"Exportação\",0,3*T353/100))","v":0},{"$f":"IF('Aferi (Variáveis)'!$C$12=\"ZFM\",0,IF('Aferi (Variáveis)'!$C$12=\"Exportação\",0,0.65*T353/100))","v":0},0,0,0,0,0,0,0,0,0,{"$f":"SUMIF('Custo Básico dos Produtos'!$B$7:$B$480,A353,'Custo Básico dos Produtos'!$K$7:$K$480)","v":0},null,null,0,0,0,0,0,0]
[null,{"$f":"IF(Q354<>0,VLOOKUP(Q354,'Custo Básico dos Produtos'!$A$7:$J$480,3),\"\")","v":""},null,{"$f":"SUMIF('Custo Básico dos Produtos'!$A$7:$A$480,Q354,'Custo Básico dos Produtos'!$J$7:$J$480)","v":0},0,0,{"$f":"IF(B354=\"\",0,SUMIF('Cadastro de Produtos em Linha'!$B$7:$B$457,A354,'Cadastro de Produtos em Linha'!$D$7:$D$457))","v":0},null,0,0,{"$f":"IF('Aferi (Variáveis)'!$C$12=\"ALC\",0,IF('Aferi (Variáveis)'!$C$12=\"ZFM\",0,IF('Aferi (Variáveis)'!$C$12=\"Exportação\",0,IF('Aferi (Variáveis)'!$C$12=\"Venda para Exportar\",0,IF('Aferi (Variáveis)'!$C$12=\"AO\",0,SUMIF('Custo Básico dos Produtos'!$A$7:$A$480,Q354,'Custo Básico dos Produtos'!$L$7:$L$480))))))","v":0},0,0,0,0,{"$f":"SUMIF('Cadastro de Produtos em Linha'!$A$6:$A$457,Q354,'Cadastro de Produtos em Linha'!$E$6:$E$457)*H354","v":0},{"$f":"IF(TODAY()<$AK$26,IF(A354<>\"\",SUMIF('Custo Básico dos Produtos'!$B$7:$B$457,A354,'Custo Básico dos Produtos'!$A$7:$A$457),0),0)","v":0},{"$f":"IF('Aferi (Variáveis)'!$C$12=\"Venda para Exportar\",0,IF('Aferi (Variáveis)'!$C$12=\"ALC\",0,IF('Aferi (Variáveis)'!$C$12=\"ZFM\",0,IF('Aferi (Variáveis)'!$C$12=\"Exportação\",0,IF('Aferi (Variáveis)'!$C$12=\"AO\",0,E354/(100+(0*'Aferi (Variáveis)'!$K$12/100))*100*K354%/100*'Aferi (Variáveis)'!$K$12)))))","v":0},0,{"$f":"(E354*'Aferi (Variáveis)'!$K$12/100)","v":0},0,{"$f":"IF('Aferi (Variáveis)'!$F$20=\"Venda para Exportar\",0,IF('Aferi (Variáveis)'!$F$20=\"ALC\",0,IF('Aferi (Variáveis)'!$F$20=\"ZFM\",0,IF('Aferi (Variáveis)'!$F$20=\"Exportação\",0,IF('Aferi (Variáveis)'!$F$20=\"AO\",7*T354/100,T354*'Aferi (Variáveis)'!$F$20/100)))))","v":0},0,{"$f":"IF('Aferi (Variáveis)'!$C$12=\"ZFM\",0,IF('Aferi (Variáveis)'!$C$12=\"Exportação\",0,3*T354/100))","v":0},{"$f":"IF('Aferi (Variáveis)'!$C$12=\"ZFM\",0,IF('Aferi (Variáveis)'!$C$12=\"Exportação\",0,0.65*T354/100))","v":0},0,0,0,0,0,0,0,0,0,{"$f":"SUMIF('Custo Básico dos Produtos'!$B$7:$B$480,A354,'Custo Básico dos Produtos'!$K$7:$K$480)","v":0},null,null,0,0,0,0,0,0]
[null,{"$f":"IF(Q355<>0,VLOOKUP(Q355,'Custo Básico dos Produtos'!$A$7:$J$480,3),\"\")","v":""},null,{"$f":"SUMIF('Custo Básico dos Produtos'!$A$7:$A$480,Q355,'Custo Básico dos Produtos'!$J$7:$J$480)","v":0},0,0,{"$f":"IF(B355=\"\",0,SUMIF('Cadastro de Produtos em Linha'!$B$7:$B$457,A355,'Cadastro de Produtos em Linha'!$D$7:$D$457))","v":0},null,{"$f":"IF(F355=\"\",0,IF(F355>=AI355,G355*H355,0))","v":0},{"$f":"IF(F355=\"\",0,I355*E355)","v":0},{"$f":"IF('Aferi (Variáveis)'!$C$12=\"ALC\",0,IF('Aferi (Variáveis)'!$C$12=\"ZFM\",0,IF('Aferi (Variáveis)'!$C$12=\"Exportação\",0,IF('Aferi (Variáveis)'!$C$12=\"Venda para Exportar\",0,IF('Aferi (Variáveis)'!$C$12=\"AO\",0,SUMIF('Custo Básico dos Produtos'!$A$7:$A$480,Q355,'Custo Básico dos Produtos'!$L$7:$L$480))))))","v":0},{"$f":"J355+M355","v":0},{"$f":"S355","v":0},{"$f":"J355+M355","v":0},0,{"$f":"SUMIF('Cadastro de Produtos em Linha'!$A$6:$A$457,Q355,'Cadastro de Produtos em Linha'!$E$6:$E$457)*H355","v":0},{"$f":"IF(TODAY()<$AK$26,IF(A355<>\"\",SUMIF('Custo Básico dos Produtos'!$B$7:$B$457,A355,'Custo Básico dos Produtos'!$A$7:$A$457),0),0)","v":0},{"$f":"IF('Aferi (Variáveis)'!$C$12=\"Venda para Exportar\",0,IF('Aferi (Variáveis)'!$C$12=\"ALC\",0,IF('Aferi (Variáveis)'!$C$12=\"ZFM\",0,IF('Aferi (Variáveis)'!$C$12=\"Exportação\",0,IF('Aferi (Variáveis)'!$C$12=\"AO\",0,E355/(100+(0*'Aferi (Variáveis)'!$K$12/100))*100*K355%/100*'Aferi (Variáveis)'!$K$12)))))","v":0},0,{"$f":"(E355*'Aferi (Variáveis)'!$K$12/100)","v":0},0,{"$f":"IF('Aferi (Variáveis)'!$F$20=\"Venda para Exportar\",0,IF('Aferi (Variáveis)'!$F$20=\"ALC\",0,IF('Aferi (Variáveis)'!$F$20=\"ZFM\",0,IF('Aferi (Variáveis)'!$F$20=\"Exportação\",0,IF('Aferi (Variáveis)'!$F$20=\"AO\",7*T355/100,T355*'Aferi (Variáveis)'!$F$20/100)))))","v":0},0,{"$f":"IF('Aferi (Variáveis)'!$C$12=\"ZFM\",0,IF('Aferi (Variáveis)'!$C$12=\"Exportação\",0,3*T355/100))","v":0},{"$f":"IF('Aferi (Variáveis)'!$C$12=\"ZFM\",0,IF('Aferi (Variáveis)'!$C$12=\"Exportação\",0,0.65*T355/100))","v":0},0,0,0,0,0,0,0,0,0,{"$f":"SUMIF('Custo Básico dos Produtos'!$B$7:$B$480,A355,'Custo Básico dos Produtos'!$K$7:$K$480)","v":0},null,null,0,0,0,0,0,0]
[null,{"$f":"IF(Q356<>0,VLOOKUP(Q356,'Custo Básico dos Produtos'!$A$7:$J$480,3),\"\")","v":""},null,{"$f":"SUMIF('Custo Básico dos Produtos'!$A$7:$A$480,Q356,'Custo Básico dos Produtos'!$J$7:$J$480)","v":0},0,0,{"$f":"IF(B356=\"\",0,SUMIF('Cadastro de Produtos em Linha'!$B$7:$B$457,A356,'Cadastro de Produtos em Linha'!$D$7:$D$457))","v":0},null,0,0,{"$f":"IF('Aferi (Variáveis)'!$C$12=\"ALC\",0,IF('Aferi (Variáveis)'!$C$12=\"ZFM\",0,IF('Aferi (Variáveis)'!$C$12=\"Exportação\",0,IF('Aferi (Variáveis)'!$C$12=\"Venda para Exportar\",0,IF('Aferi (Variáveis)'!$C$12=\"AO\",0,SUMIF('Custo Básico dos Produtos'!$A$7:$A$480,Q356,'Custo Básico dos Produtos'!$L$7:$L$480))))))","v":0},0,0,0,0,{"$f":"SUMIF('Cadastro de Produtos em Linha'!$A$6:$A$457,Q356,'Cadastro de Produtos em Linha'!$E$6:$E$457)*H356","v":0},{"$f":"IF(TODAY()<$AK$26,IF(A356<>\"\",SUMIF('Custo Básico dos Produtos'!$B$7:$B$457,A356,'Custo Básico dos Produtos'!$A$7:$A$457),0),0)","v":0},{"$f":"IF('Aferi (Variáveis)'!$C$12=\"Venda para Exportar\",0,IF('Aferi (Variáveis)'!$C$12=\"ALC\",0,IF('Aferi (Variáveis)'!$C$12=\"ZFM\",0,IF('Aferi (Variáveis)'!$C$12=\"Exportação\",0,IF('Aferi (Variáveis)'!$C$12=\"AO\",0,E356/(100+(0*'Aferi (Variáveis)'!$K$12/100))*100*K356%/100*'Aferi (Variáveis)'!$K$12)))))","v":0},0,{"$f":"(E356*'Aferi (Variáveis)'!$K$12/100)","v":0},0,{"$f":"IF('Aferi (Variáveis)'!$F$20=\"Venda para Exportar\",0,IF('Aferi (Variáveis)'!$F$20=\"ALC\",0,IF('Aferi (Variáveis)'!$F$20=\"ZFM\",0,IF('Aferi (Variáveis)'!$F$20=\"Exportação\",0,IF('Aferi (Variáveis)'!$F$20=\"AO\",7*T356/100,T356*'Aferi (Variáveis)'!$F$20/100)))))","v":0},0,{"$f":"IF('Aferi (Variáveis)'!$C$12=\"ZFM\",0,IF('Aferi (Variáveis)'!$C$12=\"Exportação\",0,3*T356/100))","v":0},{"$f":"IF('Aferi (Variáveis)'!$C$12=\"ZFM\",0,IF('Aferi (Variáveis)'!$C$12=\"Exportação\",0,0.65*T356/100))","v":0},0,0,0,0,0,0,0,0,0,{"$f":"SUMIF('Custo Básico dos Produtos'!$B$7:$B$480,A356,'Custo Básico dos Produtos'!$K$7:$K$480)","v":0},null,null,0,0,0,0,0,0]
[null,{"$f":"IF(Q357<>0,VLOOKUP(Q357,'Custo Básico dos Produtos'!$A$7:$J$480,3),\"\")","v":""},null,{"$f":"SUMIF('Custo Básico dos Produtos'!$A$7:$A$480,Q357,'Custo Básico dos Produtos'!$J$7:$J$480)","v":0},0,0,{"$f":"IF(B357=\"\",0,SUMIF('Cadastro de Produtos em Linha'!$B$7:$B$457,A357,'Cadastro de Produtos em Linha'!$D$7:$D$457))","v":0},null,0,0,{"$f":"IF('Aferi (Variáveis)'!$C$12=\"ALC\",0,IF('Aferi (Variáveis)'!$C$12=\"ZFM\",0,IF('Aferi (Variáveis)'!$C$12=\"Exportação\",0,IF('Aferi (Variáveis)'!$C$12=\"Venda para Exportar\",0,IF('Aferi (Variáveis)'!$C$12=\"AO\",0,SUMIF('Custo Básico dos Produtos'!$A$7:$A$480,Q357,'Custo Básico dos Produtos'!$L$7:$L$480))))))","v":0},0,0,0,0,{"$f":"SUMIF('Cadastro de Produtos em Linha'!$A$6:$A$457,Q357,'Cadastro de Produtos em Linha'!$E$6:$E$457)*H357","v":0},{"$f":"IF(TODAY()<$AK$26,IF(A357<>\"\",SUMIF('Custo Básico dos Produtos'!$B$7:$B$457,A357,'Custo Básico dos Produtos'!$A$7:$A$457),0),0)","v":0},{"$f":"IF('Aferi (Variáveis)'!$C$12=\"Venda para Exportar\",0,IF('Aferi (Variáveis)'!$C$12=\"ALC\",0,IF('Aferi (Variáveis)'!$C$12=\"ZFM\",0,IF('Aferi (Variáveis)'!$C$12=\"Exportação\",0,IF('Aferi (Variáveis)'!$C$12=\"AO\",0,E357/(100+(0*'Aferi (Variáveis)'!$K$12/100))*100*K357%/100*'Aferi (Variáveis)'!$K$12)))))","v":0},0,{"$f":"(E357*'Aferi (Variáveis)'!$K$12/100)","v":0},0,{"$f":"IF('Aferi (Variáveis)'!$F$20=\"Venda para Exportar\",0,IF('Aferi (Variáveis)'!$F$20=\"ALC\",0,IF('Aferi (Variáveis)'!$F$20=\"ZFM\",0,IF('Aferi (Variáveis)'!$F$20=\"Exportação\",0,IF('Aferi (Variáveis)'!$F$20=\"AO\",7*T357/100,T357*'Aferi (Variáveis)'!$F$20/100)))))","v":0},0,{"$f":"IF('Aferi (Variáveis)'!$C$12=\"ZFM\",0,IF('Aferi (Variáveis)'!$C$12=\"Exportação\",0,3*T357/100))","v":0},{"$f":"IF('Aferi (Variáveis)'!$C$12=\"ZFM\",0,IF('Aferi (Variáveis)'!$C$12=\"Exportação\",0,0.65*T357/100))","v":0},0,0,0,0,0,0,0,0,0,{"$f":"SUMIF('Custo Básico dos Produtos'!$B$7:$B$480,A357,'Custo Básico dos Produtos'!$K$7:$K$480)","v":0},null,null,0,0,0,0,0,0]
[null,{"$f":"IF(Q358<>0,VLOOKUP(Q358,'Custo Básico dos Produtos'!$A$7:$J$480,3),\"\")","v":""},null,{"$f":"SUMIF('Custo Básico dos Produtos'!$A$7:$A$480,Q358,'Custo Básico dos Produtos'!$J$7:$J$480)","v":0},0,0,{"$f":"IF(B358=\"\",0,SUMIF('Cadastro de Produtos em Linha'!$B$7:$B$457,A358,'Cadastro de Produtos em Linha'!$D$7:$D$457))","v":0},null,0,0,{"$f":"IF('Aferi (Variáveis)'!$C$12=\"ALC\",0,IF('Aferi (Variáveis)'!$C$12=\"ZFM\",0,IF('Aferi (Variáveis)'!$C$12=\"Exportação\",0,IF('Aferi (Variáveis)'!$C$12=\"Venda para Exportar\",0,IF('Aferi (Variáveis)'!$C$12=\"AO\",0,SUMIF('Custo Básico dos Produtos'!$A$7:$A$480,Q358,'Custo Básico dos Produtos'!$L$7:$L$480))))))","v":0},0,0,0,0,{"$f":"SUMIF('Cadastro de Produtos em Linha'!$A$6:$A$457,Q358,'Cadastro de Produtos em Linha'!$E$6:$E$457)*H358","v":0},{"$f":"IF(TODAY()<$AK$26,IF(A358<>\"\",SUMIF('Custo Básico dos Produtos'!$B$7:$B$457,A358,'Custo Básico dos Produtos'!$A$7:$A$457),0),0)","v":0},{"$f":"IF('Aferi (Variáveis)'!$C$12=\"Venda para Exportar\",0,IF('Aferi (Variáveis)'!$C$12=\"ALC\",0,IF('Aferi (Variáveis)'!$C$12=\"ZFM\",0,IF('Aferi (Variáveis)'!$C$12=\"Exportação\",0,IF('Aferi (Variáveis)'!$C$12=\"AO\",0,E358/(100+(0*'Aferi (Variáveis)'!$K$12/100))*100*K358%/100*'Aferi (Variáveis)'!$K$12)))))","v":0},0,{"$f":"(E358*'Aferi (Variáveis)'!$K$12/100)","v":0},0,{"$f":"IF('Aferi (Variáveis)'!$F$20=\"Venda para Exportar\",0,IF('Aferi (Variáveis)'!$F$20=\"ALC\",0,IF('Aferi (Variáveis)'!$F$20=\"ZFM\",0,IF('Aferi (Variáveis)'!$F$20=\"Exportação\",0,IF('Aferi (Variáveis)'!$F$20=\"AO\",7*T358/100,T358*'Aferi (Variáveis)'!$F$20/100)))))","v":0},0,{"$f":"IF('Aferi (Variáveis)'!$C$12=\"ZFM\",0,IF('Aferi (Variáveis)'!$C$12=\"Exportação\",0,3*T358/100))","v":0},{"$f":"IF('Aferi (Variáveis)'!$C$12=\"ZFM\",0,IF('Aferi (Variáveis)'!$C$12=\"Exportação\",0,0.65*T358/100))","v":0},0,0,0,0,0,0,0,0,0,{"$f":"SUMIF('Custo Básico dos Produtos'!$B$7:$B$480,A358,'Custo Básico dos Produtos'!$K$7:$K$480)","v":0},null,null,0,0,0,0,0,0]
[null,{"$f":"IF(Q359<>0,VLOOKUP(Q359,'Custo Básico dos Produtos'!$A$7:$J$480,3),\"\")","v":""},null,{"$f":"SUMIF('Custo Básico dos Produtos'!$A$7:$A$480,Q359,'Custo Básico dos Produtos'!$J$7:$J$480)","v":0},0,0,{"$f":"IF(B359=\"\",0,SUMIF('Cadastro de Produtos em Linha'!$B$7:$B$457,A359,'Cadastro de Produtos em Linha'!$D$7:$D$457))","v":0},null,0,0,{"$f":"IF('Aferi (Variáveis)'!$C$12=\"ALC\",0,IF('Aferi (Variáveis)'!$C$12=\"ZFM\",0,IF('Aferi (Variáveis)'!$C$12=\"Exportação\",0,IF('Aferi (Variáveis)'!$C$12=\"Venda para Exportar\",0,IF('Aferi (Variáveis)'!$C$12=\"AO\",0,SUMIF('Custo Básico dos Produtos'!$A$7:$A$480,Q359,'Custo Básico dos Produtos'!$L$7:$L$480))))))","v":0},0,0,0,0,{"$f":"SUMIF('Cadastro de Produtos em Linha'!$A$6:$A$457,Q359,'Cadastro de Produtos em Linha'!$E$6:$E$457)*H359","v":0},{"$f":"IF(TODAY()<$AK$26,IF(A359<>\"\",SUMIF('Custo Básico dos Produtos'!$B$7:$B$457,A359,'Custo Básico dos Produtos'!$A$7:$A$457),0),0)","v":0},{"$f":"IF('Aferi (Variáveis)'!$C$12=\"Venda para Exportar\",0,IF('Aferi (Variáveis)'!$C$12=\"ALC\",0,IF('Aferi (Variáveis)'!$C$12=\"ZFM\",0,IF('Aferi (Variáveis)'!$C$12=\"Exportação\",0,IF('Aferi (Variáveis)'!$C$12=\"AO\",0,E359/(100+(0*'Aferi (Variáveis)'!$K$12/100))*100*K359%/100*'Aferi (Variáveis)'!$K$12)))))","v":0},0,{"$f":"(E359*'Aferi (Variáveis)'!$K$12/100)","v":0},0,{"$f":"IF('Aferi (Variáveis)'!$F$20=\"Venda para Exportar\",0,IF('Aferi (Variáveis)'!$F$20=\"ALC\",0,IF('Aferi (Variáveis)'!$F$20=\"ZFM\",0,IF('Aferi (Variáveis)'!$F$20=\"Exportação\",0,IF('Aferi (Variáveis)'!$F$20=\"AO\",7*T359/100,T359*'Aferi (Variáveis)'!$F$20/100)))))","v":0},0,{"$f":"IF('Aferi (Variáveis)'!$C$12=\"ZFM\",0,IF('Aferi (Variáveis)'!$C$12=\"Exportação\",0,3*T359/100))","v":0},{"$f":"IF('Aferi (Variáveis)'!$C$12=\"ZFM\",0,IF('Aferi (Variáveis)'!$C$12=\"Exportação\",0,0.65*T359/100))","v":0},0,0,0,0,0,0,0,0,0,{"$f":"SUMIF('Custo Básico dos Produtos'!$B$7:$B$480,A359,'Custo Básico dos Produtos'!$K$7:$K$480)","v":0},null,null,0,0,0,0,0,0]
[null,{"$f":"IF(Q360<>0,VLOOKUP(Q360,'Custo Básico dos Produtos'!$A$7:$J$480,3),\"\")","v":""},null,{"$f":"SUMIF('Custo Básico dos Produtos'!$A$7:$A$480,Q360,'Custo Básico dos Produtos'!$J$7:$J$480)","v":0},0,0,{"$f":"IF(B360=\"\",0,SUMIF('Cadastro de Produtos em Linha'!$B$7:$B$457,A360,'Cadastro de Produtos em Linha'!$D$7:$D$457))","v":0},null,0,0,{"$f":"IF('Aferi (Variáveis)'!$C$12=\"ALC\",0,IF('Aferi (Variáveis)'!$C$12=\"ZFM\",0,IF('Aferi (Variáveis)'!$C$12=\"Exportação\",0,IF('Aferi (Variáveis)'!$C$12=\"Venda para Exportar\",0,IF('Aferi (Variáveis)'!$C$12=\"AO\",0,SUMIF('Custo Básico dos Produtos'!$A$7:$A$480,Q360,'Custo Básico dos Produtos'!$L$7:$L$480))))))","v":0},0,0,0,0,{"$f":"SUMIF('Cadastro de Produtos em Linha'!$A$6:$A$457,Q360,'Cadastro de Produtos em Linha'!$E$6:$E$457)*H360","v":0},{"$f":"IF(TODAY()<$AK$26,IF(A360<>\"\",SUMIF('Custo Básico dos Produtos'!$B$7:$B$457,A360,'Custo Básico dos Produtos'!$A$7:$A$457),0),0)","v":0},{"$f":"IF('Aferi (Variáveis)'!$C$12=\"Venda para Exportar\",0,IF('Aferi (Variáveis)'!$C$12=\"ALC\",0,IF('Aferi (Variáveis)'!$C$12=\"ZFM\",0,IF('Aferi (Variáveis)'!$C$12=\"Exportação\",0,IF('Aferi (Variáveis)'!$C$12=\"AO\",0,E360/(100+(0*'Aferi (Variáveis)'!$K$12/100))*100*K360%/100*'Aferi (Variáveis)'!$K$12)))))","v":0},0,{"$f":"(E360*'Aferi (Variáveis)'!$K$12/100)","v":0},0,{"$f":"IF('Aferi (Variáveis)'!$F$20=\"Venda para Exportar\",0,IF('Aferi (Variáveis)'!$F$20=\"ALC\",0,IF('Aferi (Variáveis)'!$F$20=\"ZFM\",0,IF('Aferi (Variáveis)'!$F$20=\"Exportação\",0,IF('Aferi (Variáveis)'!$F$20=\"AO\",7*T360/100,T360*'Aferi (Variáveis)'!$F$20/100)))))","v":0},0,{"$f":"IF('Aferi (Variáveis)'!$C$12=\"ZFM\",0,IF('Aferi (Variáveis)'!$C$12=\"Exportação\",0,3*T360/100))","v":0},{"$f":"IF('Aferi (Variáveis)'!$C$12=\"ZFM\",0,IF('Aferi (Variáveis)'!$C$12=\"Exportação\",0,0.65*T360/100))","v":0},0,0,0,0,0,0,0,0,0,{"$f":"SUMIF('Custo Básico dos Produtos'!$B$7:$B$480,A360,'Custo Básico dos Produtos'!$K$7:$K$480)","v":0},null,null,0,0,0,0,0,0]
[null,{"$f":"IF(Q361<>0,VLOOKUP(Q361,'Custo Básico dos Produtos'!$A$7:$J$480,3),\"\")","v":""},null,{"$f":"SUMIF('Custo Básico dos Produtos'!$A$7:$A$480,Q361,'Custo Básico dos Produtos'!$J$7:$J$480)","v":0},0,0,{"$f":"IF(B361=\"\",0,SUMIF('Cadastro de Produtos em Linha'!$B$7:$B$457,A361,'Cadastro de Produtos em Linha'!$D$7:$D$457))","v":0},null,0,0,{"$f":"IF('Aferi (Variáveis)'!$C$12=\"ALC\",0,IF('Aferi (Variáveis)'!$C$12=\"ZFM\",0,IF('Aferi (Variáveis)'!$C$12=\"Exportação\",0,IF('Aferi (Variáveis)'!$C$12=\"Venda para Exportar\",0,IF('Aferi (Variáveis)'!$C$12=\"AO\",0,SUMIF('Custo Básico dos Produtos'!$A$7:$A$480,Q361,'Custo Básico dos Produtos'!$L$7:$L$480))))))","v":0},0,0,0,0,{"$f":"SUMIF('Cadastro de Produtos em Linha'!$A$6:$A$457,Q361,'Cadastro de Produtos em Linha'!$E$6:$E$457)*H361","v":0},{"$f":"IF(TODAY()<$AK$26,IF(A361<>\"\",SUMIF('Custo Básico dos Produtos'!$B$7:$B$457,A361,'Custo Básico dos Produtos'!$A$7:$A$457),0),0)","v":0},{"$f":"IF('Aferi (Variáveis)'!$C$12=\"Venda para Exportar\",0,IF('Aferi (Variáveis)'!$C$12=\"ALC\",0,IF('Aferi (Variáveis)'!$C$12=\"ZFM\",0,IF('Aferi (Variáveis)'!$C$12=\"Exportação\",0,IF('Aferi (Variáveis)'!$C$12=\"AO\",0,E361/(100+(0*'Aferi (Variáveis)'!$K$12/100))*100*K361%/100*'Aferi (Variáveis)'!$K$12)))))","v":0},0,{"$f":"(E361*'Aferi (Variáveis)'!$K$12/100)","v":0},0,{"$f":"IF('Aferi (Variáveis)'!$F$20=\"Venda para Exportar\",0,IF('Aferi (Variáveis)'!$F$20=\"ALC\",0,IF('Aferi (Variáveis)'!$F$20=\"ZFM\",0,IF('Aferi (Variáveis)'!$F$20=\"Exportação\",0,IF('Aferi (Variáveis)'!$F$20=\"AO\",7*T361/100,T361*'Aferi (Variáveis)'!$F$20/100)))))","v":0},0,{"$f":"IF('Aferi (Variáveis)'!$C$12=\"ZFM\",0,IF('Aferi (Variáveis)'!$C$12=\"Exportação\",0,3*T361/100))","v":0},{"$f":"IF('Aferi (Variáveis)'!$C$12=\"ZFM\",0,IF('Aferi (Variáveis)'!$C$12=\"Exportação\",0,0.65*T361/100))","v":0},0,0,0,0,0,0,0,0,0,{"$f":"SUMIF('Custo Básico dos Produtos'!$B$7:$B$480,A361,'Custo Básico dos Produtos'!$K$7:$K$480)","v":0},null,null,0,0,0,0,0,0]
[null,{"$f":"IF(Q362<>0,VLOOKUP(Q362,'Custo Básico dos Produtos'!$A$7:$J$480,3),\"\")","v":""},null,{"$f":"SUMIF('Custo Básico dos Produtos'!$A$7:$A$480,Q362,'Custo Básico dos Produtos'!$J$7:$J$480)","v":0},0,0,{"$f":"IF(B362=\"\",0,SUMIF('Cadastro de Produtos em Linha'!$B$7:$B$457,A362,'Cadastro de Produtos em Linha'!$D$7:$D$457))","v":0},null,0,0,{"$f":"IF('Aferi (Variáveis)'!$C$12=\"ALC\",0,IF('Aferi (Variáveis)'!$C$12=\"ZFM\",0,IF('Aferi (Variáveis)'!$C$12=\"Exportação\",0,IF('Aferi (Variáveis)'!$C$12=\"Venda para Exportar\",0,IF('Aferi (Variáveis)'!$C$12=\"AO\",0,SUMIF('Custo Básico dos Produtos'!$A$7:$A$480,Q362,'Custo Básico dos Produtos'!$L$7:$L$480))))))","v":0},0,0,0,0,{"$f":"SUMIF('Cadastro de Produtos em Linha'!$A$6:$A$457,Q362,'Cadastro de Produtos em Linha'!$E$6:$E$457)*H362","v":0},{"$f":"IF(TODAY()<$AK$26,IF(A362<>\"\",SUMIF('Custo Básico dos Produtos'!$B$7:$B$457,A362,'Custo Básico dos Produtos'!$A$7:$A$457),0),0)","v":0},{"$f":"IF('Aferi (Variáveis)'!$C$12=\"Venda para Exportar\",0,IF('Aferi (Variáveis)'!$C$12=\"ALC\",0,IF('Aferi (Variáveis)'!$C$12=\"ZFM\",0,IF('Aferi (Variáveis)'!$C$12=\"Exportação\",0,IF('Aferi (Variáveis)'!$C$12=\"AO\",0,E362/(100+(0*'Aferi (Variáveis)'!$K$12/100))*100*K362%/100*'Aferi (Variáveis)'!$K$12)))))","v":0},0,{"$f":"(E362*'Aferi (Variáveis)'!$K$12/100)","v":0},0,{"$f":"IF('Aferi (Variáveis)'!$F$20=\"Venda para Exportar\",0,IF('Aferi (Variáveis)'!$F$20=\"ALC\",0,IF('Aferi (Variáveis)'!$F$20=\"ZFM\",0,IF('Aferi (Variáveis)'!$F$20=\"Exportação\",0,IF('Aferi (Variáveis)'!$F$20=\"AO\",7*T362/100,T362*'Aferi (Variáveis)'!$F$20/100)))))","v":0},0,{"$f":"IF('Aferi (Variáveis)'!$C$12=\"ZFM\",0,IF('Aferi (Variáveis)'!$C$12=\"Exportação\",0,3*T362/100))","v":0},{"$f":"IF('Aferi (Variáveis)'!$C$12=\"ZFM\",0,IF('Aferi (Variáveis)'!$C$12=\"Exportação\",0,0.65*T362/100))","v":0},0,0,0,0,0,0,0,0,0,{"$f":"SUMIF('Custo Básico dos Produtos'!$B$7:$B$480,A362,'Custo Básico dos Produtos'!$K$7:$K$480)","v":0},null,null,0,0,0,0,0,0]
[null,{"$f":"IF(Q363<>0,VLOOKUP(Q363,'Custo Básico dos Produtos'!$A$7:$J$480,3),\"\")","v":""},null,{"$f":"SUMIF('Custo Básico dos Produtos'!$A$7:$A$480,Q363,'Custo Básico dos Produtos'!$J$7:$J$480)","v":0},0,0,{"$f":"IF(B363=\"\",0,SUMIF('Cadastro de Produtos em Linha'!$B$7:$B$457,A363,'Cadastro de Produtos em Linha'!$D$7:$D$457))","v":0},null,0,0,{"$f":"IF('Aferi (Variáveis)'!$C$12=\"ALC\",0,IF('Aferi (Variáveis)'!$C$12=\"ZFM\",0,IF('Aferi (Variáveis)'!$C$12=\"Exportação\",0,IF('Aferi (Variáveis)'!$C$12=\"Venda para Exportar\",0,IF('Aferi (Variáveis)'!$C$12=\"AO\",0,SUMIF('Custo Básico dos Produtos'!$A$7:$A$480,Q363,'Custo Básico dos Produtos'!$L$7:$L$480))))))","v":0},0,0,0,0,{"$f":"SUMIF('Cadastro de Produtos em Linha'!$A$6:$A$457,Q363,'Cadastro de Produtos em Linha'!$E$6:$E$457)*H363","v":0},{"$f":"IF(TODAY()<$AK$26,IF(A363<>\"\",SUMIF('Custo Básico dos Produtos'!$B$7:$B$457,A363,'Custo Básico dos Produtos'!$A$7:$A$457),0),0)","v":0},{"$f":"IF('Aferi (Variáveis)'!$C$12=\"Venda para Exportar\",0,IF('Aferi (Variáveis)'!$C$12=\"ALC\",0,IF('Aferi (Variáveis)'!$C$12=\"ZFM\",0,IF('Aferi (Variáveis)'!$C$12=\"Exportação\",0,IF('Aferi (Variáveis)'!$C$12=\"AO\",0,E363/(100+(0*'Aferi (Variáveis)'!$K$12/100))*100*K363%/100*'Aferi (Variáveis)'!$K$12)))))","v":0},0,{"$f":"(E363*'Aferi (Variáveis)'!$K$12/100)","v":0},0,{"$f":"IF('Aferi (Variáveis)'!$F$20=\"Venda para Exportar\",0,IF('Aferi (Variáveis)'!$F$20=\"ALC\",0,IF('Aferi (Variáveis)'!$F$20=\"ZFM\",0,IF('Aferi (Variáveis)'!$F$20=\"Exportação\",0,IF('Aferi (Variáveis)'!$F$20=\"AO\",7*T363/100,T363*'Aferi (Variáveis)'!$F$20/100)))))","v":0},0,{"$f":"IF('Aferi (Variáveis)'!$C$12=\"ZFM\",0,IF('Aferi (Variáveis)'!$C$12=\"Exportação\",0,3*T363/100))","v":0},{"$f":"IF('Aferi (Variáveis)'!$C$12=\"ZFM\",0,IF('Aferi (Variáveis)'!$C$12=\"Exportação\",0,0.65*T363/100))","v":0},0,0,0,0,0,0,0,0,0,{"$f":"SUMIF('Custo Básico dos Produtos'!$B$7:$B$480,A363,'Custo Básico dos Produtos'!$K$7:$K$480)","v":0},null,null,0,0,0,0,0,0]
[null,{"$f":"IF(Q364<>0,VLOOKUP(Q364,'Custo Básico dos Produtos'!$A$7:$J$480,3),\"\")","v":""},null,{"$f":"SUMIF('Custo Básico dos Produtos'!$A$7:$A$480,Q364,'Custo Básico dos Produtos'!$J$7:$J$480)","v":0},0,0,{"$f":"IF(B364=\"\",0,SUMIF('Cadastro de Produtos em Linha'!$B$7:$B$457,A364,'Cadastro de Produtos em Linha'!$D$7:$D$457))","v":0},null,0,0,{"$f":"IF('Aferi (Variáveis)'!$C$12=\"ALC\",0,IF('Aferi (Variáveis)'!$C$12=\"ZFM\",0,IF('Aferi (Variáveis)'!$C$12=\"Exportação\",0,IF('Aferi (Variáveis)'!$C$12=\"Venda para Exportar\",0,IF('Aferi (Variáveis)'!$C$12=\"AO\",0,SUMIF('Custo Básico dos Produtos'!$A$7:$A$480,Q364,'Custo Básico dos Produtos'!$L$7:$L$480))))))","v":0},0,0,0,0,{"$f":"SUMIF('Cadastro de Produtos em Linha'!$A$6:$A$457,Q364,'Cadastro de Produtos em Linha'!$E$6:$E$457)*H364","v":0},{"$f":"IF(TODAY()<$AK$26,IF(A364<>\"\",SUMIF('Custo Básico dos Produtos'!$B$7:$B$457,A364,'Custo Básico dos Produtos'!$A$7:$A$457),0),0)","v":0},{"$f":"IF('Aferi (Variáveis)'!$C$12=\"Venda para Exportar\",0,IF('Aferi (Variáveis)'!$C$12=\"ALC\",0,IF('Aferi (Variáveis)'!$C$12=\"ZFM\",0,IF('Aferi (Variáveis)'!$C$12=\"Exportação\",0,IF('Aferi (Variáveis)'!$C$12=\"AO\",0,E364/(100+(0*'Aferi (Variáveis)'!$K$12/100))*100*K364%/100*'Aferi (Variáveis)'!$K$12)))))","v":0},0,{"$f":"(E364*'Aferi (Variáveis)'!$K$12/100)","v":0},0,{"$f":"IF('Aferi (Variáveis)'!$F$20=\"Venda para Exportar\",0,IF('Aferi (Variáveis)'!$F$20=\"ALC\",0,IF('Aferi (Variáveis)'!$F$20=\"ZFM\",0,IF('Aferi (Variáveis)'!$F$20=\"Exportação\",0,IF('Aferi (Variáveis)'!$F$20=\"AO\",7*T364/100,T364*'Aferi (Variáveis)'!$F$20/100)))))","v":0},0,{"$f":"IF('Aferi (Variáveis)'!$C$12=\"ZFM\",0,IF('Aferi (Variáveis)'!$C$12=\"Exportação\",0,3*T364/100))","v":0},{"$f":"IF('Aferi (Variáveis)'!$C$12=\"ZFM\",0,IF('Aferi (Variáveis)'!$C$12=\"Exportação\",0,0.65*T364/100))","v":0},0,0,0,0,0,0,0,0,0,{"$f":"SUMIF('Custo Básico dos Produtos'!$B$7:$B$480,A364,'Custo Básico dos Produtos'!$K$7:$K$480)","v":0},null,null,0,0,0,0,0,0]
[null,{"$f":"IF(Q365<>0,VLOOKUP(Q365,'Custo Básico dos Produtos'!$A$7:$J$480,3),\"\")","v":""},null,{"$f":"SUMIF('Custo Básico dos Produtos'!$A$7:$A$480,Q365,'Custo Básico dos Produtos'!$J$7:$J$480)","v":0},0,0,{"$f":"IF(B365=\"\",0,SUMIF('Cadastro de Produtos em Linha'!$B$7:$B$457,A365,'Cadastro de Produtos em Linha'!$D$7:$D$457))","v":0},null,0,0,{"$f":"IF('Aferi (Variáveis)'!$C$12=\"ALC\",0,IF('Aferi (Variáveis)'!$C$12=\"ZFM\",0,IF('Aferi (Variáveis)'!$C$12=\"Exportação\",0,IF('Aferi (Variáveis)'!$C$12=\"Venda para Exportar\",0,IF('Aferi (Variáveis)'!$C$12=\"AO\",0,SUMIF('Custo Básico dos Produtos'!$A$7:$A$480,Q365,'Custo Básico dos Produtos'!$L$7:$L$480))))))","v":0},0,0,0,0,{"$f":"SUMIF('Cadastro de Produtos em Linha'!$A$6:$A$457,Q365,'Cadastro de Produtos em Linha'!$E$6:$E$457)*H365","v":0},{"$f":"IF(TODAY()<$AK$26,IF(A365<>\"\",SUMIF('Custo Básico dos Produtos'!$B$7:$B$457,A365,'Custo Básico dos Produtos'!$A$7:$A$457),0),0)","v":0},{"$f":"IF('Aferi (Variáveis)'!$C$12=\"Venda para Exportar\",0,IF('Aferi (Variáveis)'!$C$12=\"ALC\",0,IF('Aferi (Variáveis)'!$C$12=\"ZFM\",0,IF('Aferi (Variáveis)'!$C$12=\"Exportação\",0,IF('Aferi (Variáveis)'!$C$12=\"AO\",0,E365/(100+(0*'Aferi (Variáveis)'!$K$12/100))*100*K365%/100*'Aferi (Variáveis)'!$K$12)))))","v":0},0,{"$f":"(E365*'Aferi (Variáveis)'!$K$12/100)","v":0},0,{"$f":"IF('Aferi (Variáveis)'!$F$20=\"Venda para Exportar\",0,IF('Aferi (Variáveis)'!$F$20=\"ALC\",0,IF('Aferi (Variáveis)'!$F$20=\"ZFM\",0,IF('Aferi (Variáveis)'!$F$20=\"Exportação\",0,IF('Aferi (Variáveis)'!$F$20=\"AO\",7*T365/100,T365*'Aferi (Variáveis)'!$F$20/100)))))","v":0},0,{"$f":"IF('Aferi (Variáveis)'!$C$12=\"ZFM\",0,IF('Aferi (Variáveis)'!$C$12=\"Exportação\",0,3*T365/100))","v":0},{"$f":"IF('Aferi (Variáveis)'!$C$12=\"ZFM\",0,IF('Aferi (Variáveis)'!$C$12=\"Exportação\",0,0.65*T365/100))","v":0},0,0,0,0,0,0,0,0,0,{"$f":"SUMIF('Custo Básico dos Produtos'!$B$7:$B$480,A365,'Custo Básico dos Produtos'!$K$7:$K$480)","v":0},null,null,0,0,0,0,0,0]
[null,{"$f":"IF(Q366<>0,VLOOKUP(Q366,'Custo Básico dos Produtos'!$A$7:$J$480,3),\"\")","v":""},null,{"$f":"SUMIF('Custo Básico dos Produtos'!$A$7:$A$480,Q366,'Custo Básico dos Produtos'!$J$7:$J$480)","v":0},0,0,{"$f":"IF(B366=\"\",0,SUMIF('Cadastro de Produtos em Linha'!$B$7:$B$457,A366,'Cadastro de Produtos em Linha'!$D$7:$D$457))","v":0},null,0,0,{"$f":"IF('Aferi (Variáveis)'!$C$12=\"ALC\",0,IF('Aferi (Variáveis)'!$C$12=\"ZFM\",0,IF('Aferi (Variáveis)'!$C$12=\"Exportação\",0,IF('Aferi (Variáveis)'!$C$12=\"Venda para Exportar\",0,IF('Aferi (Variáveis)'!$C$12=\"AO\",0,SUMIF('Custo Básico dos Produtos'!$A$7:$A$480,Q366,'Custo Básico dos Produtos'!$L$7:$L$480))))))","v":0},0,0,0,0,{"$f":"SUMIF('Cadastro de Produtos em Linha'!$A$6:$A$457,Q366,'Cadastro de Produtos em Linha'!$E$6:$E$457)*H366","v":0},{"$f":"IF(TODAY()<$AK$26,IF(A366<>\"\",SUMIF('Custo Básico dos Produtos'!$B$7:$B$457,A366,'Custo Básico dos Produtos'!$A$7:$A$457),0),0)","v":0},{"$f":"IF('Aferi (Variáveis)'!$C$12=\"Venda para Exportar\",0,IF('Aferi (Variáveis)'!$C$12=\"ALC\",0,IF('Aferi (Variáveis)'!$C$12=\"ZFM\",0,IF('Aferi (Variáveis)'!$C$12=\"Exportação\",0,IF('Aferi (Variáveis)'!$C$12=\"AO\",0,E366/(100+(0*'Aferi (Variáveis)'!$K$12/100))*100*K366%/100*'Aferi (Variáveis)'!$K$12)))))","v":0},0,{"$f":"(E366*'Aferi (Variáveis)'!$K$12/100)","v":0},0,{"$f":"IF('Aferi (Variáveis)'!$F$20=\"Venda para Exportar\",0,IF('Aferi (Variáveis)'!$F$20=\"ALC\",0,IF('Aferi (Variáveis)'!$F$20=\"ZFM\",0,IF('Aferi (Variáveis)'!$F$20=\"Exportação\",0,IF('Aferi (Variáveis)'!$F$20=\"AO\",7*T366/100,T366*'Aferi (Variáveis)'!$F$20/100)))))","v":0},0,{"$f":"IF('Aferi (Variáveis)'!$C$12=\"ZFM\",0,IF('Aferi (Variáveis)'!$C$12=\"Exportação\",0,3*T366/100))","v":0},{"$f":"IF('Aferi (Variáveis)'!$C$12=\"ZFM\",0,IF('Aferi (Variáveis)'!$C$12=\"Exportação\",0,0.65*T366/100))","v":0},0,0,0,0,0,0,0,0,0,{"$f":"SUMIF('Custo Básico dos Produtos'!$B$7:$B$480,A366,'Custo Básico dos Produtos'!$K$7:$K$480)","v":0},null,null,0,0,0,0,0,0]
[null,{"$f":"IF(Q367<>0,VLOOKUP(Q367,'Custo Básico dos Produtos'!$A$7:$J$480,3),\"\")","v":""},null,{"$f":"SUMIF('Custo Básico dos Produtos'!$A$7:$A$480,Q367,'Custo Básico dos Produtos'!$J$7:$J$480)","v":0},0,0,{"$f":"IF(B367=\"\",0,SUMIF('Cadastro de Produtos em Linha'!$B$7:$B$457,A367,'Cadastro de Produtos em Linha'!$D$7:$D$457))","v":0},null,0,0,{"$f":"IF('Aferi (Variáveis)'!$C$12=\"ALC\",0,IF('Aferi (Variáveis)'!$C$12=\"ZFM\",0,IF('Aferi (Variáveis)'!$C$12=\"Exportação\",0,IF('Aferi (Variáveis)'!$C$12=\"Venda para Exportar\",0,IF('Aferi (Variáveis)'!$C$12=\"AO\",0,SUMIF('Custo Básico dos Produtos'!$A$7:$A$480,Q367,'Custo Básico dos Produtos'!$L$7:$L$480))))))","v":0},0,0,0,0,{"$f":"SUMIF('Cadastro de Produtos em Linha'!$A$6:$A$457,Q367,'Cadastro de Produtos em Linha'!$E$6:$E$457)*H367","v":0},{"$f":"IF(TODAY()<$AK$26,IF(A367<>\"\",SUMIF('Custo Básico dos Produtos'!$B$7:$B$457,A367,'Custo Básico dos Produtos'!$A$7:$A$457),0),0)","v":0},{"$f":"IF('Aferi (Variáveis)'!$C$12=\"Venda para Exportar\",0,IF('Aferi (Variáveis)'!$C$12=\"ALC\",0,IF('Aferi (Variáveis)'!$C$12=\"ZFM\",0,IF('Aferi (Variáveis)'!$C$12=\"Exportação\",0,IF('Aferi (Variáveis)'!$C$12=\"AO\",0,E367/(100+(0*'Aferi (Variáveis)'!$K$12/100))*100*K367%/100*'Aferi (Variáveis)'!$K$12)))))","v":0},0,{"$f":"(E367*'Aferi (Variáveis)'!$K$12/100)","v":0},0,{"$f":"IF('Aferi (Variáveis)'!$F$20=\"Venda para Exportar\",0,IF('Aferi (Variáveis)'!$F$20=\"ALC\",0,IF('Aferi (Variáveis)'!$F$20=\"ZFM\",0,IF('Aferi (Variáveis)'!$F$20=\"Exportação\",0,IF('Aferi (Variáveis)'!$F$20=\"AO\",7*T367/100,T367*'Aferi (Variáveis)'!$F$20/100)))))","v":0},0,{"$f":"IF('Aferi (Variáveis)'!$C$12=\"ZFM\",0,IF('Aferi (Variáveis)'!$C$12=\"Exportação\",0,3*T367/100))","v":0},{"$f":"IF('Aferi (Variáveis)'!$C$12=\"ZFM\",0,IF('Aferi (Variáveis)'!$C$12=\"Exportação\",0,0.65*T367/100))","v":0},0,0,0,0,0,0,0,0,0,{"$f":"SUMIF('Custo Básico dos Produtos'!$B$7:$B$480,A367,'Custo Básico dos Produtos'!$K$7:$K$480)","v":0},null,null,0,0,0,0,0,0]
[null,{"$f":"IF(Q368<>0,VLOOKUP(Q368,'Custo Básico dos Produtos'!$A$7:$J$480,3),\"\")","v":""},null,{"$f":"SUMIF('Custo Básico dos Produtos'!$A$7:$A$480,Q368,'Custo Básico dos Produtos'!$J$7:$J$480)","v":0},0,0,{"$f":"IF(B368=\"\",0,SUMIF('Cadastro de Produtos em Linha'!$B$7:$B$457,A368,'Cadastro de Produtos em Linha'!$D$7:$D$457))","v":0},null,0,0,{"$f":"IF('Aferi (Variáveis)'!$C$12=\"ALC\",0,IF('Aferi (Variáveis)'!$C$12=\"ZFM\",0,IF('Aferi (Variáveis)'!$C$12=\"Exportação\",0,IF('Aferi (Variáveis)'!$C$12=\"Venda para Exportar\",0,IF('Aferi (Variáveis)'!$C$12=\"AO\",0,SUMIF('Custo Básico dos Produtos'!$A$7:$A$480,Q368,'Custo Básico dos Produtos'!$L$7:$L$480))))))","v":0},0,0,0,0,{"$f":"SUMIF('Cadastro de Produtos em Linha'!$A$6:$A$457,Q368,'Cadastro de Produtos em Linha'!$E$6:$E$457)*H368","v":0},{"$f":"IF(TODAY()<$AK$26,IF(A368<>\"\",SUMIF('Custo Básico dos Produtos'!$B$7:$B$457,A368,'Custo Básico dos Produtos'!$A$7:$A$457),0),0)","v":0},{"$f":"IF('Aferi (Variáveis)'!$C$12=\"Venda para Exportar\",0,IF('Aferi (Variáveis)'!$C$12=\"ALC\",0,IF('Aferi (Variáveis)'!$C$12=\"ZFM\",0,IF('Aferi (Variáveis)'!$C$12=\"Exportação\",0,IF('Aferi (Variáveis)'!$C$12=\"AO\",0,E368/(100+(0*'Aferi (Variáveis)'!$K$12/100))*100*K368%/100*'Aferi (Variáveis)'!$K$12)))))","v":0},0,{"$f":"(E368*'Aferi (Variáveis)'!$K$12/100)","v":0},0,{"$f":"IF('Aferi (Variáveis)'!$F$20=\"Venda para Exportar\",0,IF('Aferi (Variáveis)'!$F$20=\"ALC\",0,IF('Aferi (Variáveis)'!$F$20=\"ZFM\",0,IF('Aferi (Variáveis)'!$F$20=\"Exportação\",0,IF('Aferi (Variáveis)'!$F$20=\"AO\",7*T368/100,T368*'Aferi (Variáveis)'!$F$20/100)))))","v":0},0,{"$f":"IF('Aferi (Variáveis)'!$C$12=\"ZFM\",0,IF('Aferi (Variáveis)'!$C$12=\"Exportação\",0,3*T368/100))","v":0},{"$f":"IF('Aferi (Variáveis)'!$C$12=\"ZFM\",0,IF('Aferi (Variáveis)'!$C$12=\"Exportação\",0,0.65*T368/100))","v":0},0,0,0,0,0,0,0,0,0,{"$f":"SUMIF('Custo Básico dos Produtos'!$B$7:$B$480,A368,'Custo Básico dos Produtos'!$K$7:$K$480)","v":0},null,null,0,0,0,0,0,0]
[null,{"$f":"IF(Q369<>0,VLOOKUP(Q369,'Custo Básico dos Produtos'!$A$7:$J$480,3),\"\")","v":""},null,{"$f":"SUMIF('Custo Básico dos Produtos'!$A$7:$A$480,Q369,'Custo Básico dos Produtos'!$J$7:$J$480)","v":0},0,0,{"$f":"IF(B369=\"\",0,SUMIF('Cadastro de Produtos em Linha'!$B$7:$B$457,A369,'Cadastro de Produtos em Linha'!$D$7:$D$457))","v":0},null,0,0,{"$f":"IF('Aferi (Variáveis)'!$C$12=\"ALC\",0,IF('Aferi (Variáveis)'!$C$12=\"ZFM\",0,IF('Aferi (Variáveis)'!$C$12=\"Exportação\",0,IF('Aferi (Variáveis)'!$C$12=\"Venda para Exportar\",0,IF('Aferi (Variáveis)'!$C$12=\"AO\",0,SUMIF('Custo Básico dos Produtos'!$A$7:$A$480,Q369,'Custo Básico dos Produtos'!$L$7:$L$480))))))","v":0},0,0,0,0,{"$f":"SUMIF('Cadastro de Produtos em Linha'!$A$6:$A$457,Q369,'Cadastro de Produtos em Linha'!$E$6:$E$457)*H369","v":0},{"$f":"IF(TODAY()<$AK$26,IF(A369<>\"\",SUMIF('Custo Básico dos Produtos'!$B$7:$B$457,A369,'Custo Básico dos Produtos'!$A$7:$A$457),0),0)","v":0},{"$f":"IF('Aferi (Variáveis)'!$C$12=\"Venda para Exportar\",0,IF('Aferi (Variáveis)'!$C$12=\"ALC\",0,IF('Aferi (Variáveis)'!$C$12=\"ZFM\",0,IF('Aferi (Variáveis)'!$C$12=\"Exportação\",0,IF('Aferi (Variáveis)'!$C$12=\"AO\",0,E369/(100+(0*'Aferi (Variáveis)'!$K$12/100))*100*K369%/100*'Aferi (Variáveis)'!$K$12)))))","v":0},0,{"$f":"(E369*'Aferi (Variáveis)'!$K$12/100)","v":0},0,{"$f":"IF('Aferi (Variáveis)'!$F$20=\"Venda para Exportar\",0,IF('Aferi (Variáveis)'!$F$20=\"ALC\",0,IF('Aferi (Variáveis)'!$F$20=\"ZFM\",0,IF('Aferi (Variáveis)'!$F$20=\"Exportação\",0,IF('Aferi (Variáveis)'!$F$20=\"AO\",7*T369/100,T369*'Aferi (Variáveis)'!$F$20/100)))))","v":0},0,{"$f":"IF('Aferi (Variáveis)'!$C$12=\"ZFM\",0,IF('Aferi (Variáveis)'!$C$12=\"Exportação\",0,3*T369/100))","v":0},{"$f":"IF('Aferi (Variáveis)'!$C$12=\"ZFM\",0,IF('Aferi (Variáveis)'!$C$12=\"Exportação\",0,0.65*T369/100))","v":0},0,0,0,0,0,0,0,0,0,{"$f":"SUMIF('Custo Básico dos Produtos'!$B$7:$B$480,A369,'Custo Básico dos Produtos'!$K$7:$K$480)","v":0},null,null,0,0,0,0,0,0]
[null,{"$f":"IF(Q370<>0,VLOOKUP(Q370,'Custo Básico dos Produtos'!$A$7:$J$480,3),\"\")","v":""},null,{"$f":"SUMIF('Custo Básico dos Produtos'!$A$7:$A$480,Q370,'Custo Básico dos Produtos'!$J$7:$J$480)","v":0},0,0,{"$f":"IF(B370=\"\",0,SUMIF('Cadastro de Produtos em Linha'!$B$7:$B$457,A370,'Cadastro de Produtos em Linha'!$D$7:$D$457))","v":0},null,0,0,{"$f":"IF('Aferi (Variáveis)'!$C$12=\"ALC\",0,IF('Aferi (Variáveis)'!$C$12=\"ZFM\",0,IF('Aferi (Variáveis)'!$C$12=\"Exportação\",0,IF('Aferi (Variáveis)'!$C$12=\"Venda para Exportar\",0,IF('Aferi (Variáveis)'!$C$12=\"AO\",0,SUMIF('Custo Básico dos Produtos'!$A$7:$A$480,Q370,'Custo Básico dos Produtos'!$L$7:$L$480))))))","v":0},0,0,0,0,{"$f":"SUMIF('Cadastro de Produtos em Linha'!$A$6:$A$457,Q370,'Cadastro de Produtos em Linha'!$E$6:$E$457)*H370","v":0},{"$f":"IF(TODAY()<$AK$26,IF(A370<>\"\",SUMIF('Custo Básico dos Produtos'!$B$7:$B$457,A370,'Custo Básico dos Produtos'!$A$7:$A$457),0),0)","v":0},{"$f":"IF('Aferi (Variáveis)'!$C$12=\"Venda para Exportar\",0,IF('Aferi (Variáveis)'!$C$12=\"ALC\",0,IF('Aferi (Variáveis)'!$C$12=\"ZFM\",0,IF('Aferi (Variáveis)'!$C$12=\"Exportação\",0,IF('Aferi (Variáveis)'!$C$12=\"AO\",0,E370/(100+(0*'Aferi (Variáveis)'!$K$12/100))*100*K370%/100*'Aferi (Variáveis)'!$K$12)))))","v":0},0,{"$f":"(E370*'Aferi (Variáveis)'!$K$12/100)","v":0},0,{"$f":"IF('Aferi (Variáveis)'!$F$20=\"Venda para Exportar\",0,IF('Aferi (Variáveis)'!$F$20=\"ALC\",0,IF('Aferi (Variáveis)'!$F$20=\"ZFM\",0,IF('Aferi (Variáveis)'!$F$20=\"Exportação\",0,IF('Aferi (Variáveis)'!$F$20=\"AO\",7*T370/100,T370*'Aferi (Variáveis)'!$F$20/100)))))","v":0},0,{"$f":"IF('Aferi (Variáveis)'!$C$12=\"ZFM\",0,IF('Aferi (Variáveis)'!$C$12=\"Exportação\",0,3*T370/100))","v":0},{"$f":"IF('Aferi (Variáveis)'!$C$12=\"ZFM\",0,IF('Aferi (Variáveis)'!$C$12=\"Exportação\",0,0.65*T370/100))","v":0},0,0,0,0,0,0,0,0,0,{"$f":"SUMIF('Custo Básico dos Produtos'!$B$7:$B$480,A370,'Custo Básico dos Produtos'!$K$7:$K$480)","v":0},null,null,0,0,0,0,0,0]
[null,{"$f":"IF(Q371<>0,VLOOKUP(Q371,'Custo Básico dos Produtos'!$A$7:$J$480,3),\"\")","v":""},null,{"$f":"SUMIF('Custo Básico dos Produtos'!$A$7:$A$480,Q371,'Custo Básico dos Produtos'!$J$7:$J$480)","v":0},0,0,{"$f":"IF(B371=\"\",0,SUMIF('Cadastro de Produtos em Linha'!$B$7:$B$457,A371,'Cadastro de Produtos em Linha'!$D$7:$D$457))","v":0},null,0,0,{"$f":"IF('Aferi (Variáveis)'!$C$12=\"ALC\",0,IF('Aferi (Variáveis)'!$C$12=\"ZFM\",0,IF('Aferi (Variáveis)'!$C$12=\"Exportação\",0,IF('Aferi (Variáveis)'!$C$12=\"Venda para Exportar\",0,IF('Aferi (Variáveis)'!$C$12=\"AO\",0,SUMIF('Custo Básico dos Produtos'!$A$7:$A$480,Q371,'Custo Básico dos Produtos'!$L$7:$L$480))))))","v":0},0,0,0,0,{"$f":"SUMIF('Cadastro de Produtos em Linha'!$A$6:$A$457,Q371,'Cadastro de Produtos em Linha'!$E$6:$E$457)*H371","v":0},{"$f":"IF(TODAY()<$AK$26,IF(A371<>\"\",SUMIF('Custo Básico dos Produtos'!$B$7:$B$457,A371,'Custo Básico dos Produtos'!$A$7:$A$457),0),0)","v":0},{"$f":"IF('Aferi (Variáveis)'!$C$12=\"Venda para Exportar\",0,IF('Aferi (Variáveis)'!$C$12=\"ALC\",0,IF('Aferi (Variáveis)'!$C$12=\"ZFM\",0,IF('Aferi (Variáveis)'!$C$12=\"Exportação\",0,IF('Aferi (Variáveis)'!$C$12=\"AO\",0,E371/(100+(0*'Aferi (Variáveis)'!$K$12/100))*100*K371%/100*'Aferi (Variáveis)'!$K$12)))))","v":0},0,{"$f":"(E371*'Aferi (Variáveis)'!$K$12/100)","v":0},0,{"$f":"IF('Aferi (Variáveis)'!$F$20=\"Venda para Exportar\",0,IF('Aferi (Variáveis)'!$F$20=\"ALC\",0,IF('Aferi (Variáveis)'!$F$20=\"ZFM\",0,IF('Aferi (Variáveis)'!$F$20=\"Exportação\",0,IF('Aferi (Variáveis)'!$F$20=\"AO\",7*T371/100,T371*'Aferi (Variáveis)'!$F$20/100)))))","v":0},0,{"$f":"IF('Aferi (Variáveis)'!$C$12=\"ZFM\",0,IF('Aferi (Variáveis)'!$C$12=\"Exportação\",0,3*T371/100))","v":0},{"$f":"IF('Aferi (Variáveis)'!$C$12=\"ZFM\",0,IF('Aferi (Variáveis)'!$C$12=\"Exportação\",0,0.65*T371/100))","v":0},0,0,0,0,0,0,0,0,0,{"$f":"SUMIF('Custo Básico dos Produtos'!$B$7:$B$480,A371,'Custo Básico dos Produtos'!$K$7:$K$480)","v":0},null,null,0,0,0,0,0,0]
[null,{"$f":"IF(Q372<>0,VLOOKUP(Q372,'Custo Básico dos Produtos'!$A$7:$J$480,3),\"\")","v":""},null,{"$f":"SUMIF('Custo Básico dos Produtos'!$A$7:$A$480,Q372,'Custo Básico dos Produtos'!$J$7:$J$480)","v":0},0,0,{"$f":"IF(B372=\"\",0,SUMIF('Cadastro de Produtos em Linha'!$B$7:$B$457,A372,'Cadastro de Produtos em Linha'!$D$7:$D$457))","v":0},null,0,0,{"$f":"IF('Aferi (Variáveis)'!$C$12=\"ALC\",0,IF('Aferi (Variáveis)'!$C$12=\"ZFM\",0,IF('Aferi (Variáveis)'!$C$12=\"Exportação\",0,IF('Aferi (Variáveis)'!$C$12=\"Venda para Exportar\",0,IF('Aferi (Variáveis)'!$C$12=\"AO\",0,SUMIF('Custo Básico dos Produtos'!$A$7:$A$480,Q372,'Custo Básico dos Produtos'!$L$7:$L$480))))))","v":0},0,0,0,0,{"$f":"SUMIF('Cadastro de Produtos em Linha'!$A$6:$A$457,Q372,'Cadastro de Produtos em Linha'!$E$6:$E$457)*H372","v":0},{"$f":"IF(TODAY()<$AK$26,IF(A372<>\"\",SUMIF('Custo Básico dos Produtos'!$B$7:$B$457,A372,'Custo Básico dos Produtos'!$A$7:$A$457),0),0)","v":0},{"$f":"IF('Aferi (Variáveis)'!$C$12=\"Venda para Exportar\",0,IF('Aferi (Variáveis)'!$C$12=\"ALC\",0,IF('Aferi (Variáveis)'!$C$12=\"ZFM\",0,IF('Aferi (Variáveis)'!$C$12=\"Exportação\",0,IF('Aferi (Variáveis)'!$C$12=\"AO\",0,E372/(100+(0*'Aferi (Variáveis)'!$K$12/100))*100*K372%/100*'Aferi (Variáveis)'!$K$12)))))","v":0},0,{"$f":"(E372*'Aferi (Variáveis)'!$K$12/100)","v":0},0,{"$f":"IF('Aferi (Variáveis)'!$F$20=\"Venda para Exportar\",0,IF('Aferi (Variáveis)'!$F$20=\"ALC\",0,IF('Aferi (Variáveis)'!$F$20=\"ZFM\",0,IF('Aferi (Variáveis)'!$F$20=\"Exportação\",0,IF('Aferi (Variáveis)'!$F$20=\"AO\",7*T372/100,T372*'Aferi (Variáveis)'!$F$20/100)))))","v":0},0,{"$f":"IF('Aferi (Variáveis)'!$C$12=\"ZFM\",0,IF('Aferi (Variáveis)'!$C$12=\"Exportação\",0,3*T372/100))","v":0},{"$f":"IF('Aferi (Variáveis)'!$C$12=\"ZFM\",0,IF('Aferi (Variáveis)'!$C$12=\"Exportação\",0,0.65*T372/100))","v":0},0,0,0,0,0,0,0,0,0,{"$f":"SUMIF('Custo Básico dos Produtos'!$B$7:$B$480,A372,'Custo Básico dos Produtos'!$K$7:$K$480)","v":0},null,null,0,0,0,0,0,0]
[null,{"$f":"IF(Q373<>0,VLOOKUP(Q373,'Custo Básico dos Produtos'!$A$7:$J$480,3),\"\")","v":""},null,{"$f":"SUMIF('Custo Básico dos Produtos'!$A$7:$A$480,Q373,'Custo Básico dos Produtos'!$J$7:$J$480)","v":0},0,0,{"$f":"IF(B373=\"\",0,SUMIF('Cadastro de Produtos em Linha'!$B$7:$B$457,A373,'Cadastro de Produtos em Linha'!$D$7:$D$457))","v":0},null,0,0,{"$f":"IF('Aferi (Variáveis)'!$C$12=\"ALC\",0,IF('Aferi (Variáveis)'!$C$12=\"ZFM\",0,IF('Aferi (Variáveis)'!$C$12=\"Exportação\",0,IF('Aferi (Variáveis)'!$C$12=\"Venda para Exportar\",0,IF('Aferi (Variáveis)'!$C$12=\"AO\",0,SUMIF('Custo Básico dos Produtos'!$A$7:$A$480,Q373,'Custo Básico dos Produtos'!$L$7:$L$480))))))","v":0},0,0,0,0,{"$f":"SUMIF('Cadastro de Produtos em Linha'!$A$6:$A$457,Q373,'Cadastro de Produtos em Linha'!$E$6:$E$457)*H373","v":0},{"$f":"IF(TODAY()<$AK$26,IF(A373<>\"\",SUMIF('Custo Básico dos Produtos'!$B$7:$B$457,A373,'Custo Básico dos Produtos'!$A$7:$A$457),0),0)","v":0},{"$f":"IF('Aferi (Variáveis)'!$C$12=\"Venda para Exportar\",0,IF('Aferi (Variáveis)'!$C$12=\"ALC\",0,IF('Aferi (Variáveis)'!$C$12=\"ZFM\",0,IF('Aferi (Variáveis)'!$C$12=\"Exportação\",0,IF('Aferi (Variáveis)'!$C$12=\"AO\",0,E373/(100+(0*'Aferi (Variáveis)'!$K$12/100))*100*K373%/100*'Aferi (Variáveis)'!$K$12)))))","v":0},0,{"$f":"(E373*'Aferi (Variáveis)'!$K$12/100)","v":0},0,{"$f":"IF('Aferi (Variáveis)'!$F$20=\"Venda para Exportar\",0,IF('Aferi (Variáveis)'!$F$20=\"ALC\",0,IF('Aferi (Variáveis)'!$F$20=\"ZFM\",0,IF('Aferi (Variáveis)'!$F$20=\"Exportação\",0,IF('Aferi (Variáveis)'!$F$20=\"AO\",7*T373/100,T373*'Aferi (Variáveis)'!$F$20/100)))))","v":0},0,{"$f":"IF('Aferi (Variáveis)'!$C$12=\"ZFM\",0,IF('Aferi (Variáveis)'!$C$12=\"Exportação\",0,3*T373/100))","v":0},{"$f":"IF('Aferi (Variáveis)'!$C$12=\"ZFM\",0,IF('Aferi (Variáveis)'!$C$12=\"Exportação\",0,0.65*T373/100))","v":0},0,0,0,0,0,0,0,0,0,{"$f":"SUMIF('Custo Básico dos Produtos'!$B$7:$B$480,A373,'Custo Básico dos Produtos'!$K$7:$K$480)","v":0},null,null,0,0,0,0,0,0]
[null,{"$f":"IF(Q374<>0,VLOOKUP(Q374,'Custo Básico dos Produtos'!$A$7:$J$480,3),\"\")","v":""},null,{"$f":"SUMIF('Custo Básico dos Produtos'!$A$7:$A$480,Q374,'Custo Básico dos Produtos'!$J$7:$J$480)","v":0},0,0,{"$f":"IF(B374=\"\",0,SUMIF('Cadastro de Produtos em Linha'!$B$7:$B$457,A374,'Cadastro de Produtos em Linha'!$D$7:$D$457))","v":0},null,0,0,{"$f":"IF('Aferi (Variáveis)'!$C$12=\"ALC\",0,IF('Aferi (Variáveis)'!$C$12=\"ZFM\",0,IF('Aferi (Variáveis)'!$C$12=\"Exportação\",0,IF('Aferi (Variáveis)'!$C$12=\"Venda para Exportar\",0,IF('Aferi (Variáveis)'!$C$12=\"AO\",0,SUMIF('Custo Básico dos Produtos'!$A$7:$A$480,Q374,'Custo Básico dos Produtos'!$L$7:$L$480))))))","v":0},0,0,0,0,{"$f":"SUMIF('Cadastro de Produtos em Linha'!$A$6:$A$457,Q374,'Cadastro de Produtos em Linha'!$E$6:$E$457)*H374","v":0},{"$f":"IF(TODAY()<$AK$26,IF(A374<>\"\",SUMIF('Custo Básico dos Produtos'!$B$7:$B$457,A374,'Custo Básico dos Produtos'!$A$7:$A$457),0),0)","v":0},{"$f":"IF('Aferi (Variáveis)'!$C$12=\"Venda para Exportar\",0,IF('Aferi (Variáveis)'!$C$12=\"ALC\",0,IF('Aferi (Variáveis)'!$C$12=\"ZFM\",0,IF('Aferi (Variáveis)'!$C$12=\"Exportação\",0,IF('Aferi (Variáveis)'!$C$12=\"AO\",0,E374/(100+(0*'Aferi (Variáveis)'!$K$12/100))*100*K374%/100*'Aferi (Variáveis)'!$K$12)))))","v":0},0,{"$f":"(E374*'Aferi (Variáveis)'!$K$12/100)","v":0},0,{"$f":"IF('Aferi (Variáveis)'!$F$20=\"Venda para Exportar\",0,IF('Aferi (Variáveis)'!$F$20=\"ALC\",0,IF('Aferi (Variáveis)'!$F$20=\"ZFM\",0,IF('Aferi (Variáveis)'!$F$20=\"Exportação\",0,IF('Aferi (Variáveis)'!$F$20=\"AO\",7*T374/100,T374*'Aferi (Variáveis)'!$F$20/100)))))","v":0},0,{"$f":"IF('Aferi (Variáveis)'!$C$12=\"ZFM\",0,IF('Aferi (Variáveis)'!$C$12=\"Exportação\",0,3*T374/100))","v":0},{"$f":"IF('Aferi (Variáveis)'!$C$12=\"ZFM\",0,IF('Aferi (Variáveis)'!$C$12=\"Exportação\",0,0.65*T374/100))","v":0},0,0,0,0,0,0,0,0,0,{"$f":"SUMIF('Custo Básico dos Produtos'!$B$7:$B$480,A374,'Custo Básico dos Produtos'!$K$7:$K$480)","v":0},null,null,0,0,0,0,0,0]
[null,{"$f":"IF(Q375<>0,VLOOKUP(Q375,'Custo Básico dos Produtos'!$A$7:$J$480,3),\"\")","v":""},null,{"$f":"SUMIF('Custo Básico dos Produtos'!$A$7:$A$480,Q375,'Custo Básico dos Produtos'!$J$7:$J$480)","v":0},0,0,{"$f":"IF(B375=\"\",0,SUMIF('Cadastro de Produtos em Linha'!$B$7:$B$457,A375,'Cadastro de Produtos em Linha'!$D$7:$D$457))","v":0},null,0,0,{"$f":"IF('Aferi (Variáveis)'!$C$12=\"ALC\",0,IF('Aferi (Variáveis)'!$C$12=\"ZFM\",0,IF('Aferi (Variáveis)'!$C$12=\"Exportação\",0,IF('Aferi (Variáveis)'!$C$12=\"Venda para Exportar\",0,IF('Aferi (Variáveis)'!$C$12=\"AO\",0,SUMIF('Custo Básico dos Produtos'!$A$7:$A$480,Q375,'Custo Básico dos Produtos'!$L$7:$L$480))))))","v":0},0,0,0,0,{"$f":"SUMIF('Cadastro de Produtos em Linha'!$A$6:$A$457,Q375,'Cadastro de Produtos em Linha'!$E$6:$E$457)*H375","v":0},{"$f":"IF(TODAY()<$AK$26,IF(A375<>\"\",SUMIF('Custo Básico dos Produtos'!$B$7:$B$457,A375,'Custo Básico dos Produtos'!$A$7:$A$457),0),0)","v":0},{"$f":"IF('Aferi (Variáveis)'!$C$12=\"Venda para Exportar\",0,IF('Aferi (Variáveis)'!$C$12=\"ALC\",0,IF('Aferi (Variáveis)'!$C$12=\"ZFM\",0,IF('Aferi (Variáveis)'!$C$12=\"Exportação\",0,IF('Aferi (Variáveis)'!$C$12=\"AO\",0,E375/(100+(0*'Aferi (Variáveis)'!$K$12/100))*100*K375%/100*'Aferi (Variáveis)'!$K$12)))))","v":0},0,{"$f":"(E375*'Aferi (Variáveis)'!$K$12/100)","v":0},0,{"$f":"IF('Aferi (Variáveis)'!$F$20=\"Venda para Exportar\",0,IF('Aferi (Variáveis)'!$F$20=\"ALC\",0,IF('Aferi (Variáveis)'!$F$20=\"ZFM\",0,IF('Aferi (Variáveis)'!$F$20=\"Exportação\",0,IF('Aferi (Variáveis)'!$F$20=\"AO\",7*T375/100,T375*'Aferi (Variáveis)'!$F$20/100)))))","v":0},0,{"$f":"IF('Aferi (Variáveis)'!$C$12=\"ZFM\",0,IF('Aferi (Variáveis)'!$C$12=\"Exportação\",0,3*T375/100))","v":0},{"$f":"IF('Aferi (Variáveis)'!$C$12=\"ZFM\",0,IF('Aferi (Variáveis)'!$C$12=\"Exportação\",0,0.65*T375/100))","v":0},0,0,0,0,0,0,0,0,0,{"$f":"SUMIF('Custo Básico dos Produtos'!$B$7:$B$480,A375,'Custo Básico dos Produtos'!$K$7:$K$480)","v":0},null,null,0,0,0,0,0,0]
[null,{"$f":"IF(Q376<>0,VLOOKUP(Q376,'Custo Básico dos Produtos'!$A$7:$J$480,3),\"\")","v":""},null,{"$f":"SUMIF('Custo Básico dos Produtos'!$A$7:$A$480,Q376,'Custo Básico dos Produtos'!$J$7:$J$480)","v":0},0,0,{"$f":"IF(B376=\"\",0,SUMIF('Cadastro de Produtos em Linha'!$B$7:$B$457,A376,'Cadastro de Produtos em Linha'!$D$7:$D$457))","v":0},null,0,0,{"$f":"IF('Aferi (Variáveis)'!$C$12=\"ALC\",0,IF('Aferi (Variáveis)'!$C$12=\"ZFM\",0,IF('Aferi (Variáveis)'!$C$12=\"Exportação\",0,IF('Aferi (Variáveis)'!$C$12=\"Venda para Exportar\",0,IF('Aferi (Variáveis)'!$C$12=\"AO\",0,SUMIF('Custo Básico dos Produtos'!$A$7:$A$480,Q376,'Custo Básico dos Produtos'!$L$7:$L$480))))))","v":0},0,0,0,0,{"$f":"SUMIF('Cadastro de Produtos em Linha'!$A$6:$A$457,Q376,'Cadastro de Produtos em Linha'!$E$6:$E$457)*H376","v":0},{"$f":"IF(TODAY()<$AK$26,IF(A376<>\"\",SUMIF('Custo Básico dos Produtos'!$B$7:$B$457,A376,'Custo Básico dos Produtos'!$A$7:$A$457),0),0)","v":0},{"$f":"IF('Aferi (Variáveis)'!$C$12=\"Venda para Exportar\",0,IF('Aferi (Variáveis)'!$C$12=\"ALC\",0,IF('Aferi (Variáveis)'!$C$12=\"ZFM\",0,IF('Aferi (Variáveis)'!$C$12=\"Exportação\",0,IF('Aferi (Variáveis)'!$C$12=\"AO\",0,E376/(100+(0*'Aferi (Variáveis)'!$K$12/100))*100*K376%/100*'Aferi (Variáveis)'!$K$12)))))","v":0},0,{"$f":"(E376*'Aferi (Variáveis)'!$K$12/100)","v":0},0,{"$f":"IF('Aferi (Variáveis)'!$F$20=\"Venda para Exportar\",0,IF('Aferi (Variáveis)'!$F$20=\"ALC\",0,IF('Aferi (Variáveis)'!$F$20=\"ZFM\",0,IF('Aferi (Variáveis)'!$F$20=\"Exportação\",0,IF('Aferi (Variáveis)'!$F$20=\"AO\",7*T376/100,T376*'Aferi (Variáveis)'!$F$20/100)))))","v":0},0,{"$f":"IF('Aferi (Variáveis)'!$C$12=\"ZFM\",0,IF('Aferi (Variáveis)'!$C$12=\"Exportação\",0,3*T376/100))","v":0},{"$f":"IF('Aferi (Variáveis)'!$C$12=\"ZFM\",0,IF('Aferi (Variáveis)'!$C$12=\"Exportação\",0,0.65*T376/100))","v":0},0,0,0,0,0,0,0,0,0,{"$f":"SUMIF('Custo Básico dos Produtos'!$B$7:$B$480,A376,'Custo Básico dos Produtos'!$K$7:$K$480)","v":0},null,null,0,0,0,0,0,0]
[null,{"$f":"IF(Q377<>0,VLOOKUP(Q377,'Custo Básico dos Produtos'!$A$7:$J$480,3),\"\")","v":""},null,{"$f":"SUMIF('Custo Básico dos Produtos'!$A$7:$A$480,Q377,'Custo Básico dos Produtos'!$J$7:$J$480)","v":0},0,0,{"$f":"IF(B377=\"\",0,SUMIF('Cadastro de Produtos em Linha'!$B$7:$B$457,A377,'Cadastro de Produtos em Linha'!$D$7:$D$457))","v":0},null,0,0,{"$f":"IF('Aferi (Variáveis)'!$C$12=\"ALC\",0,IF('Aferi (Variáveis)'!$C$12=\"ZFM\",0,IF('Aferi (Variáveis)'!$C$12=\"Exportação\",0,IF('Aferi (Variáveis)'!$C$12=\"Venda para Exportar\",0,IF('Aferi (Variáveis)'!$C$12=\"AO\",0,SUMIF('Custo Básico dos Produtos'!$A$7:$A$480,Q377,'Custo Básico dos Produtos'!$L$7:$L$480))))))","v":0},0,0,0,0,{"$f":"SUMIF('Cadastro de Produtos em Linha'!$A$6:$A$457,Q377,'Cadastro de Produtos em Linha'!$E$6:$E$457)*H377","v":0},{"$f":"IF(TODAY()<$AK$26,IF(A377<>\"\",SUMIF('Custo Básico dos Produtos'!$B$7:$B$457,A377,'Custo Básico dos Produtos'!$A$7:$A$457),0),0)","v":0},{"$f":"IF('Aferi (Variáveis)'!$C$12=\"Venda para Exportar\",0,IF('Aferi (Variáveis)'!$C$12=\"ALC\",0,IF('Aferi (Variáveis)'!$C$12=\"ZFM\",0,IF('Aferi (Variáveis)'!$C$12=\"Exportação\",0,IF('Aferi (Variáveis)'!$C$12=\"AO\",0,E377/(100+(0*'Aferi (Variáveis)'!$K$12/100))*100*K377%/100*'Aferi (Variáveis)'!$K$12)))))","v":0},0,{"$f":"(E377*'Aferi (Variáveis)'!$K$12/100)","v":0},0,{"$f":"IF('Aferi (Variáveis)'!$F$20=\"Venda para Exportar\",0,IF('Aferi (Variáveis)'!$F$20=\"ALC\",0,IF('Aferi (Variáveis)'!$F$20=\"ZFM\",0,IF('Aferi (Variáveis)'!$F$20=\"Exportação\",0,IF('Aferi (Variáveis)'!$F$20=\"AO\",7*T377/100,T377*'Aferi (Variáveis)'!$F$20/100)))))","v":0},0,{"$f":"IF('Aferi (Variáveis)'!$C$12=\"ZFM\",0,IF('Aferi (Variáveis)'!$C$12=\"Exportação\",0,3*T377/100))","v":0},{"$f":"IF('Aferi (Variáveis)'!$C$12=\"ZFM\",0,IF('Aferi (Variáveis)'!$C$12=\"Exportação\",0,0.65*T377/100))","v":0},0,0,0,0,0,0,0,0,0,{"$f":"SUMIF('Custo Básico dos Produtos'!$B$7:$B$480,A377,'Custo Básico dos Produtos'!$K$7:$K$480)","v":0},null,null,0,0,0,0,0,0]
[null,{"$f":"IF(Q378<>0,VLOOKUP(Q378,'Custo Básico dos Produtos'!$A$7:$J$480,3),\"\")","v":""},null,{"$f":"SUMIF('Custo Básico dos Produtos'!$A$7:$A$480,Q378,'Custo Básico dos Produtos'!$J$7:$J$480)","v":0},0,0,{"$f":"IF(B378=\"\",0,SUMIF('Cadastro de Produtos em Linha'!$B$7:$B$457,A378,'Cadastro de Produtos em Linha'!$D$7:$D$457))","v":0},null,0,0,{"$f":"IF('Aferi (Variáveis)'!$C$12=\"ALC\",0,IF('Aferi (Variáveis)'!$C$12=\"ZFM\",0,IF('Aferi (Variáveis)'!$C$12=\"Exportação\",0,IF('Aferi (Variáveis)'!$C$12=\"Venda para Exportar\",0,IF('Aferi (Variáveis)'!$C$12=\"AO\",0,SUMIF('Custo Básico dos Produtos'!$A$7:$A$480,Q378,'Custo Básico dos Produtos'!$L$7:$L$480))))))","v":0},0,0,0,0,{"$f":"SUMIF('Cadastro de Produtos em Linha'!$A$6:$A$457,Q378,'Cadastro de Produtos em Linha'!$E$6:$E$457)*H378","v":0},{"$f":"IF(TODAY()<$AK$26,IF(A378<>\"\",SUMIF('Custo Básico dos Produtos'!$B$7:$B$457,A378,'Custo Básico dos Produtos'!$A$7:$A$457),0),0)","v":0},{"$f":"IF('Aferi (Variáveis)'!$C$12=\"Venda para Exportar\",0,IF('Aferi (Variáveis)'!$C$12=\"ALC\",0,IF('Aferi (Variáveis)'!$C$12=\"ZFM\",0,IF('Aferi (Variáveis)'!$C$12=\"Exportação\",0,IF('Aferi (Variáveis)'!$C$12=\"AO\",0,E378/(100+(0*'Aferi (Variáveis)'!$K$12/100))*100*K378%/100*'Aferi (Variáveis)'!$K$12)))))","v":0},0,{"$f":"(E378*'Aferi (Variáveis)'!$K$12/100)","v":0},0,{"$f":"IF('Aferi (Variáveis)'!$F$20=\"Venda para Exportar\",0,IF('Aferi (Variáveis)'!$F$20=\"ALC\",0,IF('Aferi (Variáveis)'!$F$20=\"ZFM\",0,IF('Aferi (Variáveis)'!$F$20=\"Exportação\",0,IF('Aferi (Variáveis)'!$F$20=\"AO\",7*T378/100,T378*'Aferi (Variáveis)'!$F$20/100)))))","v":0},0,{"$f":"IF('Aferi (Variáveis)'!$C$12=\"ZFM\",0,IF('Aferi (Variáveis)'!$C$12=\"Exportação\",0,3*T378/100))","v":0},{"$f":"IF('Aferi (Variáveis)'!$C$12=\"ZFM\",0,IF('Aferi (Variáveis)'!$C$12=\"Exportação\",0,0.65*T378/100))","v":0},0,0,0,0,0,0,0,0,0,{"$f":"SUMIF('Custo Básico dos Produtos'!$B$7:$B$480,A378,'Custo Básico dos Produtos'!$K$7:$K$480)","v":0},null,null,0,0,0,0,0,0]
[null,{"$f":"IF(Q379<>0,VLOOKUP(Q379,'Custo Básico dos Produtos'!$A$7:$J$480,3),\"\")","v":""},null,{"$f":"SUMIF('Custo Básico dos Produtos'!$A$7:$A$480,Q379,'Custo Básico dos Produtos'!$J$7:$J$480)","v":0},0,0,{"$f":"IF(B379=\"\",0,SUMIF('Cadastro de Produtos em Linha'!$B$7:$B$457,A379,'Cadastro de Produtos em Linha'!$D$7:$D$457))","v":0},null,0,0,{"$f":"IF('Aferi (Variáveis)'!$C$12=\"ALC\",0,IF('Aferi (Variáveis)'!$C$12=\"ZFM\",0,IF('Aferi (Variáveis)'!$C$12=\"Exportação\",0,IF('Aferi (Variáveis)'!$C$12=\"Venda para Exportar\",0,IF('Aferi (Variáveis)'!$C$12=\"AO\",0,SUMIF('Custo Básico dos Produtos'!$A$7:$A$480,Q379,'Custo Básico dos Produtos'!$L$7:$L$480))))))","v":0},0,0,0,0,{"$f":"SUMIF('Cadastro de Produtos em Linha'!$A$6:$A$457,Q379,'Cadastro de Produtos em Linha'!$E$6:$E$457)*H379","v":0},{"$f":"IF(TODAY()<$AK$26,IF(A379<>\"\",SUMIF('Custo Básico dos Produtos'!$B$7:$B$457,A379,'Custo Básico dos Produtos'!$A$7:$A$457),0),0)","v":0},{"$f":"IF('Aferi (Variáveis)'!$C$12=\"Venda para Exportar\",0,IF('Aferi (Variáveis)'!$C$12=\"ALC\",0,IF('Aferi (Variáveis)'!$C$12=\"ZFM\",0,IF('Aferi (Variáveis)'!$C$12=\"Exportação\",0,IF('Aferi (Variáveis)'!$C$12=\"AO\",0,E379/(100+(0*'Aferi (Variáveis)'!$K$12/100))*100*K379%/100*'Aferi (Variáveis)'!$K$12)))))","v":0},0,{"$f":"(E379*'Aferi (Variáveis)'!$K$12/100)","v":0},0,{"$f":"IF('Aferi (Variáveis)'!$F$20=\"Venda para Exportar\",0,IF('Aferi (Variáveis)'!$F$20=\"ALC\",0,IF('Aferi (Variáveis)'!$F$20=\"ZFM\",0,IF('Aferi (Variáveis)'!$F$20=\"Exportação\",0,IF('Aferi (Variáveis)'!$F$20=\"AO\",7*T379/100,T379*'Aferi (Variáveis)'!$F$20/100)))))","v":0},0,{"$f":"IF('Aferi (Variáveis)'!$C$12=\"ZFM\",0,IF('Aferi (Variáveis)'!$C$12=\"Exportação\",0,3*T379/100))","v":0},{"$f":"IF('Aferi (Variáveis)'!$C$12=\"ZFM\",0,IF('Aferi (Variáveis)'!$C$12=\"Exportação\",0,0.65*T379/100))","v":0},0,0,0,0,0,0,0,0,0,{"$f":"SUMIF('Custo Básico dos Produtos'!$B$7:$B$480,A379,'Custo Básico dos Produtos'!$K$7:$K$480)","v":0},null,null,0,0,0,0,0,0]
[null,{"$f":"IF(Q380<>0,VLOOKUP(Q380,'Custo Básico dos Produtos'!$A$7:$J$480,3),\"\")","v":""},null,{"$f":"SUMIF('Custo Básico dos Produtos'!$A$7:$A$480,Q380,'Custo Básico dos Produtos'!$J$7:$J$480)","v":0},0,0,{"$f":"IF(B380=\"\",0,SUMIF('Cadastro de Produtos em Linha'!$B$7:$B$457,A380,'Cadastro de Produtos em Linha'!$D$7:$D$457))","v":0},null,0,0,{"$f":"IF('Aferi (Variáveis)'!$C$12=\"ALC\",0,IF('Aferi (Variáveis)'!$C$12=\"ZFM\",0,IF('Aferi (Variáveis)'!$C$12=\"Exportação\",0,IF('Aferi (Variáveis)'!$C$12=\"Venda para Exportar\",0,IF('Aferi (Variáveis)'!$C$12=\"AO\",0,SUMIF('Custo Básico dos Produtos'!$A$7:$A$480,Q380,'Custo Básico dos Produtos'!$L$7:$L$480))))))","v":0},0,0,0,0,{"$f":"SUMIF('Cadastro de Produtos em Linha'!$A$6:$A$457,Q380,'Cadastro de Produtos em Linha'!$E$6:$E$457)*H380","v":0},{"$f":"IF(TODAY()<$AK$26,IF(A380<>\"\",SUMIF('Custo Básico dos Produtos'!$B$7:$B$457,A380,'Custo Básico dos Produtos'!$A$7:$A$457),0),0)","v":0},{"$f":"IF('Aferi (Variáveis)'!$C$12=\"Venda para Exportar\",0,IF('Aferi (Variáveis)'!$C$12=\"ALC\",0,IF('Aferi (Variáveis)'!$C$12=\"ZFM\",0,IF('Aferi (Variáveis)'!$C$12=\"Exportação\",0,IF('Aferi (Variáveis)'!$C$12=\"AO\",0,E380/(100+(0*'Aferi (Variáveis)'!$K$12/100))*100*K380%/100*'Aferi (Variáveis)'!$K$12)))))","v":0},0,{"$f":"(E380*'Aferi (Variáveis)'!$K$12/100)","v":0},0,{"$f":"IF('Aferi (Variáveis)'!$F$20=\"Venda para Exportar\",0,IF('Aferi (Variáveis)'!$F$20=\"ALC\",0,IF('Aferi (Variáveis)'!$F$20=\"ZFM\",0,IF('Aferi (Variáveis)'!$F$20=\"Exportação\",0,IF('Aferi (Variáveis)'!$F$20=\"AO\",7*T380/100,T380*'Aferi (Variáveis)'!$F$20/100)))))","v":0},0,{"$f":"IF('Aferi (Variáveis)'!$C$12=\"ZFM\",0,IF('Aferi (Variáveis)'!$C$12=\"Exportação\",0,3*T380/100))","v":0},{"$f":"IF('Aferi (Variáveis)'!$C$12=\"ZFM\",0,IF('Aferi (Variáveis)'!$C$12=\"Exportação\",0,0.65*T380/100))","v":0},0,0,0,0,0,0,0,0,0,{"$f":"SUMIF('Custo Básico dos Produtos'!$B$7:$B$480,A380,'Custo Básico dos Produtos'!$K$7:$K$480)","v":0},null,null,0,0,0,0,0,0]
[null,{"$f":"IF(Q381<>0,VLOOKUP(Q381,'Custo Básico dos Produtos'!$A$7:$J$480,3),\"\")","v":""},null,{"$f":"SUMIF('Custo Básico dos Produtos'!$A$7:$A$480,Q381,'Custo Básico dos Produtos'!$J$7:$J$480)","v":0},0,0,{"$f":"IF(B381=\"\",0,SUMIF('Cadastro de Produtos em Linha'!$B$7:$B$457,A381,'Cadastro de Produtos em Linha'!$D$7:$D$457))","v":0},null,0,0,{"$f":"IF('Aferi (Variáveis)'!$C$12=\"ALC\",0,IF('Aferi (Variáveis)'!$C$12=\"ZFM\",0,IF('Aferi (Variáveis)'!$C$12=\"Exportação\",0,IF('Aferi (Variáveis)'!$C$12=\"Venda para Exportar\",0,IF('Aferi (Variáveis)'!$C$12=\"AO\",0,SUMIF('Custo Básico dos Produtos'!$A$7:$A$480,Q381,'Custo Básico dos Produtos'!$L$7:$L$480))))))","v":0},0,0,0,0,{"$f":"SUMIF('Cadastro de Produtos em Linha'!$A$6:$A$457,Q381,'Cadastro de Produtos em Linha'!$E$6:$E$457)*H381","v":0},{"$f":"IF(TODAY()<$AK$26,IF(A381<>\"\",SUMIF('Custo Básico dos Produtos'!$B$7:$B$457,A381,'Custo Básico dos Produtos'!$A$7:$A$457),0),0)","v":0},{"$f":"IF('Aferi (Variáveis)'!$C$12=\"Venda para Exportar\",0,IF('Aferi (Variáveis)'!$C$12=\"ALC\",0,IF('Aferi (Variáveis)'!$C$12=\"ZFM\",0,IF('Aferi (Variáveis)'!$C$12=\"Exportação\",0,IF('Aferi (Variáveis)'!$C$12=\"AO\",0,E381/(100+(0*'Aferi (Variáveis)'!$K$12/100))*100*K381%/100*'Aferi (Variáveis)'!$K$12)))))","v":0},0,{"$f":"(E381*'Aferi (Variáveis)'!$K$12/100)","v":0},0,{"$f":"IF('Aferi (Variáveis)'!$F$20=\"Venda para Exportar\",0,IF('Aferi (Variáveis)'!$F$20=\"ALC\",0,IF('Aferi (Variáveis)'!$F$20=\"ZFM\",0,IF('Aferi (Variáveis)'!$F$20=\"Exportação\",0,IF('Aferi (Variáveis)'!$F$20=\"AO\",7*T381/100,T381*'Aferi (Variáveis)'!$F$20/100)))))","v":0},0,{"$f":"IF('Aferi (Variáveis)'!$C$12=\"ZFM\",0,IF('Aferi (Variáveis)'!$C$12=\"Exportação\",0,3*T381/100))","v":0},{"$f":"IF('Aferi (Variáveis)'!$C$12=\"ZFM\",0,IF('Aferi (Variáveis)'!$C$12=\"Exportação\",0,0.65*T381/100))","v":0},0,0,0,0,0,0,0,0,0,{"$f":"SUMIF('Custo Básico dos Produtos'!$B$7:$B$480,A381,'Custo Básico dos Produtos'!$K$7:$K$480)","v":0},null,null,0,0,0,0,0,0]
[null,{"$f":"IF(Q382<>0,VLOOKUP(Q382,'Custo Básico dos Produtos'!$A$7:$J$480,3),\"\")","v":""},null,{"$f":"SUMIF('Custo Básico dos Produtos'!$A$7:$A$480,Q382,'Custo Básico dos Produtos'!$J$7:$J$480)","v":0},0,0,{"$f":"IF(B382=\"\",0,SUMIF('Cadastro de Produtos em Linha'!$B$7:$B$457,A382,'Cadastro de Produtos em Linha'!$D$7:$D$457))","v":0},null,0,0,{"$f":"IF('Aferi (Variáveis)'!$C$12=\"ALC\",0,IF('Aferi (Variáveis)'!$C$12=\"ZFM\",0,IF('Aferi (Variáveis)'!$C$12=\"Exportação\",0,IF('Aferi (Variáveis)'!$C$12=\"Venda para Exportar\",0,IF('Aferi (Variáveis)'!$C$12=\"AO\",0,SUMIF('Custo Básico dos Produtos'!$A$7:$A$480,Q382,'Custo Básico dos Produtos'!$L$7:$L$480))))))","v":0},0,0,0,0,{"$f":"SUMIF('Cadastro de Produtos em Linha'!$A$6:$A$457,Q382,'Cadastro de Produtos em Linha'!$E$6:$E$457)*H382","v":0},{"$f":"IF(TODAY()<$AK$26,IF(A382<>\"\",SUMIF('Custo Básico dos Produtos'!$B$7:$B$457,A382,'Custo Básico dos Produtos'!$A$7:$A$457),0),0)","v":0},{"$f":"IF('Aferi (Variáveis)'!$C$12=\"Venda para Exportar\",0,IF('Aferi (Variáveis)'!$C$12=\"ALC\",0,IF('Aferi (Variáveis)'!$C$12=\"ZFM\",0,IF('Aferi (Variáveis)'!$C$12=\"Exportação\",0,IF('Aferi (Variáveis)'!$C$12=\"AO\",0,E382/(100+(0*'Aferi (Variáveis)'!$K$12/100))*100*K382%/100*'Aferi (Variáveis)'!$K$12)))))","v":0},0,{"$f":"(E382*'Aferi (Variáveis)'!$K$12/100)","v":0},0,{"$f":"IF('Aferi (Variáveis)'!$F$20=\"Venda para Exportar\",0,IF('Aferi (Variáveis)'!$F$20=\"ALC\",0,IF('Aferi (Variáveis)'!$F$20=\"ZFM\",0,IF('Aferi (Variáveis)'!$F$20=\"Exportação\",0,IF('Aferi (Variáveis)'!$F$20=\"AO\",7*T382/100,T382*'Aferi (Variáveis)'!$F$20/100)))))","v":0},0,{"$f":"IF('Aferi (Variáveis)'!$C$12=\"ZFM\",0,IF('Aferi (Variáveis)'!$C$12=\"Exportação\",0,3*T382/100))","v":0},{"$f":"IF('Aferi (Variáveis)'!$C$12=\"ZFM\",0,IF('Aferi (Variáveis)'!$C$12=\"Exportação\",0,0.65*T382/100))","v":0},0,0,0,0,0,0,0,0,0,{"$f":"SUMIF('Custo Básico dos Produtos'!$B$7:$B$480,A382,'Custo Básico dos Produtos'!$K$7:$K$480)","v":0},null,null,0,0,0,0,0,0]
[null,{"$f":"IF(Q383<>0,VLOOKUP(Q383,'Custo Básico dos Produtos'!$A$7:$J$480,3),\"\")","v":""},null,{"$f":"SUMIF('Custo Básico dos Produtos'!$A$7:$A$480,Q383,'Custo Básico dos Produtos'!$J$7:$J$480)","v":0},0,0,{"$f":"IF(B383=\"\",0,SUMIF('Cadastro de Produtos em Linha'!$B$7:$B$457,A383,'Cadastro de Produtos em Linha'!$D$7:$D$457))","v":0},null,0,0,{"$f":"IF('Aferi (Variáveis)'!$C$12=\"ALC\",0,IF('Aferi (Variáveis)'!$C$12=\"ZFM\",0,IF('Aferi (Variáveis)'!$C$12=\"Exportação\",0,IF('Aferi (Variáveis)'!$C$12=\"Venda para Exportar\",0,IF('Aferi (Variáveis)'!$C$12=\"AO\",0,SUMIF('Custo Básico dos Produtos'!$A$7:$A$480,Q383,'Custo Básico dos Produtos'!$L$7:$L$480))))))","v":0},0,0,0,0,{"$f":"SUMIF('Cadastro de Produtos em Linha'!$A$6:$A$457,Q383,'Cadastro de Produtos em Linha'!$E$6:$E$457)*H383","v":0},{"$f":"IF(TODAY()<$AK$26,IF(A383<>\"\",SUMIF('Custo Básico dos Produtos'!$B$7:$B$457,A383,'Custo Básico dos Produtos'!$A$7:$A$457),0),0)","v":0},{"$f":"IF('Aferi (Variáveis)'!$C$12=\"Venda para Exportar\",0,IF('Aferi (Variáveis)'!$C$12=\"ALC\",0,IF('Aferi (Variáveis)'!$C$12=\"ZFM\",0,IF('Aferi (Variáveis)'!$C$12=\"Exportação\",0,IF('Aferi (Variáveis)'!$C$12=\"AO\",0,E383/(100+(0*'Aferi (Variáveis)'!$K$12/100))*100*K383%/100*'Aferi (Variáveis)'!$K$12)))))","v":0},0,{"$f":"(E383*'Aferi (Variáveis)'!$K$12/100)","v":0},0,{"$f":"IF('Aferi (Variáveis)'!$F$20=\"Venda para Exportar\",0,IF('Aferi (Variáveis)'!$F$20=\"ALC\",0,IF('Aferi (Variáveis)'!$F$20=\"ZFM\",0,IF('Aferi (Variáveis)'!$F$20=\"Exportação\",0,IF('Aferi (Variáveis)'!$F$20=\"AO\",7*T383/100,T383*'Aferi (Variáveis)'!$F$20/100)))))","v":0},0,{"$f":"IF('Aferi (Variáveis)'!$C$12=\"ZFM\",0,IF('Aferi (Variáveis)'!$C$12=\"Exportação\",0,3*T383/100))","v":0},{"$f":"IF('Aferi (Variáveis)'!$C$12=\"ZFM\",0,IF('Aferi (Variáveis)'!$C$12=\"Exportação\",0,0.65*T383/100))","v":0},0,0,0,0,0,0,0,0,0,{"$f":"SUMIF('Custo Básico dos Produtos'!$B$7:$B$480,A383,'Custo Básico dos Produtos'!$K$7:$K$480)","v":0},null,null,0,0,0,0,0,0]
[null,{"$f":"IF(Q384<>0,VLOOKUP(Q384,'Custo Básico dos Produtos'!$A$7:$J$480,3),\"\")","v":""},null,{"$f":"SUMIF('Custo Básico dos Produtos'!$A$7:$A$480,Q384,'Custo Básico dos Produtos'!$J$7:$J$480)","v":0},0,0,{"$f":"IF(B384=\"\",0,SUMIF('Cadastro de Produtos em Linha'!$B$7:$B$457,A384,'Cadastro de Produtos em Linha'!$D$7:$D$457))","v":0},null,0,0,{"$f":"IF('Aferi (Variáveis)'!$C$12=\"ALC\",0,IF('Aferi (Variáveis)'!$C$12=\"ZFM\",0,IF('Aferi (Variáveis)'!$C$12=\"Exportação\",0,IF('Aferi (Variáveis)'!$C$12=\"Venda para Exportar\",0,IF('Aferi (Variáveis)'!$C$12=\"AO\",0,SUMIF('Custo Básico dos Produtos'!$A$7:$A$480,Q384,'Custo Básico dos Produtos'!$L$7:$L$480))))))","v":0},0,0,0,0,{"$f":"SUMIF('Cadastro de Produtos em Linha'!$A$6:$A$457,Q384,'Cadastro de Produtos em Linha'!$E$6:$E$457)*H384","v":0},{"$f":"IF(TODAY()<$AK$26,IF(A384<>\"\",SUMIF('Custo Básico dos Produtos'!$B$7:$B$457,A384,'Custo Básico dos Produtos'!$A$7:$A$457),0),0)","v":0},{"$f":"IF('Aferi (Variáveis)'!$C$12=\"Venda para Exportar\",0,IF('Aferi (Variáveis)'!$C$12=\"ALC\",0,IF('Aferi (Variáveis)'!$C$12=\"ZFM\",0,IF('Aferi (Variáveis)'!$C$12=\"Exportação\",0,IF('Aferi (Variáveis)'!$C$12=\"AO\",0,E384/(100+(0*'Aferi (Variáveis)'!$K$12/100))*100*K384%/100*'Aferi (Variáveis)'!$K$12)))))","v":0},0,{"$f":"(E384*'Aferi (Variáveis)'!$K$12/100)","v":0},0,{"$f":"IF('Aferi (Variáveis)'!$F$20=\"Venda para Exportar\",0,IF('Aferi (Variáveis)'!$F$20=\"ALC\",0,IF('Aferi (Variáveis)'!$F$20=\"ZFM\",0,IF('Aferi (Variáveis)'!$F$20=\"Exportação\",0,IF('Aferi (Variáveis)'!$F$20=\"AO\",7*T384/100,T384*'Aferi (Variáveis)'!$F$20/100)))))","v":0},0,{"$f":"IF('Aferi (Variáveis)'!$C$12=\"ZFM\",0,IF('Aferi (Variáveis)'!$C$12=\"Exportação\",0,3*T384/100))","v":0},{"$f":"IF('Aferi (Variáveis)'!$C$12=\"ZFM\",0,IF('Aferi (Variáveis)'!$C$12=\"Exportação\",0,0.65*T384/100))","v":0},0,0,0,0,0,0,0,0,0,{"$f":"SUMIF('Custo Básico dos Produtos'!$B$7:$B$480,A384,'Custo Básico dos Produtos'!$K$7:$K$480)","v":0},null,null,0,0,0,0,0,0]
[null,{"$f":"IF(Q385<>0,VLOOKUP(Q385,'Custo Básico dos Produtos'!$A$7:$J$480,3),\"\")","v":""},null,{"$f":"SUMIF('Custo Básico dos Produtos'!$A$7:$A$480,Q385,'Custo Básico dos Produtos'!$J$7:$J$480)","v":0},0,0,{"$f":"IF(B385=\"\",0,SUMIF('Cadastro de Produtos em Linha'!$B$7:$B$457,A385,'Cadastro de Produtos em Linha'!$D$7:$D$457))","v":0},null,0,0,{"$f":"IF('Aferi (Variáveis)'!$C$12=\"ALC\",0,IF('Aferi (Variáveis)'!$C$12=\"ZFM\",0,IF('Aferi (Variáveis)'!$C$12=\"Exportação\",0,IF('Aferi (Variáveis)'!$C$12=\"Venda para Exportar\",0,IF('Aferi (Variáveis)'!$C$12=\"AO\",0,SUMIF('Custo Básico dos Produtos'!$A$7:$A$480,Q385,'Custo Básico dos Produtos'!$L$7:$L$480))))))","v":0},0,0,0,0,{"$f":"SUMIF('Cadastro de Produtos em Linha'!$A$6:$A$457,Q385,'Cadastro de Produtos em Linha'!$E$6:$E$457)*H385","v":0},{"$f":"IF(TODAY()<$AK$26,IF(A385<>\"\",SUMIF('Custo Básico dos Produtos'!$B$7:$B$457,A385,'Custo Básico dos Produtos'!$A$7:$A$457),0),0)","v":0},{"$f":"IF('Aferi (Variáveis)'!$C$12=\"Venda para Exportar\",0,IF('Aferi (Variáveis)'!$C$12=\"ALC\",0,IF('Aferi (Variáveis)'!$C$12=\"ZFM\",0,IF('Aferi (Variáveis)'!$C$12=\"Exportação\",0,IF('Aferi (Variáveis)'!$C$12=\"AO\",0,E385/(100+(0*'Aferi (Variáveis)'!$K$12/100))*100*K385%/100*'Aferi (Variáveis)'!$K$12)))))","v":0},0,{"$f":"(E385*'Aferi (Variáveis)'!$K$12/100)","v":0},0,{"$f":"IF('Aferi (Variáveis)'!$F$20=\"Venda para Exportar\",0,IF('Aferi (Variáveis)'!$F$20=\"ALC\",0,IF('Aferi (Variáveis)'!$F$20=\"ZFM\",0,IF('Aferi (Variáveis)'!$F$20=\"Exportação\",0,IF('Aferi (Variáveis)'!$F$20=\"AO\",7*T385/100,T385*'Aferi (Variáveis)'!$F$20/100)))))","v":0},0,{"$f":"IF('Aferi (Variáveis)'!$C$12=\"ZFM\",0,IF('Aferi (Variáveis)'!$C$12=\"Exportação\",0,3*T385/100))","v":0},{"$f":"IF('Aferi (Variáveis)'!$C$12=\"ZFM\",0,IF('Aferi (Variáveis)'!$C$12=\"Exportação\",0,0.65*T385/100))","v":0},0,0,0,0,0,0,0,0,0,{"$f":"SUMIF('Custo Básico dos Produtos'!$B$7:$B$480,A385,'Custo Básico dos Produtos'!$K$7:$K$480)","v":0},null,null,0,0,0,0,0,0]
[null,{"$f":"IF(Q386<>0,VLOOKUP(Q386,'Custo Básico dos Produtos'!$A$7:$J$480,3),\"\")","v":""},null,{"$f":"SUMIF('Custo Básico dos Produtos'!$A$7:$A$480,Q386,'Custo Básico dos Produtos'!$J$7:$J$480)","v":0},0,0,{"$f":"IF(B386=\"\",0,SUMIF('Cadastro de Produtos em Linha'!$B$7:$B$457,A386,'Cadastro de Produtos em Linha'!$D$7:$D$457))","v":0},null,0,0,{"$f":"IF('Aferi (Variáveis)'!$C$12=\"ALC\",0,IF('Aferi (Variáveis)'!$C$12=\"ZFM\",0,IF('Aferi (Variáveis)'!$C$12=\"Exportação\",0,IF('Aferi (Variáveis)'!$C$12=\"Venda para Exportar\",0,IF('Aferi (Variáveis)'!$C$12=\"AO\",0,SUMIF('Custo Básico dos Produtos'!$A$7:$A$480,Q386,'Custo Básico dos Produtos'!$L$7:$L$480))))))","v":0},0,0,0,0,{"$f":"SUMIF('Cadastro de Produtos em Linha'!$A$6:$A$457,Q386,'Cadastro de Produtos em Linha'!$E$6:$E$457)*H386","v":0},{"$f":"IF(TODAY()<$AK$26,IF(A386<>\"\",SUMIF('Custo Básico dos Produtos'!$B$7:$B$457,A386,'Custo Básico dos Produtos'!$A$7:$A$457),0),0)","v":0},{"$f":"IF('Aferi (Variáveis)'!$C$12=\"Venda para Exportar\",0,IF('Aferi (Variáveis)'!$C$12=\"ALC\",0,IF('Aferi (Variáveis)'!$C$12=\"ZFM\",0,IF('Aferi (Variáveis)'!$C$12=\"Exportação\",0,IF('Aferi (Variáveis)'!$C$12=\"AO\",0,E386/(100+(0*'Aferi (Variáveis)'!$K$12/100))*100*K386%/100*'Aferi (Variáveis)'!$K$12)))))","v":0},0,{"$f":"(E386*'Aferi (Variáveis)'!$K$12/100)","v":0},0,{"$f":"IF('Aferi (Variáveis)'!$F$20=\"Venda para Exportar\",0,IF('Aferi (Variáveis)'!$F$20=\"ALC\",0,IF('Aferi (Variáveis)'!$F$20=\"ZFM\",0,IF('Aferi (Variáveis)'!$F$20=\"Exportação\",0,IF('Aferi (Variáveis)'!$F$20=\"AO\",7*T386/100,T386*'Aferi (Variáveis)'!$F$20/100)))))","v":0},0,{"$f":"IF('Aferi (Variáveis)'!$C$12=\"ZFM\",0,IF('Aferi (Variáveis)'!$C$12=\"Exportação\",0,3*T386/100))","v":0},{"$f":"IF('Aferi (Variáveis)'!$C$12=\"ZFM\",0,IF('Aferi (Variáveis)'!$C$12=\"Exportação\",0,0.65*T386/100))","v":0},0,0,0,0,0,0,0,0,0,{"$f":"SUMIF('Custo Básico dos Produtos'!$B$7:$B$480,A386,'Custo Básico dos Produtos'!$K$7:$K$480)","v":0},null,null,0,0,0,0,0,0]
[null,{"$f":"IF(Q387<>0,VLOOKUP(Q387,'Custo Básico dos Produtos'!$A$7:$J$480,3),\"\")","v":""},null,{"$f":"SUMIF('Custo Básico dos Produtos'!$A$7:$A$480,Q387,'Custo Básico dos Produtos'!$J$7:$J$480)","v":0},0,0,{"$f":"IF(B387=\"\",0,SUMIF('Cadastro de Produtos em Linha'!$B$7:$B$457,A387,'Cadastro de Produtos em Linha'!$D$7:$D$457))","v":0},null,0,0,{"$f":"IF('Aferi (Variáveis)'!$C$12=\"ALC\",0,IF('Aferi (Variáveis)'!$C$12=\"ZFM\",0,IF('Aferi (Variáveis)'!$C$12=\"Exportação\",0,IF('Aferi (Variáveis)'!$C$12=\"Venda para Exportar\",0,IF('Aferi (Variáveis)'!$C$12=\"AO\",0,SUMIF('Custo Básico dos Produtos'!$A$7:$A$480,Q387,'Custo Básico dos Produtos'!$L$7:$L$480))))))","v":0},0,0,0,0,{"$f":"SUMIF('Cadastro de Produtos em Linha'!$A$6:$A$457,Q387,'Cadastro de Produtos em Linha'!$E$6:$E$457)*H387","v":0},{"$f":"IF(TODAY()<$AK$26,IF(A387<>\"\",SUMIF('Custo Básico dos Produtos'!$B$7:$B$457,A387,'Custo Básico dos Produtos'!$A$7:$A$457),0),0)","v":0},{"$f":"IF('Aferi (Variáveis)'!$C$12=\"Venda para Exportar\",0,IF('Aferi (Variáveis)'!$C$12=\"ALC\",0,IF('Aferi (Variáveis)'!$C$12=\"ZFM\",0,IF('Aferi (Variáveis)'!$C$12=\"Exportação\",0,IF('Aferi (Variáveis)'!$C$12=\"AO\",0,E387/(100+(0*'Aferi (Variáveis)'!$K$12/100))*100*K387%/100*'Aferi (Variáveis)'!$K$12)))))","v":0},0,{"$f":"(E387*'Aferi (Variáveis)'!$K$12/100)","v":0},0,{"$f":"IF('Aferi (Variáveis)'!$F$20=\"Venda para Exportar\",0,IF('Aferi (Variáveis)'!$F$20=\"ALC\",0,IF('Aferi (Variáveis)'!$F$20=\"ZFM\",0,IF('Aferi (Variáveis)'!$F$20=\"Exportação\",0,IF('Aferi (Variáveis)'!$F$20=\"AO\",7*T387/100,T387*'Aferi (Variáveis)'!$F$20/100)))))","v":0},0,{"$f":"IF('Aferi (Variáveis)'!$C$12=\"ZFM\",0,IF('Aferi (Variáveis)'!$C$12=\"Exportação\",0,3*T387/100))","v":0},{"$f":"IF('Aferi (Variáveis)'!$C$12=\"ZFM\",0,IF('Aferi (Variáveis)'!$C$12=\"Exportação\",0,0.65*T387/100))","v":0},0,0,0,0,0,0,0,0,0,{"$f":"SUMIF('Custo Básico dos Produtos'!$B$7:$B$480,A387,'Custo Básico dos Produtos'!$K$7:$K$480)","v":0},null,null,0,0,0,0,0,0]
[null,{"$f":"IF(Q388<>0,VLOOKUP(Q388,'Custo Básico dos Produtos'!$A$7:$J$480,3),\"\")","v":""},null,{"$f":"SUMIF('Custo Básico dos Produtos'!$A$7:$A$480,Q388,'Custo Básico dos Produtos'!$J$7:$J$480)","v":0},0,0,{"$f":"IF(B388=\"\",0,SUMIF('Cadastro de Produtos em Linha'!$B$7:$B$457,A388,'Cadastro de Produtos em Linha'!$D$7:$D$457))","v":0},null,0,0,{"$f":"IF('Aferi (Variáveis)'!$C$12=\"ALC\",0,IF('Aferi (Variáveis)'!$C$12=\"ZFM\",0,IF('Aferi (Variáveis)'!$C$12=\"Exportação\",0,IF('Aferi (Variáveis)'!$C$12=\"Venda para Exportar\",0,IF('Aferi (Variáveis)'!$C$12=\"AO\",0,SUMIF('Custo Básico dos Produtos'!$A$7:$A$480,Q388,'Custo Básico dos Produtos'!$L$7:$L$480))))))","v":0},0,0,0,0,{"$f":"SUMIF('Cadastro de Produtos em Linha'!$A$6:$A$457,Q388,'Cadastro de Produtos em Linha'!$E$6:$E$457)*H388","v":0},{"$f":"IF(TODAY()<$AK$26,IF(A388<>\"\",SUMIF('Custo Básico dos Produtos'!$B$7:$B$457,A388,'Custo Básico dos Produtos'!$A$7:$A$457),0),0)","v":0},{"$f":"IF('Aferi (Variáveis)'!$C$12=\"Venda para Exportar\",0,IF('Aferi (Variáveis)'!$C$12=\"ALC\",0,IF('Aferi (Variáveis)'!$C$12=\"ZFM\",0,IF('Aferi (Variáveis)'!$C$12=\"Exportação\",0,IF('Aferi (Variáveis)'!$C$12=\"AO\",0,E388/(100+(0*'Aferi (Variáveis)'!$K$12/100))*100*K388%/100*'Aferi (Variáveis)'!$K$12)))))","v":0},0,{"$f":"(E388*'Aferi (Variáveis)'!$K$12/100)","v":0},0,{"$f":"IF('Aferi (Variáveis)'!$F$20=\"Venda para Exportar\",0,IF('Aferi (Variáveis)'!$F$20=\"ALC\",0,IF('Aferi (Variáveis)'!$F$20=\"ZFM\",0,IF('Aferi (Variáveis)'!$F$20=\"Exportação\",0,IF('Aferi (Variáveis)'!$F$20=\"AO\",7*T388/100,T388*'Aferi (Variáveis)'!$F$20/100)))))","v":0},0,{"$f":"IF('Aferi (Variáveis)'!$C$12=\"ZFM\",0,IF('Aferi (Variáveis)'!$C$12=\"Exportação\",0,3*T388/100))","v":0},{"$f":"IF('Aferi (Variáveis)'!$C$12=\"ZFM\",0,IF('Aferi (Variáveis)'!$C$12=\"Exportação\",0,0.65*T388/100))","v":0},0,0,0,0,0,0,0,0,0,{"$f":"SUMIF('Custo Básico dos Produtos'!$B$7:$B$480,A388,'Custo Básico dos Produtos'!$K$7:$K$480)","v":0},null,null,0,0,0,0,0,0]
[null,{"$f":"IF(Q389<>0,VLOOKUP(Q389,'Custo Básico dos Produtos'!$A$7:$J$480,3),\"\")","v":""},null,{"$f":"SUMIF('Custo Básico dos Produtos'!$A$7:$A$480,Q389,'Custo Básico dos Produtos'!$J$7:$J$480)","v":0},0,0,{"$f":"IF(B389=\"\",0,SUMIF('Cadastro de Produtos em Linha'!$B$7:$B$457,A389,'Cadastro de Produtos em Linha'!$D$7:$D$457))","v":0},null,0,0,{"$f":"IF('Aferi (Variáveis)'!$C$12=\"ALC\",0,IF('Aferi (Variáveis)'!$C$12=\"ZFM\",0,IF('Aferi (Variáveis)'!$C$12=\"Exportação\",0,IF('Aferi (Variáveis)'!$C$12=\"Venda para Exportar\",0,IF('Aferi (Variáveis)'!$C$12=\"AO\",0,SUMIF('Custo Básico dos Produtos'!$A$7:$A$480,Q389,'Custo Básico dos Produtos'!$L$7:$L$480))))))","v":0},0,0,0,0,{"$f":"SUMIF('Cadastro de Produtos em Linha'!$A$6:$A$457,Q389,'Cadastro de Produtos em Linha'!$E$6:$E$457)*H389","v":0},{"$f":"IF(TODAY()<$AK$26,IF(A389<>\"\",SUMIF('Custo Básico dos Produtos'!$B$7:$B$457,A389,'Custo Básico dos Produtos'!$A$7:$A$457),0),0)","v":0},{"$f":"IF('Aferi (Variáveis)'!$C$12=\"Venda para Exportar\",0,IF('Aferi (Variáveis)'!$C$12=\"ALC\",0,IF('Aferi (Variáveis)'!$C$12=\"ZFM\",0,IF('Aferi (Variáveis)'!$C$12=\"Exportação\",0,IF('Aferi (Variáveis)'!$C$12=\"AO\",0,E389/(100+(0*'Aferi (Variáveis)'!$K$12/100))*100*K389%/100*'Aferi (Variáveis)'!$K$12)))))","v":0},0,{"$f":"(E389*'Aferi (Variáveis)'!$K$12/100)","v":0},0,{"$f":"IF('Aferi (Variáveis)'!$F$20=\"Venda para Exportar\",0,IF('Aferi (Variáveis)'!$F$20=\"ALC\",0,IF('Aferi (Variáveis)'!$F$20=\"ZFM\",0,IF('Aferi (Variáveis)'!$F$20=\"Exportação\",0,IF('Aferi (Variáveis)'!$F$20=\"AO\",7*T389/100,T389*'Aferi (Variáveis)'!$F$20/100)))))","v":0},0,{"$f":"IF('Aferi (Variáveis)'!$C$12=\"ZFM\",0,IF('Aferi (Variáveis)'!$C$12=\"Exportação\",0,3*T389/100))","v":0},{"$f":"IF('Aferi (Variáveis)'!$C$12=\"ZFM\",0,IF('Aferi (Variáveis)'!$C$12=\"Exportação\",0,0.65*T389/100))","v":0},0,0,0,0,0,0,0,0,0,{"$f":"SUMIF('Custo Básico dos Produtos'!$B$7:$B$480,A389,'Custo Básico dos Produtos'!$K$7:$K$480)","v":0},null,null,0,0,0,0,0,0]
[null,{"$f":"IF(Q390<>0,VLOOKUP(Q390,'Custo Básico dos Produtos'!$A$7:$J$480,3),\"\")","v":""},null,{"$f":"SUMIF('Custo Básico dos Produtos'!$A$7:$A$480,Q390,'Custo Básico dos Produtos'!$J$7:$J$480)","v":0},0,0,{"$f":"IF(B390=\"\",0,SUMIF('Cadastro de Produtos em Linha'!$B$7:$B$457,A390,'Cadastro de Produtos em Linha'!$D$7:$D$457))","v":0},null,0,0,{"$f":"IF('Aferi (Variáveis)'!$C$12=\"ALC\",0,IF('Aferi (Variáveis)'!$C$12=\"ZFM\",0,IF('Aferi (Variáveis)'!$C$12=\"Exportação\",0,IF('Aferi (Variáveis)'!$C$12=\"Venda para Exportar\",0,IF('Aferi (Variáveis)'!$C$12=\"AO\",0,SUMIF('Custo Básico dos Produtos'!$A$7:$A$480,Q390,'Custo Básico dos Produtos'!$L$7:$L$480))))))","v":0},0,0,0,0,{"$f":"SUMIF('Cadastro de Produtos em Linha'!$A$6:$A$457,Q390,'Cadastro de Produtos em Linha'!$E$6:$E$457)*H390","v":0},{"$f":"IF(TODAY()<$AK$26,IF(A390<>\"\",SUMIF('Custo Básico dos Produtos'!$B$7:$B$457,A390,'Custo Básico dos Produtos'!$A$7:$A$457),0),0)","v":0},{"$f":"IF('Aferi (Variáveis)'!$C$12=\"Venda para Exportar\",0,IF('Aferi (Variáveis)'!$C$12=\"ALC\",0,IF('Aferi (Variáveis)'!$C$12=\"ZFM\",0,IF('Aferi (Variáveis)'!$C$12=\"Exportação\",0,IF('Aferi (Variáveis)'!$C$12=\"AO\",0,E390/(100+(0*'Aferi (Variáveis)'!$K$12/100))*100*K390%/100*'Aferi (Variáveis)'!$K$12)))))","v":0},0,{"$f":"(E390*'Aferi (Variáveis)'!$K$12/100)","v":0},0,{"$f":"IF('Aferi (Variáveis)'!$F$20=\"Venda para Exportar\",0,IF('Aferi (Variáveis)'!$F$20=\"ALC\",0,IF('Aferi (Variáveis)'!$F$20=\"ZFM\",0,IF('Aferi (Variáveis)'!$F$20=\"Exportação\",0,IF('Aferi (Variáveis)'!$F$20=\"AO\",7*T390/100,T390*'Aferi (Variáveis)'!$F$20/100)))))","v":0},0,{"$f":"IF('Aferi (Variáveis)'!$C$12=\"ZFM\",0,IF('Aferi (Variáveis)'!$C$12=\"Exportação\",0,3*T390/100))","v":0},{"$f":"IF('Aferi (Variáveis)'!$C$12=\"ZFM\",0,IF('Aferi (Variáveis)'!$C$12=\"Exportação\",0,0.65*T390/100))","v":0},0,0,0,0,0,0,0,0,0,{"$f":"SUMIF('Custo Básico dos Produtos'!$B$7:$B$480,A390,'Custo Básico dos Produtos'!$K$7:$K$480)","v":0},null,null,0,0,0,0,0,0]
[null,{"$f":"IF(Q391<>0,VLOOKUP(Q391,'Custo Básico dos Produtos'!$A$7:$J$480,3),\"\")","v":""},null,{"$f":"SUMIF('Custo Básico dos Produtos'!$A$7:$A$480,Q391,'Custo Básico dos Produtos'!$J$7:$J$480)","v":0},0,0,{"$f":"IF(B391=\"\",0,SUMIF('Cadastro de Produtos em Linha'!$B$7:$B$457,A391,'Cadastro de Produtos em Linha'!$D$7:$D$457))","v":0},null,0,0,{"$f":"IF('Aferi (Variáveis)'!$C$12=\"ALC\",0,IF('Aferi (Variáveis)'!$C$12=\"ZFM\",0,IF('Aferi (Variáveis)'!$C$12=\"Exportação\",0,IF('Aferi (Variáveis)'!$C$12=\"Venda para Exportar\",0,IF('Aferi (Variáveis)'!$C$12=\"AO\",0,SUMIF('Custo Básico dos Produtos'!$A$7:$A$480,Q391,'Custo Básico dos Produtos'!$L$7:$L$480))))))","v":0},0,0,0,0,{"$f":"SUMIF('Cadastro de Produtos em Linha'!$A$6:$A$457,Q391,'Cadastro de Produtos em Linha'!$E$6:$E$457)*H391","v":0},{"$f":"IF(TODAY()<$AK$26,IF(A391<>\"\",SUMIF('Custo Básico dos Produtos'!$B$7:$B$457,A391,'Custo Básico dos Produtos'!$A$7:$A$457),0),0)","v":0},{"$f":"IF('Aferi (Variáveis)'!$C$12=\"Venda para Exportar\",0,IF('Aferi (Variáveis)'!$C$12=\"ALC\",0,IF('Aferi (Variáveis)'!$C$12=\"ZFM\",0,IF('Aferi (Variáveis)'!$C$12=\"Exportação\",0,IF('Aferi (Variáveis)'!$C$12=\"AO\",0,E391/(100+(0*'Aferi (Variáveis)'!$K$12/100))*100*K391%/100*'Aferi (Variáveis)'!$K$12)))))","v":0},0,{"$f":"(E391*'Aferi (Variáveis)'!$K$12/100)","v":0},0,{"$f":"IF('Aferi (Variáveis)'!$F$20=\"Venda para Exportar\",0,IF('Aferi (Variáveis)'!$F$20=\"ALC\",0,IF('Aferi (Variáveis)'!$F$20=\"ZFM\",0,IF('Aferi (Variáveis)'!$F$20=\"Exportação\",0,IF('Aferi (Variáveis)'!$F$20=\"AO\",7*T391/100,T391*'Aferi (Variáveis)'!$F$20/100)))))","v":0},0,{"$f":"IF('Aferi (Variáveis)'!$C$12=\"ZFM\",0,IF('Aferi (Variáveis)'!$C$12=\"Exportação\",0,3*T391/100))","v":0},{"$f":"IF('Aferi (Variáveis)'!$C$12=\"ZFM\",0,IF('Aferi (Variáveis)'!$C$12=\"Exportação\",0,0.65*T391/100))","v":0},0,0,0,0,0,0,0,0,0,{"$f":"SUMIF('Custo Básico dos Produtos'!$B$7:$B$480,A391,'Custo Básico dos Produtos'!$K$7:$K$480)","v":0},null,null,0,0,0,0,0,0]
[null,{"$f":"IF(Q392<>0,VLOOKUP(Q392,'Custo Básico dos Produtos'!$A$7:$J$480,3),\"\")","v":""},null,{"$f":"SUMIF('Custo Básico dos Produtos'!$A$7:$A$480,Q392,'Custo Básico dos Produtos'!$J$7:$J$480)","v":0},0,0,{"$f":"IF(B392=\"\",0,SUMIF('Cadastro de Produtos em Linha'!$B$7:$B$457,A392,'Cadastro de Produtos em Linha'!$D$7:$D$457))","v":0},null,0,0,{"$f":"IF('Aferi (Variáveis)'!$C$12=\"ALC\",0,IF('Aferi (Variáveis)'!$C$12=\"ZFM\",0,IF('Aferi (Variáveis)'!$C$12=\"Exportação\",0,IF('Aferi (Variáveis)'!$C$12=\"Venda para Exportar\",0,IF('Aferi (Variáveis)'!$C$12=\"AO\",0,SUMIF('Custo Básico dos Produtos'!$A$7:$A$480,Q392,'Custo Básico dos Produtos'!$L$7:$L$480))))))","v":0},0,0,0,0,{"$f":"SUMIF('Cadastro de Produtos em Linha'!$A$6:$A$457,Q392,'Cadastro de Produtos em Linha'!$E$6:$E$457)*H392","v":0},{"$f":"IF(TODAY()<$AK$26,IF(A392<>\"\",SUMIF('Custo Básico dos Produtos'!$B$7:$B$457,A392,'Custo Básico dos Produtos'!$A$7:$A$457),0),0)","v":0},{"$f":"IF('Aferi (Variáveis)'!$C$12=\"Venda para Exportar\",0,IF('Aferi (Variáveis)'!$C$12=\"ALC\",0,IF('Aferi (Variáveis)'!$C$12=\"ZFM\",0,IF('Aferi (Variáveis)'!$C$12=\"Exportação\",0,IF('Aferi (Variáveis)'!$C$12=\"AO\",0,E392/(100+(0*'Aferi (Variáveis)'!$K$12/100))*100*K392%/100*'Aferi (Variáveis)'!$K$12)))))","v":0},0,{"$f":"(E392*'Aferi (Variáveis)'!$K$12/100)","v":0},0,{"$f":"IF('Aferi (Variáveis)'!$F$20=\"Venda para Exportar\",0,IF('Aferi (Variáveis)'!$F$20=\"ALC\",0,IF('Aferi (Variáveis)'!$F$20=\"ZFM\",0,IF('Aferi (Variáveis)'!$F$20=\"Exportação\",0,IF('Aferi (Variáveis)'!$F$20=\"AO\",7*T392/100,T392*'Aferi (Variáveis)'!$F$20/100)))))","v":0},0,{"$f":"IF('Aferi (Variáveis)'!$C$12=\"ZFM\",0,IF('Aferi (Variáveis)'!$C$12=\"Exportação\",0,3*T392/100))","v":0},{"$f":"IF('Aferi (Variáveis)'!$C$12=\"ZFM\",0,IF('Aferi (Variáveis)'!$C$12=\"Exportação\",0,0.65*T392/100))","v":0},0,0,0,0,0,0,0,0,0,{"$f":"SUMIF('Custo Básico dos Produtos'!$B$7:$B$480,A392,'Custo Básico dos Produtos'!$K$7:$K$480)","v":0},null,null,0,0,0,0,0,0]
[null,{"$f":"IF(Q393<>0,VLOOKUP(Q393,'Custo Básico dos Produtos'!$A$7:$J$480,3),\"\")","v":""},null,{"$f":"SUMIF('Custo Básico dos Produtos'!$A$7:$A$480,Q393,'Custo Básico dos Produtos'!$J$7:$J$480)","v":0},0,0,{"$f":"IF(B393=\"\",0,SUMIF('Cadastro de Produtos em Linha'!$B$7:$B$457,A393,'Cadastro de Produtos em Linha'!$D$7:$D$457))","v":0},null,0,0,{"$f":"IF('Aferi (Variáveis)'!$C$12=\"ALC\",0,IF('Aferi (Variáveis)'!$C$12=\"ZFM\",0,IF('Aferi (Variáveis)'!$C$12=\"Exportação\",0,IF('Aferi (Variáveis)'!$C$12=\"Venda para Exportar\",0,IF('Aferi (Variáveis)'!$C$12=\"AO\",0,SUMIF('Custo Básico dos Produtos'!$A$7:$A$480,Q393,'Custo Básico dos Produtos'!$L$7:$L$480))))))","v":0},0,0,0,0,{"$f":"SUMIF('Cadastro de Produtos em Linha'!$A$6:$A$457,Q393,'Cadastro de Produtos em Linha'!$E$6:$E$457)*H393","v":0},{"$f":"IF(TODAY()<$AK$26,IF(A393<>\"\",SUMIF('Custo Básico dos Produtos'!$B$7:$B$457,A393,'Custo Básico dos Produtos'!$A$7:$A$457),0),0)","v":0},{"$f":"IF('Aferi (Variáveis)'!$C$12=\"Venda para Exportar\",0,IF('Aferi (Variáveis)'!$C$12=\"ALC\",0,IF('Aferi (Variáveis)'!$C$12=\"ZFM\",0,IF('Aferi (Variáveis)'!$C$12=\"Exportação\",0,IF('Aferi (Variáveis)'!$C$12=\"AO\",0,E393/(100+(0*'Aferi (Variáveis)'!$K$12/100))*100*K393%/100*'Aferi (Variáveis)'!$K$12)))))","v":0},0,{"$f":"(E393*'Aferi (Variáveis)'!$K$12/100)","v":0},0,{"$f":"IF('Aferi (Variáveis)'!$F$20=\"Venda para Exportar\",0,IF('Aferi (Variáveis)'!$F$20=\"ALC\",0,IF('Aferi (Variáveis)'!$F$20=\"ZFM\",0,IF('Aferi (Variáveis)'!$F$20=\"Exportação\",0,IF('Aferi (Variáveis)'!$F$20=\"AO\",7*T393/100,T393*'Aferi (Variáveis)'!$F$20/100)))))","v":0},0,{"$f":"IF('Aferi (Variáveis)'!$C$12=\"ZFM\",0,IF('Aferi (Variáveis)'!$C$12=\"Exportação\",0,3*T393/100))","v":0},{"$f":"IF('Aferi (Variáveis)'!$C$12=\"ZFM\",0,IF('Aferi (Variáveis)'!$C$12=\"Exportação\",0,0.65*T393/100))","v":0},0,0,0,0,0,0,0,0,0,{"$f":"SUMIF('Custo Básico dos Produtos'!$B$7:$B$480,A393,'Custo Básico dos Produtos'!$K$7:$K$480)","v":0},null,null,0,0,0,0,0,0]
[null,{"$f":"IF(Q394<>0,VLOOKUP(Q394,'Custo Básico dos Produtos'!$A$7:$J$480,3),\"\")","v":""},null,{"$f":"SUMIF('Custo Básico dos Produtos'!$A$7:$A$480,Q394,'Custo Básico dos Produtos'!$J$7:$J$480)","v":0},0,0,{"$f":"IF(B394=\"\",0,SUMIF('Cadastro de Produtos em Linha'!$B$7:$B$457,A394,'Cadastro de Produtos em Linha'!$D$7:$D$457))","v":0},null,0,0,{"$f":"IF('Aferi (Variáveis)'!$C$12=\"ALC\",0,IF('Aferi (Variáveis)'!$C$12=\"ZFM\",0,IF('Aferi (Variáveis)'!$C$12=\"Exportação\",0,IF('Aferi (Variáveis)'!$C$12=\"Venda para Exportar\",0,IF('Aferi (Variáveis)'!$C$12=\"AO\",0,SUMIF('Custo Básico dos Produtos'!$A$7:$A$480,Q394,'Custo Básico dos Produtos'!$L$7:$L$480))))))","v":0},0,0,0,0,{"$f":"SUMIF('Cadastro de Produtos em Linha'!$A$6:$A$457,Q394,'Cadastro de Produtos em Linha'!$E$6:$E$457)*H394","v":0},{"$f":"IF(TODAY()<$AK$26,IF(A394<>\"\",SUMIF('Custo Básico dos Produtos'!$B$7:$B$457,A394,'Custo Básico dos Produtos'!$A$7:$A$457),0),0)","v":0},{"$f":"IF('Aferi (Variáveis)'!$C$12=\"Venda para Exportar\",0,IF('Aferi (Variáveis)'!$C$12=\"ALC\",0,IF('Aferi (Variáveis)'!$C$12=\"ZFM\",0,IF('Aferi (Variáveis)'!$C$12=\"Exportação\",0,IF('Aferi (Variáveis)'!$C$12=\"AO\",0,E394/(100+(0*'Aferi (Variáveis)'!$K$12/100))*100*K394%/100*'Aferi (Variáveis)'!$K$12)))))","v":0},0,{"$f":"(E394*'Aferi (Variáveis)'!$K$12/100)","v":0},0,{"$f":"IF('Aferi (Variáveis)'!$F$20=\"Venda para Exportar\",0,IF('Aferi (Variáveis)'!$F$20=\"ALC\",0,IF('Aferi (Variáveis)'!$F$20=\"ZFM\",0,IF('Aferi (Variáveis)'!$F$20=\"Exportação\",0,IF('Aferi (Variáveis)'!$F$20=\"AO\",7*T394/100,T394*'Aferi (Variáveis)'!$F$20/100)))))","v":0},0,{"$f":"IF('Aferi (Variáveis)'!$C$12=\"ZFM\",0,IF('Aferi (Variáveis)'!$C$12=\"Exportação\",0,3*T394/100))","v":0},{"$f":"IF('Aferi (Variáveis)'!$C$12=\"ZFM\",0,IF('Aferi (Variáveis)'!$C$12=\"Exportação\",0,0.65*T394/100))","v":0},0,0,0,0,0,0,0,0,0,{"$f":"SUMIF('Custo Básico dos Produtos'!$B$7:$B$480,A394,'Custo Básico dos Produtos'!$K$7:$K$480)","v":0},null,null,0,0,0,0,0,0]
[null,{"$f":"IF(Q395<>0,VLOOKUP(Q395,'Custo Básico dos Produtos'!$A$7:$J$480,3),\"\")","v":""},null,{"$f":"SUMIF('Custo Básico dos Produtos'!$A$7:$A$480,Q395,'Custo Básico dos Produtos'!$J$7:$J$480)","v":0},0,0,{"$f":"IF(B395=\"\",0,SUMIF('Cadastro de Produtos em Linha'!$B$7:$B$457,A395,'Cadastro de Produtos em Linha'!$D$7:$D$457))","v":0},null,0,0,{"$f":"IF('Aferi (Variáveis)'!$C$12=\"ALC\",0,IF('Aferi (Variáveis)'!$C$12=\"ZFM\",0,IF('Aferi (Variáveis)'!$C$12=\"Exportação\",0,IF('Aferi (Variáveis)'!$C$12=\"Venda para Exportar\",0,IF('Aferi (Variáveis)'!$C$12=\"AO\",0,SUMIF('Custo Básico dos Produtos'!$A$7:$A$480,Q395,'Custo Básico dos Produtos'!$L$7:$L$480))))))","v":0},0,0,0,0,{"$f":"SUMIF('Cadastro de Produtos em Linha'!$A$6:$A$457,Q395,'Cadastro de Produtos em Linha'!$E$6:$E$457)*H395","v":0},{"$f":"IF(TODAY()<$AK$26,IF(A395<>\"\",SUMIF('Custo Básico dos Produtos'!$B$7:$B$457,A395,'Custo Básico dos Produtos'!$A$7:$A$457),0),0)","v":0},{"$f":"IF('Aferi (Variáveis)'!$C$12=\"Venda para Exportar\",0,IF('Aferi (Variáveis)'!$C$12=\"ALC\",0,IF('Aferi (Variáveis)'!$C$12=\"ZFM\",0,IF('Aferi (Variáveis)'!$C$12=\"Exportação\",0,IF('Aferi (Variáveis)'!$C$12=\"AO\",0,E395/(100+(0*'Aferi (Variáveis)'!$K$12/100))*100*K395%/100*'Aferi (Variáveis)'!$K$12)))))","v":0},0,{"$f":"(E395*'Aferi (Variáveis)'!$K$12/100)","v":0},0,{"$f":"IF('Aferi (Variáveis)'!$F$20=\"Venda para Exportar\",0,IF('Aferi (Variáveis)'!$F$20=\"ALC\",0,IF('Aferi (Variáveis)'!$F$20=\"ZFM\",0,IF('Aferi (Variáveis)'!$F$20=\"Exportação\",0,IF('Aferi (Variáveis)'!$F$20=\"AO\",7*T395/100,T395*'Aferi (Variáveis)'!$F$20/100)))))","v":0},0,{"$f":"IF('Aferi (Variáveis)'!$C$12=\"ZFM\",0,IF('Aferi (Variáveis)'!$C$12=\"Exportação\",0,3*T395/100))","v":0},{"$f":"IF('Aferi (Variáveis)'!$C$12=\"ZFM\",0,IF('Aferi (Variáveis)'!$C$12=\"Exportação\",0,0.65*T395/100))","v":0},0,0,0,0,0,0,0,0,0,{"$f":"SUMIF('Custo Básico dos Produtos'!$B$7:$B$480,A395,'Custo Básico dos Produtos'!$K$7:$K$480)","v":0},null,null,0,0,0,0,0,0]
[null,{"$f":"IF(Q396<>0,VLOOKUP(Q396,'Custo Básico dos Produtos'!$A$7:$J$480,3),\"\")","v":""},null,{"$f":"SUMIF('Custo Básico dos Produtos'!$A$7:$A$480,Q396,'Custo Básico dos Produtos'!$J$7:$J$480)","v":0},0,0,{"$f":"IF(B396=\"\",0,SUMIF('Cadastro de Produtos em Linha'!$B$7:$B$457,A396,'Cadastro de Produtos em Linha'!$D$7:$D$457))","v":0},null,0,0,{"$f":"IF('Aferi (Variáveis)'!$C$12=\"ALC\",0,IF('Aferi (Variáveis)'!$C$12=\"ZFM\",0,IF('Aferi (Variáveis)'!$C$12=\"Exportação\",0,IF('Aferi (Variáveis)'!$C$12=\"Venda para Exportar\",0,IF('Aferi (Variáveis)'!$C$12=\"AO\",0,SUMIF('Custo Básico dos Produtos'!$A$7:$A$480,Q396,'Custo Básico dos Produtos'!$L$7:$L$480))))))","v":0},0,0,0,0,{"$f":"SUMIF('Cadastro de Produtos em Linha'!$A$6:$A$457,Q396,'Cadastro de Produtos em Linha'!$E$6:$E$457)*H396","v":0},{"$f":"IF(TODAY()<$AK$26,IF(A396<>\"\",SUMIF('Custo Básico dos Produtos'!$B$7:$B$457,A396,'Custo Básico dos Produtos'!$A$7:$A$457),0),0)","v":0},{"$f":"IF('Aferi (Variáveis)'!$C$12=\"Venda para Exportar\",0,IF('Aferi (Variáveis)'!$C$12=\"ALC\",0,IF('Aferi (Variáveis)'!$C$12=\"ZFM\",0,IF('Aferi (Variáveis)'!$C$12=\"Exportação\",0,IF('Aferi (Variáveis)'!$C$12=\"AO\",0,E396/(100+(0*'Aferi (Variáveis)'!$K$12/100))*100*K396%/100*'Aferi (Variáveis)'!$K$12)))))","v":0},0,{"$f":"(E396*'Aferi (Variáveis)'!$K$12/100)","v":0},0,{"$f":"IF('Aferi (Variáveis)'!$F$20=\"Venda para Exportar\",0,IF('Aferi (Variáveis)'!$F$20=\"ALC\",0,IF('Aferi (Variáveis)'!$F$20=\"ZFM\",0,IF('Aferi (Variáveis)'!$F$20=\"Exportação\",0,IF('Aferi (Variáveis)'!$F$20=\"AO\",7*T396/100,T396*'Aferi (Variáveis)'!$F$20/100)))))","v":0},0,{"$f":"IF('Aferi (Variáveis)'!$C$12=\"ZFM\",0,IF('Aferi (Variáveis)'!$C$12=\"Exportação\",0,3*T396/100))","v":0},{"$f":"IF('Aferi (Variáveis)'!$C$12=\"ZFM\",0,IF('Aferi (Variáveis)'!$C$12=\"Exportação\",0,0.65*T396/100))","v":0},0,0,0,0,0,0,0,0,0,{"$f":"SUMIF('Custo Básico dos Produtos'!$B$7:$B$480,A396,'Custo Básico dos Produtos'!$K$7:$K$480)","v":0},null,null,0,0,0,0,0,0]
[null,{"$f":"IF(Q397<>0,VLOOKUP(Q397,'Custo Básico dos Produtos'!$A$7:$J$480,3),\"\")","v":""},null,{"$f":"SUMIF('Custo Básico dos Produtos'!$A$7:$A$480,Q397,'Custo Básico dos Produtos'!$J$7:$J$480)","v":0},0,0,{"$f":"IF(B397=\"\",0,SUMIF('Cadastro de Produtos em Linha'!$B$7:$B$457,A397,'Cadastro de Produtos em Linha'!$D$7:$D$457))","v":0},null,0,0,{"$f":"IF('Aferi (Variáveis)'!$C$12=\"ALC\",0,IF('Aferi (Variáveis)'!$C$12=\"ZFM\",0,IF('Aferi (Variáveis)'!$C$12=\"Exportação\",0,IF('Aferi (Variáveis)'!$C$12=\"Venda para Exportar\",0,IF('Aferi (Variáveis)'!$C$12=\"AO\",0,SUMIF('Custo Básico dos Produtos'!$A$7:$A$480,Q397,'Custo Básico dos Produtos'!$L$7:$L$480))))))","v":0},0,0,0,0,{"$f":"SUMIF('Cadastro de Produtos em Linha'!$A$6:$A$457,Q397,'Cadastro de Produtos em Linha'!$E$6:$E$457)*H397","v":0},{"$f":"IF(TODAY()<$AK$26,IF(A397<>\"\",SUMIF('Custo Básico dos Produtos'!$B$7:$B$457,A397,'Custo Básico dos Produtos'!$A$7:$A$457),0),0)","v":0},{"$f":"IF('Aferi (Variáveis)'!$C$12=\"Venda para Exportar\",0,IF('Aferi (Variáveis)'!$C$12=\"ALC\",0,IF('Aferi (Variáveis)'!$C$12=\"ZFM\",0,IF('Aferi (Variáveis)'!$C$12=\"Exportação\",0,IF('Aferi (Variáveis)'!$C$12=\"AO\",0,E397/(100+(0*'Aferi (Variáveis)'!$K$12/100))*100*K397%/100*'Aferi (Variáveis)'!$K$12)))))","v":0},0,{"$f":"(E397*'Aferi (Variáveis)'!$K$12/100)","v":0},0,{"$f":"IF('Aferi (Variáveis)'!$F$20=\"Venda para Exportar\",0,IF('Aferi (Variáveis)'!$F$20=\"ALC\",0,IF('Aferi (Variáveis)'!$F$20=\"ZFM\",0,IF('Aferi (Variáveis)'!$F$20=\"Exportação\",0,IF('Aferi (Variáveis)'!$F$20=\"AO\",7*T397/100,T397*'Aferi (Variáveis)'!$F$20/100)))))","v":0},0,{"$f":"IF('Aferi (Variáveis)'!$C$12=\"ZFM\",0,IF('Aferi (Variáveis)'!$C$12=\"Exportação\",0,3*T397/100))","v":0},{"$f":"IF('Aferi (Variáveis)'!$C$12=\"ZFM\",0,IF('Aferi (Variáveis)'!$C$12=\"Exportação\",0,0.65*T397/100))","v":0},0,0,0,0,0,0,0,0,0,{"$f":"SUMIF('Custo Básico dos Produtos'!$B$7:$B$480,A397,'Custo Básico dos Produtos'!$K$7:$K$480)","v":0},null,null,0,0,0,0,0,0]
[null,{"$f":"IF(Q398<>0,VLOOKUP(Q398,'Custo Básico dos Produtos'!$A$7:$J$480,3),\"\")","v":""},null,{"$f":"SUMIF('Custo Básico dos Produtos'!$A$7:$A$480,Q398,'Custo Básico dos Produtos'!$J$7:$J$480)","v":0},0,0,{"$f":"IF(B398=\"\",0,SUMIF('Cadastro de Produtos em Linha'!$B$7:$B$457,A398,'Cadastro de Produtos em Linha'!$D$7:$D$457))","v":0},null,0,0,{"$f":"IF('Aferi (Variáveis)'!$C$12=\"ALC\",0,IF('Aferi (Variáveis)'!$C$12=\"ZFM\",0,IF('Aferi (Variáveis)'!$C$12=\"Exportação\",0,IF('Aferi (Variáveis)'!$C$12=\"Venda para Exportar\",0,IF('Aferi (Variáveis)'!$C$12=\"AO\",0,SUMIF('Custo Básico dos Produtos'!$A$7:$A$480,Q398,'Custo Básico dos Produtos'!$L$7:$L$480))))))","v":0},0,0,0,0,{"$f":"SUMIF('Cadastro de Produtos em Linha'!$A$6:$A$457,Q398,'Cadastro de Produtos em Linha'!$E$6:$E$457)*H398","v":0},{"$f":"IF(TODAY()<$AK$26,IF(A398<>\"\",SUMIF('Custo Básico dos Produtos'!$B$7:$B$457,A398,'Custo Básico dos Produtos'!$A$7:$A$457),0),0)","v":0},{"$f":"IF('Aferi (Variáveis)'!$C$12=\"Venda para Exportar\",0,IF('Aferi (Variáveis)'!$C$12=\"ALC\",0,IF('Aferi (Variáveis)'!$C$12=\"ZFM\",0,IF('Aferi (Variáveis)'!$C$12=\"Exportação\",0,IF('Aferi (Variáveis)'!$C$12=\"AO\",0,E398/(100+(0*'Aferi (Variáveis)'!$K$12/100))*100*K398%/100*'Aferi (Variáveis)'!$K$12)))))","v":0},0,{"$f":"(E398*'Aferi (Variáveis)'!$K$12/100)","v":0},0,{"$f":"IF('Aferi (Variáveis)'!$F$20=\"Venda para Exportar\",0,IF('Aferi (Variáveis)'!$F$20=\"ALC\",0,IF('Aferi (Variáveis)'!$F$20=\"ZFM\",0,IF('Aferi (Variáveis)'!$F$20=\"Exportação\",0,IF('Aferi (Variáveis)'!$F$20=\"AO\",7*T398/100,T398*'Aferi (Variáveis)'!$F$20/100)))))","v":0},0,{"$f":"IF('Aferi (Variáveis)'!$C$12=\"ZFM\",0,IF('Aferi (Variáveis)'!$C$12=\"Exportação\",0,3*T398/100))","v":0},{"$f":"IF('Aferi (Variáveis)'!$C$12=\"ZFM\",0,IF('Aferi (Variáveis)'!$C$12=\"Exportação\",0,0.65*T398/100))","v":0},0,0,0,0,0,0,0,0,0,{"$f":"SUMIF('Custo Básico dos Produtos'!$B$7:$B$480,A398,'Custo Básico dos Produtos'!$K$7:$K$480)","v":0},null,null,0,0,0,0,0,0]
[null,{"$f":"IF(Q399<>0,VLOOKUP(Q399,'Custo Básico dos Produtos'!$A$7:$J$480,3),\"\")","v":""},null,{"$f":"SUMIF('Custo Básico dos Produtos'!$A$7:$A$480,Q399,'Custo Básico dos Produtos'!$J$7:$J$480)","v":0},0,0,{"$f":"IF(B399=\"\",0,SUMIF('Cadastro de Produtos em Linha'!$B$7:$B$457,A399,'Cadastro de Produtos em Linha'!$D$7:$D$457))","v":0},null,0,0,{"$f":"IF('Aferi (Variáveis)'!$C$12=\"ALC\",0,IF('Aferi (Variáveis)'!$C$12=\"ZFM\",0,IF('Aferi (Variáveis)'!$C$12=\"Exportação\",0,IF('Aferi (Variáveis)'!$C$12=\"Venda para Exportar\",0,IF('Aferi (Variáveis)'!$C$12=\"AO\",0,SUMIF('Custo Básico dos Produtos'!$A$7:$A$480,Q399,'Custo Básico dos Produtos'!$L$7:$L$480))))))","v":0},0,0,0,0,{"$f":"SUMIF('Cadastro de Produtos em Linha'!$A$6:$A$457,Q399,'Cadastro de Produtos em Linha'!$E$6:$E$457)*H399","v":0},{"$f":"IF(TODAY()<$AK$26,IF(A399<>\"\",SUMIF('Custo Básico dos Produtos'!$B$7:$B$457,A399,'Custo Básico dos Produtos'!$A$7:$A$457),0),0)","v":0},{"$f":"IF('Aferi (Variáveis)'!$C$12=\"Venda para Exportar\",0,IF('Aferi (Variáveis)'!$C$12=\"ALC\",0,IF('Aferi (Variáveis)'!$C$12=\"ZFM\",0,IF('Aferi (Variáveis)'!$C$12=\"Exportação\",0,IF('Aferi (Variáveis)'!$C$12=\"AO\",0,E399/(100+(0*'Aferi (Variáveis)'!$K$12/100))*100*K399%/100*'Aferi (Variáveis)'!$K$12)))))","v":0},0,{"$f":"(E399*'Aferi (Variáveis)'!$K$12/100)","v":0},0,{"$f":"IF('Aferi (Variáveis)'!$F$20=\"Venda para Exportar\",0,IF('Aferi (Variáveis)'!$F$20=\"ALC\",0,IF('Aferi (Variáveis)'!$F$20=\"ZFM\",0,IF('Aferi (Variáveis)'!$F$20=\"Exportação\",0,IF('Aferi (Variáveis)'!$F$20=\"AO\",7*T399/100,T399*'Aferi (Variáveis)'!$F$20/100)))))","v":0},0,{"$f":"IF('Aferi (Variáveis)'!$C$12=\"ZFM\",0,IF('Aferi (Variáveis)'!$C$12=\"Exportação\",0,3*T399/100))","v":0},{"$f":"IF('Aferi (Variáveis)'!$C$12=\"ZFM\",0,IF('Aferi (Variáveis)'!$C$12=\"Exportação\",0,0.65*T399/100))","v":0},0,0,0,0,0,0,0,0,0,{"$f":"SUMIF('Custo Básico dos Produtos'!$B$7:$B$480,A399,'Custo Básico dos Produtos'!$K$7:$K$480)","v":0},null,null,0,0,0,0,0,0]
[null,{"$f":"IF(Q400<>0,VLOOKUP(Q400,'Custo Básico dos Produtos'!$A$7:$J$480,3),\"\")","v":""},null,{"$f":"SUMIF('Custo Básico dos Produtos'!$A$7:$A$480,Q400,'Custo Básico dos Produtos'!$J$7:$J$480)","v":0},0,0,{"$f":"IF(B400=\"\",0,SUMIF('Cadastro de Produtos em Linha'!$B$7:$B$457,A400,'Cadastro de Produtos em Linha'!$D$7:$D$457))","v":0},null,0,0,{"$f":"IF('Aferi (Variáveis)'!$C$12=\"ALC\",0,IF('Aferi (Variáveis)'!$C$12=\"ZFM\",0,IF('Aferi (Variáveis)'!$C$12=\"Exportação\",0,IF('Aferi (Variáveis)'!$C$12=\"Venda para Exportar\",0,IF('Aferi (Variáveis)'!$C$12=\"AO\",0,SUMIF('Custo Básico dos Produtos'!$A$7:$A$480,Q400,'Custo Básico dos Produtos'!$L$7:$L$480))))))","v":0},0,0,0,0,{"$f":"SUMIF('Cadastro de Produtos em Linha'!$A$6:$A$457,Q400,'Cadastro de Produtos em Linha'!$E$6:$E$457)*H400","v":0},{"$f":"IF(TODAY()<$AK$26,IF(A400<>\"\",SUMIF('Custo Básico dos Produtos'!$B$7:$B$457,A400,'Custo Básico dos Produtos'!$A$7:$A$457),0),0)","v":0},{"$f":"IF('Aferi (Variáveis)'!$C$12=\"Venda para Exportar\",0,IF('Aferi (Variáveis)'!$C$12=\"ALC\",0,IF('Aferi (Variáveis)'!$C$12=\"ZFM\",0,IF('Aferi (Variáveis)'!$C$12=\"Exportação\",0,IF('Aferi (Variáveis)'!$C$12=\"AO\",0,E400/(100+(0*'Aferi (Variáveis)'!$K$12/100))*100*K400%/100*'Aferi (Variáveis)'!$K$12)))))","v":0},0,{"$f":"(E400*'Aferi (Variáveis)'!$K$12/100)","v":0},0,{"$f":"IF('Aferi (Variáveis)'!$F$20=\"Venda para Exportar\",0,IF('Aferi (Variáveis)'!$F$20=\"ALC\",0,IF('Aferi (Variáveis)'!$F$20=\"ZFM\",0,IF('Aferi (Variáveis)'!$F$20=\"Exportação\",0,IF('Aferi (Variáveis)'!$F$20=\"AO\",7*T400/100,T400*'Aferi (Variáveis)'!$F$20/100)))))","v":0},0,{"$f":"IF('Aferi (Variáveis)'!$C$12=\"ZFM\",0,IF('Aferi (Variáveis)'!$C$12=\"Exportação\",0,3*T400/100))","v":0},{"$f":"IF('Aferi (Variáveis)'!$C$12=\"ZFM\",0,IF('Aferi (Variáveis)'!$C$12=\"Exportação\",0,0.65*T400/100))","v":0},0,0,0,0,0,0,0,0,0,{"$f":"SUMIF('Custo Básico dos Produtos'!$B$7:$B$480,A400,'Custo Básico dos Produtos'!$K$7:$K$480)","v":0},null,null,0,0,0,0,0,0]
[null,{"$f":"IF(Q401<>0,VLOOKUP(Q401,'Custo Básico dos Produtos'!$A$7:$J$480,3),\"\")","v":""},null,{"$f":"SUMIF('Custo Básico dos Produtos'!$A$7:$A$480,Q401,'Custo Básico dos Produtos'!$J$7:$J$480)","v":0},0,0,{"$f":"IF(B401=\"\",0,SUMIF('Cadastro de Produtos em Linha'!$B$7:$B$457,A401,'Cadastro de Produtos em Linha'!$D$7:$D$457))","v":0},null,0,0,{"$f":"IF('Aferi (Variáveis)'!$C$12=\"ALC\",0,IF('Aferi (Variáveis)'!$C$12=\"ZFM\",0,IF('Aferi (Variáveis)'!$C$12=\"Exportação\",0,IF('Aferi (Variáveis)'!$C$12=\"Venda para Exportar\",0,IF('Aferi (Variáveis)'!$C$12=\"AO\",0,SUMIF('Custo Básico dos Produtos'!$A$7:$A$480,Q401,'Custo Básico dos Produtos'!$L$7:$L$480))))))","v":0},0,0,0,0,{"$f":"SUMIF('Cadastro de Produtos em Linha'!$A$6:$A$457,Q401,'Cadastro de Produtos em Linha'!$E$6:$E$457)*H401","v":0},{"$f":"IF(TODAY()<$AK$26,IF(A401<>\"\",SUMIF('Custo Básico dos Produtos'!$B$7:$B$457,A401,'Custo Básico dos Produtos'!$A$7:$A$457),0),0)","v":0},{"$f":"IF('Aferi (Variáveis)'!$C$12=\"Venda para Exportar\",0,IF('Aferi (Variáveis)'!$C$12=\"ALC\",0,IF('Aferi (Variáveis)'!$C$12=\"ZFM\",0,IF('Aferi (Variáveis)'!$C$12=\"Exportação\",0,IF('Aferi (Variáveis)'!$C$12=\"AO\",0,E401/(100+(0*'Aferi (Variáveis)'!$K$12/100))*100*K401%/100*'Aferi (Variáveis)'!$K$12)))))","v":0},0,{"$f":"(E401*'Aferi (Variáveis)'!$K$12/100)","v":0},0,{"$f":"IF('Aferi (Variáveis)'!$F$20=\"Venda para Exportar\",0,IF('Aferi (Variáveis)'!$F$20=\"ALC\",0,IF('Aferi (Variáveis)'!$F$20=\"ZFM\",0,IF('Aferi (Variáveis)'!$F$20=\"Exportação\",0,IF('Aferi (Variáveis)'!$F$20=\"AO\",7*T401/100,T401*'Aferi (Variáveis)'!$F$20/100)))))","v":0},0,{"$f":"IF('Aferi (Variáveis)'!$C$12=\"ZFM\",0,IF('Aferi (Variáveis)'!$C$12=\"Exportação\",0,3*T401/100))","v":0},{"$f":"IF('Aferi (Variáveis)'!$C$12=\"ZFM\",0,IF('Aferi (Variáveis)'!$C$12=\"Exportação\",0,0.65*T401/100))","v":0},0,0,0,0,0,0,0,0,0,{"$f":"SUMIF('Custo Básico dos Produtos'!$B$7:$B$480,A401,'Custo Básico dos Produtos'!$K$7:$K$480)","v":0},null,null,0,0,0,0,0,0]
[null,{"$f":"IF(Q402<>0,VLOOKUP(Q402,'Custo Básico dos Produtos'!$A$7:$J$480,3),\"\")","v":""},null,{"$f":"SUMIF('Custo Básico dos Produtos'!$A$7:$A$480,Q402,'Custo Básico dos Produtos'!$J$7:$J$480)","v":0},0,0,{"$f":"IF(B402=\"\",0,SUMIF('Cadastro de Produtos em Linha'!$B$7:$B$457,A402,'Cadastro de Produtos em Linha'!$D$7:$D$457))","v":0},null,0,0,{"$f":"IF('Aferi (Variáveis)'!$C$12=\"ALC\",0,IF('Aferi (Variáveis)'!$C$12=\"ZFM\",0,IF('Aferi (Variáveis)'!$C$12=\"Exportação\",0,IF('Aferi (Variáveis)'!$C$12=\"Venda para Exportar\",0,IF('Aferi (Variáveis)'!$C$12=\"AO\",0,SUMIF('Custo Básico dos Produtos'!$A$7:$A$480,Q402,'Custo Básico dos Produtos'!$L$7:$L$480))))))","v":0},0,0,0,0,{"$f":"SUMIF('Cadastro de Produtos em Linha'!$A$6:$A$457,Q402,'Cadastro de Produtos em Linha'!$E$6:$E$457)*H402","v":0},{"$f":"IF(TODAY()<$AK$26,IF(A402<>\"\",SUMIF('Custo Básico dos Produtos'!$B$7:$B$457,A402,'Custo Básico dos Produtos'!$A$7:$A$457),0),0)","v":0},{"$f":"IF('Aferi (Variáveis)'!$C$12=\"Venda para Exportar\",0,IF('Aferi (Variáveis)'!$C$12=\"ALC\",0,IF('Aferi (Variáveis)'!$C$12=\"ZFM\",0,IF('Aferi (Variáveis)'!$C$12=\"Exportação\",0,IF('Aferi (Variáveis)'!$C$12=\"AO\",0,E402/(100+(0*'Aferi (Variáveis)'!$K$12/100))*100*K402%/100*'Aferi (Variáveis)'!$K$12)))))","v":0},0,{"$f":"(E402*'Aferi (Variáveis)'!$K$12/100)","v":0},0,{"$f":"IF('Aferi (Variáveis)'!$F$20=\"Venda para Exportar\",0,IF('Aferi (Variáveis)'!$F$20=\"ALC\",0,IF('Aferi (Variáveis)'!$F$20=\"ZFM\",0,IF('Aferi (Variáveis)'!$F$20=\"Exportação\",0,IF('Aferi (Variáveis)'!$F$20=\"AO\",7*T402/100,T402*'Aferi (Variáveis)'!$F$20/100)))))","v":0},0,{"$f":"IF('Aferi (Variáveis)'!$C$12=\"ZFM\",0,IF('Aferi (Variáveis)'!$C$12=\"Exportação\",0,3*T402/100))","v":0},{"$f":"IF('Aferi (Variáveis)'!$C$12=\"ZFM\",0,IF('Aferi (Variáveis)'!$C$12=\"Exportação\",0,0.65*T402/100))","v":0},0,0,0,0,0,0,0,0,0,{"$f":"SUMIF('Custo Básico dos Produtos'!$B$7:$B$480,A402,'Custo Básico dos Produtos'!$K$7:$K$480)","v":0},null,null,0,0,0,0,0,0]
[null,{"$f":"IF(Q403<>0,VLOOKUP(Q403,'Custo Básico dos Produtos'!$A$7:$J$480,3),\"\")","v":""},null,{"$f":"SUMIF('Custo Básico dos Produtos'!$A$7:$A$480,Q403,'Custo Básico dos Produtos'!$J$7:$J$480)","v":0},0,0,{"$f":"IF(B403=\"\",0,SUMIF('Cadastro de Produtos em Linha'!$B$7:$B$457,A403,'Cadastro de Produtos em Linha'!$D$7:$D$457))","v":0},null,0,0,{"$f":"IF('Aferi (Variáveis)'!$C$12=\"ALC\",0,IF('Aferi (Variáveis)'!$C$12=\"ZFM\",0,IF('Aferi (Variáveis)'!$C$12=\"Exportação\",0,IF('Aferi (Variáveis)'!$C$12=\"Venda para Exportar\",0,IF('Aferi (Variáveis)'!$C$12=\"AO\",0,SUMIF('Custo Básico dos Produtos'!$A$7:$A$480,Q403,'Custo Básico dos Produtos'!$L$7:$L$480))))))","v":0},0,0,0,0,{"$f":"SUMIF('Cadastro de Produtos em Linha'!$A$6:$A$457,Q403,'Cadastro de Produtos em Linha'!$E$6:$E$457)*H403","v":0},{"$f":"IF(TODAY()<$AK$26,IF(A403<>\"\",SUMIF('Custo Básico dos Produtos'!$B$7:$B$457,A403,'Custo Básico dos Produtos'!$A$7:$A$457),0),0)","v":0},{"$f":"IF('Aferi (Variáveis)'!$C$12=\"Venda para Exportar\",0,IF('Aferi (Variáveis)'!$C$12=\"ALC\",0,IF('Aferi (Variáveis)'!$C$12=\"ZFM\",0,IF('Aferi (Variáveis)'!$C$12=\"Exportação\",0,IF('Aferi (Variáveis)'!$C$12=\"AO\",0,E403/(100+(0*'Aferi (Variáveis)'!$K$12/100))*100*K403%/100*'Aferi (Variáveis)'!$K$12)))))","v":0},0,{"$f":"(E403*'Aferi (Variáveis)'!$K$12/100)","v":0},0,{"$f":"IF('Aferi (Variáveis)'!$F$20=\"Venda para Exportar\",0,IF('Aferi (Variáveis)'!$F$20=\"ALC\",0,IF('Aferi (Variáveis)'!$F$20=\"ZFM\",0,IF('Aferi (Variáveis)'!$F$20=\"Exportação\",0,IF('Aferi (Variáveis)'!$F$20=\"AO\",7*T403/100,T403*'Aferi (Variáveis)'!$F$20/100)))))","v":0},0,{"$f":"IF('Aferi (Variáveis)'!$C$12=\"ZFM\",0,IF('Aferi (Variáveis)'!$C$12=\"Exportação\",0,3*T403/100))","v":0},{"$f":"IF('Aferi (Variáveis)'!$C$12=\"ZFM\",0,IF('Aferi (Variáveis)'!$C$12=\"Exportação\",0,0.65*T403/100))","v":0},0,0,0,0,0,0,0,0,0,{"$f":"SUMIF('Custo Básico dos Produtos'!$B$7:$B$480,A403,'Custo Básico dos Produtos'!$K$7:$K$480)","v":0},null,null,0,0,0,0,0,0]
[null,{"$f":"IF(Q404<>0,VLOOKUP(Q404,'Custo Básico dos Produtos'!$A$7:$J$480,3),\"\")","v":""},null,{"$f":"SUMIF('Custo Básico dos Produtos'!$A$7:$A$480,Q404,'Custo Básico dos Produtos'!$J$7:$J$480)","v":0},0,0,{"$f":"IF(B404=\"\",0,SUMIF('Cadastro de Produtos em Linha'!$B$7:$B$457,A404,'Cadastro de Produtos em Linha'!$D$7:$D$457))","v":0},null,0,0,{"$f":"IF('Aferi (Variáveis)'!$C$12=\"ALC\",0,IF('Aferi (Variáveis)'!$C$12=\"ZFM\",0,IF('Aferi (Variáveis)'!$C$12=\"Exportação\",0,IF('Aferi (Variáveis)'!$C$12=\"Venda para Exportar\",0,IF('Aferi (Variáveis)'!$C$12=\"AO\",0,SUMIF('Custo Básico dos Produtos'!$A$7:$A$480,Q404,'Custo Básico dos Produtos'!$L$7:$L$480))))))","v":0},0,0,0,0,{"$f":"SUMIF('Cadastro de Produtos em Linha'!$A$6:$A$457,Q404,'Cadastro de Produtos em Linha'!$E$6:$E$457)*H404","v":0},{"$f":"IF(TODAY()<$AK$26,IF(A404<>\"\",SUMIF('Custo Básico dos Produtos'!$B$7:$B$457,A404,'Custo Básico dos Produtos'!$A$7:$A$457),0),0)","v":0},{"$f":"IF('Aferi (Variáveis)'!$C$12=\"Venda para Exportar\",0,IF('Aferi (Variáveis)'!$C$12=\"ALC\",0,IF('Aferi (Variáveis)'!$C$12=\"ZFM\",0,IF('Aferi (Variáveis)'!$C$12=\"Exportação\",0,IF('Aferi (Variáveis)'!$C$12=\"AO\",0,E404/(100+(0*'Aferi (Variáveis)'!$K$12/100))*100*K404%/100*'Aferi (Variáveis)'!$K$12)))))","v":0},0,{"$f":"(E404*'Aferi (Variáveis)'!$K$12/100)","v":0},0,{"$f":"IF('Aferi (Variáveis)'!$F$20=\"Venda para Exportar\",0,IF('Aferi (Variáveis)'!$F$20=\"ALC\",0,IF('Aferi (Variáveis)'!$F$20=\"ZFM\",0,IF('Aferi (Variáveis)'!$F$20=\"Exportação\",0,IF('Aferi (Variáveis)'!$F$20=\"AO\",7*T404/100,T404*'Aferi (Variáveis)'!$F$20/100)))))","v":0},0,{"$f":"IF('Aferi (Variáveis)'!$C$12=\"ZFM\",0,IF('Aferi (Variáveis)'!$C$12=\"Exportação\",0,3*T404/100))","v":0},{"$f":"IF('Aferi (Variáveis)'!$C$12=\"ZFM\",0,IF('Aferi (Variáveis)'!$C$12=\"Exportação\",0,0.65*T404/100))","v":0},0,0,0,0,0,0,0,0,0,{"$f":"SUMIF('Custo Básico dos Produtos'!$B$7:$B$480,A404,'Custo Básico dos Produtos'!$K$7:$K$480)","v":0},null,null,0,0,0,0,0,0]
[null,{"$f":"IF(Q405<>0,VLOOKUP(Q405,'Custo Básico dos Produtos'!$A$7:$J$480,3),\"\")","v":""},null,{"$f":"SUMIF('Custo Básico dos Produtos'!$A$7:$A$480,Q405,'Custo Básico dos Produtos'!$J$7:$J$480)","v":0},0,0,{"$f":"IF(B405=\"\",0,SUMIF('Cadastro de Produtos em Linha'!$B$7:$B$457,A405,'Cadastro de Produtos em Linha'!$D$7:$D$457))","v":0},null,0,0,{"$f":"IF('Aferi (Variáveis)'!$C$12=\"ALC\",0,IF('Aferi (Variáveis)'!$C$12=\"ZFM\",0,IF('Aferi (Variáveis)'!$C$12=\"Exportação\",0,IF('Aferi (Variáveis)'!$C$12=\"Venda para Exportar\",0,IF('Aferi (Variáveis)'!$C$12=\"AO\",0,SUMIF('Custo Básico dos Produtos'!$A$7:$A$480,Q405,'Custo Básico dos Produtos'!$L$7:$L$480))))))","v":0},0,0,0,0,{"$f":"SUMIF('Cadastro de Produtos em Linha'!$A$6:$A$457,Q405,'Cadastro de Produtos em Linha'!$E$6:$E$457)*H405","v":0},{"$f":"IF(TODAY()<$AK$26,IF(A405<>\"\",SUMIF('Custo Básico dos Produtos'!$B$7:$B$457,A405,'Custo Básico dos Produtos'!$A$7:$A$457),0),0)","v":0},{"$f":"IF('Aferi (Variáveis)'!$C$12=\"Venda para Exportar\",0,IF('Aferi (Variáveis)'!$C$12=\"ALC\",0,IF('Aferi (Variáveis)'!$C$12=\"ZFM\",0,IF('Aferi (Variáveis)'!$C$12=\"Exportação\",0,IF('Aferi (Variáveis)'!$C$12=\"AO\",0,E405/(100+(0*'Aferi (Variáveis)'!$K$12/100))*100*K405%/100*'Aferi (Variáveis)'!$K$12)))))","v":0},0,{"$f":"(E405*'Aferi (Variáveis)'!$K$12/100)","v":0},0,{"$f":"IF('Aferi (Variáveis)'!$F$20=\"Venda para Exportar\",0,IF('Aferi (Variáveis)'!$F$20=\"ALC\",0,IF('Aferi (Variáveis)'!$F$20=\"ZFM\",0,IF('Aferi (Variáveis)'!$F$20=\"Exportação\",0,IF('Aferi (Variáveis)'!$F$20=\"AO\",7*T405/100,T405*'Aferi (Variáveis)'!$F$20/100)))))","v":0},0,{"$f":"IF('Aferi (Variáveis)'!$C$12=\"ZFM\",0,IF('Aferi (Variáveis)'!$C$12=\"Exportação\",0,3*T405/100))","v":0},{"$f":"IF('Aferi (Variáveis)'!$C$12=\"ZFM\",0,IF('Aferi (Variáveis)'!$C$12=\"Exportação\",0,0.65*T405/100))","v":0},0,0,0,0,0,0,0,0,0,{"$f":"SUMIF('Custo Básico dos Produtos'!$B$7:$B$480,A405,'Custo Básico dos Produtos'!$K$7:$K$480)","v":0},null,null,0,0,0,0,0,0]
[null,{"$f":"IF(Q406<>0,VLOOKUP(Q406,'Custo Básico dos Produtos'!$A$7:$J$480,3),\"\")","v":""},null,{"$f":"SUMIF('Custo Básico dos Produtos'!$A$7:$A$480,Q406,'Custo Básico dos Produtos'!$J$7:$J$480)","v":0},0,0,{"$f":"IF(B406=\"\",0,SUMIF('Cadastro de Produtos em Linha'!$B$7:$B$457,A406,'Cadastro de Produtos em Linha'!$D$7:$D$457))","v":0},null,0,0,{"$f":"IF('Aferi (Variáveis)'!$C$12=\"ALC\",0,IF('Aferi (Variáveis)'!$C$12=\"ZFM\",0,IF('Aferi (Variáveis)'!$C$12=\"Exportação\",0,IF('Aferi (Variáveis)'!$C$12=\"Venda para Exportar\",0,IF('Aferi (Variáveis)'!$C$12=\"AO\",0,SUMIF('Custo Básico dos Produtos'!$A$7:$A$480,Q406,'Custo Básico dos Produtos'!$L$7:$L$480))))))","v":0},0,0,0,0,{"$f":"SUMIF('Cadastro de Produtos em Linha'!$A$6:$A$457,Q406,'Cadastro de Produtos em Linha'!$E$6:$E$457)*H406","v":0},{"$f":"IF(TODAY()<$AK$26,IF(A406<>\"\",SUMIF('Custo Básico dos Produtos'!$B$7:$B$457,A406,'Custo Básico dos Produtos'!$A$7:$A$457),0),0)","v":0},{"$f":"IF('Aferi (Variáveis)'!$C$12=\"Venda para Exportar\",0,IF('Aferi (Variáveis)'!$C$12=\"ALC\",0,IF('Aferi (Variáveis)'!$C$12=\"ZFM\",0,IF('Aferi (Variáveis)'!$C$12=\"Exportação\",0,IF('Aferi (Variáveis)'!$C$12=\"AO\",0,E406/(100+(0*'Aferi (Variáveis)'!$K$12/100))*100*K406%/100*'Aferi (Variáveis)'!$K$12)))))","v":0},0,{"$f":"(E406*'Aferi (Variáveis)'!$K$12/100)","v":0},0,{"$f":"IF('Aferi (Variáveis)'!$F$20=\"Venda para Exportar\",0,IF('Aferi (Variáveis)'!$F$20=\"ALC\",0,IF('Aferi (Variáveis)'!$F$20=\"ZFM\",0,IF('Aferi (Variáveis)'!$F$20=\"Exportação\",0,IF('Aferi (Variáveis)'!$F$20=\"AO\",7*T406/100,T406*'Aferi (Variáveis)'!$F$20/100)))))","v":0},0,{"$f":"IF('Aferi (Variáveis)'!$C$12=\"ZFM\",0,IF('Aferi (Variáveis)'!$C$12=\"Exportação\",0,3*T406/100))","v":0},{"$f":"IF('Aferi (Variáveis)'!$C$12=\"ZFM\",0,IF('Aferi (Variáveis)'!$C$12=\"Exportação\",0,0.65*T406/100))","v":0},0,0,0,0,0,0,0,0,0,{"$f":"SUMIF('Custo Básico dos Produtos'!$B$7:$B$480,A406,'Custo Básico dos Produtos'!$K$7:$K$480)","v":0},null,null,0,0,0,0,0,0]
[null,{"$f":"IF(Q407<>0,VLOOKUP(Q407,'Custo Básico dos Produtos'!$A$7:$J$480,3),\"\")","v":""},null,{"$f":"SUMIF('Custo Básico dos Produtos'!$A$7:$A$480,Q407,'Custo Básico dos Produtos'!$J$7:$J$480)","v":0},0,0,{"$f":"IF(B407=\"\",0,SUMIF('Cadastro de Produtos em Linha'!$B$7:$B$457,A407,'Cadastro de Produtos em Linha'!$D$7:$D$457))","v":0},null,0,0,{"$f":"IF('Aferi (Variáveis)'!$C$12=\"ALC\",0,IF('Aferi (Variáveis)'!$C$12=\"ZFM\",0,IF('Aferi (Variáveis)'!$C$12=\"Exportação\",0,IF('Aferi (Variáveis)'!$C$12=\"Venda para Exportar\",0,IF('Aferi (Variáveis)'!$C$12=\"AO\",0,SUMIF('Custo Básico dos Produtos'!$A$7:$A$480,Q407,'Custo Básico dos Produtos'!$L$7:$L$480))))))","v":0},0,0,0,0,{"$f":"SUMIF('Cadastro de Produtos em Linha'!$A$6:$A$457,Q407,'Cadastro de Produtos em Linha'!$E$6:$E$457)*H407","v":0},{"$f":"IF(TODAY()<$AK$26,IF(A407<>\"\",SUMIF('Custo Básico dos Produtos'!$B$7:$B$457,A407,'Custo Básico dos Produtos'!$A$7:$A$457),0),0)","v":0},{"$f":"IF('Aferi (Variáveis)'!$C$12=\"Venda para Exportar\",0,IF('Aferi (Variáveis)'!$C$12=\"ALC\",0,IF('Aferi (Variáveis)'!$C$12=\"ZFM\",0,IF('Aferi (Variáveis)'!$C$12=\"Exportação\",0,IF('Aferi (Variáveis)'!$C$12=\"AO\",0,E407/(100+(0*'Aferi (Variáveis)'!$K$12/100))*100*K407%/100*'Aferi (Variáveis)'!$K$12)))))","v":0},0,{"$f":"(E407*'Aferi (Variáveis)'!$K$12/100)","v":0},0,{"$f":"IF('Aferi (Variáveis)'!$F$20=\"Venda para Exportar\",0,IF('Aferi (Variáveis)'!$F$20=\"ALC\",0,IF('Aferi (Variáveis)'!$F$20=\"ZFM\",0,IF('Aferi (Variáveis)'!$F$20=\"Exportação\",0,IF('Aferi (Variáveis)'!$F$20=\"AO\",7*T407/100,T407*'Aferi (Variáveis)'!$F$20/100)))))","v":0},0,{"$f":"IF('Aferi (Variáveis)'!$C$12=\"ZFM\",0,IF('Aferi (Variáveis)'!$C$12=\"Exportação\",0,3*T407/100))","v":0},{"$f":"IF('Aferi (Variáveis)'!$C$12=\"ZFM\",0,IF('Aferi (Variáveis)'!$C$12=\"Exportação\",0,0.65*T407/100))","v":0},0,0,0,0,0,0,0,0,0,{"$f":"SUMIF('Custo Básico dos Produtos'!$B$7:$B$480,A407,'Custo Básico dos Produtos'!$K$7:$K$480)","v":0},null,null,0,0,0,0,0,0]
[null,{"$f":"IF(Q408<>0,VLOOKUP(Q408,'Custo Básico dos Produtos'!$A$7:$J$480,3),\"\")","v":""},null,{"$f":"SUMIF('Custo Básico dos Produtos'!$A$7:$A$480,Q408,'Custo Básico dos Produtos'!$J$7:$J$480)","v":0},0,0,{"$f":"IF(B408=\"\",0,SUMIF('Cadastro de Produtos em Linha'!$B$7:$B$457,A408,'Cadastro de Produtos em Linha'!$D$7:$D$457))","v":0},null,0,0,{"$f":"IF('Aferi (Variáveis)'!$C$12=\"ALC\",0,IF('Aferi (Variáveis)'!$C$12=\"ZFM\",0,IF('Aferi (Variáveis)'!$C$12=\"Exportação\",0,IF('Aferi (Variáveis)'!$C$12=\"Venda para Exportar\",0,IF('Aferi (Variáveis)'!$C$12=\"AO\",0,SUMIF('Custo Básico dos Produtos'!$A$7:$A$480,Q408,'Custo Básico dos Produtos'!$L$7:$L$480))))))","v":0},0,0,0,0,{"$f":"SUMIF('Cadastro de Produtos em Linha'!$A$6:$A$457,Q408,'Cadastro de Produtos em Linha'!$E$6:$E$457)*H408","v":0},{"$f":"IF(TODAY()<$AK$26,IF(A408<>\"\",SUMIF('Custo Básico dos Produtos'!$B$7:$B$457,A408,'Custo Básico dos Produtos'!$A$7:$A$457),0),0)","v":0},{"$f":"IF('Aferi (Variáveis)'!$C$12=\"Venda para Exportar\",0,IF('Aferi (Variáveis)'!$C$12=\"ALC\",0,IF('Aferi (Variáveis)'!$C$12=\"ZFM\",0,IF('Aferi (Variáveis)'!$C$12=\"Exportação\",0,IF('Aferi (Variáveis)'!$C$12=\"AO\",0,E408/(100+(0*'Aferi (Variáveis)'!$K$12/100))*100*K408%/100*'Aferi (Variáveis)'!$K$12)))))","v":0},0,{"$f":"(E408*'Aferi (Variáveis)'!$K$12/100)","v":0},0,{"$f":"IF('Aferi (Variáveis)'!$F$20=\"Venda para Exportar\",0,IF('Aferi (Variáveis)'!$F$20=\"ALC\",0,IF('Aferi (Variáveis)'!$F$20=\"ZFM\",0,IF('Aferi (Variáveis)'!$F$20=\"Exportação\",0,IF('Aferi (Variáveis)'!$F$20=\"AO\",7*T408/100,T408*'Aferi (Variáveis)'!$F$20/100)))))","v":0},0,{"$f":"IF('Aferi (Variáveis)'!$C$12=\"ZFM\",0,IF('Aferi (Variáveis)'!$C$12=\"Exportação\",0,3*T408/100))","v":0},{"$f":"IF('Aferi (Variáveis)'!$C$12=\"ZFM\",0,IF('Aferi (Variáveis)'!$C$12=\"Exportação\",0,0.65*T408/100))","v":0},0,0,0,0,0,0,0,0,0,{"$f":"SUMIF('Custo Básico dos Produtos'!$B$7:$B$480,A408,'Custo Básico dos Produtos'!$K$7:$K$480)","v":0},null,null,0,0,0,0,0,0]
[null,{"$f":"IF(Q409<>0,VLOOKUP(Q409,'Custo Básico dos Produtos'!$A$7:$J$480,3),\"\")","v":""},null,{"$f":"SUMIF('Custo Básico dos Produtos'!$A$7:$A$480,Q409,'Custo Básico dos Produtos'!$J$7:$J$480)","v":0},0,0,{"$f":"IF(B409=\"\",0,SUMIF('Cadastro de Produtos em Linha'!$B$7:$B$457,A409,'Cadastro de Produtos em Linha'!$D$7:$D$457))","v":0},null,0,0,{"$f":"IF('Aferi (Variáveis)'!$C$12=\"ALC\",0,IF('Aferi (Variáveis)'!$C$12=\"ZFM\",0,IF('Aferi (Variáveis)'!$C$12=\"Exportação\",0,IF('Aferi (Variáveis)'!$C$12=\"Venda para Exportar\",0,IF('Aferi (Variáveis)'!$C$12=\"AO\",0,SUMIF('Custo Básico dos Produtos'!$A$7:$A$480,Q409,'Custo Básico dos Produtos'!$L$7:$L$480))))))","v":0},0,0,0,0,{"$f":"SUMIF('Cadastro de Produtos em Linha'!$A$6:$A$457,Q409,'Cadastro de Produtos em Linha'!$E$6:$E$457)*H409","v":0},{"$f":"IF(TODAY()<$AK$26,IF(A409<>\"\",SUMIF('Custo Básico dos Produtos'!$B$7:$B$457,A409,'Custo Básico dos Produtos'!$A$7:$A$457),0),0)","v":0},{"$f":"IF('Aferi (Variáveis)'!$C$12=\"Venda para Exportar\",0,IF('Aferi (Variáveis)'!$C$12=\"ALC\",0,IF('Aferi (Variáveis)'!$C$12=\"ZFM\",0,IF('Aferi (Variáveis)'!$C$12=\"Exportação\",0,IF('Aferi (Variáveis)'!$C$12=\"AO\",0,E409/(100+(0*'Aferi (Variáveis)'!$K$12/100))*100*K409%/100*'Aferi (Variáveis)'!$K$12)))))","v":0},0,{"$f":"(E409*'Aferi (Variáveis)'!$K$12/100)","v":0},0,{"$f":"IF('Aferi (Variáveis)'!$F$20=\"Venda para Exportar\",0,IF('Aferi (Variáveis)'!$F$20=\"ALC\",0,IF('Aferi (Variáveis)'!$F$20=\"ZFM\",0,IF('Aferi (Variáveis)'!$F$20=\"Exportação\",0,IF('Aferi (Variáveis)'!$F$20=\"AO\",7*T409/100,T409*'Aferi (Variáveis)'!$F$20/100)))))","v":0},0,{"$f":"IF('Aferi (Variáveis)'!$C$12=\"ZFM\",0,IF('Aferi (Variáveis)'!$C$12=\"Exportação\",0,3*T409/100))","v":0},{"$f":"IF('Aferi (Variáveis)'!$C$12=\"ZFM\",0,IF('Aferi (Variáveis)'!$C$12=\"Exportação\",0,0.65*T409/100))","v":0},0,0,0,0,0,0,0,0,0,{"$f":"SUMIF('Custo Básico dos Produtos'!$B$7:$B$480,A409,'Custo Básico dos Produtos'!$K$7:$K$480)","v":0},null,null,0,0,0,0,0,0]
[null,{"$f":"IF(Q410<>0,VLOOKUP(Q410,'Custo Básico dos Produtos'!$A$7:$J$480,3),\"\")","v":""},null,{"$f":"SUMIF('Custo Básico dos Produtos'!$A$7:$A$480,Q410,'Custo Básico dos Produtos'!$J$7:$J$480)","v":0},0,0,{"$f":"IF(B410=\"\",0,SUMIF('Cadastro de Produtos em Linha'!$B$7:$B$457,A410,'Cadastro de Produtos em Linha'!$D$7:$D$457))","v":0},null,0,0,{"$f":"IF('Aferi (Variáveis)'!$C$12=\"ALC\",0,IF('Aferi (Variáveis)'!$C$12=\"ZFM\",0,IF('Aferi (Variáveis)'!$C$12=\"Exportação\",0,IF('Aferi (Variáveis)'!$C$12=\"Venda para Exportar\",0,IF('Aferi (Variáveis)'!$C$12=\"AO\",0,SUMIF('Custo Básico dos Produtos'!$A$7:$A$480,Q410,'Custo Básico dos Produtos'!$L$7:$L$480))))))","v":0},0,0,0,{"$f":"IF(I410>0,AG410*I410,0)","v":0},{"$f":"SUMIF('Cadastro de Produtos em Linha'!$A$6:$A$457,Q410,'Cadastro de Produtos em Linha'!$E$6:$E$457)*H410","v":0},{"$f":"IF(TODAY()<$AK$26,IF(A410<>\"\",SUMIF('Custo Básico dos Produtos'!$B$7:$B$457,A410,'Custo Básico dos Produtos'!$A$7:$A$457),0),0)","v":0},{"$f":"IF('Aferi (Variáveis)'!$C$12=\"Venda para Exportar\",0,IF('Aferi (Variáveis)'!$C$12=\"ALC\",0,IF('Aferi (Variáveis)'!$C$12=\"ZFM\",0,IF('Aferi (Variáveis)'!$C$12=\"Exportação\",0,IF('Aferi (Variáveis)'!$C$12=\"AO\",0,E410/(100+(0*'Aferi (Variáveis)'!$K$12/100))*100*K410%/100*'Aferi (Variáveis)'!$K$12)))))","v":0},{"$f":"I410*R410","v":0},{"$f":"(E410*'Aferi (Variáveis)'!$K$12/100)","v":0},{"$f":"IF(I410>0,T410*I410,0)","v":0},{"$f":"IF('Aferi (Variáveis)'!$F$20=\"Venda para Exportar\",0,IF('Aferi (Variáveis)'!$F$20=\"ALC\",0,IF('Aferi (Variáveis)'!$F$20=\"ZFM\",0,IF('Aferi (Variáveis)'!$F$20=\"Exportação\",0,IF('Aferi (Variáveis)'!$F$20=\"AO\",7*T410/100,T410*'Aferi (Variáveis)'!$F$20/100)))))","v":0},{"$f":"T410*(W$22/100)","v":0},{"$f":"IF('Aferi (Variáveis)'!$C$12=\"ZFM\",0,IF('Aferi (Variáveis)'!$C$12=\"Exportação\",0,3*T410/100))","v":0},{"$f":"IF('Aferi (Variáveis)'!$C$12=\"ZFM\",0,IF('Aferi (Variáveis)'!$C$12=\"Exportação\",0,0.65*T410/100))","v":0},{"$f":"T410*(Z$22/100)","v":0},0,0,0,0,0,0,{"$f":"E410-AF410-D410","v":0},{"$f":"IF(AG410<>0,AG410/(E410)*100,0)","v":0},{"$f":"SUMIF('Custo Básico dos Produtos'!$B$7:$B$480,A410,'Custo Básico dos Produtos'!$K$7:$K$480)","v":0},null,null,0,0,0,0,0,0]
[null,{"$f":"IF(Q411<>0,VLOOKUP(Q411,'Custo Básico dos Produtos'!$A$7:$J$480,3),\"\")","v":""},null,{"$f":"SUMIF('Custo Básico dos Produtos'!$A$7:$A$480,Q411,'Custo Básico dos Produtos'!$J$7:$J$480)","v":0},0,0,{"$f":"IF(B411=\"\",0,SUMIF('Cadastro de Produtos em Linha'!$B$7:$B$457,A411,'Cadastro de Produtos em Linha'!$D$7:$D$457))","v":0},null,0,0,{"$f":"IF('Aferi (Variáveis)'!$C$12=\"ALC\",0,IF('Aferi (Variáveis)'!$C$12=\"ZFM\",0,IF('Aferi (Variáveis)'!$C$12=\"Exportação\",0,IF('Aferi (Variáveis)'!$C$12=\"Venda para Exportar\",0,IF('Aferi (Variáveis)'!$C$12=\"AO\",0,SUMIF('Custo Básico dos Produtos'!$A$7:$A$480,Q411,'Custo Básico dos Produtos'!$L$7:$L$480))))))","v":0},0,0,0,0,{"$f":"SUMIF('Cadastro de Produtos em Linha'!$A$6:$A$457,Q411,'Cadastro de Produtos em Linha'!$E$6:$E$457)*H411","v":0},{"$f":"IF(TODAY()<$AK$26,IF(A411<>\"\",SUMIF('Custo Básico dos Produtos'!$B$7:$B$457,A411,'Custo Básico dos Produtos'!$A$7:$A$457),0),0)","v":0},{"$f":"IF('Aferi (Variáveis)'!$C$12=\"Venda para Exportar\",0,IF('Aferi (Variáveis)'!$C$12=\"ALC\",0,IF('Aferi (Variáveis)'!$C$12=\"ZFM\",0,IF('Aferi (Variáveis)'!$C$12=\"Exportação\",0,IF('Aferi (Variáveis)'!$C$12=\"AO\",0,E411/(100+(0*'Aferi (Variáveis)'!$K$12/100))*100*K411%/100*'Aferi (Variáveis)'!$K$12)))))","v":0},0,{"$f":"(E411*'Aferi (Variáveis)'!$K$12/100)","v":0},0,{"$f":"IF('Aferi (Variáveis)'!$F$20=\"Venda para Exportar\",0,IF('Aferi (Variáveis)'!$F$20=\"ALC\",0,IF('Aferi (Variáveis)'!$F$20=\"ZFM\",0,IF('Aferi (Variáveis)'!$F$20=\"Exportação\",0,IF('Aferi (Variáveis)'!$F$20=\"AO\",7*T411/100,T411*'Aferi (Variáveis)'!$F$20/100)))))","v":0},0,{"$f":"IF('Aferi (Variáveis)'!$C$12=\"ZFM\",0,IF('Aferi (Variáveis)'!$C$12=\"Exportação\",0,3*T411/100))","v":0},{"$f":"IF('Aferi (Variáveis)'!$C$12=\"ZFM\",0,IF('Aferi (Variáveis)'!$C$12=\"Exportação\",0,0.65*T411/100))","v":0},0,0,{"$f":"E411*(AB$23/100)","v":0},{"$f":"IF(A411<>\"\",E411*(AC$23/100),0)","v":0},{"$f":"E411*($AD$23/100)","v":0},{"$f":"E411*(AE$23/100)","v":0},{"$f":"SUM(V411:AE411)","v":0},0,0,{"$f":"SUMIF('Custo Básico dos Produtos'!$B$7:$B$480,A411,'Custo Básico dos Produtos'!$K$7:$K$480)","v":0},null,null,{"$f":"D411","v":0},{"$f":"AL411/(1-AM$24)","v":0},{"$f":"AM411*AM$22","v":0},{"$f":"AM411*AM$23","v":0},{"$f":"AM411-SUM(AN411:AO411)-AL411","v":0},{"$f":"IFERROR(AP411/AM411,0)","v":0}]
[null,{"$f":"IF(Q412<>0,VLOOKUP(Q412,'Custo Básico dos Produtos'!$A$7:$J$480,3),\"\")","v":""},null,{"$f":"SUMIF('Custo Básico dos Produtos'!$A$7:$A$480,Q412,'Custo Básico dos Produtos'!$J$7:$J$480)","v":0},0,{"$f":"IF(A412=\"\",0,IF(TODAY()<$AK$26,IF(E412>0,IF(H412>0,IF(AH412>=AI412,AH412,)/4),0)))","v":0},{"$f":"IF(B412=\"\",0,SUMIF('Cadastro de Produtos em Linha'!$B$7:$B$457,A412,'Cadastro de Produtos em Linha'!$D$7:$D$457))","v":0},null,0,0,{"$f":"IF('Aferi (Variáveis)'!$C$12=\"ALC\",0,IF('Aferi (Variáveis)'!$C$12=\"ZFM\",0,IF('Aferi (Variáveis)'!$C$12=\"Exportação\",0,IF('Aferi (Variáveis)'!$C$12=\"Venda para Exportar\",0,IF('Aferi (Variáveis)'!$C$12=\"AO\",0,SUMIF('Custo Básico dos Produtos'!$A$7:$A$480,Q412,'Custo Básico dos Produtos'!$L$7:$L$480))))))","v":0},0,0,0,0,{"$f":"SUMIF('Cadastro de Produtos em Linha'!$A$6:$A$457,Q412,'Cadastro de Produtos em Linha'!$E$6:$E$457)*H412","v":0},{"$f":"IF(TODAY()<$AK$26,IF(A412<>\"\",SUMIF('Custo Básico dos Produtos'!$B$7:$B$457,A412,'Custo Básico dos Produtos'!$A$7:$A$457),0),0)","v":0},{"$f":"IF('Aferi (Variáveis)'!$C$12=\"Venda para Exportar\",0,IF('Aferi (Variáveis)'!$C$12=\"ALC\",0,IF('Aferi (Variáveis)'!$C$12=\"ZFM\",0,IF('Aferi (Variáveis)'!$C$12=\"Exportação\",0,IF('Aferi (Variáveis)'!$C$12=\"AO\",0,E412/(100+(0*'Aferi (Variáveis)'!$K$12/100))*100*K412%/100*'Aferi (Variáveis)'!$K$12)))))","v":0},0,{"$f":"(E412*'Aferi (Variáveis)'!$K$12/100)","v":0},0,{"$f":"IF('Aferi (Variáveis)'!$F$20=\"Venda para Exportar\",0,IF('Aferi (Variáveis)'!$F$20=\"ALC\",0,IF('Aferi (Variáveis)'!$F$20=\"ZFM\",0,IF('Aferi (Variáveis)'!$F$20=\"Exportação\",0,IF('Aferi (Variáveis)'!$F$20=\"AO\",7*T412/100,T412*'Aferi (Variáveis)'!$F$20/100)))))","v":0},0,{"$f":"IF('Aferi (Variáveis)'!$C$12=\"ZFM\",0,IF('Aferi (Variáveis)'!$C$12=\"Exportação\",0,3*T412/100))","v":0},{"$f":"IF('Aferi (Variáveis)'!$C$12=\"ZFM\",0,IF('Aferi (Variáveis)'!$C$12=\"Exportação\",0,0.65*T412/100))","v":0},0,{"$f":"E412*(AA$23/100)","v":0},0,0,0,0,0,0,0,{"$f":"SUMIF('Custo Básico dos Produtos'!$B$7:$B$480,A412,'Custo Básico dos Produtos'!$K$7:$K$480)","v":0},null,null,0,0,0,0,0,0]
[null,{"$f":"IF(Q413<>0,VLOOKUP(Q413,'Custo Básico dos Produtos'!$A$7:$J$480,3),\"\")","v":""},null,{"$f":"SUMIF('Custo Básico dos Produtos'!$A$7:$A$480,Q413,'Custo Básico dos Produtos'!$J$7:$J$480)","v":0},0,0,{"$f":"IF(B413=\"\",0,SUMIF('Cadastro de Produtos em Linha'!$B$7:$B$457,A413,'Cadastro de Produtos em Linha'!$D$7:$D$457))","v":0},null,0,0,{"$f":"IF('Aferi (Variáveis)'!$C$12=\"ALC\",0,IF('Aferi (Variáveis)'!$C$12=\"ZFM\",0,IF('Aferi (Variáveis)'!$C$12=\"Exportação\",0,IF('Aferi (Variáveis)'!$C$12=\"Venda para Exportar\",0,IF('Aferi (Variáveis)'!$C$12=\"AO\",0,SUMIF('Custo Básico dos Produtos'!$A$7:$A$480,Q413,'Custo Básico dos Produtos'!$L$7:$L$480))))))","v":0},0,0,0,0,{"$f":"SUMIF('Cadastro de Produtos em Linha'!$A$6:$A$457,Q413,'Cadastro de Produtos em Linha'!$E$6:$E$457)*H413","v":0},{"$f":"IF(TODAY()<$AK$26,IF(A413<>\"\",SUMIF('Custo Básico dos Produtos'!$B$7:$B$457,A413,'Custo Básico dos Produtos'!$A$7:$A$457),0),0)","v":0},{"$f":"IF('Aferi (Variáveis)'!$C$12=\"Venda para Exportar\",0,IF('Aferi (Variáveis)'!$C$12=\"ALC\",0,IF('Aferi (Variáveis)'!$C$12=\"ZFM\",0,IF('Aferi (Variáveis)'!$C$12=\"Exportação\",0,IF('Aferi (Variáveis)'!$C$12=\"AO\",0,E413/(100+(0*'Aferi (Variáveis)'!$K$12/100))*100*K413%/100*'Aferi (Variáveis)'!$K$12)))))","v":0},0,{"$f":"(E413*'Aferi (Variáveis)'!$K$12/100)","v":0},0,{"$f":"IF('Aferi (Variáveis)'!$F$20=\"Venda para Exportar\",0,IF('Aferi (Variáveis)'!$F$20=\"ALC\",0,IF('Aferi (Variáveis)'!$F$20=\"ZFM\",0,IF('Aferi (Variáveis)'!$F$20=\"Exportação\",0,IF('Aferi (Variáveis)'!$F$20=\"AO\",7*T413/100,T413*'Aferi (Variáveis)'!$F$20/100)))))","v":0},0,{"$f":"IF('Aferi (Variáveis)'!$C$12=\"ZFM\",0,IF('Aferi (Variáveis)'!$C$12=\"Exportação\",0,3*T413/100))","v":0},{"$f":"IF('Aferi (Variáveis)'!$C$12=\"ZFM\",0,IF('Aferi (Variáveis)'!$C$12=\"Exportação\",0,0.65*T413/100))","v":0},0,0,0,0,0,0,0,0,0,{"$f":"SUMIF('Custo Básico dos Produtos'!$B$7:$B$480,A413,'Custo Básico dos Produtos'!$K$7:$K$480)","v":0},null,null,0,0,0,0,0,0]
[null,{"$f":"IF(Q414<>0,VLOOKUP(Q414,'Custo Básico dos Produtos'!$A$7:$J$480,3),\"\")","v":""},null,{"$f":"SUMIF('Custo Básico dos Produtos'!$A$7:$A$480,Q414,'Custo Básico dos Produtos'!$J$7:$J$480)","v":0},0,0,{"$f":"IF(B414=\"\",0,SUMIF('Cadastro de Produtos em Linha'!$B$7:$B$457,A414,'Cadastro de Produtos em Linha'!$D$7:$D$457))","v":0},null,0,0,{"$f":"IF('Aferi (Variáveis)'!$C$12=\"ALC\",0,IF('Aferi (Variáveis)'!$C$12=\"ZFM\",0,IF('Aferi (Variáveis)'!$C$12=\"Exportação\",0,IF('Aferi (Variáveis)'!$C$12=\"Venda para Exportar\",0,IF('Aferi (Variáveis)'!$C$12=\"AO\",0,SUMIF('Custo Básico dos Produtos'!$A$7:$A$480,Q414,'Custo Básico dos Produtos'!$L$7:$L$480))))))","v":0},0,0,0,0,{"$f":"SUMIF('Cadastro de Produtos em Linha'!$A$6:$A$457,Q414,'Cadastro de Produtos em Linha'!$E$6:$E$457)*H414","v":0},{"$f":"IF(TODAY()<$AK$26,IF(A414<>\"\",SUMIF('Custo Básico dos Produtos'!$B$7:$B$457,A414,'Custo Básico dos Produtos'!$A$7:$A$457),0),0)","v":0},{"$f":"IF('Aferi (Variáveis)'!$C$12=\"Venda para Exportar\",0,IF('Aferi (Variáveis)'!$C$12=\"ALC\",0,IF('Aferi (Variáveis)'!$C$12=\"ZFM\",0,IF('Aferi (Variáveis)'!$C$12=\"Exportação\",0,IF('Aferi (Variáveis)'!$C$12=\"AO\",0,E414/(100+(0*'Aferi (Variáveis)'!$K$12/100))*100*K414%/100*'Aferi (Variáveis)'!$K$12)))))","v":0},0,{"$f":"(E414*'Aferi (Variáveis)'!$K$12/100)","v":0},0,{"$f":"IF('Aferi (Variáveis)'!$F$20=\"Venda para Exportar\",0,IF('Aferi (Variáveis)'!$F$20=\"ALC\",0,IF('Aferi (Variáveis)'!$F$20=\"ZFM\",0,IF('Aferi (Variáveis)'!$F$20=\"Exportação\",0,IF('Aferi (Variáveis)'!$F$20=\"AO\",7*T414/100,T414*'Aferi (Variáveis)'!$F$20/100)))))","v":0},0,{"$f":"IF('Aferi (Variáveis)'!$C$12=\"ZFM\",0,IF('Aferi (Variáveis)'!$C$12=\"Exportação\",0,3*T414/100))","v":0},{"$f":"IF('Aferi (Variáveis)'!$C$12=\"ZFM\",0,IF('Aferi (Variáveis)'!$C$12=\"Exportação\",0,0.65*T414/100))","v":0},0,0,0,0,0,0,0,0,0,{"$f":"SUMIF('Custo Básico dos Produtos'!$B$7:$B$480,A414,'Custo Básico dos Produtos'!$K$7:$K$480)","v":0},null,null,0,0,0,0,0,0]
[null,{"$f":"IF(Q415<>0,VLOOKUP(Q415,'Custo Básico dos Produtos'!$A$7:$J$480,3),\"\")","v":""},null,{"$f":"SUMIF('Custo Básico dos Produtos'!$A$7:$A$480,Q415,'Custo Básico dos Produtos'!$J$7:$J$480)","v":0},0,0,{"$f":"IF(B415=\"\",0,SUMIF('Cadastro de Produtos em Linha'!$B$7:$B$457,A415,'Cadastro de Produtos em Linha'!$D$7:$D$457))","v":0},null,0,0,{"$f":"IF('Aferi (Variáveis)'!$C$12=\"ALC\",0,IF('Aferi (Variáveis)'!$C$12=\"ZFM\",0,IF('Aferi (Variáveis)'!$C$12=\"Exportação\",0,IF('Aferi (Variáveis)'!$C$12=\"Venda para Exportar\",0,IF('Aferi (Variáveis)'!$C$12=\"AO\",0,SUMIF('Custo Básico dos Produtos'!$A$7:$A$480,Q415,'Custo Básico dos Produtos'!$L$7:$L$480))))))","v":0},0,0,0,0,{"$f":"SUMIF('Cadastro de Produtos em Linha'!$A$6:$A$457,Q415,'Cadastro de Produtos em Linha'!$E$6:$E$457)*H415","v":0},{"$f":"IF(TODAY()<$AK$26,IF(A415<>\"\",SUMIF('Custo Básico dos Produtos'!$B$7:$B$457,A415,'Custo Básico dos Produtos'!$A$7:$A$457),0),0)","v":0},{"$f":"IF('Aferi (Variáveis)'!$C$12=\"Venda para Exportar\",0,IF('Aferi (Variáveis)'!$C$12=\"ALC\",0,IF('Aferi (Variáveis)'!$C$12=\"ZFM\",0,IF('Aferi (Variáveis)'!$C$12=\"Exportação\",0,IF('Aferi (Variáveis)'!$C$12=\"AO\",0,E415/(100+(0*'Aferi (Variáveis)'!$K$12/100))*100*K415%/100*'Aferi (Variáveis)'!$K$12)))))","v":0},0,{"$f":"(E415*'Aferi (Variáveis)'!$K$12/100)","v":0},0,{"$f":"IF('Aferi (Variáveis)'!$F$20=\"Venda para Exportar\",0,IF('Aferi (Variáveis)'!$F$20=\"ALC\",0,IF('Aferi (Variáveis)'!$F$20=\"ZFM\",0,IF('Aferi (Variáveis)'!$F$20=\"Exportação\",0,IF('Aferi (Variáveis)'!$F$20=\"AO\",7*T415/100,T415*'Aferi (Variáveis)'!$F$20/100)))))","v":0},0,{"$f":"IF('Aferi (Variáveis)'!$C$12=\"ZFM\",0,IF('Aferi (Variáveis)'!$C$12=\"Exportação\",0,3*T415/100))","v":0},{"$f":"IF('Aferi (Variáveis)'!$C$12=\"ZFM\",0,IF('Aferi (Variáveis)'!$C$12=\"Exportação\",0,0.65*T415/100))","v":0},0,0,0,0,0,0,0,0,0,{"$f":"SUMIF('Custo Básico dos Produtos'!$B$7:$B$480,A415,'Custo Básico dos Produtos'!$K$7:$K$480)","v":0},null,null,0,0,0,0,0,0]
[null,{"$f":"IF(Q416<>0,VLOOKUP(Q416,'Custo Básico dos Produtos'!$A$7:$J$480,3),\"\")","v":""},null,{"$f":"SUMIF('Custo Básico dos Produtos'!$A$7:$A$480,Q416,'Custo Básico dos Produtos'!$J$7:$J$480)","v":0},0,0,{"$f":"IF(B416=\"\",0,SUMIF('Cadastro de Produtos em Linha'!$B$7:$B$457,A416,'Cadastro de Produtos em Linha'!$D$7:$D$457))","v":0},null,0,0,{"$f":"IF('Aferi (Variáveis)'!$C$12=\"ALC\",0,IF('Aferi (Variáveis)'!$C$12=\"ZFM\",0,IF('Aferi (Variáveis)'!$C$12=\"Exportação\",0,IF('Aferi (Variáveis)'!$C$12=\"Venda para Exportar\",0,IF('Aferi (Variáveis)'!$C$12=\"AO\",0,SUMIF('Custo Básico dos Produtos'!$A$7:$A$480,Q416,'Custo Básico dos Produtos'!$L$7:$L$480))))))","v":0},0,0,0,0,{"$f":"SUMIF('Cadastro de Produtos em Linha'!$A$6:$A$457,Q416,'Cadastro de Produtos em Linha'!$E$6:$E$457)*H416","v":0},{"$f":"IF(TODAY()<$AK$26,IF(A416<>\"\",SUMIF('Custo Básico dos Produtos'!$B$7:$B$457,A416,'Custo Básico dos Produtos'!$A$7:$A$457),0),0)","v":0},{"$f":"IF('Aferi (Variáveis)'!$C$12=\"Venda para Exportar\",0,IF('Aferi (Variáveis)'!$C$12=\"ALC\",0,IF('Aferi (Variáveis)'!$C$12=\"ZFM\",0,IF('Aferi (Variáveis)'!$C$12=\"Exportação\",0,IF('Aferi (Variáveis)'!$C$12=\"AO\",0,E416/(100+(0*'Aferi (Variáveis)'!$K$12/100))*100*K416%/100*'Aferi (Variáveis)'!$K$12)))))","v":0},0,{"$f":"(E416*'Aferi (Variáveis)'!$K$12/100)","v":0},0,{"$f":"IF('Aferi (Variáveis)'!$F$20=\"Venda para Exportar\",0,IF('Aferi (Variáveis)'!$F$20=\"ALC\",0,IF('Aferi (Variáveis)'!$F$20=\"ZFM\",0,IF('Aferi (Variáveis)'!$F$20=\"Exportação\",0,IF('Aferi (Variáveis)'!$F$20=\"AO\",7*T416/100,T416*'Aferi (Variáveis)'!$F$20/100)))))","v":0},0,{"$f":"IF('Aferi (Variáveis)'!$C$12=\"ZFM\",0,IF('Aferi (Variáveis)'!$C$12=\"Exportação\",0,3*T416/100))","v":0},{"$f":"IF('Aferi (Variáveis)'!$C$12=\"ZFM\",0,IF('Aferi (Variáveis)'!$C$12=\"Exportação\",0,0.65*T416/100))","v":0},0,0,0,0,0,0,0,0,0,{"$f":"SUMIF('Custo Básico dos Produtos'!$B$7:$B$480,A416,'Custo Básico dos Produtos'!$K$7:$K$480)","v":0},null,null,0,0,0,0,0,0]
[null,{"$f":"IF(Q417<>0,VLOOKUP(Q417,'Custo Básico dos Produtos'!$A$7:$J$480,3),\"\")","v":""},null,{"$f":"SUMIF('Custo Básico dos Produtos'!$A$7:$A$480,Q417,'Custo Básico dos Produtos'!$J$7:$J$480)","v":0},0,0,{"$f":"IF(B417=\"\",0,SUMIF('Cadastro de Produtos em Linha'!$B$7:$B$457,A417,'Cadastro de Produtos em Linha'!$D$7:$D$457))","v":0},null,0,0,{"$f":"IF('Aferi (Variáveis)'!$C$12=\"ALC\",0,IF('Aferi (Variáveis)'!$C$12=\"ZFM\",0,IF('Aferi (Variáveis)'!$C$12=\"Exportação\",0,IF('Aferi (Variáveis)'!$C$12=\"Venda para Exportar\",0,IF('Aferi (Variáveis)'!$C$12=\"AO\",0,SUMIF('Custo Básico dos Produtos'!$A$7:$A$480,Q417,'Custo Básico dos Produtos'!$L$7:$L$480))))))","v":0},0,0,0,0,{"$f":"SUMIF('Cadastro de Produtos em Linha'!$A$6:$A$457,Q417,'Cadastro de Produtos em Linha'!$E$6:$E$457)*H417","v":0},{"$f":"IF(TODAY()<$AK$26,IF(A417<>\"\",SUMIF('Custo Básico dos Produtos'!$B$7:$B$457,A417,'Custo Básico dos Produtos'!$A$7:$A$457),0),0)","v":0},{"$f":"IF('Aferi (Variáveis)'!$C$12=\"Venda para Exportar\",0,IF('Aferi (Variáveis)'!$C$12=\"ALC\",0,IF('Aferi (Variáveis)'!$C$12=\"ZFM\",0,IF('Aferi (Variáveis)'!$C$12=\"Exportação\",0,IF('Aferi (Variáveis)'!$C$12=\"AO\",0,E417/(100+(0*'Aferi (Variáveis)'!$K$12/100))*100*K417%/100*'Aferi (Variáveis)'!$K$12)))))","v":0},0,{"$f":"(E417*'Aferi (Variáveis)'!$K$12/100)","v":0},0,{"$f":"IF('Aferi (Variáveis)'!$F$20=\"Venda para Exportar\",0,IF('Aferi (Variáveis)'!$F$20=\"ALC\",0,IF('Aferi (Variáveis)'!$F$20=\"ZFM\",0,IF('Aferi (Variáveis)'!$F$20=\"Exportação\",0,IF('Aferi (Variáveis)'!$F$20=\"AO\",7*T417/100,T417*'Aferi (Variáveis)'!$F$20/100)))))","v":0},0,{"$f":"IF('Aferi (Variáveis)'!$C$12=\"ZFM\",0,IF('Aferi (Variáveis)'!$C$12=\"Exportação\",0,3*T417/100))","v":0},{"$f":"IF('Aferi (Variáveis)'!$C$12=\"ZFM\",0,IF('Aferi (Variáveis)'!$C$12=\"Exportação\",0,0.65*T417/100))","v":0},0,0,0,0,0,0,0,0,0,{"$f":"SUMIF('Custo Básico dos Produtos'!$B$7:$B$480,A417,'Custo Básico dos Produtos'!$K$7:$K$480)","v":0},null,null,0,0,0,0,0,0]
[null,{"$f":"IF(Q418<>0,VLOOKUP(Q418,'Custo Básico dos Produtos'!$A$7:$J$480,3),\"\")","v":""},null,{"$f":"SUMIF('Custo Básico dos Produtos'!$A$7:$A$480,Q418,'Custo Básico dos Produtos'!$J$7:$J$480)","v":0},0,0,{"$f":"IF(B418=\"\",0,SUMIF('Cadastro de Produtos em Linha'!$B$7:$B$457,A418,'Cadastro de Produtos em Linha'!$D$7:$D$457))","v":0},null,0,0,{"$f":"IF('Aferi (Variáveis)'!$C$12=\"ALC\",0,IF('Aferi (Variáveis)'!$C$12=\"ZFM\",0,IF('Aferi (Variáveis)'!$C$12=\"Exportação\",0,IF('Aferi (Variáveis)'!$C$12=\"Venda para Exportar\",0,IF('Aferi (Variáveis)'!$C$12=\"AO\",0,SUMIF('Custo Básico dos Produtos'!$A$7:$A$480,Q418,'Custo Básico dos Produtos'!$L$7:$L$480))))))","v":0},0,0,0,0,{"$f":"SUMIF('Cadastro de Produtos em Linha'!$A$6:$A$457,Q418,'Cadastro de Produtos em Linha'!$E$6:$E$457)*H418","v":0},{"$f":"IF(TODAY()<$AK$26,IF(A418<>\"\",SUMIF('Custo Básico dos Produtos'!$B$7:$B$457,A418,'Custo Básico dos Produtos'!$A$7:$A$457),0),0)","v":0},{"$f":"IF('Aferi (Variáveis)'!$C$12=\"Venda para Exportar\",0,IF('Aferi (Variáveis)'!$C$12=\"ALC\",0,IF('Aferi (Variáveis)'!$C$12=\"ZFM\",0,IF('Aferi (Variáveis)'!$C$12=\"Exportação\",0,IF('Aferi (Variáveis)'!$C$12=\"AO\",0,E418/(100+(0*'Aferi (Variáveis)'!$K$12/100))*100*K418%/100*'Aferi (Variáveis)'!$K$12)))))","v":0},0,{"$f":"(E418*'Aferi (Variáveis)'!$K$12/100)","v":0},0,{"$f":"IF('Aferi (Variáveis)'!$F$20=\"Venda para Exportar\",0,IF('Aferi (Variáveis)'!$F$20=\"ALC\",0,IF('Aferi (Variáveis)'!$F$20=\"ZFM\",0,IF('Aferi (Variáveis)'!$F$20=\"Exportação\",0,IF('Aferi (Variáveis)'!$F$20=\"AO\",7*T418/100,T418*'Aferi (Variáveis)'!$F$20/100)))))","v":0},0,{"$f":"IF('Aferi (Variáveis)'!$C$12=\"ZFM\",0,IF('Aferi (Variáveis)'!$C$12=\"Exportação\",0,3*T418/100))","v":0},{"$f":"IF('Aferi (Variáveis)'!$C$12=\"ZFM\",0,IF('Aferi (Variáveis)'!$C$12=\"Exportação\",0,0.65*T418/100))","v":0},0,0,0,0,0,0,0,0,0,{"$f":"SUMIF('Custo Básico dos Produtos'!$B$7:$B$480,A418,'Custo Básico dos Produtos'!$K$7:$K$480)","v":0},null,null,0,0,0,0,0,0]
[null,{"$f":"IF(Q419<>0,VLOOKUP(Q419,'Custo Básico dos Produtos'!$A$7:$J$480,3),\"\")","v":""},null,{"$f":"SUMIF('Custo Básico dos Produtos'!$A$7:$A$480,Q419,'Custo Básico dos Produtos'!$J$7:$J$480)","v":0},0,0,{"$f":"IF(B419=\"\",0,SUMIF('Cadastro de Produtos em Linha'!$B$7:$B$457,A419,'Cadastro de Produtos em Linha'!$D$7:$D$457))","v":0},null,{"$f":"IF(F419=\"\",0,IF(F419>=AI419,G419*H419,0))","v":0},{"$f":"IF(F419=\"\",0,I419*E419)","v":0},{"$f":"IF('Aferi (Variáveis)'!$C$12=\"ALC\",0,IF('Aferi (Variáveis)'!$C$12=\"ZFM\",0,IF('Aferi (Variáveis)'!$C$12=\"Exportação\",0,IF('Aferi (Variáveis)'!$C$12=\"Venda para Exportar\",0,IF('Aferi (Variáveis)'!$C$12=\"AO\",0,SUMIF('Custo Básico dos Produtos'!$A$7:$A$480,Q419,'Custo Básico dos Produtos'!$L$7:$L$480))))))","v":0},{"$f":"J419+M419","v":0},{"$f":"S419","v":0},{"$f":"J419+M419","v":0},0,{"$f":"SUMIF('Cadastro de Produtos em Linha'!$A$6:$A$457,Q419,'Cadastro de Produtos em Linha'!$E$6:$E$457)*H419","v":0},{"$f":"IF(TODAY()<$AK$26,IF(A419<>\"\",SUMIF('Custo Básico dos Produtos'!$B$7:$B$457,A419,'Custo Básico dos Produtos'!$A$7:$A$457),0),0)","v":0},{"$f":"IF('Aferi (Variáveis)'!$C$12=\"Venda para Exportar\",0,IF('Aferi (Variáveis)'!$C$12=\"ALC\",0,IF('Aferi (Variáveis)'!$C$12=\"ZFM\",0,IF('Aferi (Variáveis)'!$C$12=\"Exportação\",0,IF('Aferi (Variáveis)'!$C$12=\"AO\",0,E419/(100+(0*'Aferi (Variáveis)'!$K$12/100))*100*K419%/100*'Aferi (Variáveis)'!$K$12)))))","v":0},0,{"$f":"(E419*'Aferi (Variáveis)'!$K$12/100)","v":0},0,{"$f":"IF('Aferi (Variáveis)'!$F$20=\"Venda para Exportar\",0,IF('Aferi (Variáveis)'!$F$20=\"ALC\",0,IF('Aferi (Variáveis)'!$F$20=\"ZFM\",0,IF('Aferi (Variáveis)'!$F$20=\"Exportação\",0,IF('Aferi (Variáveis)'!$F$20=\"AO\",7*T419/100,T419*'Aferi (Variáveis)'!$F$20/100)))))","v":0},0,{"$f":"IF('Aferi (Variáveis)'!$C$12=\"ZFM\",0,IF('Aferi (Variáveis)'!$C$12=\"Exportação\",0,3*T419/100))","v":0},{"$f":"IF('Aferi (Variáveis)'!$C$12=\"ZFM\",0,IF('Aferi (Variáveis)'!$C$12=\"Exportação\",0,0.65*T419/100))","v":0},0,0,0,0,0,0,0,0,0,{"$f":"SUMIF('Custo Básico dos Produtos'!$B$7:$B$480,A419,'Custo Básico dos Produtos'!$K$7:$K$480)","v":0},null,null,0,0,0,0,0,0]
[null,{"$f":"IF(Q420<>0,VLOOKUP(Q420,'Custo Básico dos Produtos'!$A$7:$J$480,3),\"\")","v":""},null,{"$f":"SUMIF('Custo Básico dos Produtos'!$A$7:$A$480,Q420,'Custo Básico dos Produtos'!$J$7:$J$480)","v":0},0,0,{"$f":"IF(B420=\"\",0,SUMIF('Cadastro de Produtos em Linha'!$B$7:$B$457,A420,'Cadastro de Produtos em Linha'!$D$7:$D$457))","v":0},null,0,0,{"$f":"IF('Aferi (Variáveis)'!$C$12=\"ALC\",0,IF('Aferi (Variáveis)'!$C$12=\"ZFM\",0,IF('Aferi (Variáveis)'!$C$12=\"Exportação\",0,IF('Aferi (Variáveis)'!$C$12=\"Venda para Exportar\",0,IF('Aferi (Variáveis)'!$C$12=\"AO\",0,SUMIF('Custo Básico dos Produtos'!$A$7:$A$480,Q420,'Custo Básico dos Produtos'!$L$7:$L$480))))))","v":0},0,0,0,0,{"$f":"SUMIF('Cadastro de Produtos em Linha'!$A$6:$A$457,Q420,'Cadastro de Produtos em Linha'!$E$6:$E$457)*H420","v":0},{"$f":"IF(TODAY()<$AK$26,IF(A420<>\"\",SUMIF('Custo Básico dos Produtos'!$B$7:$B$457,A420,'Custo Básico dos Produtos'!$A$7:$A$457),0),0)","v":0},{"$f":"IF('Aferi (Variáveis)'!$C$12=\"Venda para Exportar\",0,IF('Aferi (Variáveis)'!$C$12=\"ALC\",0,IF('Aferi (Variáveis)'!$C$12=\"ZFM\",0,IF('Aferi (Variáveis)'!$C$12=\"Exportação\",0,IF('Aferi (Variáveis)'!$C$12=\"AO\",0,E420/(100+(0*'Aferi (Variáveis)'!$K$12/100))*100*K420%/100*'Aferi (Variáveis)'!$K$12)))))","v":0},0,{"$f":"(E420*'Aferi (Variáveis)'!$K$12/100)","v":0},0,{"$f":"IF('Aferi (Variáveis)'!$F$20=\"Venda para Exportar\",0,IF('Aferi (Variáveis)'!$F$20=\"ALC\",0,IF('Aferi (Variáveis)'!$F$20=\"ZFM\",0,IF('Aferi (Variáveis)'!$F$20=\"Exportação\",0,IF('Aferi (Variáveis)'!$F$20=\"AO\",7*T420/100,T420*'Aferi (Variáveis)'!$F$20/100)))))","v":0},0,{"$f":"IF('Aferi (Variáveis)'!$C$12=\"ZFM\",0,IF('Aferi (Variáveis)'!$C$12=\"Exportação\",0,3*T420/100))","v":0},{"$f":"IF('Aferi (Variáveis)'!$C$12=\"ZFM\",0,IF('Aferi (Variáveis)'!$C$12=\"Exportação\",0,0.65*T420/100))","v":0},0,0,0,0,0,0,0,0,0,{"$f":"SUMIF('Custo Básico dos Produtos'!$B$7:$B$480,A420,'Custo Básico dos Produtos'!$K$7:$K$480)","v":0},null,null,0,0,0,0,0,0]
[null,{"$f":"IF(Q421<>0,VLOOKUP(Q421,'Custo Básico dos Produtos'!$A$7:$J$480,3),\"\")","v":""},null,{"$f":"SUMIF('Custo Básico dos Produtos'!$A$7:$A$480,Q421,'Custo Básico dos Produtos'!$J$7:$J$480)","v":0},0,0,{"$f":"IF(B421=\"\",0,SUMIF('Cadastro de Produtos em Linha'!$B$7:$B$457,A421,'Cadastro de Produtos em Linha'!$D$7:$D$457))","v":0},null,0,0,{"$f":"IF('Aferi (Variáveis)'!$C$12=\"ALC\",0,IF('Aferi (Variáveis)'!$C$12=\"ZFM\",0,IF('Aferi (Variáveis)'!$C$12=\"Exportação\",0,IF('Aferi (Variáveis)'!$C$12=\"Venda para Exportar\",0,IF('Aferi (Variáveis)'!$C$12=\"AO\",0,SUMIF('Custo Básico dos Produtos'!$A$7:$A$480,Q421,'Custo Básico dos Produtos'!$L$7:$L$480))))))","v":0},0,0,0,0,{"$f":"SUMIF('Cadastro de Produtos em Linha'!$A$6:$A$457,Q421,'Cadastro de Produtos em Linha'!$E$6:$E$457)*H421","v":0},{"$f":"IF(TODAY()<$AK$26,IF(A421<>\"\",SUMIF('Custo Básico dos Produtos'!$B$7:$B$457,A421,'Custo Básico dos Produtos'!$A$7:$A$457),0),0)","v":0},{"$f":"IF('Aferi (Variáveis)'!$C$12=\"Venda para Exportar\",0,IF('Aferi (Variáveis)'!$C$12=\"ALC\",0,IF('Aferi (Variáveis)'!$C$12=\"ZFM\",0,IF('Aferi (Variáveis)'!$C$12=\"Exportação\",0,IF('Aferi (Variáveis)'!$C$12=\"AO\",0,E421/(100+(0*'Aferi (Variáveis)'!$K$12/100))*100*K421%/100*'Aferi (Variáveis)'!$K$12)))))","v":0},0,{"$f":"(E421*'Aferi (Variáveis)'!$K$12/100)","v":0},0,{"$f":"IF('Aferi (Variáveis)'!$F$20=\"Venda para Exportar\",0,IF('Aferi (Variáveis)'!$F$20=\"ALC\",0,IF('Aferi (Variáveis)'!$F$20=\"ZFM\",0,IF('Aferi (Variáveis)'!$F$20=\"Exportação\",0,IF('Aferi (Variáveis)'!$F$20=\"AO\",7*T421/100,T421*'Aferi (Variáveis)'!$F$20/100)))))","v":0},0,{"$f":"IF('Aferi (Variáveis)'!$C$12=\"ZFM\",0,IF('Aferi (Variáveis)'!$C$12=\"Exportação\",0,3*T421/100))","v":0},{"$f":"IF('Aferi (Variáveis)'!$C$12=\"ZFM\",0,IF('Aferi (Variáveis)'!$C$12=\"Exportação\",0,0.65*T421/100))","v":0},0,0,0,0,0,0,0,0,0,{"$f":"SUMIF('Custo Básico dos Produtos'!$B$7:$B$480,A421,'Custo Básico dos Produtos'!$K$7:$K$480)","v":0},null,null,0,0,0,0,0,0]
[null,{"$f":"IF(Q422<>0,VLOOKUP(Q422,'Custo Básico dos Produtos'!$A$7:$J$480,3),\"\")","v":""},null,{"$f":"SUMIF('Custo Básico dos Produtos'!$A$7:$A$480,Q422,'Custo Básico dos Produtos'!$J$7:$J$480)","v":0},0,0,{"$f":"IF(B422=\"\",0,SUMIF('Cadastro de Produtos em Linha'!$B$7:$B$457,A422,'Cadastro de Produtos em Linha'!$D$7:$D$457))","v":0},null,0,0,{"$f":"IF('Aferi (Variáveis)'!$C$12=\"ALC\",0,IF('Aferi (Variáveis)'!$C$12=\"ZFM\",0,IF('Aferi (Variáveis)'!$C$12=\"Exportação\",0,IF('Aferi (Variáveis)'!$C$12=\"Venda para Exportar\",0,IF('Aferi (Variáveis)'!$C$12=\"AO\",0,SUMIF('Custo Básico dos Produtos'!$A$7:$A$480,Q422,'Custo Básico dos Produtos'!$L$7:$L$480))))))","v":0},0,0,0,0,{"$f":"SUMIF('Cadastro de Produtos em Linha'!$A$6:$A$457,Q422,'Cadastro de Produtos em Linha'!$E$6:$E$457)*H422","v":0},{"$f":"IF(TODAY()<$AK$26,IF(A422<>\"\",SUMIF('Custo Básico dos Produtos'!$B$7:$B$457,A422,'Custo Básico dos Produtos'!$A$7:$A$457),0),0)","v":0},{"$f":"IF('Aferi (Variáveis)'!$C$12=\"Venda para Exportar\",0,IF('Aferi (Variáveis)'!$C$12=\"ALC\",0,IF('Aferi (Variáveis)'!$C$12=\"ZFM\",0,IF('Aferi (Variáveis)'!$C$12=\"Exportação\",0,IF('Aferi (Variáveis)'!$C$12=\"AO\",0,E422/(100+(0*'Aferi (Variáveis)'!$K$12/100))*100*K422%/100*'Aferi (Variáveis)'!$K$12)))))","v":0},0,{"$f":"(E422*'Aferi (Variáveis)'!$K$12/100)","v":0},0,{"$f":"IF('Aferi (Variáveis)'!$F$20=\"Venda para Exportar\",0,IF('Aferi (Variáveis)'!$F$20=\"ALC\",0,IF('Aferi (Variáveis)'!$F$20=\"ZFM\",0,IF('Aferi (Variáveis)'!$F$20=\"Exportação\",0,IF('Aferi (Variáveis)'!$F$20=\"AO\",7*T422/100,T422*'Aferi (Variáveis)'!$F$20/100)))))","v":0},0,{"$f":"IF('Aferi (Variáveis)'!$C$12=\"ZFM\",0,IF('Aferi (Variáveis)'!$C$12=\"Exportação\",0,3*T422/100))","v":0},{"$f":"IF('Aferi (Variáveis)'!$C$12=\"ZFM\",0,IF('Aferi (Variáveis)'!$C$12=\"Exportação\",0,0.65*T422/100))","v":0},0,0,0,0,0,0,0,0,0,{"$f":"SUMIF('Custo Básico dos Produtos'!$B$7:$B$480,A422,'Custo Básico dos Produtos'!$K$7:$K$480)","v":0},null,null,0,0,0,0,0,0]
[null,{"$f":"IF(Q423<>0,VLOOKUP(Q423,'Custo Básico dos Produtos'!$A$7:$J$480,3),\"\")","v":""},null,{"$f":"SUMIF('Custo Básico dos Produtos'!$A$7:$A$480,Q423,'Custo Básico dos Produtos'!$J$7:$J$480)","v":0},0,0,{"$f":"IF(B423=\"\",0,SUMIF('Cadastro de Produtos em Linha'!$B$7:$B$457,A423,'Cadastro de Produtos em Linha'!$D$7:$D$457))","v":0},null,0,0,{"$f":"IF('Aferi (Variáveis)'!$C$12=\"ALC\",0,IF('Aferi (Variáveis)'!$C$12=\"ZFM\",0,IF('Aferi (Variáveis)'!$C$12=\"Exportação\",0,IF('Aferi (Variáveis)'!$C$12=\"Venda para Exportar\",0,IF('Aferi (Variáveis)'!$C$12=\"AO\",0,SUMIF('Custo Básico dos Produtos'!$A$7:$A$480,Q423,'Custo Básico dos Produtos'!$L$7:$L$480))))))","v":0},0,0,0,0,{"$f":"SUMIF('Cadastro de Produtos em Linha'!$A$6:$A$457,Q423,'Cadastro de Produtos em Linha'!$E$6:$E$457)*H423","v":0},{"$f":"IF(TODAY()<$AK$26,IF(A423<>\"\",SUMIF('Custo Básico dos Produtos'!$B$7:$B$457,A423,'Custo Básico dos Produtos'!$A$7:$A$457),0),0)","v":0},{"$f":"IF('Aferi (Variáveis)'!$C$12=\"Venda para Exportar\",0,IF('Aferi (Variáveis)'!$C$12=\"ALC\",0,IF('Aferi (Variáveis)'!$C$12=\"ZFM\",0,IF('Aferi (Variáveis)'!$C$12=\"Exportação\",0,IF('Aferi (Variáveis)'!$C$12=\"AO\",0,E423/(100+(0*'Aferi (Variáveis)'!$K$12/100))*100*K423%/100*'Aferi (Variáveis)'!$K$12)))))","v":0},0,{"$f":"(E423*'Aferi (Variáveis)'!$K$12/100)","v":0},0,{"$f":"IF('Aferi (Variáveis)'!$F$20=\"Venda para Exportar\",0,IF('Aferi (Variáveis)'!$F$20=\"ALC\",0,IF('Aferi (Variáveis)'!$F$20=\"ZFM\",0,IF('Aferi (Variáveis)'!$F$20=\"Exportação\",0,IF('Aferi (Variáveis)'!$F$20=\"AO\",7*T423/100,T423*'Aferi (Variáveis)'!$F$20/100)))))","v":0},0,{"$f":"IF('Aferi (Variáveis)'!$C$12=\"ZFM\",0,IF('Aferi (Variáveis)'!$C$12=\"Exportação\",0,3*T423/100))","v":0},{"$f":"IF('Aferi (Variáveis)'!$C$12=\"ZFM\",0,IF('Aferi (Variáveis)'!$C$12=\"Exportação\",0,0.65*T423/100))","v":0},0,0,0,0,0,0,0,0,0,{"$f":"SUMIF('Custo Básico dos Produtos'!$B$7:$B$480,A423,'Custo Básico dos Produtos'!$K$7:$K$480)","v":0},null,null,0,0,0,0,0,0]
[null,{"$f":"IF(Q424<>0,VLOOKUP(Q424,'Custo Básico dos Produtos'!$A$7:$J$480,3),\"\")","v":""},null,{"$f":"SUMIF('Custo Básico dos Produtos'!$A$7:$A$480,Q424,'Custo Básico dos Produtos'!$J$7:$J$480)","v":0},0,0,{"$f":"IF(B424=\"\",0,SUMIF('Cadastro de Produtos em Linha'!$B$7:$B$457,A424,'Cadastro de Produtos em Linha'!$D$7:$D$457))","v":0},null,0,0,{"$f":"IF('Aferi (Variáveis)'!$C$12=\"ALC\",0,IF('Aferi (Variáveis)'!$C$12=\"ZFM\",0,IF('Aferi (Variáveis)'!$C$12=\"Exportação\",0,IF('Aferi (Variáveis)'!$C$12=\"Venda para Exportar\",0,IF('Aferi (Variáveis)'!$C$12=\"AO\",0,SUMIF('Custo Básico dos Produtos'!$A$7:$A$480,Q424,'Custo Básico dos Produtos'!$L$7:$L$480))))))","v":0},0,0,0,0,{"$f":"SUMIF('Cadastro de Produtos em Linha'!$A$6:$A$457,Q424,'Cadastro de Produtos em Linha'!$E$6:$E$457)*H424","v":0},{"$f":"IF(TODAY()<$AK$26,IF(A424<>\"\",SUMIF('Custo Básico dos Produtos'!$B$7:$B$457,A424,'Custo Básico dos Produtos'!$A$7:$A$457),0),0)","v":0},{"$f":"IF('Aferi (Variáveis)'!$C$12=\"Venda para Exportar\",0,IF('Aferi (Variáveis)'!$C$12=\"ALC\",0,IF('Aferi (Variáveis)'!$C$12=\"ZFM\",0,IF('Aferi (Variáveis)'!$C$12=\"Exportação\",0,IF('Aferi (Variáveis)'!$C$12=\"AO\",0,E424/(100+(0*'Aferi (Variáveis)'!$K$12/100))*100*K424%/100*'Aferi (Variáveis)'!$K$12)))))","v":0},0,{"$f":"(E424*'Aferi (Variáveis)'!$K$12/100)","v":0},0,{"$f":"IF('Aferi (Variáveis)'!$F$20=\"Venda para Exportar\",0,IF('Aferi (Variáveis)'!$F$20=\"ALC\",0,IF('Aferi (Variáveis)'!$F$20=\"ZFM\",0,IF('Aferi (Variáveis)'!$F$20=\"Exportação\",0,IF('Aferi (Variáveis)'!$F$20=\"AO\",7*T424/100,T424*'Aferi (Variáveis)'!$F$20/100)))))","v":0},0,{"$f":"IF('Aferi (Variáveis)'!$C$12=\"ZFM\",0,IF('Aferi (Variáveis)'!$C$12=\"Exportação\",0,3*T424/100))","v":0},{"$f":"IF('Aferi (Variáveis)'!$C$12=\"ZFM\",0,IF('Aferi (Variáveis)'!$C$12=\"Exportação\",0,0.65*T424/100))","v":0},0,0,0,0,0,0,0,0,0,{"$f":"SUMIF('Custo Básico dos Produtos'!$B$7:$B$480,A424,'Custo Básico dos Produtos'!$K$7:$K$480)","v":0},null,null,0,0,0,0,0,0]
[null,{"$f":"IF(Q425<>0,VLOOKUP(Q425,'Custo Básico dos Produtos'!$A$7:$J$480,3),\"\")","v":""},null,{"$f":"SUMIF('Custo Básico dos Produtos'!$A$7:$A$480,Q425,'Custo Básico dos Produtos'!$J$7:$J$480)","v":0},0,0,{"$f":"IF(B425=\"\",0,SUMIF('Cadastro de Produtos em Linha'!$B$7:$B$457,A425,'Cadastro de Produtos em Linha'!$D$7:$D$457))","v":0},null,0,0,{"$f":"IF('Aferi (Variáveis)'!$C$12=\"ALC\",0,IF('Aferi (Variáveis)'!$C$12=\"ZFM\",0,IF('Aferi (Variáveis)'!$C$12=\"Exportação\",0,IF('Aferi (Variáveis)'!$C$12=\"Venda para Exportar\",0,IF('Aferi (Variáveis)'!$C$12=\"AO\",0,SUMIF('Custo Básico dos Produtos'!$A$7:$A$480,Q425,'Custo Básico dos Produtos'!$L$7:$L$480))))))","v":0},0,0,0,0,{"$f":"SUMIF('Cadastro de Produtos em Linha'!$A$6:$A$457,Q425,'Cadastro de Produtos em Linha'!$E$6:$E$457)*H425","v":0},{"$f":"IF(TODAY()<$AK$26,IF(A425<>\"\",SUMIF('Custo Básico dos Produtos'!$B$7:$B$457,A425,'Custo Básico dos Produtos'!$A$7:$A$457),0),0)","v":0},{"$f":"IF('Aferi (Variáveis)'!$C$12=\"Venda para Exportar\",0,IF('Aferi (Variáveis)'!$C$12=\"ALC\",0,IF('Aferi (Variáveis)'!$C$12=\"ZFM\",0,IF('Aferi (Variáveis)'!$C$12=\"Exportação\",0,IF('Aferi (Variáveis)'!$C$12=\"AO\",0,E425/(100+(0*'Aferi (Variáveis)'!$K$12/100))*100*K425%/100*'Aferi (Variáveis)'!$K$12)))))","v":0},0,{"$f":"(E425*'Aferi (Variáveis)'!$K$12/100)","v":0},0,{"$f":"IF('Aferi (Variáveis)'!$F$20=\"Venda para Exportar\",0,IF('Aferi (Variáveis)'!$F$20=\"ALC\",0,IF('Aferi (Variáveis)'!$F$20=\"ZFM\",0,IF('Aferi (Variáveis)'!$F$20=\"Exportação\",0,IF('Aferi (Variáveis)'!$F$20=\"AO\",7*T425/100,T425*'Aferi (Variáveis)'!$F$20/100)))))","v":0},0,{"$f":"IF('Aferi (Variáveis)'!$C$12=\"ZFM\",0,IF('Aferi (Variáveis)'!$C$12=\"Exportação\",0,3*T425/100))","v":0},{"$f":"IF('Aferi (Variáveis)'!$C$12=\"ZFM\",0,IF('Aferi (Variáveis)'!$C$12=\"Exportação\",0,0.65*T425/100))","v":0},0,0,0,0,0,0,0,0,0,{"$f":"SUMIF('Custo Básico dos Produtos'!$B$7:$B$480,A425,'Custo Básico dos Produtos'!$K$7:$K$480)","v":0},null,null,0,0,0,0,0,0]
[null,{"$f":"IF(Q426<>0,VLOOKUP(Q426,'Custo Básico dos Produtos'!$A$7:$J$480,3),\"\")","v":""},null,{"$f":"SUMIF('Custo Básico dos Produtos'!$A$7:$A$480,Q426,'Custo Básico dos Produtos'!$J$7:$J$480)","v":0},0,0,{"$f":"IF(B426=\"\",0,SUMIF('Cadastro de Produtos em Linha'!$B$7:$B$457,A426,'Cadastro de Produtos em Linha'!$D$7:$D$457))","v":0},null,0,0,{"$f":"IF('Aferi (Variáveis)'!$C$12=\"ALC\",0,IF('Aferi (Variáveis)'!$C$12=\"ZFM\",0,IF('Aferi (Variáveis)'!$C$12=\"Exportação\",0,IF('Aferi (Variáveis)'!$C$12=\"Venda para Exportar\",0,IF('Aferi (Variáveis)'!$C$12=\"AO\",0,SUMIF('Custo Básico dos Produtos'!$A$7:$A$480,Q426,'Custo Básico dos Produtos'!$L$7:$L$480))))))","v":0},0,0,0,0,{"$f":"SUMIF('Cadastro de Produtos em Linha'!$A$6:$A$457,Q426,'Cadastro de Produtos em Linha'!$E$6:$E$457)*H426","v":0},{"$f":"IF(TODAY()<$AK$26,IF(A426<>\"\",SUMIF('Custo Básico dos Produtos'!$B$7:$B$457,A426,'Custo Básico dos Produtos'!$A$7:$A$457),0),0)","v":0},{"$f":"IF('Aferi (Variáveis)'!$C$12=\"Venda para Exportar\",0,IF('Aferi (Variáveis)'!$C$12=\"ALC\",0,IF('Aferi (Variáveis)'!$C$12=\"ZFM\",0,IF('Aferi (Variáveis)'!$C$12=\"Exportação\",0,IF('Aferi (Variáveis)'!$C$12=\"AO\",0,E426/(100+(0*'Aferi (Variáveis)'!$K$12/100))*100*K426%/100*'Aferi (Variáveis)'!$K$12)))))","v":0},0,{"$f":"(E426*'Aferi (Variáveis)'!$K$12/100)","v":0},0,{"$f":"IF('Aferi (Variáveis)'!$F$20=\"Venda para Exportar\",0,IF('Aferi (Variáveis)'!$F$20=\"ALC\",0,IF('Aferi (Variáveis)'!$F$20=\"ZFM\",0,IF('Aferi (Variáveis)'!$F$20=\"Exportação\",0,IF('Aferi (Variáveis)'!$F$20=\"AO\",7*T426/100,T426*'Aferi (Variáveis)'!$F$20/100)))))","v":0},0,{"$f":"IF('Aferi (Variáveis)'!$C$12=\"ZFM\",0,IF('Aferi (Variáveis)'!$C$12=\"Exportação\",0,3*T426/100))","v":0},{"$f":"IF('Aferi (Variáveis)'!$C$12=\"ZFM\",0,IF('Aferi (Variáveis)'!$C$12=\"Exportação\",0,0.65*T426/100))","v":0},0,0,0,0,0,0,0,0,0,{"$f":"SUMIF('Custo Básico dos Produtos'!$B$7:$B$480,A426,'Custo Básico dos Produtos'!$K$7:$K$480)","v":0},null,null,0,0,0,0,0,0]
[null,{"$f":"IF(Q427<>0,VLOOKUP(Q427,'Custo Básico dos Produtos'!$A$7:$J$480,3),\"\")","v":""},null,{"$f":"SUMIF('Custo Básico dos Produtos'!$A$7:$A$480,Q427,'Custo Básico dos Produtos'!$J$7:$J$480)","v":0},0,0,{"$f":"IF(B427=\"\",0,SUMIF('Cadastro de Produtos em Linha'!$B$7:$B$457,A427,'Cadastro de Produtos em Linha'!$D$7:$D$457))","v":0},null,0,0,{"$f":"IF('Aferi (Variáveis)'!$C$12=\"ALC\",0,IF('Aferi (Variáveis)'!$C$12=\"ZFM\",0,IF('Aferi (Variáveis)'!$C$12=\"Exportação\",0,IF('Aferi (Variáveis)'!$C$12=\"Venda para Exportar\",0,IF('Aferi (Variáveis)'!$C$12=\"AO\",0,SUMIF('Custo Básico dos Produtos'!$A$7:$A$480,Q427,'Custo Básico dos Produtos'!$L$7:$L$480))))))","v":0},0,0,0,0,{"$f":"SUMIF('Cadastro de Produtos em Linha'!$A$6:$A$457,Q427,'Cadastro de Produtos em Linha'!$E$6:$E$457)*H427","v":0},{"$f":"IF(TODAY()<$AK$26,IF(A427<>\"\",SUMIF('Custo Básico dos Produtos'!$B$7:$B$457,A427,'Custo Básico dos Produtos'!$A$7:$A$457),0),0)","v":0},{"$f":"IF('Aferi (Variáveis)'!$C$12=\"Venda para Exportar\",0,IF('Aferi (Variáveis)'!$C$12=\"ALC\",0,IF('Aferi (Variáveis)'!$C$12=\"ZFM\",0,IF('Aferi (Variáveis)'!$C$12=\"Exportação\",0,IF('Aferi (Variáveis)'!$C$12=\"AO\",0,E427/(100+(0*'Aferi (Variáveis)'!$K$12/100))*100*K427%/100*'Aferi (Variáveis)'!$K$12)))))","v":0},0,{"$f":"(E427*'Aferi (Variáveis)'!$K$12/100)","v":0},0,{"$f":"IF('Aferi (Variáveis)'!$F$20=\"Venda para Exportar\",0,IF('Aferi (Variáveis)'!$F$20=\"ALC\",0,IF('Aferi (Variáveis)'!$F$20=\"ZFM\",0,IF('Aferi (Variáveis)'!$F$20=\"Exportação\",0,IF('Aferi (Variáveis)'!$F$20=\"AO\",7*T427/100,T427*'Aferi (Variáveis)'!$F$20/100)))))","v":0},0,{"$f":"IF('Aferi (Variáveis)'!$C$12=\"ZFM\",0,IF('Aferi (Variáveis)'!$C$12=\"Exportação\",0,3*T427/100))","v":0},{"$f":"IF('Aferi (Variáveis)'!$C$12=\"ZFM\",0,IF('Aferi (Variáveis)'!$C$12=\"Exportação\",0,0.65*T427/100))","v":0},0,0,0,0,0,0,0,0,0,{"$f":"SUMIF('Custo Básico dos Produtos'!$B$7:$B$480,A427,'Custo Básico dos Produtos'!$K$7:$K$480)","v":0},null,null,0,0,0,0,0,0]
[null,{"$f":"IF(Q428<>0,VLOOKUP(Q428,'Custo Básico dos Produtos'!$A$7:$J$480,3),\"\")","v":""},null,{"$f":"SUMIF('Custo Básico dos Produtos'!$A$7:$A$480,Q428,'Custo Básico dos Produtos'!$J$7:$J$480)","v":0},0,0,{"$f":"IF(B428=\"\",0,SUMIF('Cadastro de Produtos em Linha'!$B$7:$B$457,A428,'Cadastro de Produtos em Linha'!$D$7:$D$457))","v":0},null,0,0,{"$f":"IF('Aferi (Variáveis)'!$C$12=\"ALC\",0,IF('Aferi (Variáveis)'!$C$12=\"ZFM\",0,IF('Aferi (Variáveis)'!$C$12=\"Exportação\",0,IF('Aferi (Variáveis)'!$C$12=\"Venda para Exportar\",0,IF('Aferi (Variáveis)'!$C$12=\"AO\",0,SUMIF('Custo Básico dos Produtos'!$A$7:$A$480,Q428,'Custo Básico dos Produtos'!$L$7:$L$480))))))","v":0},0,0,0,0,{"$f":"SUMIF('Cadastro de Produtos em Linha'!$A$6:$A$457,Q428,'Cadastro de Produtos em Linha'!$E$6:$E$457)*H428","v":0},{"$f":"IF(TODAY()<$AK$26,IF(A428<>\"\",SUMIF('Custo Básico dos Produtos'!$B$7:$B$457,A428,'Custo Básico dos Produtos'!$A$7:$A$457),0),0)","v":0},{"$f":"IF('Aferi (Variáveis)'!$C$12=\"Venda para Exportar\",0,IF('Aferi (Variáveis)'!$C$12=\"ALC\",0,IF('Aferi (Variáveis)'!$C$12=\"ZFM\",0,IF('Aferi (Variáveis)'!$C$12=\"Exportação\",0,IF('Aferi (Variáveis)'!$C$12=\"AO\",0,E428/(100+(0*'Aferi (Variáveis)'!$K$12/100))*100*K428%/100*'Aferi (Variáveis)'!$K$12)))))","v":0},0,{"$f":"(E428*'Aferi (Variáveis)'!$K$12/100)","v":0},0,{"$f":"IF('Aferi (Variáveis)'!$F$20=\"Venda para Exportar\",0,IF('Aferi (Variáveis)'!$F$20=\"ALC\",0,IF('Aferi (Variáveis)'!$F$20=\"ZFM\",0,IF('Aferi (Variáveis)'!$F$20=\"Exportação\",0,IF('Aferi (Variáveis)'!$F$20=\"AO\",7*T428/100,T428*'Aferi (Variáveis)'!$F$20/100)))))","v":0},0,{"$f":"IF('Aferi (Variáveis)'!$C$12=\"ZFM\",0,IF('Aferi (Variáveis)'!$C$12=\"Exportação\",0,3*T428/100))","v":0},{"$f":"IF('Aferi (Variáveis)'!$C$12=\"ZFM\",0,IF('Aferi (Variáveis)'!$C$12=\"Exportação\",0,0.65*T428/100))","v":0},0,0,0,0,0,0,0,0,0,{"$f":"SUMIF('Custo Básico dos Produtos'!$B$7:$B$480,A428,'Custo Básico dos Produtos'!$K$7:$K$480)","v":0},null,null,0,0,0,0,0,0]
[null,{"$f":"IF(Q429<>0,VLOOKUP(Q429,'Custo Básico dos Produtos'!$A$7:$J$480,3),\"\")","v":""},null,{"$f":"SUMIF('Custo Básico dos Produtos'!$A$7:$A$480,Q429,'Custo Básico dos Produtos'!$J$7:$J$480)","v":0},0,0,{"$f":"IF(B429=\"\",0,SUMIF('Cadastro de Produtos em Linha'!$B$7:$B$457,A429,'Cadastro de Produtos em Linha'!$D$7:$D$457))","v":0},null,0,0,{"$f":"IF('Aferi (Variáveis)'!$C$12=\"ALC\",0,IF('Aferi (Variáveis)'!$C$12=\"ZFM\",0,IF('Aferi (Variáveis)'!$C$12=\"Exportação\",0,IF('Aferi (Variáveis)'!$C$12=\"Venda para Exportar\",0,IF('Aferi (Variáveis)'!$C$12=\"AO\",0,SUMIF('Custo Básico dos Produtos'!$A$7:$A$480,Q429,'Custo Básico dos Produtos'!$L$7:$L$480))))))","v":0},0,0,0,0,{"$f":"SUMIF('Cadastro de Produtos em Linha'!$A$6:$A$457,Q429,'Cadastro de Produtos em Linha'!$E$6:$E$457)*H429","v":0},{"$f":"IF(TODAY()<$AK$26,IF(A429<>\"\",SUMIF('Custo Básico dos Produtos'!$B$7:$B$457,A429,'Custo Básico dos Produtos'!$A$7:$A$457),0),0)","v":0},{"$f":"IF('Aferi (Variáveis)'!$C$12=\"Venda para Exportar\",0,IF('Aferi (Variáveis)'!$C$12=\"ALC\",0,IF('Aferi (Variáveis)'!$C$12=\"ZFM\",0,IF('Aferi (Variáveis)'!$C$12=\"Exportação\",0,IF('Aferi (Variáveis)'!$C$12=\"AO\",0,E429/(100+(0*'Aferi (Variáveis)'!$K$12/100))*100*K429%/100*'Aferi (Variáveis)'!$K$12)))))","v":0},0,{"$f":"(E429*'Aferi (Variáveis)'!$K$12/100)","v":0},0,{"$f":"IF('Aferi (Variáveis)'!$F$20=\"Venda para Exportar\",0,IF('Aferi (Variáveis)'!$F$20=\"ALC\",0,IF('Aferi (Variáveis)'!$F$20=\"ZFM\",0,IF('Aferi (Variáveis)'!$F$20=\"Exportação\",0,IF('Aferi (Variáveis)'!$F$20=\"AO\",7*T429/100,T429*'Aferi (Variáveis)'!$F$20/100)))))","v":0},0,{"$f":"IF('Aferi (Variáveis)'!$C$12=\"ZFM\",0,IF('Aferi (Variáveis)'!$C$12=\"Exportação\",0,3*T429/100))","v":0},{"$f":"IF('Aferi (Variáveis)'!$C$12=\"ZFM\",0,IF('Aferi (Variáveis)'!$C$12=\"Exportação\",0,0.65*T429/100))","v":0},0,0,0,0,0,0,0,0,0,{"$f":"SUMIF('Custo Básico dos Produtos'!$B$7:$B$480,A429,'Custo Básico dos Produtos'!$K$7:$K$480)","v":0},null,null,0,0,0,0,0,0]
[null,{"$f":"IF(Q430<>0,VLOOKUP(Q430,'Custo Básico dos Produtos'!$A$7:$J$480,3),\"\")","v":""},null,{"$f":"SUMIF('Custo Básico dos Produtos'!$A$7:$A$480,Q430,'Custo Básico dos Produtos'!$J$7:$J$480)","v":0},0,0,{"$f":"IF(B430=\"\",0,SUMIF('Cadastro de Produtos em Linha'!$B$7:$B$457,A430,'Cadastro de Produtos em Linha'!$D$7:$D$457))","v":0},null,0,0,{"$f":"IF('Aferi (Variáveis)'!$C$12=\"ALC\",0,IF('Aferi (Variáveis)'!$C$12=\"ZFM\",0,IF('Aferi (Variáveis)'!$C$12=\"Exportação\",0,IF('Aferi (Variáveis)'!$C$12=\"Venda para Exportar\",0,IF('Aferi (Variáveis)'!$C$12=\"AO\",0,SUMIF('Custo Básico dos Produtos'!$A$7:$A$480,Q430,'Custo Básico dos Produtos'!$L$7:$L$480))))))","v":0},0,0,0,0,{"$f":"SUMIF('Cadastro de Produtos em Linha'!$A$6:$A$457,Q430,'Cadastro de Produtos em Linha'!$E$6:$E$457)*H430","v":0},{"$f":"IF(TODAY()<$AK$26,IF(A430<>\"\",SUMIF('Custo Básico dos Produtos'!$B$7:$B$457,A430,'Custo Básico dos Produtos'!$A$7:$A$457),0),0)","v":0},{"$f":"IF('Aferi (Variáveis)'!$C$12=\"Venda para Exportar\",0,IF('Aferi (Variáveis)'!$C$12=\"ALC\",0,IF('Aferi (Variáveis)'!$C$12=\"ZFM\",0,IF('Aferi (Variáveis)'!$C$12=\"Exportação\",0,IF('Aferi (Variáveis)'!$C$12=\"AO\",0,E430/(100+(0*'Aferi (Variáveis)'!$K$12/100))*100*K430%/100*'Aferi (Variáveis)'!$K$12)))))","v":0},0,{"$f":"(E430*'Aferi (Variáveis)'!$K$12/100)","v":0},0,{"$f":"IF('Aferi (Variáveis)'!$F$20=\"Venda para Exportar\",0,IF('Aferi (Variáveis)'!$F$20=\"ALC\",0,IF('Aferi (Variáveis)'!$F$20=\"ZFM\",0,IF('Aferi (Variáveis)'!$F$20=\"Exportação\",0,IF('Aferi (Variáveis)'!$F$20=\"AO\",7*T430/100,T430*'Aferi (Variáveis)'!$F$20/100)))))","v":0},0,{"$f":"IF('Aferi (Variáveis)'!$C$12=\"ZFM\",0,IF('Aferi (Variáveis)'!$C$12=\"Exportação\",0,3*T430/100))","v":0},{"$f":"IF('Aferi (Variáveis)'!$C$12=\"ZFM\",0,IF('Aferi (Variáveis)'!$C$12=\"Exportação\",0,0.65*T430/100))","v":0},0,0,0,0,0,0,0,0,0,{"$f":"SUMIF('Custo Básico dos Produtos'!$B$7:$B$480,A430,'Custo Básico dos Produtos'!$K$7:$K$480)","v":0},null,null,0,0,0,0,0,0]
[null,{"$f":"IF(Q431<>0,VLOOKUP(Q431,'Custo Básico dos Produtos'!$A$7:$J$480,3),\"\")","v":""},null,{"$f":"SUMIF('Custo Básico dos Produtos'!$A$7:$A$480,Q431,'Custo Básico dos Produtos'!$J$7:$J$480)","v":0},0,0,{"$f":"IF(B431=\"\",0,SUMIF('Cadastro de Produtos em Linha'!$B$7:$B$457,A431,'Cadastro de Produtos em Linha'!$D$7:$D$457))","v":0},null,0,0,{"$f":"IF('Aferi (Variáveis)'!$C$12=\"ALC\",0,IF('Aferi (Variáveis)'!$C$12=\"ZFM\",0,IF('Aferi (Variáveis)'!$C$12=\"Exportação\",0,IF('Aferi (Variáveis)'!$C$12=\"Venda para Exportar\",0,IF('Aferi (Variáveis)'!$C$12=\"AO\",0,SUMIF('Custo Básico dos Produtos'!$A$7:$A$480,Q431,'Custo Básico dos Produtos'!$L$7:$L$480))))))","v":0},0,0,0,0,{"$f":"SUMIF('Cadastro de Produtos em Linha'!$A$6:$A$457,Q431,'Cadastro de Produtos em Linha'!$E$6:$E$457)*H431","v":0},{"$f":"IF(TODAY()<$AK$26,IF(A431<>\"\",SUMIF('Custo Básico dos Produtos'!$B$7:$B$457,A431,'Custo Básico dos Produtos'!$A$7:$A$457),0),0)","v":0},{"$f":"IF('Aferi (Variáveis)'!$C$12=\"Venda para Exportar\",0,IF('Aferi (Variáveis)'!$C$12=\"ALC\",0,IF('Aferi (Variáveis)'!$C$12=\"ZFM\",0,IF('Aferi (Variáveis)'!$C$12=\"Exportação\",0,IF('Aferi (Variáveis)'!$C$12=\"AO\",0,E431/(100+(0*'Aferi (Variáveis)'!$K$12/100))*100*K431%/100*'Aferi (Variáveis)'!$K$12)))))","v":0},0,{"$f":"(E431*'Aferi (Variáveis)'!$K$12/100)","v":0},0,{"$f":"IF('Aferi (Variáveis)'!$F$20=\"Venda para Exportar\",0,IF('Aferi (Variáveis)'!$F$20=\"ALC\",0,IF('Aferi (Variáveis)'!$F$20=\"ZFM\",0,IF('Aferi (Variáveis)'!$F$20=\"Exportação\",0,IF('Aferi (Variáveis)'!$F$20=\"AO\",7*T431/100,T431*'Aferi (Variáveis)'!$F$20/100)))))","v":0},0,{"$f":"IF('Aferi (Variáveis)'!$C$12=\"ZFM\",0,IF('Aferi (Variáveis)'!$C$12=\"Exportação\",0,3*T431/100))","v":0},{"$f":"IF('Aferi (Variáveis)'!$C$12=\"ZFM\",0,IF('Aferi (Variáveis)'!$C$12=\"Exportação\",0,0.65*T431/100))","v":0},0,0,0,0,0,0,0,0,0,{"$f":"SUMIF('Custo Básico dos Produtos'!$B$7:$B$480,A431,'Custo Básico dos Produtos'!$K$7:$K$480)","v":0},null,null,0,0,0,0,0,0]
[null,{"$f":"IF(Q432<>0,VLOOKUP(Q432,'Custo Básico dos Produtos'!$A$7:$J$480,3),\"\")","v":""},null,{"$f":"SUMIF('Custo Básico dos Produtos'!$A$7:$A$480,Q432,'Custo Básico dos Produtos'!$J$7:$J$480)","v":0},0,0,{"$f":"IF(B432=\"\",0,SUMIF('Cadastro de Produtos em Linha'!$B$7:$B$457,A432,'Cadastro de Produtos em Linha'!$D$7:$D$457))","v":0},null,0,0,{"$f":"IF('Aferi (Variáveis)'!$C$12=\"ALC\",0,IF('Aferi (Variáveis)'!$C$12=\"ZFM\",0,IF('Aferi (Variáveis)'!$C$12=\"Exportação\",0,IF('Aferi (Variáveis)'!$C$12=\"Venda para Exportar\",0,IF('Aferi (Variáveis)'!$C$12=\"AO\",0,SUMIF('Custo Básico dos Produtos'!$A$7:$A$480,Q432,'Custo Básico dos Produtos'!$L$7:$L$480))))))","v":0},0,0,0,0,{"$f":"SUMIF('Cadastro de Produtos em Linha'!$A$6:$A$457,Q432,'Cadastro de Produtos em Linha'!$E$6:$E$457)*H432","v":0},{"$f":"IF(TODAY()<$AK$26,IF(A432<>\"\",SUMIF('Custo Básico dos Produtos'!$B$7:$B$457,A432,'Custo Básico dos Produtos'!$A$7:$A$457),0),0)","v":0},{"$f":"IF('Aferi (Variáveis)'!$C$12=\"Venda para Exportar\",0,IF('Aferi (Variáveis)'!$C$12=\"ALC\",0,IF('Aferi (Variáveis)'!$C$12=\"ZFM\",0,IF('Aferi (Variáveis)'!$C$12=\"Exportação\",0,IF('Aferi (Variáveis)'!$C$12=\"AO\",0,E432/(100+(0*'Aferi (Variáveis)'!$K$12/100))*100*K432%/100*'Aferi (Variáveis)'!$K$12)))))","v":0},0,{"$f":"(E432*'Aferi (Variáveis)'!$K$12/100)","v":0},0,{"$f":"IF('Aferi (Variáveis)'!$F$20=\"Venda para Exportar\",0,IF('Aferi (Variáveis)'!$F$20=\"ALC\",0,IF('Aferi (Variáveis)'!$F$20=\"ZFM\",0,IF('Aferi (Variáveis)'!$F$20=\"Exportação\",0,IF('Aferi (Variáveis)'!$F$20=\"AO\",7*T432/100,T432*'Aferi (Variáveis)'!$F$20/100)))))","v":0},0,{"$f":"IF('Aferi (Variáveis)'!$C$12=\"ZFM\",0,IF('Aferi (Variáveis)'!$C$12=\"Exportação\",0,3*T432/100))","v":0},{"$f":"IF('Aferi (Variáveis)'!$C$12=\"ZFM\",0,IF('Aferi (Variáveis)'!$C$12=\"Exportação\",0,0.65*T432/100))","v":0},0,0,0,0,0,0,0,0,0,{"$f":"SUMIF('Custo Básico dos Produtos'!$B$7:$B$480,A432,'Custo Básico dos Produtos'!$K$7:$K$480)","v":0},null,null,0,0,0,0,0,0]
[null,{"$f":"IF(Q433<>0,VLOOKUP(Q433,'Custo Básico dos Produtos'!$A$7:$J$480,3),\"\")","v":""},null,{"$f":"SUMIF('Custo Básico dos Produtos'!$A$7:$A$480,Q433,'Custo Básico dos Produtos'!$J$7:$J$480)","v":0},0,0,{"$f":"IF(B433=\"\",0,SUMIF('Cadastro de Produtos em Linha'!$B$7:$B$457,A433,'Cadastro de Produtos em Linha'!$D$7:$D$457))","v":0},null,0,0,{"$f":"IF('Aferi (Variáveis)'!$C$12=\"ALC\",0,IF('Aferi (Variáveis)'!$C$12=\"ZFM\",0,IF('Aferi (Variáveis)'!$C$12=\"Exportação\",0,IF('Aferi (Variáveis)'!$C$12=\"Venda para Exportar\",0,IF('Aferi (Variáveis)'!$C$12=\"AO\",0,SUMIF('Custo Básico dos Produtos'!$A$7:$A$480,Q433,'Custo Básico dos Produtos'!$L$7:$L$480))))))","v":0},0,0,0,0,{"$f":"SUMIF('Cadastro de Produtos em Linha'!$A$6:$A$457,Q433,'Cadastro de Produtos em Linha'!$E$6:$E$457)*H433","v":0},{"$f":"IF(TODAY()<$AK$26,IF(A433<>\"\",SUMIF('Custo Básico dos Produtos'!$B$7:$B$457,A433,'Custo Básico dos Produtos'!$A$7:$A$457),0),0)","v":0},{"$f":"IF('Aferi (Variáveis)'!$C$12=\"Venda para Exportar\",0,IF('Aferi (Variáveis)'!$C$12=\"ALC\",0,IF('Aferi (Variáveis)'!$C$12=\"ZFM\",0,IF('Aferi (Variáveis)'!$C$12=\"Exportação\",0,IF('Aferi (Variáveis)'!$C$12=\"AO\",0,E433/(100+(0*'Aferi (Variáveis)'!$K$12/100))*100*K433%/100*'Aferi (Variáveis)'!$K$12)))))","v":0},0,{"$f":"(E433*'Aferi (Variáveis)'!$K$12/100)","v":0},0,{"$f":"IF('Aferi (Variáveis)'!$F$20=\"Venda para Exportar\",0,IF('Aferi (Variáveis)'!$F$20=\"ALC\",0,IF('Aferi (Variáveis)'!$F$20=\"ZFM\",0,IF('Aferi (Variáveis)'!$F$20=\"Exportação\",0,IF('Aferi (Variáveis)'!$F$20=\"AO\",7*T433/100,T433*'Aferi (Variáveis)'!$F$20/100)))))","v":0},0,{"$f":"IF('Aferi (Variáveis)'!$C$12=\"ZFM\",0,IF('Aferi (Variáveis)'!$C$12=\"Exportação\",0,3*T433/100))","v":0},{"$f":"IF('Aferi (Variáveis)'!$C$12=\"ZFM\",0,IF('Aferi (Variáveis)'!$C$12=\"Exportação\",0,0.65*T433/100))","v":0},0,0,0,0,0,0,0,0,0,{"$f":"SUMIF('Custo Básico dos Produtos'!$B$7:$B$480,A433,'Custo Básico dos Produtos'!$K$7:$K$480)","v":0},null,null,0,0,0,0,0,0]
[null,{"$f":"IF(Q434<>0,VLOOKUP(Q434,'Custo Básico dos Produtos'!$A$7:$J$480,3),\"\")","v":""},null,{"$f":"SUMIF('Custo Básico dos Produtos'!$A$7:$A$480,Q434,'Custo Básico dos Produtos'!$J$7:$J$480)","v":0},0,0,{"$f":"IF(B434=\"\",0,SUMIF('Cadastro de Produtos em Linha'!$B$7:$B$457,A434,'Cadastro de Produtos em Linha'!$D$7:$D$457))","v":0},null,0,0,{"$f":"IF('Aferi (Variáveis)'!$C$12=\"ALC\",0,IF('Aferi (Variáveis)'!$C$12=\"ZFM\",0,IF('Aferi (Variáveis)'!$C$12=\"Exportação\",0,IF('Aferi (Variáveis)'!$C$12=\"Venda para Exportar\",0,IF('Aferi (Variáveis)'!$C$12=\"AO\",0,SUMIF('Custo Básico dos Produtos'!$A$7:$A$480,Q434,'Custo Básico dos Produtos'!$L$7:$L$480))))))","v":0},0,0,0,0,{"$f":"SUMIF('Cadastro de Produtos em Linha'!$A$6:$A$457,Q434,'Cadastro de Produtos em Linha'!$E$6:$E$457)*H434","v":0},{"$f":"IF(TODAY()<$AK$26,IF(A434<>\"\",SUMIF('Custo Básico dos Produtos'!$B$7:$B$457,A434,'Custo Básico dos Produtos'!$A$7:$A$457),0),0)","v":0},{"$f":"IF('Aferi (Variáveis)'!$C$12=\"Venda para Exportar\",0,IF('Aferi (Variáveis)'!$C$12=\"ALC\",0,IF('Aferi (Variáveis)'!$C$12=\"ZFM\",0,IF('Aferi (Variáveis)'!$C$12=\"Exportação\",0,IF('Aferi (Variáveis)'!$C$12=\"AO\",0,E434/(100+(0*'Aferi (Variáveis)'!$K$12/100))*100*K434%/100*'Aferi (Variáveis)'!$K$12)))))","v":0},0,{"$f":"(E434*'Aferi (Variáveis)'!$K$12/100)","v":0},0,{"$f":"IF('Aferi (Variáveis)'!$F$20=\"Venda para Exportar\",0,IF('Aferi (Variáveis)'!$F$20=\"ALC\",0,IF('Aferi (Variáveis)'!$F$20=\"ZFM\",0,IF('Aferi (Variáveis)'!$F$20=\"Exportação\",0,IF('Aferi (Variáveis)'!$F$20=\"AO\",7*T434/100,T434*'Aferi (Variáveis)'!$F$20/100)))))","v":0},0,{"$f":"IF('Aferi (Variáveis)'!$C$12=\"ZFM\",0,IF('Aferi (Variáveis)'!$C$12=\"Exportação\",0,3*T434/100))","v":0},{"$f":"IF('Aferi (Variáveis)'!$C$12=\"ZFM\",0,IF('Aferi (Variáveis)'!$C$12=\"Exportação\",0,0.65*T434/100))","v":0},0,0,0,0,0,0,0,0,0,{"$f":"SUMIF('Custo Básico dos Produtos'!$B$7:$B$480,A434,'Custo Básico dos Produtos'!$K$7:$K$480)","v":0},null,null,0,0,0,0,0,0]
[null,{"$f":"IF(Q435<>0,VLOOKUP(Q435,'Custo Básico dos Produtos'!$A$7:$J$480,3),\"\")","v":""},null,{"$f":"SUMIF('Custo Básico dos Produtos'!$A$7:$A$480,Q435,'Custo Básico dos Produtos'!$J$7:$J$480)","v":0},0,0,{"$f":"IF(B435=\"\",0,SUMIF('Cadastro de Produtos em Linha'!$B$7:$B$457,A435,'Cadastro de Produtos em Linha'!$D$7:$D$457))","v":0},null,0,0,{"$f":"IF('Aferi (Variáveis)'!$C$12=\"ALC\",0,IF('Aferi (Variáveis)'!$C$12=\"ZFM\",0,IF('Aferi (Variáveis)'!$C$12=\"Exportação\",0,IF('Aferi (Variáveis)'!$C$12=\"Venda para Exportar\",0,IF('Aferi (Variáveis)'!$C$12=\"AO\",0,SUMIF('Custo Básico dos Produtos'!$A$7:$A$480,Q435,'Custo Básico dos Produtos'!$L$7:$L$480))))))","v":0},0,0,0,0,{"$f":"SUMIF('Cadastro de Produtos em Linha'!$A$6:$A$457,Q435,'Cadastro de Produtos em Linha'!$E$6:$E$457)*H435","v":0},{"$f":"IF(TODAY()<$AK$26,IF(A435<>\"\",SUMIF('Custo Básico dos Produtos'!$B$7:$B$457,A435,'Custo Básico dos Produtos'!$A$7:$A$457),0),0)","v":0},{"$f":"IF('Aferi (Variáveis)'!$C$12=\"Venda para Exportar\",0,IF('Aferi (Variáveis)'!$C$12=\"ALC\",0,IF('Aferi (Variáveis)'!$C$12=\"ZFM\",0,IF('Aferi (Variáveis)'!$C$12=\"Exportação\",0,IF('Aferi (Variáveis)'!$C$12=\"AO\",0,E435/(100+(0*'Aferi (Variáveis)'!$K$12/100))*100*K435%/100*'Aferi (Variáveis)'!$K$12)))))","v":0},0,{"$f":"(E435*'Aferi (Variáveis)'!$K$12/100)","v":0},0,{"$f":"IF('Aferi (Variáveis)'!$F$20=\"Venda para Exportar\",0,IF('Aferi (Variáveis)'!$F$20=\"ALC\",0,IF('Aferi (Variáveis)'!$F$20=\"ZFM\",0,IF('Aferi (Variáveis)'!$F$20=\"Exportação\",0,IF('Aferi (Variáveis)'!$F$20=\"AO\",7*T435/100,T435*'Aferi (Variáveis)'!$F$20/100)))))","v":0},0,{"$f":"IF('Aferi (Variáveis)'!$C$12=\"ZFM\",0,IF('Aferi (Variáveis)'!$C$12=\"Exportação\",0,3*T435/100))","v":0},{"$f":"IF('Aferi (Variáveis)'!$C$12=\"ZFM\",0,IF('Aferi (Variáveis)'!$C$12=\"Exportação\",0,0.65*T435/100))","v":0},0,0,0,0,0,0,0,0,0,{"$f":"SUMIF('Custo Básico dos Produtos'!$B$7:$B$480,A435,'Custo Básico dos Produtos'!$K$7:$K$480)","v":0},null,null,0,0,0,0,0,0]
[null,{"$f":"IF(Q436<>0,VLOOKUP(Q436,'Custo Básico dos Produtos'!$A$7:$J$480,3),\"\")","v":""},null,{"$f":"SUMIF('Custo Básico dos Produtos'!$A$7:$A$480,Q436,'Custo Básico dos Produtos'!$J$7:$J$480)","v":0},0,0,{"$f":"IF(B436=\"\",0,SUMIF('Cadastro de Produtos em Linha'!$B$7:$B$457,A436,'Cadastro de Produtos em Linha'!$D$7:$D$457))","v":0},null,0,0,{"$f":"IF('Aferi (Variáveis)'!$C$12=\"ALC\",0,IF('Aferi (Variáveis)'!$C$12=\"ZFM\",0,IF('Aferi (Variáveis)'!$C$12=\"Exportação\",0,IF('Aferi (Variáveis)'!$C$12=\"Venda para Exportar\",0,IF('Aferi (Variáveis)'!$C$12=\"AO\",0,SUMIF('Custo Básico dos Produtos'!$A$7:$A$480,Q436,'Custo Básico dos Produtos'!$L$7:$L$480))))))","v":0},0,0,0,0,{"$f":"SUMIF('Cadastro de Produtos em Linha'!$A$6:$A$457,Q436,'Cadastro de Produtos em Linha'!$E$6:$E$457)*H436","v":0},{"$f":"IF(TODAY()<$AK$26,IF(A436<>\"\",SUMIF('Custo Básico dos Produtos'!$B$7:$B$457,A436,'Custo Básico dos Produtos'!$A$7:$A$457),0),0)","v":0},{"$f":"IF('Aferi (Variáveis)'!$C$12=\"Venda para Exportar\",0,IF('Aferi (Variáveis)'!$C$12=\"ALC\",0,IF('Aferi (Variáveis)'!$C$12=\"ZFM\",0,IF('Aferi (Variáveis)'!$C$12=\"Exportação\",0,IF('Aferi (Variáveis)'!$C$12=\"AO\",0,E436/(100+(0*'Aferi (Variáveis)'!$K$12/100))*100*K436%/100*'Aferi (Variáveis)'!$K$12)))))","v":0},0,{"$f":"(E436*'Aferi (Variáveis)'!$K$12/100)","v":0},0,{"$f":"IF('Aferi (Variáveis)'!$F$20=\"Venda para Exportar\",0,IF('Aferi (Variáveis)'!$F$20=\"ALC\",0,IF('Aferi (Variáveis)'!$F$20=\"ZFM\",0,IF('Aferi (Variáveis)'!$F$20=\"Exportação\",0,IF('Aferi (Variáveis)'!$F$20=\"AO\",7*T436/100,T436*'Aferi (Variáveis)'!$F$20/100)))))","v":0},0,{"$f":"IF('Aferi (Variáveis)'!$C$12=\"ZFM\",0,IF('Aferi (Variáveis)'!$C$12=\"Exportação\",0,3*T436/100))","v":0},{"$f":"IF('Aferi (Variáveis)'!$C$12=\"ZFM\",0,IF('Aferi (Variáveis)'!$C$12=\"Exportação\",0,0.65*T436/100))","v":0},0,0,0,0,0,0,0,0,0,{"$f":"SUMIF('Custo Básico dos Produtos'!$B$7:$B$480,A436,'Custo Básico dos Produtos'!$K$7:$K$480)","v":0},null,null,0,0,0,0,0,0]
[null,{"$f":"IF(Q437<>0,VLOOKUP(Q437,'Custo Básico dos Produtos'!$A$7:$J$480,3),\"\")","v":""},null,{"$f":"SUMIF('Custo Básico dos Produtos'!$A$7:$A$480,Q437,'Custo Básico dos Produtos'!$J$7:$J$480)","v":0},0,0,{"$f":"IF(B437=\"\",0,SUMIF('Cadastro de Produtos em Linha'!$B$7:$B$457,A437,'Cadastro de Produtos em Linha'!$D$7:$D$457))","v":0},null,0,0,{"$f":"IF('Aferi (Variáveis)'!$C$12=\"ALC\",0,IF('Aferi (Variáveis)'!$C$12=\"ZFM\",0,IF('Aferi (Variáveis)'!$C$12=\"Exportação\",0,IF('Aferi (Variáveis)'!$C$12=\"Venda para Exportar\",0,IF('Aferi (Variáveis)'!$C$12=\"AO\",0,SUMIF('Custo Básico dos Produtos'!$A$7:$A$480,Q437,'Custo Básico dos Produtos'!$L$7:$L$480))))))","v":0},0,0,0,0,{"$f":"SUMIF('Cadastro de Produtos em Linha'!$A$6:$A$457,Q437,'Cadastro de Produtos em Linha'!$E$6:$E$457)*H437","v":0},{"$f":"IF(TODAY()<$AK$26,IF(A437<>\"\",SUMIF('Custo Básico dos Produtos'!$B$7:$B$457,A437,'Custo Básico dos Produtos'!$A$7:$A$457),0),0)","v":0},{"$f":"IF('Aferi (Variáveis)'!$C$12=\"Venda para Exportar\",0,IF('Aferi (Variáveis)'!$C$12=\"ALC\",0,IF('Aferi (Variáveis)'!$C$12=\"ZFM\",0,IF('Aferi (Variáveis)'!$C$12=\"Exportação\",0,IF('Aferi (Variáveis)'!$C$12=\"AO\",0,E437/(100+(0*'Aferi (Variáveis)'!$K$12/100))*100*K437%/100*'Aferi (Variáveis)'!$K$12)))))","v":0},0,{"$f":"(E437*'Aferi (Variáveis)'!$K$12/100)","v":0},0,{"$f":"IF('Aferi (Variáveis)'!$F$20=\"Venda para Exportar\",0,IF('Aferi (Variáveis)'!$F$20=\"ALC\",0,IF('Aferi (Variáveis)'!$F$20=\"ZFM\",0,IF('Aferi (Variáveis)'!$F$20=\"Exportação\",0,IF('Aferi (Variáveis)'!$F$20=\"AO\",7*T437/100,T437*'Aferi (Variáveis)'!$F$20/100)))))","v":0},0,{"$f":"IF('Aferi (Variáveis)'!$C$12=\"ZFM\",0,IF('Aferi (Variáveis)'!$C$12=\"Exportação\",0,3*T437/100))","v":0},{"$f":"IF('Aferi (Variáveis)'!$C$12=\"ZFM\",0,IF('Aferi (Variáveis)'!$C$12=\"Exportação\",0,0.65*T437/100))","v":0},0,0,0,0,0,0,0,0,0,{"$f":"SUMIF('Custo Básico dos Produtos'!$B$7:$B$480,A437,'Custo Básico dos Produtos'!$K$7:$K$480)","v":0},null,null,0,0,0,0,0,0]
[null,{"$f":"IF(Q438<>0,VLOOKUP(Q438,'Custo Básico dos Produtos'!$A$7:$J$480,3),\"\")","v":""},null,{"$f":"SUMIF('Custo Básico dos Produtos'!$A$7:$A$480,Q438,'Custo Básico dos Produtos'!$J$7:$J$480)","v":0},0,0,{"$f":"IF(B438=\"\",0,SUMIF('Cadastro de Produtos em Linha'!$B$7:$B$457,A438,'Cadastro de Produtos em Linha'!$D$7:$D$457))","v":0},null,0,0,{"$f":"IF('Aferi (Variáveis)'!$C$12=\"ALC\",0,IF('Aferi (Variáveis)'!$C$12=\"ZFM\",0,IF('Aferi (Variáveis)'!$C$12=\"Exportação\",0,IF('Aferi (Variáveis)'!$C$12=\"Venda para Exportar\",0,IF('Aferi (Variáveis)'!$C$12=\"AO\",0,SUMIF('Custo Básico dos Produtos'!$A$7:$A$480,Q438,'Custo Básico dos Produtos'!$L$7:$L$480))))))","v":0},0,0,0,0,{"$f":"SUMIF('Cadastro de Produtos em Linha'!$A$6:$A$457,Q438,'Cadastro de Produtos em Linha'!$E$6:$E$457)*H438","v":0},{"$f":"IF(TODAY()<$AK$26,IF(A438<>\"\",SUMIF('Custo Básico dos Produtos'!$B$7:$B$457,A438,'Custo Básico dos Produtos'!$A$7:$A$457),0),0)","v":0},{"$f":"IF('Aferi (Variáveis)'!$C$12=\"Venda para Exportar\",0,IF('Aferi (Variáveis)'!$C$12=\"ALC\",0,IF('Aferi (Variáveis)'!$C$12=\"ZFM\",0,IF('Aferi (Variáveis)'!$C$12=\"Exportação\",0,IF('Aferi (Variáveis)'!$C$12=\"AO\",0,E438/(100+(0*'Aferi (Variáveis)'!$K$12/100))*100*K438%/100*'Aferi (Variáveis)'!$K$12)))))","v":0},0,{"$f":"(E438*'Aferi (Variáveis)'!$K$12/100)","v":0},0,{"$f":"IF('Aferi (Variáveis)'!$F$20=\"Venda para Exportar\",0,IF('Aferi (Variáveis)'!$F$20=\"ALC\",0,IF('Aferi (Variáveis)'!$F$20=\"ZFM\",0,IF('Aferi (Variáveis)'!$F$20=\"Exportação\",0,IF('Aferi (Variáveis)'!$F$20=\"AO\",7*T438/100,T438*'Aferi (Variáveis)'!$F$20/100)))))","v":0},0,{"$f":"IF('Aferi (Variáveis)'!$C$12=\"ZFM\",0,IF('Aferi (Variáveis)'!$C$12=\"Exportação\",0,3*T438/100))","v":0},{"$f":"IF('Aferi (Variáveis)'!$C$12=\"ZFM\",0,IF('Aferi (Variáveis)'!$C$12=\"Exportação\",0,0.65*T438/100))","v":0},0,0,0,0,0,0,0,0,0,{"$f":"SUMIF('Custo Básico dos Produtos'!$B$7:$B$480,A438,'Custo Básico dos Produtos'!$K$7:$K$480)","v":0},null,null,0,0,0,0,0,0]
[null,{"$f":"IF(Q439<>0,VLOOKUP(Q439,'Custo Básico dos Produtos'!$A$7:$J$480,3),\"\")","v":""},null,{"$f":"SUMIF('Custo Básico dos Produtos'!$A$7:$A$480,Q439,'Custo Básico dos Produtos'!$J$7:$J$480)","v":0},0,0,{"$f":"IF(B439=\"\",0,SUMIF('Cadastro de Produtos em Linha'!$B$7:$B$457,A439,'Cadastro de Produtos em Linha'!$D$7:$D$457))","v":0},null,0,0,{"$f":"IF('Aferi (Variáveis)'!$C$12=\"ALC\",0,IF('Aferi (Variáveis)'!$C$12=\"ZFM\",0,IF('Aferi (Variáveis)'!$C$12=\"Exportação\",0,IF('Aferi (Variáveis)'!$C$12=\"Venda para Exportar\",0,IF('Aferi (Variáveis)'!$C$12=\"AO\",0,SUMIF('Custo Básico dos Produtos'!$A$7:$A$480,Q439,'Custo Básico dos Produtos'!$L$7:$L$480))))))","v":0},0,0,0,0,{"$f":"SUMIF('Cadastro de Produtos em Linha'!$A$6:$A$457,Q439,'Cadastro de Produtos em Linha'!$E$6:$E$457)*H439","v":0},{"$f":"IF(TODAY()<$AK$26,IF(A439<>\"\",SUMIF('Custo Básico dos Produtos'!$B$7:$B$457,A439,'Custo Básico dos Produtos'!$A$7:$A$457),0),0)","v":0},{"$f":"IF('Aferi (Variáveis)'!$C$12=\"Venda para Exportar\",0,IF('Aferi (Variáveis)'!$C$12=\"ALC\",0,IF('Aferi (Variáveis)'!$C$12=\"ZFM\",0,IF('Aferi (Variáveis)'!$C$12=\"Exportação\",0,IF('Aferi (Variáveis)'!$C$12=\"AO\",0,E439/(100+(0*'Aferi (Variáveis)'!$K$12/100))*100*K439%/100*'Aferi (Variáveis)'!$K$12)))))","v":0},0,{"$f":"(E439*'Aferi (Variáveis)'!$K$12/100)","v":0},0,{"$f":"IF('Aferi (Variáveis)'!$F$20=\"Venda para Exportar\",0,IF('Aferi (Variáveis)'!$F$20=\"ALC\",0,IF('Aferi (Variáveis)'!$F$20=\"ZFM\",0,IF('Aferi (Variáveis)'!$F$20=\"Exportação\",0,IF('Aferi (Variáveis)'!$F$20=\"AO\",7*T439/100,T439*'Aferi (Variáveis)'!$F$20/100)))))","v":0},0,{"$f":"IF('Aferi (Variáveis)'!$C$12=\"ZFM\",0,IF('Aferi (Variáveis)'!$C$12=\"Exportação\",0,3*T439/100))","v":0},{"$f":"IF('Aferi (Variáveis)'!$C$12=\"ZFM\",0,IF('Aferi (Variáveis)'!$C$12=\"Exportação\",0,0.65*T439/100))","v":0},0,0,0,0,0,0,0,0,0,{"$f":"SUMIF('Custo Básico dos Produtos'!$B$7:$B$480,A439,'Custo Básico dos Produtos'!$K$7:$K$480)","v":0},null,null,0,0,0,0,0,0]
[null,{"$f":"IF(Q440<>0,VLOOKUP(Q440,'Custo Básico dos Produtos'!$A$7:$J$480,3),\"\")","v":""},null,{"$f":"SUMIF('Custo Básico dos Produtos'!$A$7:$A$480,Q440,'Custo Básico dos Produtos'!$J$7:$J$480)","v":0},0,0,{"$f":"IF(B440=\"\",0,SUMIF('Cadastro de Produtos em Linha'!$B$7:$B$457,A440,'Cadastro de Produtos em Linha'!$D$7:$D$457))","v":0},null,0,0,{"$f":"IF('Aferi (Variáveis)'!$C$12=\"ALC\",0,IF('Aferi (Variáveis)'!$C$12=\"ZFM\",0,IF('Aferi (Variáveis)'!$C$12=\"Exportação\",0,IF('Aferi (Variáveis)'!$C$12=\"Venda para Exportar\",0,IF('Aferi (Variáveis)'!$C$12=\"AO\",0,SUMIF('Custo Básico dos Produtos'!$A$7:$A$480,Q440,'Custo Básico dos Produtos'!$L$7:$L$480))))))","v":0},0,0,0,0,{"$f":"SUMIF('Cadastro de Produtos em Linha'!$A$6:$A$457,Q440,'Cadastro de Produtos em Linha'!$E$6:$E$457)*H440","v":0},{"$f":"IF(TODAY()<$AK$26,IF(A440<>\"\",SUMIF('Custo Básico dos Produtos'!$B$7:$B$457,A440,'Custo Básico dos Produtos'!$A$7:$A$457),0),0)","v":0},{"$f":"IF('Aferi (Variáveis)'!$C$12=\"Venda para Exportar\",0,IF('Aferi (Variáveis)'!$C$12=\"ALC\",0,IF('Aferi (Variáveis)'!$C$12=\"ZFM\",0,IF('Aferi (Variáveis)'!$C$12=\"Exportação\",0,IF('Aferi (Variáveis)'!$C$12=\"AO\",0,E440/(100+(0*'Aferi (Variáveis)'!$K$12/100))*100*K440%/100*'Aferi (Variáveis)'!$K$12)))))","v":0},0,{"$f":"(E440*'Aferi (Variáveis)'!$K$12/100)","v":0},0,{"$f":"IF('Aferi (Variáveis)'!$F$20=\"Venda para Exportar\",0,IF('Aferi (Variáveis)'!$F$20=\"ALC\",0,IF('Aferi (Variáveis)'!$F$20=\"ZFM\",0,IF('Aferi (Variáveis)'!$F$20=\"Exportação\",0,IF('Aferi (Variáveis)'!$F$20=\"AO\",7*T440/100,T440*'Aferi (Variáveis)'!$F$20/100)))))","v":0},0,{"$f":"IF('Aferi (Variáveis)'!$C$12=\"ZFM\",0,IF('Aferi (Variáveis)'!$C$12=\"Exportação\",0,3*T440/100))","v":0},{"$f":"IF('Aferi (Variáveis)'!$C$12=\"ZFM\",0,IF('Aferi (Variáveis)'!$C$12=\"Exportação\",0,0.65*T440/100))","v":0},0,0,0,0,0,0,0,0,0,{"$f":"SUMIF('Custo Básico dos Produtos'!$B$7:$B$480,A440,'Custo Básico dos Produtos'!$K$7:$K$480)","v":0},null,null,0,0,0,0,0,0]
[null,{"$f":"IF(Q441<>0,VLOOKUP(Q441,'Custo Básico dos Produtos'!$A$7:$J$480,3),\"\")","v":""},null,{"$f":"SUMIF('Custo Básico dos Produtos'!$A$7:$A$480,Q441,'Custo Básico dos Produtos'!$J$7:$J$480)","v":0},0,0,{"$f":"IF(B441=\"\",0,SUMIF('Cadastro de Produtos em Linha'!$B$7:$B$457,A441,'Cadastro de Produtos em Linha'!$D$7:$D$457))","v":0},null,0,0,{"$f":"IF('Aferi (Variáveis)'!$C$12=\"ALC\",0,IF('Aferi (Variáveis)'!$C$12=\"ZFM\",0,IF('Aferi (Variáveis)'!$C$12=\"Exportação\",0,IF('Aferi (Variáveis)'!$C$12=\"Venda para Exportar\",0,IF('Aferi (Variáveis)'!$C$12=\"AO\",0,SUMIF('Custo Básico dos Produtos'!$A$7:$A$480,Q441,'Custo Básico dos Produtos'!$L$7:$L$480))))))","v":0},0,0,0,0,{"$f":"SUMIF('Cadastro de Produtos em Linha'!$A$6:$A$457,Q441,'Cadastro de Produtos em Linha'!$E$6:$E$457)*H441","v":0},{"$f":"IF(TODAY()<$AK$26,IF(A441<>\"\",SUMIF('Custo Básico dos Produtos'!$B$7:$B$457,A441,'Custo Básico dos Produtos'!$A$7:$A$457),0),0)","v":0},{"$f":"IF('Aferi (Variáveis)'!$C$12=\"Venda para Exportar\",0,IF('Aferi (Variáveis)'!$C$12=\"ALC\",0,IF('Aferi (Variáveis)'!$C$12=\"ZFM\",0,IF('Aferi (Variáveis)'!$C$12=\"Exportação\",0,IF('Aferi (Variáveis)'!$C$12=\"AO\",0,E441/(100+(0*'Aferi (Variáveis)'!$K$12/100))*100*K441%/100*'Aferi (Variáveis)'!$K$12)))))","v":0},0,{"$f":"(E441*'Aferi (Variáveis)'!$K$12/100)","v":0},0,{"$f":"IF('Aferi (Variáveis)'!$F$20=\"Venda para Exportar\",0,IF('Aferi (Variáveis)'!$F$20=\"ALC\",0,IF('Aferi (Variáveis)'!$F$20=\"ZFM\",0,IF('Aferi (Variáveis)'!$F$20=\"Exportação\",0,IF('Aferi (Variáveis)'!$F$20=\"AO\",7*T441/100,T441*'Aferi (Variáveis)'!$F$20/100)))))","v":0},0,{"$f":"IF('Aferi (Variáveis)'!$C$12=\"ZFM\",0,IF('Aferi (Variáveis)'!$C$12=\"Exportação\",0,3*T441/100))","v":0},{"$f":"IF('Aferi (Variáveis)'!$C$12=\"ZFM\",0,IF('Aferi (Variáveis)'!$C$12=\"Exportação\",0,0.65*T441/100))","v":0},0,0,0,0,0,0,0,0,0,{"$f":"SUMIF('Custo Básico dos Produtos'!$B$7:$B$480,A441,'Custo Básico dos Produtos'!$K$7:$K$480)","v":0},null,null,0,0,0,0,0,0]
[null,{"$f":"IF(Q442<>0,VLOOKUP(Q442,'Custo Básico dos Produtos'!$A$7:$J$480,3),\"\")","v":""},null,{"$f":"SUMIF('Custo Básico dos Produtos'!$A$7:$A$480,Q442,'Custo Básico dos Produtos'!$J$7:$J$480)","v":0},0,0,{"$f":"IF(B442=\"\",0,SUMIF('Cadastro de Produtos em Linha'!$B$7:$B$457,A442,'Cadastro de Produtos em Linha'!$D$7:$D$457))","v":0},null,0,0,{"$f":"IF('Aferi (Variáveis)'!$C$12=\"ALC\",0,IF('Aferi (Variáveis)'!$C$12=\"ZFM\",0,IF('Aferi (Variáveis)'!$C$12=\"Exportação\",0,IF('Aferi (Variáveis)'!$C$12=\"Venda para Exportar\",0,IF('Aferi (Variáveis)'!$C$12=\"AO\",0,SUMIF('Custo Básico dos Produtos'!$A$7:$A$480,Q442,'Custo Básico dos Produtos'!$L$7:$L$480))))))","v":0},0,0,0,0,{"$f":"SUMIF('Cadastro de Produtos em Linha'!$A$6:$A$457,Q442,'Cadastro de Produtos em Linha'!$E$6:$E$457)*H442","v":0},{"$f":"IF(TODAY()<$AK$26,IF(A442<>\"\",SUMIF('Custo Básico dos Produtos'!$B$7:$B$457,A442,'Custo Básico dos Produtos'!$A$7:$A$457),0),0)","v":0},{"$f":"IF('Aferi (Variáveis)'!$C$12=\"Venda para Exportar\",0,IF('Aferi (Variáveis)'!$C$12=\"ALC\",0,IF('Aferi (Variáveis)'!$C$12=\"ZFM\",0,IF('Aferi (Variáveis)'!$C$12=\"Exportação\",0,IF('Aferi (Variáveis)'!$C$12=\"AO\",0,E442/(100+(0*'Aferi (Variáveis)'!$K$12/100))*100*K442%/100*'Aferi (Variáveis)'!$K$12)))))","v":0},0,{"$f":"(E442*'Aferi (Variáveis)'!$K$12/100)","v":0},0,{"$f":"IF('Aferi (Variáveis)'!$F$20=\"Venda para Exportar\",0,IF('Aferi (Variáveis)'!$F$20=\"ALC\",0,IF('Aferi (Variáveis)'!$F$20=\"ZFM\",0,IF('Aferi (Variáveis)'!$F$20=\"Exportação\",0,IF('Aferi (Variáveis)'!$F$20=\"AO\",7*T442/100,T442*'Aferi (Variáveis)'!$F$20/100)))))","v":0},0,{"$f":"IF('Aferi (Variáveis)'!$C$12=\"ZFM\",0,IF('Aferi (Variáveis)'!$C$12=\"Exportação\",0,3*T442/100))","v":0},{"$f":"IF('Aferi (Variáveis)'!$C$12=\"ZFM\",0,IF('Aferi (Variáveis)'!$C$12=\"Exportação\",0,0.65*T442/100))","v":0},0,0,0,0,0,0,0,0,0,{"$f":"SUMIF('Custo Básico dos Produtos'!$B$7:$B$480,A442,'Custo Básico dos Produtos'!$K$7:$K$480)","v":0},null,null,0,0,0,0,0,0]
[null,{"$f":"IF(Q443<>0,VLOOKUP(Q443,'Custo Básico dos Produtos'!$A$7:$J$480,3),\"\")","v":""},null,{"$f":"SUMIF('Custo Básico dos Produtos'!$A$7:$A$480,Q443,'Custo Básico dos Produtos'!$J$7:$J$480)","v":0},0,0,{"$f":"IF(B443=\"\",0,SUMIF('Cadastro de Produtos em Linha'!$B$7:$B$457,A443,'Cadastro de Produtos em Linha'!$D$7:$D$457))","v":0},null,0,0,{"$f":"IF('Aferi (Variáveis)'!$C$12=\"ALC\",0,IF('Aferi (Variáveis)'!$C$12=\"ZFM\",0,IF('Aferi (Variáveis)'!$C$12=\"Exportação\",0,IF('Aferi (Variáveis)'!$C$12=\"Venda para Exportar\",0,IF('Aferi (Variáveis)'!$C$12=\"AO\",0,SUMIF('Custo Básico dos Produtos'!$A$7:$A$480,Q443,'Custo Básico dos Produtos'!$L$7:$L$480))))))","v":0},0,0,0,0,{"$f":"SUMIF('Cadastro de Produtos em Linha'!$A$6:$A$457,Q443,'Cadastro de Produtos em Linha'!$E$6:$E$457)*H443","v":0},{"$f":"IF(TODAY()<$AK$26,IF(A443<>\"\",SUMIF('Custo Básico dos Produtos'!$B$7:$B$457,A443,'Custo Básico dos Produtos'!$A$7:$A$457),0),0)","v":0},{"$f":"IF('Aferi (Variáveis)'!$C$12=\"Venda para Exportar\",0,IF('Aferi (Variáveis)'!$C$12=\"ALC\",0,IF('Aferi (Variáveis)'!$C$12=\"ZFM\",0,IF('Aferi (Variáveis)'!$C$12=\"Exportação\",0,IF('Aferi (Variáveis)'!$C$12=\"AO\",0,E443/(100+(0*'Aferi (Variáveis)'!$K$12/100))*100*K443%/100*'Aferi (Variáveis)'!$K$12)))))","v":0},0,{"$f":"(E443*'Aferi (Variáveis)'!$K$12/100)","v":0},0,{"$f":"IF('Aferi (Variáveis)'!$F$20=\"Venda para Exportar\",0,IF('Aferi (Variáveis)'!$F$20=\"ALC\",0,IF('Aferi (Variáveis)'!$F$20=\"ZFM\",0,IF('Aferi (Variáveis)'!$F$20=\"Exportação\",0,IF('Aferi (Variáveis)'!$F$20=\"AO\",7*T443/100,T443*'Aferi (Variáveis)'!$F$20/100)))))","v":0},0,{"$f":"IF('Aferi (Variáveis)'!$C$12=\"ZFM\",0,IF('Aferi (Variáveis)'!$C$12=\"Exportação\",0,3*T443/100))","v":0},{"$f":"IF('Aferi (Variáveis)'!$C$12=\"ZFM\",0,IF('Aferi (Variáveis)'!$C$12=\"Exportação\",0,0.65*T443/100))","v":0},0,0,0,0,0,0,0,0,0,{"$f":"SUMIF('Custo Básico dos Produtos'!$B$7:$B$480,A443,'Custo Básico dos Produtos'!$K$7:$K$480)","v":0},null,null,0,0,0,0,0,0]
[null,{"$f":"IF(Q444<>0,VLOOKUP(Q444,'Custo Básico dos Produtos'!$A$7:$J$480,3),\"\")","v":""},null,{"$f":"SUMIF('Custo Básico dos Produtos'!$A$7:$A$480,Q444,'Custo Básico dos Produtos'!$J$7:$J$480)","v":0},0,0,{"$f":"IF(B444=\"\",0,SUMIF('Cadastro de Produtos em Linha'!$B$7:$B$457,A444,'Cadastro de Produtos em Linha'!$D$7:$D$457))","v":0},null,0,0,{"$f":"IF('Aferi (Variáveis)'!$C$12=\"ALC\",0,IF('Aferi (Variáveis)'!$C$12=\"ZFM\",0,IF('Aferi (Variáveis)'!$C$12=\"Exportação\",0,IF('Aferi (Variáveis)'!$C$12=\"Venda para Exportar\",0,IF('Aferi (Variáveis)'!$C$12=\"AO\",0,SUMIF('Custo Básico dos Produtos'!$A$7:$A$480,Q444,'Custo Básico dos Produtos'!$L$7:$L$480))))))","v":0},0,0,0,0,{"$f":"SUMIF('Cadastro de Produtos em Linha'!$A$6:$A$457,Q444,'Cadastro de Produtos em Linha'!$E$6:$E$457)*H444","v":0},{"$f":"IF(TODAY()<$AK$26,IF(A444<>\"\",SUMIF('Custo Básico dos Produtos'!$B$7:$B$457,A444,'Custo Básico dos Produtos'!$A$7:$A$457),0),0)","v":0},{"$f":"IF('Aferi (Variáveis)'!$C$12=\"Venda para Exportar\",0,IF('Aferi (Variáveis)'!$C$12=\"ALC\",0,IF('Aferi (Variáveis)'!$C$12=\"ZFM\",0,IF('Aferi (Variáveis)'!$C$12=\"Exportação\",0,IF('Aferi (Variáveis)'!$C$12=\"AO\",0,E444/(100+(0*'Aferi (Variáveis)'!$K$12/100))*100*K444%/100*'Aferi (Variáveis)'!$K$12)))))","v":0},0,{"$f":"(E444*'Aferi (Variáveis)'!$K$12/100)","v":0},0,{"$f":"IF('Aferi (Variáveis)'!$F$20=\"Venda para Exportar\",0,IF('Aferi (Variáveis)'!$F$20=\"ALC\",0,IF('Aferi (Variáveis)'!$F$20=\"ZFM\",0,IF('Aferi (Variáveis)'!$F$20=\"Exportação\",0,IF('Aferi (Variáveis)'!$F$20=\"AO\",7*T444/100,T444*'Aferi (Variáveis)'!$F$20/100)))))","v":0},0,{"$f":"IF('Aferi (Variáveis)'!$C$12=\"ZFM\",0,IF('Aferi (Variáveis)'!$C$12=\"Exportação\",0,3*T444/100))","v":0},{"$f":"IF('Aferi (Variáveis)'!$C$12=\"ZFM\",0,IF('Aferi (Variáveis)'!$C$12=\"Exportação\",0,0.65*T444/100))","v":0},0,0,0,0,0,0,0,0,0,{"$f":"SUMIF('Custo Básico dos Produtos'!$B$7:$B$480,A444,'Custo Básico dos Produtos'!$K$7:$K$480)","v":0},null,null,0,0,0,0,0,0]
[null,{"$f":"IF(Q445<>0,VLOOKUP(Q445,'Custo Básico dos Produtos'!$A$7:$J$480,3),\"\")","v":""},null,{"$f":"SUMIF('Custo Básico dos Produtos'!$A$7:$A$480,Q445,'Custo Básico dos Produtos'!$J$7:$J$480)","v":0},0,0,{"$f":"IF(B445=\"\",0,SUMIF('Cadastro de Produtos em Linha'!$B$7:$B$457,A445,'Cadastro de Produtos em Linha'!$D$7:$D$457))","v":0},null,0,0,{"$f":"IF('Aferi (Variáveis)'!$C$12=\"ALC\",0,IF('Aferi (Variáveis)'!$C$12=\"ZFM\",0,IF('Aferi (Variáveis)'!$C$12=\"Exportação\",0,IF('Aferi (Variáveis)'!$C$12=\"Venda para Exportar\",0,IF('Aferi (Variáveis)'!$C$12=\"AO\",0,SUMIF('Custo Básico dos Produtos'!$A$7:$A$480,Q445,'Custo Básico dos Produtos'!$L$7:$L$480))))))","v":0},0,0,0,0,{"$f":"SUMIF('Cadastro de Produtos em Linha'!$A$6:$A$457,Q445,'Cadastro de Produtos em Linha'!$E$6:$E$457)*H445","v":0},{"$f":"IF(TODAY()<$AK$26,IF(A445<>\"\",SUMIF('Custo Básico dos Produtos'!$B$7:$B$457,A445,'Custo Básico dos Produtos'!$A$7:$A$457),0),0)","v":0},{"$f":"IF('Aferi (Variáveis)'!$C$12=\"Venda para Exportar\",0,IF('Aferi (Variáveis)'!$C$12=\"ALC\",0,IF('Aferi (Variáveis)'!$C$12=\"ZFM\",0,IF('Aferi (Variáveis)'!$C$12=\"Exportação\",0,IF('Aferi (Variáveis)'!$C$12=\"AO\",0,E445/(100+(0*'Aferi (Variáveis)'!$K$12/100))*100*K445%/100*'Aferi (Variáveis)'!$K$12)))))","v":0},0,{"$f":"(E445*'Aferi (Variáveis)'!$K$12/100)","v":0},0,{"$f":"IF('Aferi (Variáveis)'!$F$20=\"Venda para Exportar\",0,IF('Aferi (Variáveis)'!$F$20=\"ALC\",0,IF('Aferi (Variáveis)'!$F$20=\"ZFM\",0,IF('Aferi (Variáveis)'!$F$20=\"Exportação\",0,IF('Aferi (Variáveis)'!$F$20=\"AO\",7*T445/100,T445*'Aferi (Variáveis)'!$F$20/100)))))","v":0},0,{"$f":"IF('Aferi (Variáveis)'!$C$12=\"ZFM\",0,IF('Aferi (Variáveis)'!$C$12=\"Exportação\",0,3*T445/100))","v":0},{"$f":"IF('Aferi (Variáveis)'!$C$12=\"ZFM\",0,IF('Aferi (Variáveis)'!$C$12=\"Exportação\",0,0.65*T445/100))","v":0},0,0,0,0,0,0,0,0,0,{"$f":"SUMIF('Custo Básico dos Produtos'!$B$7:$B$480,A445,'Custo Básico dos Produtos'!$K$7:$K$480)","v":0},null,null,0,0,0,0,0,0]
[null,{"$f":"IF(Q446<>0,VLOOKUP(Q446,'Custo Básico dos Produtos'!$A$7:$J$480,3),\"\")","v":""},null,{"$f":"SUMIF('Custo Básico dos Produtos'!$A$7:$A$480,Q446,'Custo Básico dos Produtos'!$J$7:$J$480)","v":0},0,0,{"$f":"IF(B446=\"\",0,SUMIF('Cadastro de Produtos em Linha'!$B$7:$B$457,A446,'Cadastro de Produtos em Linha'!$D$7:$D$457))","v":0},null,0,0,{"$f":"IF('Aferi (Variáveis)'!$C$12=\"ALC\",0,IF('Aferi (Variáveis)'!$C$12=\"ZFM\",0,IF('Aferi (Variáveis)'!$C$12=\"Exportação\",0,IF('Aferi (Variáveis)'!$C$12=\"Venda para Exportar\",0,IF('Aferi (Variáveis)'!$C$12=\"AO\",0,SUMIF('Custo Básico dos Produtos'!$A$7:$A$480,Q446,'Custo Básico dos Produtos'!$L$7:$L$480))))))","v":0},0,0,0,0,{"$f":"SUMIF('Cadastro de Produtos em Linha'!$A$6:$A$457,Q446,'Cadastro de Produtos em Linha'!$E$6:$E$457)*H446","v":0},{"$f":"IF(TODAY()<$AK$26,IF(A446<>\"\",SUMIF('Custo Básico dos Produtos'!$B$7:$B$457,A446,'Custo Básico dos Produtos'!$A$7:$A$457),0),0)","v":0},{"$f":"IF('Aferi (Variáveis)'!$C$12=\"Venda para Exportar\",0,IF('Aferi (Variáveis)'!$C$12=\"ALC\",0,IF('Aferi (Variáveis)'!$C$12=\"ZFM\",0,IF('Aferi (Variáveis)'!$C$12=\"Exportação\",0,IF('Aferi (Variáveis)'!$C$12=\"AO\",0,E446/(100+(0*'Aferi (Variáveis)'!$K$12/100))*100*K446%/100*'Aferi (Variáveis)'!$K$12)))))","v":0},0,{"$f":"(E446*'Aferi (Variáveis)'!$K$12/100)","v":0},0,{"$f":"IF('Aferi (Variáveis)'!$F$20=\"Venda para Exportar\",0,IF('Aferi (Variáveis)'!$F$20=\"ALC\",0,IF('Aferi (Variáveis)'!$F$20=\"ZFM\",0,IF('Aferi (Variáveis)'!$F$20=\"Exportação\",0,IF('Aferi (Variáveis)'!$F$20=\"AO\",7*T446/100,T446*'Aferi (Variáveis)'!$F$20/100)))))","v":0},0,{"$f":"IF('Aferi (Variáveis)'!$C$12=\"ZFM\",0,IF('Aferi (Variáveis)'!$C$12=\"Exportação\",0,3*T446/100))","v":0},{"$f":"IF('Aferi (Variáveis)'!$C$12=\"ZFM\",0,IF('Aferi (Variáveis)'!$C$12=\"Exportação\",0,0.65*T446/100))","v":0},0,0,0,0,0,0,0,0,0,{"$f":"SUMIF('Custo Básico dos Produtos'!$B$7:$B$480,A446,'Custo Básico dos Produtos'!$K$7:$K$480)","v":0},null,null,0,0,0,0,0,0]
[null,{"$f":"IF(Q447<>0,VLOOKUP(Q447,'Custo Básico dos Produtos'!$A$7:$J$480,3),\"\")","v":""},null,{"$f":"SUMIF('Custo Básico dos Produtos'!$A$7:$A$480,Q447,'Custo Básico dos Produtos'!$J$7:$J$480)","v":0},0,0,{"$f":"IF(B447=\"\",0,SUMIF('Cadastro de Produtos em Linha'!$B$7:$B$457,A447,'Cadastro de Produtos em Linha'!$D$7:$D$457))","v":0},null,0,0,{"$f":"IF('Aferi (Variáveis)'!$C$12=\"ALC\",0,IF('Aferi (Variáveis)'!$C$12=\"ZFM\",0,IF('Aferi (Variáveis)'!$C$12=\"Exportação\",0,IF('Aferi (Variáveis)'!$C$12=\"Venda para Exportar\",0,IF('Aferi (Variáveis)'!$C$12=\"AO\",0,SUMIF('Custo Básico dos Produtos'!$A$7:$A$480,Q447,'Custo Básico dos Produtos'!$L$7:$L$480))))))","v":0},0,0,0,0,{"$f":"SUMIF('Cadastro de Produtos em Linha'!$A$6:$A$457,Q447,'Cadastro de Produtos em Linha'!$E$6:$E$457)*H447","v":0},{"$f":"IF(TODAY()<$AK$26,IF(A447<>\"\",SUMIF('Custo Básico dos Produtos'!$B$7:$B$457,A447,'Custo Básico dos Produtos'!$A$7:$A$457),0),0)","v":0},{"$f":"IF('Aferi (Variáveis)'!$C$12=\"Venda para Exportar\",0,IF('Aferi (Variáveis)'!$C$12=\"ALC\",0,IF('Aferi (Variáveis)'!$C$12=\"ZFM\",0,IF('Aferi (Variáveis)'!$C$12=\"Exportação\",0,IF('Aferi (Variáveis)'!$C$12=\"AO\",0,E447/(100+(0*'Aferi (Variáveis)'!$K$12/100))*100*K447%/100*'Aferi (Variáveis)'!$K$12)))))","v":0},0,{"$f":"(E447*'Aferi (Variáveis)'!$K$12/100)","v":0},0,{"$f":"IF('Aferi (Variáveis)'!$F$20=\"Venda para Exportar\",0,IF('Aferi (Variáveis)'!$F$20=\"ALC\",0,IF('Aferi (Variáveis)'!$F$20=\"ZFM\",0,IF('Aferi (Variáveis)'!$F$20=\"Exportação\",0,IF('Aferi (Variáveis)'!$F$20=\"AO\",7*T447/100,T447*'Aferi (Variáveis)'!$F$20/100)))))","v":0},0,{"$f":"IF('Aferi (Variáveis)'!$C$12=\"ZFM\",0,IF('Aferi (Variáveis)'!$C$12=\"Exportação\",0,3*T447/100))","v":0},{"$f":"IF('Aferi (Variáveis)'!$C$12=\"ZFM\",0,IF('Aferi (Variáveis)'!$C$12=\"Exportação\",0,0.65*T447/100))","v":0},0,0,0,0,0,0,0,0,0,{"$f":"SUMIF('Custo Básico dos Produtos'!$B$7:$B$480,A447,'Custo Básico dos Produtos'!$K$7:$K$480)","v":0},null,null,0,0,0,0,0,0]
[null,{"$f":"IF(Q448<>0,VLOOKUP(Q448,'Custo Básico dos Produtos'!$A$7:$J$480,3),\"\")","v":""},null,{"$f":"SUMIF('Custo Básico dos Produtos'!$A$7:$A$480,Q448,'Custo Básico dos Produtos'!$J$7:$J$480)","v":0},0,0,{"$f":"IF(B448=\"\",0,SUMIF('Cadastro de Produtos em Linha'!$B$7:$B$457,A448,'Cadastro de Produtos em Linha'!$D$7:$D$457))","v":0},null,0,0,{"$f":"IF('Aferi (Variáveis)'!$C$12=\"ALC\",0,IF('Aferi (Variáveis)'!$C$12=\"ZFM\",0,IF('Aferi (Variáveis)'!$C$12=\"Exportação\",0,IF('Aferi (Variáveis)'!$C$12=\"Venda para Exportar\",0,IF('Aferi (Variáveis)'!$C$12=\"AO\",0,SUMIF('Custo Básico dos Produtos'!$A$7:$A$480,Q448,'Custo Básico dos Produtos'!$L$7:$L$480))))))","v":0},0,0,0,0,{"$f":"SUMIF('Cadastro de Produtos em Linha'!$A$6:$A$457,Q448,'Cadastro de Produtos em Linha'!$E$6:$E$457)*H448","v":0},{"$f":"IF(TODAY()<$AK$26,IF(A448<>\"\",SUMIF('Custo Básico dos Produtos'!$B$7:$B$457,A448,'Custo Básico dos Produtos'!$A$7:$A$457),0),0)","v":0},{"$f":"IF('Aferi (Variáveis)'!$C$12=\"Venda para Exportar\",0,IF('Aferi (Variáveis)'!$C$12=\"ALC\",0,IF('Aferi (Variáveis)'!$C$12=\"ZFM\",0,IF('Aferi (Variáveis)'!$C$12=\"Exportação\",0,IF('Aferi (Variáveis)'!$C$12=\"AO\",0,E448/(100+(0*'Aferi (Variáveis)'!$K$12/100))*100*K448%/100*'Aferi (Variáveis)'!$K$12)))))","v":0},0,{"$f":"(E448*'Aferi (Variáveis)'!$K$12/100)","v":0},0,{"$f":"IF('Aferi (Variáveis)'!$F$20=\"Venda para Exportar\",0,IF('Aferi (Variáveis)'!$F$20=\"ALC\",0,IF('Aferi (Variáveis)'!$F$20=\"ZFM\",0,IF('Aferi (Variáveis)'!$F$20=\"Exportação\",0,IF('Aferi (Variáveis)'!$F$20=\"AO\",7*T448/100,T448*'Aferi (Variáveis)'!$F$20/100)))))","v":0},0,{"$f":"IF('Aferi (Variáveis)'!$C$12=\"ZFM\",0,IF('Aferi (Variáveis)'!$C$12=\"Exportação\",0,3*T448/100))","v":0},{"$f":"IF('Aferi (Variáveis)'!$C$12=\"ZFM\",0,IF('Aferi (Variáveis)'!$C$12=\"Exportação\",0,0.65*T448/100))","v":0},0,0,0,0,0,0,0,0,0,{"$f":"SUMIF('Custo Básico dos Produtos'!$B$7:$B$480,A448,'Custo Básico dos Produtos'!$K$7:$K$480)","v":0},null,null,0,0,0,0,0,0]
[null,{"$f":"IF(Q449<>0,VLOOKUP(Q449,'Custo Básico dos Produtos'!$A$7:$J$480,3),\"\")","v":""},null,{"$f":"SUMIF('Custo Básico dos Produtos'!$A$7:$A$480,Q449,'Custo Básico dos Produtos'!$J$7:$J$480)","v":0},0,0,{"$f":"IF(B449=\"\",0,SUMIF('Cadastro de Produtos em Linha'!$B$7:$B$457,A449,'Cadastro de Produtos em Linha'!$D$7:$D$457))","v":0},null,0,0,{"$f":"IF('Aferi (Variáveis)'!$C$12=\"ALC\",0,IF('Aferi (Variáveis)'!$C$12=\"ZFM\",0,IF('Aferi (Variáveis)'!$C$12=\"Exportação\",0,IF('Aferi (Variáveis)'!$C$12=\"Venda para Exportar\",0,IF('Aferi (Variáveis)'!$C$12=\"AO\",0,SUMIF('Custo Básico dos Produtos'!$A$7:$A$480,Q449,'Custo Básico dos Produtos'!$L$7:$L$480))))))","v":0},0,0,0,0,{"$f":"SUMIF('Cadastro de Produtos em Linha'!$A$6:$A$457,Q449,'Cadastro de Produtos em Linha'!$E$6:$E$457)*H449","v":0},{"$f":"IF(TODAY()<$AK$26,IF(A449<>\"\",SUMIF('Custo Básico dos Produtos'!$B$7:$B$457,A449,'Custo Básico dos Produtos'!$A$7:$A$457),0),0)","v":0},{"$f":"IF('Aferi (Variáveis)'!$C$12=\"Venda para Exportar\",0,IF('Aferi (Variáveis)'!$C$12=\"ALC\",0,IF('Aferi (Variáveis)'!$C$12=\"ZFM\",0,IF('Aferi (Variáveis)'!$C$12=\"Exportação\",0,IF('Aferi (Variáveis)'!$C$12=\"AO\",0,E449/(100+(0*'Aferi (Variáveis)'!$K$12/100))*100*K449%/100*'Aferi (Variáveis)'!$K$12)))))","v":0},0,{"$f":"(E449*'Aferi (Variáveis)'!$K$12/100)","v":0},0,{"$f":"IF('Aferi (Variáveis)'!$F$20=\"Venda para Exportar\",0,IF('Aferi (Variáveis)'!$F$20=\"ALC\",0,IF('Aferi (Variáveis)'!$F$20=\"ZFM\",0,IF('Aferi (Variáveis)'!$F$20=\"Exportação\",0,IF('Aferi (Variáveis)'!$F$20=\"AO\",7*T449/100,T449*'Aferi (Variáveis)'!$F$20/100)))))","v":0},0,{"$f":"IF('Aferi (Variáveis)'!$C$12=\"ZFM\",0,IF('Aferi (Variáveis)'!$C$12=\"Exportação\",0,3*T449/100))","v":0},{"$f":"IF('Aferi (Variáveis)'!$C$12=\"ZFM\",0,IF('Aferi (Variáveis)'!$C$12=\"Exportação\",0,0.65*T449/100))","v":0},0,0,0,0,0,0,0,0,0,{"$f":"SUMIF('Custo Básico dos Produtos'!$B$7:$B$480,A449,'Custo Básico dos Produtos'!$K$7:$K$480)","v":0},null,null,0,0,0,0,0,0]
[null,{"$f":"IF(Q450<>0,VLOOKUP(Q450,'Custo Básico dos Produtos'!$A$7:$J$480,3),\"\")","v":""},null,{"$f":"SUMIF('Custo Básico dos Produtos'!$A$7:$A$480,Q450,'Custo Básico dos Produtos'!$J$7:$J$480)","v":0},0,0,{"$f":"IF(B450=\"\",0,SUMIF('Cadastro de Produtos em Linha'!$B$7:$B$457,A450,'Cadastro de Produtos em Linha'!$D$7:$D$457))","v":0},null,0,0,{"$f":"IF('Aferi (Variáveis)'!$C$12=\"ALC\",0,IF('Aferi (Variáveis)'!$C$12=\"ZFM\",0,IF('Aferi (Variáveis)'!$C$12=\"Exportação\",0,IF('Aferi (Variáveis)'!$C$12=\"Venda para Exportar\",0,IF('Aferi (Variáveis)'!$C$12=\"AO\",0,SUMIF('Custo Básico dos Produtos'!$A$7:$A$480,Q450,'Custo Básico dos Produtos'!$L$7:$L$480))))))","v":0},0,0,0,0,{"$f":"SUMIF('Cadastro de Produtos em Linha'!$A$6:$A$457,Q450,'Cadastro de Produtos em Linha'!$E$6:$E$457)*H450","v":0},{"$f":"IF(TODAY()<$AK$26,IF(A450<>\"\",SUMIF('Custo Básico dos Produtos'!$B$7:$B$457,A450,'Custo Básico dos Produtos'!$A$7:$A$457),0),0)","v":0},{"$f":"IF('Aferi (Variáveis)'!$C$12=\"Venda para Exportar\",0,IF('Aferi (Variáveis)'!$C$12=\"ALC\",0,IF('Aferi (Variáveis)'!$C$12=\"ZFM\",0,IF('Aferi (Variáveis)'!$C$12=\"Exportação\",0,IF('Aferi (Variáveis)'!$C$12=\"AO\",0,E450/(100+(0*'Aferi (Variáveis)'!$K$12/100))*100*K450%/100*'Aferi (Variáveis)'!$K$12)))))","v":0},0,{"$f":"(E450*'Aferi (Variáveis)'!$K$12/100)","v":0},0,{"$f":"IF('Aferi (Variáveis)'!$F$20=\"Venda para Exportar\",0,IF('Aferi (Variáveis)'!$F$20=\"ALC\",0,IF('Aferi (Variáveis)'!$F$20=\"ZFM\",0,IF('Aferi (Variáveis)'!$F$20=\"Exportação\",0,IF('Aferi (Variáveis)'!$F$20=\"AO\",7*T450/100,T450*'Aferi (Variáveis)'!$F$20/100)))))","v":0},0,{"$f":"IF('Aferi (Variáveis)'!$C$12=\"ZFM\",0,IF('Aferi (Variáveis)'!$C$12=\"Exportação\",0,3*T450/100))","v":0},{"$f":"IF('Aferi (Variáveis)'!$C$12=\"ZFM\",0,IF('Aferi (Variáveis)'!$C$12=\"Exportação\",0,0.65*T450/100))","v":0},0,0,0,0,0,0,0,0,0,{"$f":"SUMIF('Custo Básico dos Produtos'!$B$7:$B$480,A450,'Custo Básico dos Produtos'!$K$7:$K$480)","v":0},null,null,0,0,0,0,0,0]
[null,{"$f":"IF(Q451<>0,VLOOKUP(Q451,'Custo Básico dos Produtos'!$A$7:$J$480,3),\"\")","v":""},null,{"$f":"SUMIF('Custo Básico dos Produtos'!$A$7:$A$480,Q451,'Custo Básico dos Produtos'!$J$7:$J$480)","v":0},0,0,{"$f":"IF(B451=\"\",0,SUMIF('Cadastro de Produtos em Linha'!$B$7:$B$457,A451,'Cadastro de Produtos em Linha'!$D$7:$D$457))","v":0},null,0,0,{"$f":"IF('Aferi (Variáveis)'!$C$12=\"ALC\",0,IF('Aferi (Variáveis)'!$C$12=\"ZFM\",0,IF('Aferi (Variáveis)'!$C$12=\"Exportação\",0,IF('Aferi (Variáveis)'!$C$12=\"Venda para Exportar\",0,IF('Aferi (Variáveis)'!$C$12=\"AO\",0,SUMIF('Custo Básico dos Produtos'!$A$7:$A$480,Q451,'Custo Básico dos Produtos'!$L$7:$L$480))))))","v":0},0,0,0,0,{"$f":"SUMIF('Cadastro de Produtos em Linha'!$A$6:$A$457,Q451,'Cadastro de Produtos em Linha'!$E$6:$E$457)*H451","v":0},{"$f":"IF(TODAY()<$AK$26,IF(A451<>\"\",SUMIF('Custo Básico dos Produtos'!$B$7:$B$457,A451,'Custo Básico dos Produtos'!$A$7:$A$457),0),0)","v":0},{"$f":"IF('Aferi (Variáveis)'!$C$12=\"Venda para Exportar\",0,IF('Aferi (Variáveis)'!$C$12=\"ALC\",0,IF('Aferi (Variáveis)'!$C$12=\"ZFM\",0,IF('Aferi (Variáveis)'!$C$12=\"Exportação\",0,IF('Aferi (Variáveis)'!$C$12=\"AO\",0,E451/(100+(0*'Aferi (Variáveis)'!$K$12/100))*100*K451%/100*'Aferi (Variáveis)'!$K$12)))))","v":0},0,{"$f":"(E451*'Aferi (Variáveis)'!$K$12/100)","v":0},0,{"$f":"IF('Aferi (Variáveis)'!$F$20=\"Venda para Exportar\",0,IF('Aferi (Variáveis)'!$F$20=\"ALC\",0,IF('Aferi (Variáveis)'!$F$20=\"ZFM\",0,IF('Aferi (Variáveis)'!$F$20=\"Exportação\",0,IF('Aferi (Variáveis)'!$F$20=\"AO\",7*T451/100,T451*'Aferi (Variáveis)'!$F$20/100)))))","v":0},0,{"$f":"IF('Aferi (Variáveis)'!$C$12=\"ZFM\",0,IF('Aferi (Variáveis)'!$C$12=\"Exportação\",0,3*T451/100))","v":0},{"$f":"IF('Aferi (Variáveis)'!$C$12=\"ZFM\",0,IF('Aferi (Variáveis)'!$C$12=\"Exportação\",0,0.65*T451/100))","v":0},0,0,0,0,0,0,0,0,0,{"$f":"SUMIF('Custo Básico dos Produtos'!$B$7:$B$480,A451,'Custo Básico dos Produtos'!$K$7:$K$480)","v":0},null,null,0,0,0,0,0,0]
[null,{"$f":"IF(Q452<>0,VLOOKUP(Q452,'Custo Básico dos Produtos'!$A$7:$J$480,3),\"\")","v":""},null,{"$f":"SUMIF('Custo Básico dos Produtos'!$A$7:$A$480,Q452,'Custo Básico dos Produtos'!$J$7:$J$480)","v":0},0,0,{"$f":"IF(B452=\"\",0,SUMIF('Cadastro de Produtos em Linha'!$B$7:$B$457,A452,'Cadastro de Produtos em Linha'!$D$7:$D$457))","v":0},null,0,0,{"$f":"IF('Aferi (Variáveis)'!$C$12=\"ALC\",0,IF('Aferi (Variáveis)'!$C$12=\"ZFM\",0,IF('Aferi (Variáveis)'!$C$12=\"Exportação\",0,IF('Aferi (Variáveis)'!$C$12=\"Venda para Exportar\",0,IF('Aferi (Variáveis)'!$C$12=\"AO\",0,SUMIF('Custo Básico dos Produtos'!$A$7:$A$480,Q452,'Custo Básico dos Produtos'!$L$7:$L$480))))))","v":0},0,0,0,0,{"$f":"SUMIF('Cadastro de Produtos em Linha'!$A$6:$A$457,Q452,'Cadastro de Produtos em Linha'!$E$6:$E$457)*H452","v":0},{"$f":"IF(TODAY()<$AK$26,IF(A452<>\"\",SUMIF('Custo Básico dos Produtos'!$B$7:$B$457,A452,'Custo Básico dos Produtos'!$A$7:$A$457),0),0)","v":0},{"$f":"IF('Aferi (Variáveis)'!$C$12=\"Venda para Exportar\",0,IF('Aferi (Variáveis)'!$C$12=\"ALC\",0,IF('Aferi (Variáveis)'!$C$12=\"ZFM\",0,IF('Aferi (Variáveis)'!$C$12=\"Exportação\",0,IF('Aferi (Variáveis)'!$C$12=\"AO\",0,E452/(100+(0*'Aferi (Variáveis)'!$K$12/100))*100*K452%/100*'Aferi (Variáveis)'!$K$12)))))","v":0},0,{"$f":"(E452*'Aferi (Variáveis)'!$K$12/100)","v":0},0,{"$f":"IF('Aferi (Variáveis)'!$F$20=\"Venda para Exportar\",0,IF('Aferi (Variáveis)'!$F$20=\"ALC\",0,IF('Aferi (Variáveis)'!$F$20=\"ZFM\",0,IF('Aferi (Variáveis)'!$F$20=\"Exportação\",0,IF('Aferi (Variáveis)'!$F$20=\"AO\",7*T452/100,T452*'Aferi (Variáveis)'!$F$20/100)))))","v":0},0,{"$f":"IF('Aferi (Variáveis)'!$C$12=\"ZFM\",0,IF('Aferi (Variáveis)'!$C$12=\"Exportação\",0,3*T452/100))","v":0},{"$f":"IF('Aferi (Variáveis)'!$C$12=\"ZFM\",0,IF('Aferi (Variáveis)'!$C$12=\"Exportação\",0,0.65*T452/100))","v":0},0,0,0,0,0,0,0,0,0,{"$f":"SUMIF('Custo Básico dos Produtos'!$B$7:$B$480,A452,'Custo Básico dos Produtos'!$K$7:$K$480)","v":0},null,null,0,0,0,0,0,0]
[null,{"$f":"IF(Q453<>0,VLOOKUP(Q453,'Custo Básico dos Produtos'!$A$7:$J$480,3),\"\")","v":""},null,{"$f":"SUMIF('Custo Básico dos Produtos'!$A$7:$A$480,Q453,'Custo Básico dos Produtos'!$J$7:$J$480)","v":0},0,0,{"$f":"IF(B453=\"\",0,SUMIF('Cadastro de Produtos em Linha'!$B$7:$B$457,A453,'Cadastro de Produtos em Linha'!$D$7:$D$457))","v":0},null,0,0,{"$f":"IF('Aferi (Variáveis)'!$C$12=\"ALC\",0,IF('Aferi (Variáveis)'!$C$12=\"ZFM\",0,IF('Aferi (Variáveis)'!$C$12=\"Exportação\",0,IF('Aferi (Variáveis)'!$C$12=\"Venda para Exportar\",0,IF('Aferi (Variáveis)'!$C$12=\"AO\",0,SUMIF('Custo Básico dos Produtos'!$A$7:$A$480,Q453,'Custo Básico dos Produtos'!$L$7:$L$480))))))","v":0},0,0,0,0,{"$f":"SUMIF('Cadastro de Produtos em Linha'!$A$6:$A$457,Q453,'Cadastro de Produtos em Linha'!$E$6:$E$457)*H453","v":0},{"$f":"IF(TODAY()<$AK$26,IF(A453<>\"\",SUMIF('Custo Básico dos Produtos'!$B$7:$B$457,A453,'Custo Básico dos Produtos'!$A$7:$A$457),0),0)","v":0},{"$f":"IF('Aferi (Variáveis)'!$C$12=\"Venda para Exportar\",0,IF('Aferi (Variáveis)'!$C$12=\"ALC\",0,IF('Aferi (Variáveis)'!$C$12=\"ZFM\",0,IF('Aferi (Variáveis)'!$C$12=\"Exportação\",0,IF('Aferi (Variáveis)'!$C$12=\"AO\",0,E453/(100+(0*'Aferi (Variáveis)'!$K$12/100))*100*K453%/100*'Aferi (Variáveis)'!$K$12)))))","v":0},0,{"$f":"(E453*'Aferi (Variáveis)'!$K$12/100)","v":0},0,{"$f":"IF('Aferi (Variáveis)'!$F$20=\"Venda para Exportar\",0,IF('Aferi (Variáveis)'!$F$20=\"ALC\",0,IF('Aferi (Variáveis)'!$F$20=\"ZFM\",0,IF('Aferi (Variáveis)'!$F$20=\"Exportação\",0,IF('Aferi (Variáveis)'!$F$20=\"AO\",7*T453/100,T453*'Aferi (Variáveis)'!$F$20/100)))))","v":0},0,{"$f":"IF('Aferi (Variáveis)'!$C$12=\"ZFM\",0,IF('Aferi (Variáveis)'!$C$12=\"Exportação\",0,3*T453/100))","v":0},{"$f":"IF('Aferi (Variáveis)'!$C$12=\"ZFM\",0,IF('Aferi (Variáveis)'!$C$12=\"Exportação\",0,0.65*T453/100))","v":0},0,0,0,0,0,0,0,0,0,{"$f":"SUMIF('Custo Básico dos Produtos'!$B$7:$B$480,A453,'Custo Básico dos Produtos'!$K$7:$K$480)","v":0},null,null,0,0,0,0,0,0]
[null,{"$f":"IF(Q454<>0,VLOOKUP(Q454,'Custo Básico dos Produtos'!$A$7:$J$480,3),\"\")","v":""},null,{"$f":"SUMIF('Custo Básico dos Produtos'!$A$7:$A$480,Q454,'Custo Básico dos Produtos'!$J$7:$J$480)","v":0},0,0,{"$f":"IF(B454=\"\",0,SUMIF('Cadastro de Produtos em Linha'!$B$7:$B$457,A454,'Cadastro de Produtos em Linha'!$D$7:$D$457))","v":0},null,0,0,{"$f":"IF('Aferi (Variáveis)'!$C$12=\"ALC\",0,IF('Aferi (Variáveis)'!$C$12=\"ZFM\",0,IF('Aferi (Variáveis)'!$C$12=\"Exportação\",0,IF('Aferi (Variáveis)'!$C$12=\"Venda para Exportar\",0,IF('Aferi (Variáveis)'!$C$12=\"AO\",0,SUMIF('Custo Básico dos Produtos'!$A$7:$A$480,Q454,'Custo Básico dos Produtos'!$L$7:$L$480))))))","v":0},0,0,0,0,{"$f":"SUMIF('Cadastro de Produtos em Linha'!$A$6:$A$457,Q454,'Cadastro de Produtos em Linha'!$E$6:$E$457)*H454","v":0},{"$f":"IF(TODAY()<$AK$26,IF(A454<>\"\",SUMIF('Custo Básico dos Produtos'!$B$7:$B$457,A454,'Custo Básico dos Produtos'!$A$7:$A$457),0),0)","v":0},{"$f":"IF('Aferi (Variáveis)'!$C$12=\"Venda para Exportar\",0,IF('Aferi (Variáveis)'!$C$12=\"ALC\",0,IF('Aferi (Variáveis)'!$C$12=\"ZFM\",0,IF('Aferi (Variáveis)'!$C$12=\"Exportação\",0,IF('Aferi (Variáveis)'!$C$12=\"AO\",0,E454/(100+(0*'Aferi (Variáveis)'!$K$12/100))*100*K454%/100*'Aferi (Variáveis)'!$K$12)))))","v":0},0,{"$f":"(E454*'Aferi (Variáveis)'!$K$12/100)","v":0},0,{"$f":"IF('Aferi (Variáveis)'!$F$20=\"Venda para Exportar\",0,IF('Aferi (Variáveis)'!$F$20=\"ALC\",0,IF('Aferi (Variáveis)'!$F$20=\"ZFM\",0,IF('Aferi (Variáveis)'!$F$20=\"Exportação\",0,IF('Aferi (Variáveis)'!$F$20=\"AO\",7*T454/100,T454*'Aferi (Variáveis)'!$F$20/100)))))","v":0},0,{"$f":"IF('Aferi (Variáveis)'!$C$12=\"ZFM\",0,IF('Aferi (Variáveis)'!$C$12=\"Exportação\",0,3*T454/100))","v":0},{"$f":"IF('Aferi (Variáveis)'!$C$12=\"ZFM\",0,IF('Aferi (Variáveis)'!$C$12=\"Exportação\",0,0.65*T454/100))","v":0},0,0,0,0,0,0,0,0,0,{"$f":"SUMIF('Custo Básico dos Produtos'!$B$7:$B$480,A454,'Custo Básico dos Produtos'!$K$7:$K$480)","v":0},null,null,0,0,0,0,0,0]
[null,{"$f":"IF(Q455<>0,VLOOKUP(Q455,'Custo Básico dos Produtos'!$A$7:$J$480,3),\"\")","v":""},null,{"$f":"SUMIF('Custo Básico dos Produtos'!$A$7:$A$480,Q455,'Custo Básico dos Produtos'!$J$7:$J$480)","v":0},0,0,{"$f":"IF(B455=\"\",0,SUMIF('Cadastro de Produtos em Linha'!$B$7:$B$457,A455,'Cadastro de Produtos em Linha'!$D$7:$D$457))","v":0},null,0,0,{"$f":"IF('Aferi (Variáveis)'!$C$12=\"ALC\",0,IF('Aferi (Variáveis)'!$C$12=\"ZFM\",0,IF('Aferi (Variáveis)'!$C$12=\"Exportação\",0,IF('Aferi (Variáveis)'!$C$12=\"Venda para Exportar\",0,IF('Aferi (Variáveis)'!$C$12=\"AO\",0,SUMIF('Custo Básico dos Produtos'!$A$7:$A$480,Q455,'Custo Básico dos Produtos'!$L$7:$L$480))))))","v":0},0,0,0,0,{"$f":"SUMIF('Cadastro de Produtos em Linha'!$A$6:$A$457,Q455,'Cadastro de Produtos em Linha'!$E$6:$E$457)*H455","v":0},{"$f":"IF(TODAY()<$AK$26,IF(A455<>\"\",SUMIF('Custo Básico dos Produtos'!$B$7:$B$457,A455,'Custo Básico dos Produtos'!$A$7:$A$457),0),0)","v":0},{"$f":"IF('Aferi (Variáveis)'!$C$12=\"Venda para Exportar\",0,IF('Aferi (Variáveis)'!$C$12=\"ALC\",0,IF('Aferi (Variáveis)'!$C$12=\"ZFM\",0,IF('Aferi (Variáveis)'!$C$12=\"Exportação\",0,IF('Aferi (Variáveis)'!$C$12=\"AO\",0,E455/(100+(0*'Aferi (Variáveis)'!$K$12/100))*100*K455%/100*'Aferi (Variáveis)'!$K$12)))))","v":0},0,{"$f":"(E455*'Aferi (Variáveis)'!$K$12/100)","v":0},0,{"$f":"IF('Aferi (Variáveis)'!$F$20=\"Venda para Exportar\",0,IF('Aferi (Variáveis)'!$F$20=\"ALC\",0,IF('Aferi (Variáveis)'!$F$20=\"ZFM\",0,IF('Aferi (Variáveis)'!$F$20=\"Exportação\",0,IF('Aferi (Variáveis)'!$F$20=\"AO\",7*T455/100,T455*'Aferi (Variáveis)'!$F$20/100)))))","v":0},0,{"$f":"IF('Aferi (Variáveis)'!$C$12=\"ZFM\",0,IF('Aferi (Variáveis)'!$C$12=\"Exportação\",0,3*T455/100))","v":0},{"$f":"IF('Aferi (Variáveis)'!$C$12=\"ZFM\",0,IF('Aferi (Variáveis)'!$C$12=\"Exportação\",0,0.65*T455/100))","v":0},0,0,0,0,0,0,0,0,0,{"$f":"SUMIF('Custo Básico dos Produtos'!$B$7:$B$480,A455,'Custo Básico dos Produtos'!$K$7:$K$480)","v":0},null,null,0,0,0,0,0,0]
[null,{"$f":"IF(Q456<>0,VLOOKUP(Q456,'Custo Básico dos Produtos'!$A$7:$J$480,3),\"\")","v":""},null,{"$f":"SUMIF('Custo Básico dos Produtos'!$A$7:$A$480,Q456,'Custo Básico dos Produtos'!$J$7:$J$480)","v":0},0,0,{"$f":"IF(B456=\"\",0,SUMIF('Cadastro de Produtos em Linha'!$B$7:$B$457,A456,'Cadastro de Produtos em Linha'!$D$7:$D$457))","v":0},null,0,0,{"$f":"IF('Aferi (Variáveis)'!$C$12=\"ALC\",0,IF('Aferi (Variáveis)'!$C$12=\"ZFM\",0,IF('Aferi (Variáveis)'!$C$12=\"Exportação\",0,IF('Aferi (Variáveis)'!$C$12=\"Venda para Exportar\",0,IF('Aferi (Variáveis)'!$C$12=\"AO\",0,SUMIF('Custo Básico dos Produtos'!$A$7:$A$480,Q456,'Custo Básico dos Produtos'!$L$7:$L$480))))))","v":0},0,0,0,0,{"$f":"SUMIF('Cadastro de Produtos em Linha'!$A$6:$A$457,Q456,'Cadastro de Produtos em Linha'!$E$6:$E$457)*H456","v":0},{"$f":"IF(TODAY()<$AK$26,IF(A456<>\"\",SUMIF('Custo Básico dos Produtos'!$B$7:$B$457,A456,'Custo Básico dos Produtos'!$A$7:$A$457),0),0)","v":0},{"$f":"IF('Aferi (Variáveis)'!$C$12=\"Venda para Exportar\",0,IF('Aferi (Variáveis)'!$C$12=\"ALC\",0,IF('Aferi (Variáveis)'!$C$12=\"ZFM\",0,IF('Aferi (Variáveis)'!$C$12=\"Exportação\",0,IF('Aferi (Variáveis)'!$C$12=\"AO\",0,E456/(100+(0*'Aferi (Variáveis)'!$K$12/100))*100*K456%/100*'Aferi (Variáveis)'!$K$12)))))","v":0},0,{"$f":"(E456*'Aferi (Variáveis)'!$K$12/100)","v":0},0,{"$f":"IF('Aferi (Variáveis)'!$F$20=\"Venda para Exportar\",0,IF('Aferi (Variáveis)'!$F$20=\"ALC\",0,IF('Aferi (Variáveis)'!$F$20=\"ZFM\",0,IF('Aferi (Variáveis)'!$F$20=\"Exportação\",0,IF('Aferi (Variáveis)'!$F$20=\"AO\",7*T456/100,T456*'Aferi (Variáveis)'!$F$20/100)))))","v":0},0,{"$f":"IF('Aferi (Variáveis)'!$C$12=\"ZFM\",0,IF('Aferi (Variáveis)'!$C$12=\"Exportação\",0,3*T456/100))","v":0},{"$f":"IF('Aferi (Variáveis)'!$C$12=\"ZFM\",0,IF('Aferi (Variáveis)'!$C$12=\"Exportação\",0,0.65*T456/100))","v":0},0,0,0,0,0,0,0,0,0,{"$f":"SUMIF('Custo Básico dos Produtos'!$B$7:$B$480,A456,'Custo Básico dos Produtos'!$K$7:$K$480)","v":0},null,null,0,0,0,0,0,0]
[null,{"$f":"IF(Q457<>0,VLOOKUP(Q457,'Custo Básico dos Produtos'!$A$7:$J$480,3),\"\")","v":""},null,{"$f":"SUMIF('Custo Básico dos Produtos'!$A$7:$A$480,Q457,'Custo Básico dos Produtos'!$J$7:$J$480)","v":0},0,0,{"$f":"IF(B457=\"\",0,SUMIF('Cadastro de Produtos em Linha'!$B$7:$B$457,A457,'Cadastro de Produtos em Linha'!$D$7:$D$457))","v":0},null,0,0,{"$f":"IF('Aferi (Variáveis)'!$C$12=\"ALC\",0,IF('Aferi (Variáveis)'!$C$12=\"ZFM\",0,IF('Aferi (Variáveis)'!$C$12=\"Exportação\",0,IF('Aferi (Variáveis)'!$C$12=\"Venda para Exportar\",0,IF('Aferi (Variáveis)'!$C$12=\"AO\",0,SUMIF('Custo Básico dos Produtos'!$A$7:$A$480,Q457,'Custo Básico dos Produtos'!$L$7:$L$480))))))","v":0},0,0,0,0,{"$f":"SUMIF('Cadastro de Produtos em Linha'!$A$6:$A$457,Q457,'Cadastro de Produtos em Linha'!$E$6:$E$457)*H457","v":0},{"$f":"IF(TODAY()<$AK$26,IF(A457<>\"\",SUMIF('Custo Básico dos Produtos'!$B$7:$B$457,A457,'Custo Básico dos Produtos'!$A$7:$A$457),0),0)","v":0},{"$f":"IF('Aferi (Variáveis)'!$C$12=\"Venda para Exportar\",0,IF('Aferi (Variáveis)'!$C$12=\"ALC\",0,IF('Aferi (Variáveis)'!$C$12=\"ZFM\",0,IF('Aferi (Variáveis)'!$C$12=\"Exportação\",0,IF('Aferi (Variáveis)'!$C$12=\"AO\",0,E457/(100+(0*'Aferi (Variáveis)'!$K$12/100))*100*K457%/100*'Aferi (Variáveis)'!$K$12)))))","v":0},0,{"$f":"(E457*'Aferi (Variáveis)'!$K$12/100)","v":0},0,{"$f":"IF('Aferi (Variáveis)'!$F$20=\"Venda para Exportar\",0,IF('Aferi (Variáveis)'!$F$20=\"ALC\",0,IF('Aferi (Variáveis)'!$F$20=\"ZFM\",0,IF('Aferi (Variáveis)'!$F$20=\"Exportação\",0,IF('Aferi (Variáveis)'!$F$20=\"AO\",7*T457/100,T457*'Aferi (Variáveis)'!$F$20/100)))))","v":0},0,{"$f":"IF('Aferi (Variáveis)'!$C$12=\"ZFM\",0,IF('Aferi (Variáveis)'!$C$12=\"Exportação\",0,3*T457/100))","v":0},{"$f":"IF('Aferi (Variáveis)'!$C$12=\"ZFM\",0,IF('Aferi (Variáveis)'!$C$12=\"Exportação\",0,0.65*T457/100))","v":0},0,0,0,0,0,0,0,0,0,{"$f":"SUMIF('Custo Básico dos Produtos'!$B$7:$B$480,A457,'Custo Básico dos Produtos'!$K$7:$K$480)","v":0},null,null,0,0,0,0,0,0]
[null,{"$f":"IF(Q458<>0,VLOOKUP(Q458,'Custo Básico dos Produtos'!$A$7:$J$480,3),\"\")","v":""},null,{"$f":"SUMIF('Custo Básico dos Produtos'!$A$7:$A$480,Q458,'Custo Básico dos Produtos'!$J$7:$J$480)","v":0},0,0,{"$f":"IF(B458=\"\",0,SUMIF('Cadastro de Produtos em Linha'!$B$7:$B$457,A458,'Cadastro de Produtos em Linha'!$D$7:$D$457))","v":0},null,0,0,{"$f":"IF('Aferi (Variáveis)'!$C$12=\"ALC\",0,IF('Aferi (Variáveis)'!$C$12=\"ZFM\",0,IF('Aferi (Variáveis)'!$C$12=\"Exportação\",0,IF('Aferi (Variáveis)'!$C$12=\"Venda para Exportar\",0,IF('Aferi (Variáveis)'!$C$12=\"AO\",0,SUMIF('Custo Básico dos Produtos'!$A$7:$A$480,Q458,'Custo Básico dos Produtos'!$L$7:$L$480))))))","v":0},0,0,0,0,{"$f":"SUMIF('Cadastro de Produtos em Linha'!$A$6:$A$457,Q458,'Cadastro de Produtos em Linha'!$E$6:$E$457)*H458","v":0},{"$f":"IF(TODAY()<$AK$26,IF(A458<>\"\",SUMIF('Custo Básico dos Produtos'!$B$7:$B$457,A458,'Custo Básico dos Produtos'!$A$7:$A$457),0),0)","v":0},{"$f":"IF('Aferi (Variáveis)'!$C$12=\"Venda para Exportar\",0,IF('Aferi (Variáveis)'!$C$12=\"ALC\",0,IF('Aferi (Variáveis)'!$C$12=\"ZFM\",0,IF('Aferi (Variáveis)'!$C$12=\"Exportação\",0,IF('Aferi (Variáveis)'!$C$12=\"AO\",0,E458/(100+(0*'Aferi (Variáveis)'!$K$12/100))*100*K458%/100*'Aferi (Variáveis)'!$K$12)))))","v":0},0,{"$f":"(E458*'Aferi (Variáveis)'!$K$12/100)","v":0},0,{"$f":"IF('Aferi (Variáveis)'!$F$20=\"Venda para Exportar\",0,IF('Aferi (Variáveis)'!$F$20=\"ALC\",0,IF('Aferi (Variáveis)'!$F$20=\"ZFM\",0,IF('Aferi (Variáveis)'!$F$20=\"Exportação\",0,IF('Aferi (Variáveis)'!$F$20=\"AO\",7*T458/100,T458*'Aferi (Variáveis)'!$F$20/100)))))","v":0},0,{"$f":"IF('Aferi (Variáveis)'!$C$12=\"ZFM\",0,IF('Aferi (Variáveis)'!$C$12=\"Exportação\",0,3*T458/100))","v":0},{"$f":"IF('Aferi (Variáveis)'!$C$12=\"ZFM\",0,IF('Aferi (Variáveis)'!$C$12=\"Exportação\",0,0.65*T458/100))","v":0},0,0,0,0,0,0,0,0,0,{"$f":"SUMIF('Custo Básico dos Produtos'!$B$7:$B$480,A458,'Custo Básico dos Produtos'!$K$7:$K$480)","v":0},null,null,0,0,0,0,0,0]
[null,{"$f":"IF(Q459<>0,VLOOKUP(Q459,'Custo Básico dos Produtos'!$A$7:$J$480,3),\"\")","v":""},null,{"$f":"SUMIF('Custo Básico dos Produtos'!$A$7:$A$480,Q459,'Custo Básico dos Produtos'!$J$7:$J$480)","v":0},0,0,{"$f":"IF(B459=\"\",0,SUMIF('Cadastro de Produtos em Linha'!$B$7:$B$457,A459,'Cadastro de Produtos em Linha'!$D$7:$D$457))","v":0},null,0,0,{"$f":"IF('Aferi (Variáveis)'!$C$12=\"ALC\",0,IF('Aferi (Variáveis)'!$C$12=\"ZFM\",0,IF('Aferi (Variáveis)'!$C$12=\"Exportação\",0,IF('Aferi (Variáveis)'!$C$12=\"Venda para Exportar\",0,IF('Aferi (Variáveis)'!$C$12=\"AO\",0,SUMIF('Custo Básico dos Produtos'!$A$7:$A$480,Q459,'Custo Básico dos Produtos'!$L$7:$L$480))))))","v":0},0,0,0,0,{"$f":"SUMIF('Cadastro de Produtos em Linha'!$A$6:$A$457,Q459,'Cadastro de Produtos em Linha'!$E$6:$E$457)*H459","v":0},{"$f":"IF(TODAY()<$AK$26,IF(A459<>\"\",SUMIF('Custo Básico dos Produtos'!$B$7:$B$457,A459,'Custo Básico dos Produtos'!$A$7:$A$457),0),0)","v":0},{"$f":"IF('Aferi (Variáveis)'!$C$12=\"Venda para Exportar\",0,IF('Aferi (Variáveis)'!$C$12=\"ALC\",0,IF('Aferi (Variáveis)'!$C$12=\"ZFM\",0,IF('Aferi (Variáveis)'!$C$12=\"Exportação\",0,IF('Aferi (Variáveis)'!$C$12=\"AO\",0,E459/(100+(0*'Aferi (Variáveis)'!$K$12/100))*100*K459%/100*'Aferi (Variáveis)'!$K$12)))))","v":0},0,{"$f":"(E459*'Aferi (Variáveis)'!$K$12/100)","v":0},0,{"$f":"IF('Aferi (Variáveis)'!$F$20=\"Venda para Exportar\",0,IF('Aferi (Variáveis)'!$F$20=\"ALC\",0,IF('Aferi (Variáveis)'!$F$20=\"ZFM\",0,IF('Aferi (Variáveis)'!$F$20=\"Exportação\",0,IF('Aferi (Variáveis)'!$F$20=\"AO\",7*T459/100,T459*'Aferi (Variáveis)'!$F$20/100)))))","v":0},0,{"$f":"IF('Aferi (Variáveis)'!$C$12=\"ZFM\",0,IF('Aferi (Variáveis)'!$C$12=\"Exportação\",0,3*T459/100))","v":0},{"$f":"IF('Aferi (Variáveis)'!$C$12=\"ZFM\",0,IF('Aferi (Variáveis)'!$C$12=\"Exportação\",0,0.65*T459/100))","v":0},0,0,0,0,0,0,0,0,0,{"$f":"SUMIF('Custo Básico dos Produtos'!$B$7:$B$480,A459,'Custo Básico dos Produtos'!$K$7:$K$480)","v":0},null,null,0,0,0,0,0,0]
[null,{"$f":"IF(Q460<>0,VLOOKUP(Q460,'Custo Básico dos Produtos'!$A$7:$J$480,3),\"\")","v":""},null,{"$f":"SUMIF('Custo Básico dos Produtos'!$A$7:$A$480,Q460,'Custo Básico dos Produtos'!$J$7:$J$480)","v":0},0,0,{"$f":"IF(B460=\"\",0,SUMIF('Cadastro de Produtos em Linha'!$B$7:$B$457,A460,'Cadastro de Produtos em Linha'!$D$7:$D$457))","v":0},null,0,0,{"$f":"IF('Aferi (Variáveis)'!$C$12=\"ALC\",0,IF('Aferi (Variáveis)'!$C$12=\"ZFM\",0,IF('Aferi (Variáveis)'!$C$12=\"Exportação\",0,IF('Aferi (Variáveis)'!$C$12=\"Venda para Exportar\",0,IF('Aferi (Variáveis)'!$C$12=\"AO\",0,SUMIF('Custo Básico dos Produtos'!$A$7:$A$480,Q460,'Custo Básico dos Produtos'!$L$7:$L$480))))))","v":0},0,0,0,0,{"$f":"SUMIF('Cadastro de Produtos em Linha'!$A$6:$A$457,Q460,'Cadastro de Produtos em Linha'!$E$6:$E$457)*H460","v":0},{"$f":"IF(TODAY()<$AK$26,IF(A460<>\"\",SUMIF('Custo Básico dos Produtos'!$B$7:$B$457,A460,'Custo Básico dos Produtos'!$A$7:$A$457),0),0)","v":0},{"$f":"IF('Aferi (Variáveis)'!$C$12=\"Venda para Exportar\",0,IF('Aferi (Variáveis)'!$C$12=\"ALC\",0,IF('Aferi (Variáveis)'!$C$12=\"ZFM\",0,IF('Aferi (Variáveis)'!$C$12=\"Exportação\",0,IF('Aferi (Variáveis)'!$C$12=\"AO\",0,E460/(100+(0*'Aferi (Variáveis)'!$K$12/100))*100*K460%/100*'Aferi (Variáveis)'!$K$12)))))","v":0},0,{"$f":"(E460*'Aferi (Variáveis)'!$K$12/100)","v":0},0,{"$f":"IF('Aferi (Variáveis)'!$F$20=\"Venda para Exportar\",0,IF('Aferi (Variáveis)'!$F$20=\"ALC\",0,IF('Aferi (Variáveis)'!$F$20=\"ZFM\",0,IF('Aferi (Variáveis)'!$F$20=\"Exportação\",0,IF('Aferi (Variáveis)'!$F$20=\"AO\",7*T460/100,T460*'Aferi (Variáveis)'!$F$20/100)))))","v":0},0,{"$f":"IF('Aferi (Variáveis)'!$C$12=\"ZFM\",0,IF('Aferi (Variáveis)'!$C$12=\"Exportação\",0,3*T460/100))","v":0},{"$f":"IF('Aferi (Variáveis)'!$C$12=\"ZFM\",0,IF('Aferi (Variáveis)'!$C$12=\"Exportação\",0,0.65*T460/100))","v":0},0,0,0,0,0,0,0,0,0,{"$f":"SUMIF('Custo Básico dos Produtos'!$B$7:$B$480,A460,'Custo Básico dos Produtos'!$K$7:$K$480)","v":0},null,null,0,0,0,0,0,0]
[null,{"$f":"IF(Q461<>0,VLOOKUP(Q461,'Custo Básico dos Produtos'!$A$7:$J$480,3),\"\")","v":""},null,{"$f":"SUMIF('Custo Básico dos Produtos'!$A$7:$A$480,Q461,'Custo Básico dos Produtos'!$J$7:$J$480)","v":0},0,0,{"$f":"IF(B461=\"\",0,SUMIF('Cadastro de Produtos em Linha'!$B$7:$B$457,A461,'Cadastro de Produtos em Linha'!$D$7:$D$457))","v":0},null,0,0,{"$f":"IF('Aferi (Variáveis)'!$C$12=\"ALC\",0,IF('Aferi (Variáveis)'!$C$12=\"ZFM\",0,IF('Aferi (Variáveis)'!$C$12=\"Exportação\",0,IF('Aferi (Variáveis)'!$C$12=\"Venda para Exportar\",0,IF('Aferi (Variáveis)'!$C$12=\"AO\",0,SUMIF('Custo Básico dos Produtos'!$A$7:$A$480,Q461,'Custo Básico dos Produtos'!$L$7:$L$480))))))","v":0},0,0,0,0,{"$f":"SUMIF('Cadastro de Produtos em Linha'!$A$6:$A$457,Q461,'Cadastro de Produtos em Linha'!$E$6:$E$457)*H461","v":0},{"$f":"IF(TODAY()<$AK$26,IF(A461<>\"\",SUMIF('Custo Básico dos Produtos'!$B$7:$B$457,A461,'Custo Básico dos Produtos'!$A$7:$A$457),0),0)","v":0},{"$f":"IF('Aferi (Variáveis)'!$C$12=\"Venda para Exportar\",0,IF('Aferi (Variáveis)'!$C$12=\"ALC\",0,IF('Aferi (Variáveis)'!$C$12=\"ZFM\",0,IF('Aferi (Variáveis)'!$C$12=\"Exportação\",0,IF('Aferi (Variáveis)'!$C$12=\"AO\",0,E461/(100+(0*'Aferi (Variáveis)'!$K$12/100))*100*K461%/100*'Aferi (Variáveis)'!$K$12)))))","v":0},0,{"$f":"(E461*'Aferi (Variáveis)'!$K$12/100)","v":0},0,{"$f":"IF('Aferi (Variáveis)'!$F$20=\"Venda para Exportar\",0,IF('Aferi (Variáveis)'!$F$20=\"ALC\",0,IF('Aferi (Variáveis)'!$F$20=\"ZFM\",0,IF('Aferi (Variáveis)'!$F$20=\"Exportação\",0,IF('Aferi (Variáveis)'!$F$20=\"AO\",7*T461/100,T461*'Aferi (Variáveis)'!$F$20/100)))))","v":0},0,{"$f":"IF('Aferi (Variáveis)'!$C$12=\"ZFM\",0,IF('Aferi (Variáveis)'!$C$12=\"Exportação\",0,3*T461/100))","v":0},{"$f":"IF('Aferi (Variáveis)'!$C$12=\"ZFM\",0,IF('Aferi (Variáveis)'!$C$12=\"Exportação\",0,0.65*T461/100))","v":0},0,0,0,0,0,0,0,0,0,{"$f":"SUMIF('Custo Básico dos Produtos'!$B$7:$B$480,A461,'Custo Básico dos Produtos'!$K$7:$K$480)","v":0},null,null,0,0,0,0,0,0]
[null,{"$f":"IF(Q462<>0,VLOOKUP(Q462,'Custo Básico dos Produtos'!$A$7:$J$480,3),\"\")","v":""},null,{"$f":"SUMIF('Custo Básico dos Produtos'!$A$7:$A$480,Q462,'Custo Básico dos Produtos'!$J$7:$J$480)","v":0},0,0,{"$f":"IF(B462=\"\",0,SUMIF('Cadastro de Produtos em Linha'!$B$7:$B$457,A462,'Cadastro de Produtos em Linha'!$D$7:$D$457))","v":0},null,0,0,{"$f":"IF('Aferi (Variáveis)'!$C$12=\"ALC\",0,IF('Aferi (Variáveis)'!$C$12=\"ZFM\",0,IF('Aferi (Variáveis)'!$C$12=\"Exportação\",0,IF('Aferi (Variáveis)'!$C$12=\"Venda para Exportar\",0,IF('Aferi (Variáveis)'!$C$12=\"AO\",0,SUMIF('Custo Básico dos Produtos'!$A$7:$A$480,Q462,'Custo Básico dos Produtos'!$L$7:$L$480))))))","v":0},0,0,0,0,{"$f":"SUMIF('Cadastro de Produtos em Linha'!$A$6:$A$457,Q462,'Cadastro de Produtos em Linha'!$E$6:$E$457)*H462","v":0},{"$f":"IF(TODAY()<$AK$26,IF(A462<>\"\",SUMIF('Custo Básico dos Produtos'!$B$7:$B$457,A462,'Custo Básico dos Produtos'!$A$7:$A$457),0),0)","v":0},{"$f":"IF('Aferi (Variáveis)'!$C$12=\"Venda para Exportar\",0,IF('Aferi (Variáveis)'!$C$12=\"ALC\",0,IF('Aferi (Variáveis)'!$C$12=\"ZFM\",0,IF('Aferi (Variáveis)'!$C$12=\"Exportação\",0,IF('Aferi (Variáveis)'!$C$12=\"AO\",0,E462/(100+(0*'Aferi (Variáveis)'!$K$12/100))*100*K462%/100*'Aferi (Variáveis)'!$K$12)))))","v":0},0,{"$f":"(E462*'Aferi (Variáveis)'!$K$12/100)","v":0},0,{"$f":"IF('Aferi (Variáveis)'!$F$20=\"Venda para Exportar\",0,IF('Aferi (Variáveis)'!$F$20=\"ALC\",0,IF('Aferi (Variáveis)'!$F$20=\"ZFM\",0,IF('Aferi (Variáveis)'!$F$20=\"Exportação\",0,IF('Aferi (Variáveis)'!$F$20=\"AO\",7*T462/100,T462*'Aferi (Variáveis)'!$F$20/100)))))","v":0},0,{"$f":"IF('Aferi (Variáveis)'!$C$12=\"ZFM\",0,IF('Aferi (Variáveis)'!$C$12=\"Exportação\",0,3*T462/100))","v":0},{"$f":"IF('Aferi (Variáveis)'!$C$12=\"ZFM\",0,IF('Aferi (Variáveis)'!$C$12=\"Exportação\",0,0.65*T462/100))","v":0},0,0,0,0,0,0,0,0,0,{"$f":"SUMIF('Custo Básico dos Produtos'!$B$7:$B$480,A462,'Custo Básico dos Produtos'!$K$7:$K$480)","v":0},null,null,0,0,0,0,0,0]
[null,{"$f":"IF(Q463<>0,VLOOKUP(Q463,'Custo Básico dos Produtos'!$A$7:$J$480,3),\"\")","v":""},null,{"$f":"SUMIF('Custo Básico dos Produtos'!$A$7:$A$480,Q463,'Custo Básico dos Produtos'!$J$7:$J$480)","v":0},0,0,{"$f":"IF(B463=\"\",0,SUMIF('Cadastro de Produtos em Linha'!$B$7:$B$457,A463,'Cadastro de Produtos em Linha'!$D$7:$D$457))","v":0},null,0,0,{"$f":"IF('Aferi (Variáveis)'!$C$12=\"ALC\",0,IF('Aferi (Variáveis)'!$C$12=\"ZFM\",0,IF('Aferi (Variáveis)'!$C$12=\"Exportação\",0,IF('Aferi (Variáveis)'!$C$12=\"Venda para Exportar\",0,IF('Aferi (Variáveis)'!$C$12=\"AO\",0,SUMIF('Custo Básico dos Produtos'!$A$7:$A$480,Q463,'Custo Básico dos Produtos'!$L$7:$L$480))))))","v":0},0,0,0,0,{"$f":"SUMIF('Cadastro de Produtos em Linha'!$A$6:$A$457,Q463,'Cadastro de Produtos em Linha'!$E$6:$E$457)*H463","v":0},{"$f":"IF(TODAY()<$AK$26,IF(A463<>\"\",SUMIF('Custo Básico dos Produtos'!$B$7:$B$457,A463,'Custo Básico dos Produtos'!$A$7:$A$457),0),0)","v":0},{"$f":"IF('Aferi (Variáveis)'!$C$12=\"Venda para Exportar\",0,IF('Aferi (Variáveis)'!$C$12=\"ALC\",0,IF('Aferi (Variáveis)'!$C$12=\"ZFM\",0,IF('Aferi (Variáveis)'!$C$12=\"Exportação\",0,IF('Aferi (Variáveis)'!$C$12=\"AO\",0,E463/(100+(0*'Aferi (Variáveis)'!$K$12/100))*100*K463%/100*'Aferi (Variáveis)'!$K$12)))))","v":0},0,{"$f":"(E463*'Aferi (Variáveis)'!$K$12/100)","v":0},0,{"$f":"IF('Aferi (Variáveis)'!$F$20=\"Venda para Exportar\",0,IF('Aferi (Variáveis)'!$F$20=\"ALC\",0,IF('Aferi (Variáveis)'!$F$20=\"ZFM\",0,IF('Aferi (Variáveis)'!$F$20=\"Exportação\",0,IF('Aferi (Variáveis)'!$F$20=\"AO\",7*T463/100,T463*'Aferi (Variáveis)'!$F$20/100)))))","v":0},0,{"$f":"IF('Aferi (Variáveis)'!$C$12=\"ZFM\",0,IF('Aferi (Variáveis)'!$C$12=\"Exportação\",0,3*T463/100))","v":0},{"$f":"IF('Aferi (Variáveis)'!$C$12=\"ZFM\",0,IF('Aferi (Variáveis)'!$C$12=\"Exportação\",0,0.65*T463/100))","v":0},0,0,0,0,0,0,0,0,0,{"$f":"SUMIF('Custo Básico dos Produtos'!$B$7:$B$480,A463,'Custo Básico dos Produtos'!$K$7:$K$480)","v":0},null,null,0,0,0,0,0,0]
[null,{"$f":"IF(Q464<>0,VLOOKUP(Q464,'Custo Básico dos Produtos'!$A$7:$J$480,3),\"\")","v":""},null,{"$f":"SUMIF('Custo Básico dos Produtos'!$A$7:$A$480,Q464,'Custo Básico dos Produtos'!$J$7:$J$480)","v":0},0,0,{"$f":"IF(B464=\"\",0,SUMIF('Cadastro de Produtos em Linha'!$B$7:$B$457,A464,'Cadastro de Produtos em Linha'!$D$7:$D$457))","v":0},null,0,0,{"$f":"IF('Aferi (Variáveis)'!$C$12=\"ALC\",0,IF('Aferi (Variáveis)'!$C$12=\"ZFM\",0,IF('Aferi (Variáveis)'!$C$12=\"Exportação\",0,IF('Aferi (Variáveis)'!$C$12=\"Venda para Exportar\",0,IF('Aferi (Variáveis)'!$C$12=\"AO\",0,SUMIF('Custo Básico dos Produtos'!$A$7:$A$480,Q464,'Custo Básico dos Produtos'!$L$7:$L$480))))))","v":0},0,0,0,0,{"$f":"SUMIF('Cadastro de Produtos em Linha'!$A$6:$A$457,Q464,'Cadastro de Produtos em Linha'!$E$6:$E$457)*H464","v":0},{"$f":"IF(TODAY()<$AK$26,IF(A464<>\"\",SUMIF('Custo Básico dos Produtos'!$B$7:$B$457,A464,'Custo Básico dos Produtos'!$A$7:$A$457),0),0)","v":0},{"$f":"IF('Aferi (Variáveis)'!$C$12=\"Venda para Exportar\",0,IF('Aferi (Variáveis)'!$C$12=\"ALC\",0,IF('Aferi (Variáveis)'!$C$12=\"ZFM\",0,IF('Aferi (Variáveis)'!$C$12=\"Exportação\",0,IF('Aferi (Variáveis)'!$C$12=\"AO\",0,E464/(100+(0*'Aferi (Variáveis)'!$K$12/100))*100*K464%/100*'Aferi (Variáveis)'!$K$12)))))","v":0},0,{"$f":"(E464*'Aferi (Variáveis)'!$K$12/100)","v":0},0,{"$f":"IF('Aferi (Variáveis)'!$F$20=\"Venda para Exportar\",0,IF('Aferi (Variáveis)'!$F$20=\"ALC\",0,IF('Aferi (Variáveis)'!$F$20=\"ZFM\",0,IF('Aferi (Variáveis)'!$F$20=\"Exportação\",0,IF('Aferi (Variáveis)'!$F$20=\"AO\",7*T464/100,T464*'Aferi (Variáveis)'!$F$20/100)))))","v":0},0,{"$f":"IF('Aferi (Variáveis)'!$C$12=\"ZFM\",0,IF('Aferi (Variáveis)'!$C$12=\"Exportação\",0,3*T464/100))","v":0},{"$f":"IF('Aferi (Variáveis)'!$C$12=\"ZFM\",0,IF('Aferi (Variáveis)'!$C$12=\"Exportação\",0,0.65*T464/100))","v":0},0,0,0,0,0,0,0,0,0,{"$f":"SUMIF('Custo Básico dos Produtos'!$B$7:$B$480,A464,'Custo Básico dos Produtos'!$K$7:$K$480)","v":0},null,null,0,0,0,0,0,0]
[null,{"$f":"IF(Q465<>0,VLOOKUP(Q465,'Custo Básico dos Produtos'!$A$7:$J$480,3),\"\")","v":""},null,{"$f":"SUMIF('Custo Básico dos Produtos'!$A$7:$A$480,Q465,'Custo Básico dos Produtos'!$J$7:$J$480)","v":0},0,0,{"$f":"IF(B465=\"\",0,SUMIF('Cadastro de Produtos em Linha'!$B$7:$B$457,A465,'Cadastro de Produtos em Linha'!$D$7:$D$457))","v":0},null,0,0,{"$f":"IF('Aferi (Variáveis)'!$C$12=\"ALC\",0,IF('Aferi (Variáveis)'!$C$12=\"ZFM\",0,IF('Aferi (Variáveis)'!$C$12=\"Exportação\",0,IF('Aferi (Variáveis)'!$C$12=\"Venda para Exportar\",0,IF('Aferi (Variáveis)'!$C$12=\"AO\",0,SUMIF('Custo Básico dos Produtos'!$A$7:$A$480,Q465,'Custo Básico dos Produtos'!$L$7:$L$480))))))","v":0},0,0,0,0,{"$f":"SUMIF('Cadastro de Produtos em Linha'!$A$6:$A$457,Q465,'Cadastro de Produtos em Linha'!$E$6:$E$457)*H465","v":0},{"$f":"IF(TODAY()<$AK$26,IF(A465<>\"\",SUMIF('Custo Básico dos Produtos'!$B$7:$B$457,A465,'Custo Básico dos Produtos'!$A$7:$A$457),0),0)","v":0},{"$f":"IF('Aferi (Variáveis)'!$C$12=\"Venda para Exportar\",0,IF('Aferi (Variáveis)'!$C$12=\"ALC\",0,IF('Aferi (Variáveis)'!$C$12=\"ZFM\",0,IF('Aferi (Variáveis)'!$C$12=\"Exportação\",0,IF('Aferi (Variáveis)'!$C$12=\"AO\",0,E465/(100+(0*'Aferi (Variáveis)'!$K$12/100))*100*K465%/100*'Aferi (Variáveis)'!$K$12)))))","v":0},0,{"$f":"(E465*'Aferi (Variáveis)'!$K$12/100)","v":0},0,{"$f":"IF('Aferi (Variáveis)'!$F$20=\"Venda para Exportar\",0,IF('Aferi (Variáveis)'!$F$20=\"ALC\",0,IF('Aferi (Variáveis)'!$F$20=\"ZFM\",0,IF('Aferi (Variáveis)'!$F$20=\"Exportação\",0,IF('Aferi (Variáveis)'!$F$20=\"AO\",7*T465/100,T465*'Aferi (Variáveis)'!$F$20/100)))))","v":0},0,{"$f":"IF('Aferi (Variáveis)'!$C$12=\"ZFM\",0,IF('Aferi (Variáveis)'!$C$12=\"Exportação\",0,3*T465/100))","v":0},{"$f":"IF('Aferi (Variáveis)'!$C$12=\"ZFM\",0,IF('Aferi (Variáveis)'!$C$12=\"Exportação\",0,0.65*T465/100))","v":0},0,0,0,0,0,0,0,0,0,{"$f":"SUMIF('Custo Básico dos Produtos'!$B$7:$B$480,A465,'Custo Básico dos Produtos'!$K$7:$K$480)","v":0},null,null,0,0,0,0,0,0]
[null,{"$f":"IF(Q466<>0,VLOOKUP(Q466,'Custo Básico dos Produtos'!$A$7:$J$480,3),\"\")","v":""},null,{"$f":"SUMIF('Custo Básico dos Produtos'!$A$7:$A$480,Q466,'Custo Básico dos Produtos'!$J$7:$J$480)","v":0},0,0,{"$f":"IF(B466=\"\",0,SUMIF('Cadastro de Produtos em Linha'!$B$7:$B$457,A466,'Cadastro de Produtos em Linha'!$D$7:$D$457))","v":0},null,0,0,{"$f":"IF('Aferi (Variáveis)'!$C$12=\"ALC\",0,IF('Aferi (Variáveis)'!$C$12=\"ZFM\",0,IF('Aferi (Variáveis)'!$C$12=\"Exportação\",0,IF('Aferi (Variáveis)'!$C$12=\"Venda para Exportar\",0,IF('Aferi (Variáveis)'!$C$12=\"AO\",0,SUMIF('Custo Básico dos Produtos'!$A$7:$A$480,Q466,'Custo Básico dos Produtos'!$L$7:$L$480))))))","v":0},0,0,0,0,{"$f":"SUMIF('Cadastro de Produtos em Linha'!$A$6:$A$457,Q466,'Cadastro de Produtos em Linha'!$E$6:$E$457)*H466","v":0},{"$f":"IF(TODAY()<$AK$26,IF(A466<>\"\",SUMIF('Custo Básico dos Produtos'!$B$7:$B$457,A466,'Custo Básico dos Produtos'!$A$7:$A$457),0),0)","v":0},{"$f":"IF('Aferi (Variáveis)'!$C$12=\"Venda para Exportar\",0,IF('Aferi (Variáveis)'!$C$12=\"ALC\",0,IF('Aferi (Variáveis)'!$C$12=\"ZFM\",0,IF('Aferi (Variáveis)'!$C$12=\"Exportação\",0,IF('Aferi (Variáveis)'!$C$12=\"AO\",0,E466/(100+(0*'Aferi (Variáveis)'!$K$12/100))*100*K466%/100*'Aferi (Variáveis)'!$K$12)))))","v":0},0,{"$f":"(E466*'Aferi (Variáveis)'!$K$12/100)","v":0},0,{"$f":"IF('Aferi (Variáveis)'!$F$20=\"Venda para Exportar\",0,IF('Aferi (Variáveis)'!$F$20=\"ALC\",0,IF('Aferi (Variáveis)'!$F$20=\"ZFM\",0,IF('Aferi (Variáveis)'!$F$20=\"Exportação\",0,IF('Aferi (Variáveis)'!$F$20=\"AO\",7*T466/100,T466*'Aferi (Variáveis)'!$F$20/100)))))","v":0},0,{"$f":"IF('Aferi (Variáveis)'!$C$12=\"ZFM\",0,IF('Aferi (Variáveis)'!$C$12=\"Exportação\",0,3*T466/100))","v":0},{"$f":"IF('Aferi (Variáveis)'!$C$12=\"ZFM\",0,IF('Aferi (Variáveis)'!$C$12=\"Exportação\",0,0.65*T466/100))","v":0},0,0,0,0,0,0,0,0,0,{"$f":"SUMIF('Custo Básico dos Produtos'!$B$7:$B$480,A466,'Custo Básico dos Produtos'!$K$7:$K$480)","v":0},null,null,0,0,0,0,0,0]
[null,{"$f":"IF(Q467<>0,VLOOKUP(Q467,'Custo Básico dos Produtos'!$A$7:$J$480,3),\"\")","v":""},null,{"$f":"SUMIF('Custo Básico dos Produtos'!$A$7:$A$480,Q467,'Custo Básico dos Produtos'!$J$7:$J$480)","v":0},0,0,{"$f":"IF(B467=\"\",0,SUMIF('Cadastro de Produtos em Linha'!$B$7:$B$457,A467,'Cadastro de Produtos em Linha'!$D$7:$D$457))","v":0},null,0,0,{"$f":"IF('Aferi (Variáveis)'!$C$12=\"ALC\",0,IF('Aferi (Variáveis)'!$C$12=\"ZFM\",0,IF('Aferi (Variáveis)'!$C$12=\"Exportação\",0,IF('Aferi (Variáveis)'!$C$12=\"Venda para Exportar\",0,IF('Aferi (Variáveis)'!$C$12=\"AO\",0,SUMIF('Custo Básico dos Produtos'!$A$7:$A$480,Q467,'Custo Básico dos Produtos'!$L$7:$L$480))))))","v":0},0,0,0,0,{"$f":"SUMIF('Cadastro de Produtos em Linha'!$A$6:$A$457,Q467,'Cadastro de Produtos em Linha'!$E$6:$E$457)*H467","v":0},{"$f":"IF(TODAY()<$AK$26,IF(A467<>\"\",SUMIF('Custo Básico dos Produtos'!$B$7:$B$457,A467,'Custo Básico dos Produtos'!$A$7:$A$457),0),0)","v":0},{"$f":"IF('Aferi (Variáveis)'!$C$12=\"Venda para Exportar\",0,IF('Aferi (Variáveis)'!$C$12=\"ALC\",0,IF('Aferi (Variáveis)'!$C$12=\"ZFM\",0,IF('Aferi (Variáveis)'!$C$12=\"Exportação\",0,IF('Aferi (Variáveis)'!$C$12=\"AO\",0,E467/(100+(0*'Aferi (Variáveis)'!$K$12/100))*100*K467%/100*'Aferi (Variáveis)'!$K$12)))))","v":0},0,{"$f":"(E467*'Aferi (Variáveis)'!$K$12/100)","v":0},0,{"$f":"IF('Aferi (Variáveis)'!$F$20=\"Venda para Exportar\",0,IF('Aferi (Variáveis)'!$F$20=\"ALC\",0,IF('Aferi (Variáveis)'!$F$20=\"ZFM\",0,IF('Aferi (Variáveis)'!$F$20=\"Exportação\",0,IF('Aferi (Variáveis)'!$F$20=\"AO\",7*T467/100,T467*'Aferi (Variáveis)'!$F$20/100)))))","v":0},0,{"$f":"IF('Aferi (Variáveis)'!$C$12=\"ZFM\",0,IF('Aferi (Variáveis)'!$C$12=\"Exportação\",0,3*T467/100))","v":0},{"$f":"IF('Aferi (Variáveis)'!$C$12=\"ZFM\",0,IF('Aferi (Variáveis)'!$C$12=\"Exportação\",0,0.65*T467/100))","v":0},0,0,0,0,0,0,0,0,0,{"$f":"SUMIF('Custo Básico dos Produtos'!$B$7:$B$480,A467,'Custo Básico dos Produtos'!$K$7:$K$480)","v":0},null,null,0,0,0,0,0,0]
[null,{"$f":"IF(Q468<>0,VLOOKUP(Q468,'Custo Básico dos Produtos'!$A$7:$J$480,3),\"\")","v":""},null,{"$f":"SUMIF('Custo Básico dos Produtos'!$A$7:$A$480,Q468,'Custo Básico dos Produtos'!$J$7:$J$480)","v":0},0,0,{"$f":"IF(B468=\"\",0,SUMIF('Cadastro de Produtos em Linha'!$B$7:$B$457,A468,'Cadastro de Produtos em Linha'!$D$7:$D$457))","v":0},null,0,0,{"$f":"IF('Aferi (Variáveis)'!$C$12=\"ALC\",0,IF('Aferi (Variáveis)'!$C$12=\"ZFM\",0,IF('Aferi (Variáveis)'!$C$12=\"Exportação\",0,IF('Aferi (Variáveis)'!$C$12=\"Venda para Exportar\",0,IF('Aferi (Variáveis)'!$C$12=\"AO\",0,SUMIF('Custo Básico dos Produtos'!$A$7:$A$480,Q468,'Custo Básico dos Produtos'!$L$7:$L$480))))))","v":0},0,0,0,0,{"$f":"SUMIF('Cadastro de Produtos em Linha'!$A$6:$A$457,Q468,'Cadastro de Produtos em Linha'!$E$6:$E$457)*H468","v":0},{"$f":"IF(TODAY()<$AK$26,IF(A468<>\"\",SUMIF('Custo Básico dos Produtos'!$B$7:$B$457,A468,'Custo Básico dos Produtos'!$A$7:$A$457),0),0)","v":0},{"$f":"IF('Aferi (Variáveis)'!$C$12=\"Venda para Exportar\",0,IF('Aferi (Variáveis)'!$C$12=\"ALC\",0,IF('Aferi (Variáveis)'!$C$12=\"ZFM\",0,IF('Aferi (Variáveis)'!$C$12=\"Exportação\",0,IF('Aferi (Variáveis)'!$C$12=\"AO\",0,E468/(100+(0*'Aferi (Variáveis)'!$K$12/100))*100*K468%/100*'Aferi (Variáveis)'!$K$12)))))","v":0},0,{"$f":"(E468*'Aferi (Variáveis)'!$K$12/100)","v":0},0,{"$f":"IF('Aferi (Variáveis)'!$F$20=\"Venda para Exportar\",0,IF('Aferi (Variáveis)'!$F$20=\"ALC\",0,IF('Aferi (Variáveis)'!$F$20=\"ZFM\",0,IF('Aferi (Variáveis)'!$F$20=\"Exportação\",0,IF('Aferi (Variáveis)'!$F$20=\"AO\",7*T468/100,T468*'Aferi (Variáveis)'!$F$20/100)))))","v":0},0,{"$f":"IF('Aferi (Variáveis)'!$C$12=\"ZFM\",0,IF('Aferi (Variáveis)'!$C$12=\"Exportação\",0,3*T468/100))","v":0},{"$f":"IF('Aferi (Variáveis)'!$C$12=\"ZFM\",0,IF('Aferi (Variáveis)'!$C$12=\"Exportação\",0,0.65*T468/100))","v":0},0,0,0,0,0,0,0,0,0,{"$f":"SUMIF('Custo Básico dos Produtos'!$B$7:$B$480,A468,'Custo Básico dos Produtos'!$K$7:$K$480)","v":0},null,null,0,0,0,0,0,0]
[null,{"$f":"IF(Q469<>0,VLOOKUP(Q469,'Custo Básico dos Produtos'!$A$7:$J$480,3),\"\")","v":""},null,{"$f":"SUMIF('Custo Básico dos Produtos'!$A$7:$A$480,Q469,'Custo Básico dos Produtos'!$J$7:$J$480)","v":0},0,0,{"$f":"IF(B469=\"\",0,SUMIF('Cadastro de Produtos em Linha'!$B$7:$B$457,A469,'Cadastro de Produtos em Linha'!$D$7:$D$457))","v":0},null,0,0,{"$f":"IF('Aferi (Variáveis)'!$C$12=\"ALC\",0,IF('Aferi (Variáveis)'!$C$12=\"ZFM\",0,IF('Aferi (Variáveis)'!$C$12=\"Exportação\",0,IF('Aferi (Variáveis)'!$C$12=\"Venda para Exportar\",0,IF('Aferi (Variáveis)'!$C$12=\"AO\",0,SUMIF('Custo Básico dos Produtos'!$A$7:$A$480,Q469,'Custo Básico dos Produtos'!$L$7:$L$480))))))","v":0},0,0,0,0,{"$f":"SUMIF('Cadastro de Produtos em Linha'!$A$6:$A$457,Q469,'Cadastro de Produtos em Linha'!$E$6:$E$457)*H469","v":0},{"$f":"IF(TODAY()<$AK$26,IF(A469<>\"\",SUMIF('Custo Básico dos Produtos'!$B$7:$B$457,A469,'Custo Básico dos Produtos'!$A$7:$A$457),0),0)","v":0},{"$f":"IF('Aferi (Variáveis)'!$C$12=\"Venda para Exportar\",0,IF('Aferi (Variáveis)'!$C$12=\"ALC\",0,IF('Aferi (Variáveis)'!$C$12=\"ZFM\",0,IF('Aferi (Variáveis)'!$C$12=\"Exportação\",0,IF('Aferi (Variáveis)'!$C$12=\"AO\",0,E469/(100+(0*'Aferi (Variáveis)'!$K$12/100))*100*K469%/100*'Aferi (Variáveis)'!$K$12)))))","v":0},0,{"$f":"(E469*'Aferi (Variáveis)'!$K$12/100)","v":0},0,{"$f":"IF('Aferi (Variáveis)'!$F$20=\"Venda para Exportar\",0,IF('Aferi (Variáveis)'!$F$20=\"ALC\",0,IF('Aferi (Variáveis)'!$F$20=\"ZFM\",0,IF('Aferi (Variáveis)'!$F$20=\"Exportação\",0,IF('Aferi (Variáveis)'!$F$20=\"AO\",7*T469/100,T469*'Aferi (Variáveis)'!$F$20/100)))))","v":0},0,{"$f":"IF('Aferi (Variáveis)'!$C$12=\"ZFM\",0,IF('Aferi (Variáveis)'!$C$12=\"Exportação\",0,3*T469/100))","v":0},{"$f":"IF('Aferi (Variáveis)'!$C$12=\"ZFM\",0,IF('Aferi (Variáveis)'!$C$12=\"Exportação\",0,0.65*T469/100))","v":0},0,0,0,0,0,0,0,0,0,{"$f":"SUMIF('Custo Básico dos Produtos'!$B$7:$B$480,A469,'Custo Básico dos Produtos'!$K$7:$K$480)","v":0},null,null,0,0,0,0,0,0]
[null,{"$f":"IF(Q470<>0,VLOOKUP(Q470,'Custo Básico dos Produtos'!$A$7:$J$480,3),\"\")","v":""},null,{"$f":"SUMIF('Custo Básico dos Produtos'!$A$7:$A$480,Q470,'Custo Básico dos Produtos'!$J$7:$J$480)","v":0},0,0,{"$f":"IF(B470=\"\",0,SUMIF('Cadastro de Produtos em Linha'!$B$7:$B$457,A470,'Cadastro de Produtos em Linha'!$D$7:$D$457))","v":0},null,0,0,{"$f":"IF('Aferi (Variáveis)'!$C$12=\"ALC\",0,IF('Aferi (Variáveis)'!$C$12=\"ZFM\",0,IF('Aferi (Variáveis)'!$C$12=\"Exportação\",0,IF('Aferi (Variáveis)'!$C$12=\"Venda para Exportar\",0,IF('Aferi (Variáveis)'!$C$12=\"AO\",0,SUMIF('Custo Básico dos Produtos'!$A$7:$A$480,Q470,'Custo Básico dos Produtos'!$L$7:$L$480))))))","v":0},0,0,0,0,{"$f":"SUMIF('Cadastro de Produtos em Linha'!$A$6:$A$457,Q470,'Cadastro de Produtos em Linha'!$E$6:$E$457)*H470","v":0},{"$f":"IF(TODAY()<$AK$26,IF(A470<>\"\",SUMIF('Custo Básico dos Produtos'!$B$7:$B$457,A470,'Custo Básico dos Produtos'!$A$7:$A$457),0),0)","v":0},{"$f":"IF('Aferi (Variáveis)'!$C$12=\"Venda para Exportar\",0,IF('Aferi (Variáveis)'!$C$12=\"ALC\",0,IF('Aferi (Variáveis)'!$C$12=\"ZFM\",0,IF('Aferi (Variáveis)'!$C$12=\"Exportação\",0,IF('Aferi (Variáveis)'!$C$12=\"AO\",0,E470/(100+(0*'Aferi (Variáveis)'!$K$12/100))*100*K470%/100*'Aferi (Variáveis)'!$K$12)))))","v":0},0,{"$f":"(E470*'Aferi (Variáveis)'!$K$12/100)","v":0},0,{"$f":"IF('Aferi (Variáveis)'!$F$20=\"Venda para Exportar\",0,IF('Aferi (Variáveis)'!$F$20=\"ALC\",0,IF('Aferi (Variáveis)'!$F$20=\"ZFM\",0,IF('Aferi (Variáveis)'!$F$20=\"Exportação\",0,IF('Aferi (Variáveis)'!$F$20=\"AO\",7*T470/100,T470*'Aferi (Variáveis)'!$F$20/100)))))","v":0},0,{"$f":"IF('Aferi (Variáveis)'!$C$12=\"ZFM\",0,IF('Aferi (Variáveis)'!$C$12=\"Exportação\",0,3*T470/100))","v":0},{"$f":"IF('Aferi (Variáveis)'!$C$12=\"ZFM\",0,IF('Aferi (Variáveis)'!$C$12=\"Exportação\",0,0.65*T470/100))","v":0},0,0,0,0,0,0,0,0,0,{"$f":"SUMIF('Custo Básico dos Produtos'!$B$7:$B$480,A470,'Custo Básico dos Produtos'!$K$7:$K$480)","v":0},null,null,0,0,0,0,0,0]
[null,{"$f":"IF(Q471<>0,VLOOKUP(Q471,'Custo Básico dos Produtos'!$A$7:$J$480,3),\"\")","v":""},null,{"$f":"SUMIF('Custo Básico dos Produtos'!$A$7:$A$480,Q471,'Custo Básico dos Produtos'!$J$7:$J$480)","v":0},0,0,{"$f":"IF(B471=\"\",0,SUMIF('Cadastro de Produtos em Linha'!$B$7:$B$457,A471,'Cadastro de Produtos em Linha'!$D$7:$D$457))","v":0},null,0,0,{"$f":"IF('Aferi (Variáveis)'!$C$12=\"ALC\",0,IF('Aferi (Variáveis)'!$C$12=\"ZFM\",0,IF('Aferi (Variáveis)'!$C$12=\"Exportação\",0,IF('Aferi (Variáveis)'!$C$12=\"Venda para Exportar\",0,IF('Aferi (Variáveis)'!$C$12=\"AO\",0,SUMIF('Custo Básico dos Produtos'!$A$7:$A$480,Q471,'Custo Básico dos Produtos'!$L$7:$L$480))))))","v":0},0,0,0,0,{"$f":"SUMIF('Cadastro de Produtos em Linha'!$A$6:$A$457,Q471,'Cadastro de Produtos em Linha'!$E$6:$E$457)*H471","v":0},{"$f":"IF(TODAY()<$AK$26,IF(A471<>\"\",SUMIF('Custo Básico dos Produtos'!$B$7:$B$457,A471,'Custo Básico dos Produtos'!$A$7:$A$457),0),0)","v":0},{"$f":"IF('Aferi (Variáveis)'!$C$12=\"Venda para Exportar\",0,IF('Aferi (Variáveis)'!$C$12=\"ALC\",0,IF('Aferi (Variáveis)'!$C$12=\"ZFM\",0,IF('Aferi (Variáveis)'!$C$12=\"Exportação\",0,IF('Aferi (Variáveis)'!$C$12=\"AO\",0,E471/(100+(0*'Aferi (Variáveis)'!$K$12/100))*100*K471%/100*'Aferi (Variáveis)'!$K$12)))))","v":0},0,{"$f":"(E471*'Aferi (Variáveis)'!$K$12/100)","v":0},0,{"$f":"IF('Aferi (Variáveis)'!$F$20=\"Venda para Exportar\",0,IF('Aferi (Variáveis)'!$F$20=\"ALC\",0,IF('Aferi (Variáveis)'!$F$20=\"ZFM\",0,IF('Aferi (Variáveis)'!$F$20=\"Exportação\",0,IF('Aferi (Variáveis)'!$F$20=\"AO\",7*T471/100,T471*'Aferi (Variáveis)'!$F$20/100)))))","v":0},0,{"$f":"IF('Aferi (Variáveis)'!$C$12=\"ZFM\",0,IF('Aferi (Variáveis)'!$C$12=\"Exportação\",0,3*T471/100))","v":0},{"$f":"IF('Aferi (Variáveis)'!$C$12=\"ZFM\",0,IF('Aferi (Variáveis)'!$C$12=\"Exportação\",0,0.65*T471/100))","v":0},0,0,0,0,0,0,0,0,0,{"$f":"SUMIF('Custo Básico dos Produtos'!$B$7:$B$480,A471,'Custo Básico dos Produtos'!$K$7:$K$480)","v":0},null,null,0,0,0,0,0,0]
[null,{"$f":"IF(Q472<>0,VLOOKUP(Q472,'Custo Básico dos Produtos'!$A$7:$J$480,3),\"\")","v":""},null,{"$f":"SUMIF('Custo Básico dos Produtos'!$A$7:$A$480,Q472,'Custo Básico dos Produtos'!$J$7:$J$480)","v":0},0,0,{"$f":"IF(B472=\"\",0,SUMIF('Cadastro de Produtos em Linha'!$B$7:$B$457,A472,'Cadastro de Produtos em Linha'!$D$7:$D$457))","v":0},null,0,0,{"$f":"IF('Aferi (Variáveis)'!$C$12=\"ALC\",0,IF('Aferi (Variáveis)'!$C$12=\"ZFM\",0,IF('Aferi (Variáveis)'!$C$12=\"Exportação\",0,IF('Aferi (Variáveis)'!$C$12=\"Venda para Exportar\",0,IF('Aferi (Variáveis)'!$C$12=\"AO\",0,SUMIF('Custo Básico dos Produtos'!$A$7:$A$480,Q472,'Custo Básico dos Produtos'!$L$7:$L$480))))))","v":0},0,0,0,0,{"$f":"SUMIF('Cadastro de Produtos em Linha'!$A$6:$A$457,Q472,'Cadastro de Produtos em Linha'!$E$6:$E$457)*H472","v":0},{"$f":"IF(TODAY()<$AK$26,IF(A472<>\"\",SUMIF('Custo Básico dos Produtos'!$B$7:$B$457,A472,'Custo Básico dos Produtos'!$A$7:$A$457),0),0)","v":0},{"$f":"IF('Aferi (Variáveis)'!$C$12=\"Venda para Exportar\",0,IF('Aferi (Variáveis)'!$C$12=\"ALC\",0,IF('Aferi (Variáveis)'!$C$12=\"ZFM\",0,IF('Aferi (Variáveis)'!$C$12=\"Exportação\",0,IF('Aferi (Variáveis)'!$C$12=\"AO\",0,E472/(100+(0*'Aferi (Variáveis)'!$K$12/100))*100*K472%/100*'Aferi (Variáveis)'!$K$12)))))","v":0},0,{"$f":"(E472*'Aferi (Variáveis)'!$K$12/100)","v":0},0,{"$f":"IF('Aferi (Variáveis)'!$F$20=\"Venda para Exportar\",0,IF('Aferi (Variáveis)'!$F$20=\"ALC\",0,IF('Aferi (Variáveis)'!$F$20=\"ZFM\",0,IF('Aferi (Variáveis)'!$F$20=\"Exportação\",0,IF('Aferi (Variáveis)'!$F$20=\"AO\",7*T472/100,T472*'Aferi (Variáveis)'!$F$20/100)))))","v":0},0,{"$f":"IF('Aferi (Variáveis)'!$C$12=\"ZFM\",0,IF('Aferi (Variáveis)'!$C$12=\"Exportação\",0,3*T472/100))","v":0},{"$f":"IF('Aferi (Variáveis)'!$C$12=\"ZFM\",0,IF('Aferi (Variáveis)'!$C$12=\"Exportação\",0,0.65*T472/100))","v":0},0,0,0,0,0,0,0,0,0,{"$f":"SUMIF('Custo Básico dos Produtos'!$B$7:$B$480,A472,'Custo Básico dos Produtos'!$K$7:$K$480)","v":0},null,null,0,0,0,0,0,0]
[null,{"$f":"IF(Q473<>0,VLOOKUP(Q473,'Custo Básico dos Produtos'!$A$7:$J$480,3),\"\")","v":""},null,{"$f":"SUMIF('Custo Básico dos Produtos'!$A$7:$A$480,Q473,'Custo Básico dos Produtos'!$J$7:$J$480)","v":0},0,0,{"$f":"IF(B473=\"\",0,SUMIF('Cadastro de Produtos em Linha'!$B$7:$B$457,A473,'Cadastro de Produtos em Linha'!$D$7:$D$457))","v":0},null,0,0,{"$f":"IF('Aferi (Variáveis)'!$C$12=\"ALC\",0,IF('Aferi (Variáveis)'!$C$12=\"ZFM\",0,IF('Aferi (Variáveis)'!$C$12=\"Exportação\",0,IF('Aferi (Variáveis)'!$C$12=\"Venda para Exportar\",0,IF('Aferi (Variáveis)'!$C$12=\"AO\",0,SUMIF('Custo Básico dos Produtos'!$A$7:$A$480,Q473,'Custo Básico dos Produtos'!$L$7:$L$480))))))","v":0},0,0,0,0,{"$f":"SUMIF('Cadastro de Produtos em Linha'!$A$6:$A$457,Q473,'Cadastro de Produtos em Linha'!$E$6:$E$457)*H473","v":0},{"$f":"IF(TODAY()<$AK$26,IF(A473<>\"\",SUMIF('Custo Básico dos Produtos'!$B$7:$B$457,A473,'Custo Básico dos Produtos'!$A$7:$A$457),0),0)","v":0},{"$f":"IF('Aferi (Variáveis)'!$C$12=\"Venda para Exportar\",0,IF('Aferi (Variáveis)'!$C$12=\"ALC\",0,IF('Aferi (Variáveis)'!$C$12=\"ZFM\",0,IF('Aferi (Variáveis)'!$C$12=\"Exportação\",0,IF('Aferi (Variáveis)'!$C$12=\"AO\",0,E473/(100+(0*'Aferi (Variáveis)'!$K$12/100))*100*K473%/100*'Aferi (Variáveis)'!$K$12)))))","v":0},0,{"$f":"(E473*'Aferi (Variáveis)'!$K$12/100)","v":0},0,{"$f":"IF('Aferi (Variáveis)'!$F$20=\"Venda para Exportar\",0,IF('Aferi (Variáveis)'!$F$20=\"ALC\",0,IF('Aferi (Variáveis)'!$F$20=\"ZFM\",0,IF('Aferi (Variáveis)'!$F$20=\"Exportação\",0,IF('Aferi (Variáveis)'!$F$20=\"AO\",7*T473/100,T473*'Aferi (Variáveis)'!$F$20/100)))))","v":0},0,{"$f":"IF('Aferi (Variáveis)'!$C$12=\"ZFM\",0,IF('Aferi (Variáveis)'!$C$12=\"Exportação\",0,3*T473/100))","v":0},{"$f":"IF('Aferi (Variáveis)'!$C$12=\"ZFM\",0,IF('Aferi (Variáveis)'!$C$12=\"Exportação\",0,0.65*T473/100))","v":0},0,0,0,0,0,0,0,0,0,{"$f":"SUMIF('Custo Básico dos Produtos'!$B$7:$B$480,A473,'Custo Básico dos Produtos'!$K$7:$K$480)","v":0},null,null,0,0,0,0,0,0]
[null,{"$f":"IF(Q474<>0,VLOOKUP(Q474,'Custo Básico dos Produtos'!$A$7:$J$480,3),\"\")","v":""},null,{"$f":"SUMIF('Custo Básico dos Produtos'!$A$7:$A$480,Q474,'Custo Básico dos Produtos'!$J$7:$J$480)","v":0},0,0,{"$f":"IF(B474=\"\",0,SUMIF('Cadastro de Produtos em Linha'!$B$7:$B$457,A474,'Cadastro de Produtos em Linha'!$D$7:$D$457))","v":0},null,0,0,{"$f":"IF('Aferi (Variáveis)'!$C$12=\"ALC\",0,IF('Aferi (Variáveis)'!$C$12=\"ZFM\",0,IF('Aferi (Variáveis)'!$C$12=\"Exportação\",0,IF('Aferi (Variáveis)'!$C$12=\"Venda para Exportar\",0,IF('Aferi (Variáveis)'!$C$12=\"AO\",0,SUMIF('Custo Básico dos Produtos'!$A$7:$A$480,Q474,'Custo Básico dos Produtos'!$L$7:$L$480))))))","v":0},0,0,0,{"$f":"IF(I474>0,AG474*I474,0)","v":0},{"$f":"SUMIF('Cadastro de Produtos em Linha'!$A$6:$A$457,Q474,'Cadastro de Produtos em Linha'!$E$6:$E$457)*H474","v":0},{"$f":"IF(TODAY()<$AK$26,IF(A474<>\"\",SUMIF('Custo Básico dos Produtos'!$B$7:$B$457,A474,'Custo Básico dos Produtos'!$A$7:$A$457),0),0)","v":0},{"$f":"IF('Aferi (Variáveis)'!$C$12=\"Venda para Exportar\",0,IF('Aferi (Variáveis)'!$C$12=\"ALC\",0,IF('Aferi (Variáveis)'!$C$12=\"ZFM\",0,IF('Aferi (Variáveis)'!$C$12=\"Exportação\",0,IF('Aferi (Variáveis)'!$C$12=\"AO\",0,E474/(100+(0*'Aferi (Variáveis)'!$K$12/100))*100*K474%/100*'Aferi (Variáveis)'!$K$12)))))","v":0},{"$f":"I474*R474","v":0},{"$f":"(E474*'Aferi (Variáveis)'!$K$12/100)","v":0},{"$f":"IF(I474>0,T474*I474,0)","v":0},{"$f":"IF('Aferi (Variáveis)'!$F$20=\"Venda para Exportar\",0,IF('Aferi (Variáveis)'!$F$20=\"ALC\",0,IF('Aferi (Variáveis)'!$F$20=\"ZFM\",0,IF('Aferi (Variáveis)'!$F$20=\"Exportação\",0,IF('Aferi (Variáveis)'!$F$20=\"AO\",7*T474/100,T474*'Aferi (Variáveis)'!$F$20/100)))))","v":0},{"$f":"T474*(W$22/100)","v":0},{"$f":"IF('Aferi (Variáveis)'!$C$12=\"ZFM\",0,IF('Aferi (Variáveis)'!$C$12=\"Exportação\",0,3*T474/100))","v":0},{"$f":"IF('Aferi (Variáveis)'!$C$12=\"ZFM\",0,IF('Aferi (Variáveis)'!$C$12=\"Exportação\",0,0.65*T474/100))","v":0},{"$f":"T474*(Z$22/100)","v":0},0,0,0,0,0,0,{"$f":"E474-AF474-D474","v":0},{"$f":"IF(AG474<>0,AG474/(E474)*100,0)","v":0},{"$f":"SUMIF('Custo Básico dos Produtos'!$B$7:$B$480,A474,'Custo Básico dos Produtos'!$K$7:$K$480)","v":0},null,null,0,0,0,0,0,0]
[null,{"$f":"IF(Q475<>0,VLOOKUP(Q475,'Custo Básico dos Produtos'!$A$7:$J$480,3),\"\")","v":""},null,{"$f":"SUMIF('Custo Básico dos Produtos'!$A$7:$A$480,Q475,'Custo Básico dos Produtos'!$J$7:$J$480)","v":0},0,0,{"$f":"IF(B475=\"\",0,SUMIF('Cadastro de Produtos em Linha'!$B$7:$B$457,A475,'Cadastro de Produtos em Linha'!$D$7:$D$457))","v":0},null,0,0,{"$f":"IF('Aferi (Variáveis)'!$C$12=\"ALC\",0,IF('Aferi (Variáveis)'!$C$12=\"ZFM\",0,IF('Aferi (Variáveis)'!$C$12=\"Exportação\",0,IF('Aferi (Variáveis)'!$C$12=\"Venda para Exportar\",0,IF('Aferi (Variáveis)'!$C$12=\"AO\",0,SUMIF('Custo Básico dos Produtos'!$A$7:$A$480,Q475,'Custo Básico dos Produtos'!$L$7:$L$480))))))","v":0},0,0,0,0,{"$f":"SUMIF('Cadastro de Produtos em Linha'!$A$6:$A$457,Q475,'Cadastro de Produtos em Linha'!$E$6:$E$457)*H475","v":0},{"$f":"IF(TODAY()<$AK$26,IF(A475<>\"\",SUMIF('Custo Básico dos Produtos'!$B$7:$B$457,A475,'Custo Básico dos Produtos'!$A$7:$A$457),0),0)","v":0},{"$f":"IF('Aferi (Variáveis)'!$C$12=\"Venda para Exportar\",0,IF('Aferi (Variáveis)'!$C$12=\"ALC\",0,IF('Aferi (Variáveis)'!$C$12=\"ZFM\",0,IF('Aferi (Variáveis)'!$C$12=\"Exportação\",0,IF('Aferi (Variáveis)'!$C$12=\"AO\",0,E475/(100+(0*'Aferi (Variáveis)'!$K$12/100))*100*K475%/100*'Aferi (Variáveis)'!$K$12)))))","v":0},0,{"$f":"(E475*'Aferi (Variáveis)'!$K$12/100)","v":0},0,{"$f":"IF('Aferi (Variáveis)'!$F$20=\"Venda para Exportar\",0,IF('Aferi (Variáveis)'!$F$20=\"ALC\",0,IF('Aferi (Variáveis)'!$F$20=\"ZFM\",0,IF('Aferi (Variáveis)'!$F$20=\"Exportação\",0,IF('Aferi (Variáveis)'!$F$20=\"AO\",7*T475/100,T475*'Aferi (Variáveis)'!$F$20/100)))))","v":0},0,{"$f":"IF('Aferi (Variáveis)'!$C$12=\"ZFM\",0,IF('Aferi (Variáveis)'!$C$12=\"Exportação\",0,3*T475/100))","v":0},{"$f":"IF('Aferi (Variáveis)'!$C$12=\"ZFM\",0,IF('Aferi (Variáveis)'!$C$12=\"Exportação\",0,0.65*T475/100))","v":0},0,0,{"$f":"E475*(AB$23/100)","v":0},{"$f":"IF(A475<>\"\",E475*(AC$23/100),0)","v":0},{"$f":"E475*($AD$23/100)","v":0},{"$f":"E475*(AE$23/100)","v":0},{"$f":"SUM(V475:AE475)","v":0},0,0,{"$f":"SUMIF('Custo Básico dos Produtos'!$B$7:$B$480,A475,'Custo Básico dos Produtos'!$K$7:$K$480)","v":0},null,null,{"$f":"D475","v":0},{"$f":"AL475/(1-AM$24)","v":0},{"$f":"AM475*AM$22","v":0},{"$f":"AM475*AM$23","v":0},{"$f":"AM475-SUM(AN475:AO475)-AL475","v":0},{"$f":"IFERROR(AP475/AM475,0)","v":0}]
[null,{"$f":"IF(Q476<>0,VLOOKUP(Q476,'Custo Básico dos Produtos'!$A$7:$J$480,3),\"\")","v":""},null,{"$f":"SUMIF('Custo Básico dos Produtos'!$A$7:$A$480,Q476,'Custo Básico dos Produtos'!$J$7:$J$480)","v":0},0,{"$f":"IF(A476=\"\",0,IF(TODAY()<$AK$26,IF(E476>0,IF(H476>0,IF(AH476>=AI476,AH476,)/4),0)))","v":0},{"$f":"IF(B476=\"\",0,SUMIF('Cadastro de Produtos em Linha'!$B$7:$B$457,A476,'Cadastro de Produtos em Linha'!$D$7:$D$457))","v":0},null,0,0,{"$f":"IF('Aferi (Variáveis)'!$C$12=\"ALC\",0,IF('Aferi (Variáveis)'!$C$12=\"ZFM\",0,IF('Aferi (Variáveis)'!$C$12=\"Exportação\",0,IF('Aferi (Variáveis)'!$C$12=\"Venda para Exportar\",0,IF('Aferi (Variáveis)'!$C$12=\"AO\",0,SUMIF('Custo Básico dos Produtos'!$A$7:$A$480,Q476,'Custo Básico dos Produtos'!$L$7:$L$480))))))","v":0},0,0,0,0,{"$f":"SUMIF('Cadastro de Produtos em Linha'!$A$6:$A$457,Q476,'Cadastro de Produtos em Linha'!$E$6:$E$457)*H476","v":0},{"$f":"IF(TODAY()<$AK$26,IF(A476<>\"\",SUMIF('Custo Básico dos Produtos'!$B$7:$B$457,A476,'Custo Básico dos Produtos'!$A$7:$A$457),0),0)","v":0},{"$f":"IF('Aferi (Variáveis)'!$C$12=\"Venda para Exportar\",0,IF('Aferi (Variáveis)'!$C$12=\"ALC\",0,IF('Aferi (Variáveis)'!$C$12=\"ZFM\",0,IF('Aferi (Variáveis)'!$C$12=\"Exportação\",0,IF('Aferi (Variáveis)'!$C$12=\"AO\",0,E476/(100+(0*'Aferi (Variáveis)'!$K$12/100))*100*K476%/100*'Aferi (Variáveis)'!$K$12)))))","v":0},0,{"$f":"(E476*'Aferi (Variáveis)'!$K$12/100)","v":0},0,{"$f":"IF('Aferi (Variáveis)'!$F$20=\"Venda para Exportar\",0,IF('Aferi (Variáveis)'!$F$20=\"ALC\",0,IF('Aferi (Variáveis)'!$F$20=\"ZFM\",0,IF('Aferi (Variáveis)'!$F$20=\"Exportação\",0,IF('Aferi (Variáveis)'!$F$20=\"AO\",7*T476/100,T476*'Aferi (Variáveis)'!$F$20/100)))))","v":0},0,{"$f":"IF('Aferi (Variáveis)'!$C$12=\"ZFM\",0,IF('Aferi (Variáveis)'!$C$12=\"Exportação\",0,3*T476/100))","v":0},{"$f":"IF('Aferi (Variáveis)'!$C$12=\"ZFM\",0,IF('Aferi (Variáveis)'!$C$12=\"Exportação\",0,0.65*T476/100))","v":0},0,{"$f":"E476*(AA$23/100)","v":0},0,0,0,0,0,0,0,{"$f":"SUMIF('Custo Básico dos Produtos'!$B$7:$B$480,A476,'Custo Básico dos Produtos'!$K$7:$K$480)","v":0},null,null,0,0,0,0,0,0]
[null,{"$f":"IF(Q477<>0,VLOOKUP(Q477,'Custo Básico dos Produtos'!$A$7:$J$480,3),\"\")","v":""},null,{"$f":"SUMIF('Custo Básico dos Produtos'!$A$7:$A$480,Q477,'Custo Básico dos Produtos'!$J$7:$J$480)","v":0},0,0,{"$f":"IF(B477=\"\",0,SUMIF('Cadastro de Produtos em Linha'!$B$7:$B$457,A477,'Cadastro de Produtos em Linha'!$D$7:$D$457))","v":0},null,0,0,{"$f":"IF('Aferi (Variáveis)'!$C$12=\"ALC\",0,IF('Aferi (Variáveis)'!$C$12=\"ZFM\",0,IF('Aferi (Variáveis)'!$C$12=\"Exportação\",0,IF('Aferi (Variáveis)'!$C$12=\"Venda para Exportar\",0,IF('Aferi (Variáveis)'!$C$12=\"AO\",0,SUMIF('Custo Básico dos Produtos'!$A$7:$A$480,Q477,'Custo Básico dos Produtos'!$L$7:$L$480))))))","v":0},0,0,0,0,{"$f":"SUMIF('Cadastro de Produtos em Linha'!$A$6:$A$457,Q477,'Cadastro de Produtos em Linha'!$E$6:$E$457)*H477","v":0},{"$f":"IF(TODAY()<$AK$26,IF(A477<>\"\",SUMIF('Custo Básico dos Produtos'!$B$7:$B$457,A477,'Custo Básico dos Produtos'!$A$7:$A$457),0),0)","v":0},{"$f":"IF('Aferi (Variáveis)'!$C$12=\"Venda para Exportar\",0,IF('Aferi (Variáveis)'!$C$12=\"ALC\",0,IF('Aferi (Variáveis)'!$C$12=\"ZFM\",0,IF('Aferi (Variáveis)'!$C$12=\"Exportação\",0,IF('Aferi (Variáveis)'!$C$12=\"AO\",0,E477/(100+(0*'Aferi (Variáveis)'!$K$12/100))*100*K477%/100*'Aferi (Variáveis)'!$K$12)))))","v":0},0,{"$f":"(E477*'Aferi (Variáveis)'!$K$12/100)","v":0},0,{"$f":"IF('Aferi (Variáveis)'!$F$20=\"Venda para Exportar\",0,IF('Aferi (Variáveis)'!$F$20=\"ALC\",0,IF('Aferi (Variáveis)'!$F$20=\"ZFM\",0,IF('Aferi (Variáveis)'!$F$20=\"Exportação\",0,IF('Aferi (Variáveis)'!$F$20=\"AO\",7*T477/100,T477*'Aferi (Variáveis)'!$F$20/100)))))","v":0},0,{"$f":"IF('Aferi (Variáveis)'!$C$12=\"ZFM\",0,IF('Aferi (Variáveis)'!$C$12=\"Exportação\",0,3*T477/100))","v":0},{"$f":"IF('Aferi (Variáveis)'!$C$12=\"ZFM\",0,IF('Aferi (Variáveis)'!$C$12=\"Exportação\",0,0.65*T477/100))","v":0},0,0,0,0,0,0,0,0,0,{"$f":"SUMIF('Custo Básico dos Produtos'!$B$7:$B$480,A477,'Custo Básico dos Produtos'!$K$7:$K$480)","v":0},null,null,0,0,0,0,0,0]
[null,{"$f":"IF(Q478<>0,VLOOKUP(Q478,'Custo Básico dos Produtos'!$A$7:$J$480,3),\"\")","v":""},null,{"$f":"SUMIF('Custo Básico dos Produtos'!$A$7:$A$480,Q478,'Custo Básico dos Produtos'!$J$7:$J$480)","v":0},0,0,{"$f":"IF(B478=\"\",0,SUMIF('Cadastro de Produtos em Linha'!$B$7:$B$457,A478,'Cadastro de Produtos em Linha'!$D$7:$D$457))","v":0},null,0,0,{"$f":"IF('Aferi (Variáveis)'!$C$12=\"ALC\",0,IF('Aferi (Variáveis)'!$C$12=\"ZFM\",0,IF('Aferi (Variáveis)'!$C$12=\"Exportação\",0,IF('Aferi (Variáveis)'!$C$12=\"Venda para Exportar\",0,IF('Aferi (Variáveis)'!$C$12=\"AO\",0,SUMIF('Custo Básico dos Produtos'!$A$7:$A$480,Q478,'Custo Básico dos Produtos'!$L$7:$L$480))))))","v":0},0,0,0,0,{"$f":"SUMIF('Cadastro de Produtos em Linha'!$A$6:$A$457,Q478,'Cadastro de Produtos em Linha'!$E$6:$E$457)*H478","v":0},{"$f":"IF(TODAY()<$AK$26,IF(A478<>\"\",SUMIF('Custo Básico dos Produtos'!$B$7:$B$457,A478,'Custo Básico dos Produtos'!$A$7:$A$457),0),0)","v":0},{"$f":"IF('Aferi (Variáveis)'!$C$12=\"Venda para Exportar\",0,IF('Aferi (Variáveis)'!$C$12=\"ALC\",0,IF('Aferi (Variáveis)'!$C$12=\"ZFM\",0,IF('Aferi (Variáveis)'!$C$12=\"Exportação\",0,IF('Aferi (Variáveis)'!$C$12=\"AO\",0,E478/(100+(0*'Aferi (Variáveis)'!$K$12/100))*100*K478%/100*'Aferi (Variáveis)'!$K$12)))))","v":0},0,{"$f":"(E478*'Aferi (Variáveis)'!$K$12/100)","v":0},0,{"$f":"IF('Aferi (Variáveis)'!$F$20=\"Venda para Exportar\",0,IF('Aferi (Variáveis)'!$F$20=\"ALC\",0,IF('Aferi (Variáveis)'!$F$20=\"ZFM\",0,IF('Aferi (Variáveis)'!$F$20=\"Exportação\",0,IF('Aferi (Variáveis)'!$F$20=\"AO\",7*T478/100,T478*'Aferi (Variáveis)'!$F$20/100)))))","v":0},0,{"$f":"IF('Aferi (Variáveis)'!$C$12=\"ZFM\",0,IF('Aferi (Variáveis)'!$C$12=\"Exportação\",0,3*T478/100))","v":0},{"$f":"IF('Aferi (Variáveis)'!$C$12=\"ZFM\",0,IF('Aferi (Variáveis)'!$C$12=\"Exportação\",0,0.65*T478/100))","v":0},0,0,0,0,0,0,0,0,0,{"$f":"SUMIF('Custo Básico dos Produtos'!$B$7:$B$480,A478,'Custo Básico dos Produtos'!$K$7:$K$480)","v":0},null,null,0,0,0,0,0,0]
[null,{"$f":"IF(Q479<>0,VLOOKUP(Q479,'Custo Básico dos Produtos'!$A$7:$J$480,3),\"\")","v":""},null,{"$f":"SUMIF('Custo Básico dos Produtos'!$A$7:$A$480,Q479,'Custo Básico dos Produtos'!$J$7:$J$480)","v":0},0,0,{"$f":"IF(B479=\"\",0,SUMIF('Cadastro de Produtos em Linha'!$B$7:$B$457,A479,'Cadastro de Produtos em Linha'!$D$7:$D$457))","v":0},null,0,0,{"$f":"IF('Aferi (Variáveis)'!$C$12=\"ALC\",0,IF('Aferi (Variáveis)'!$C$12=\"ZFM\",0,IF('Aferi (Variáveis)'!$C$12=\"Exportação\",0,IF('Aferi (Variáveis)'!$C$12=\"Venda para Exportar\",0,IF('Aferi (Variáveis)'!$C$12=\"AO\",0,SUMIF('Custo Básico dos Produtos'!$A$7:$A$480,Q479,'Custo Básico dos Produtos'!$L$7:$L$480))))))","v":0},0,0,0,0,{"$f":"SUMIF('Cadastro de Produtos em Linha'!$A$6:$A$457,Q479,'Cadastro de Produtos em Linha'!$E$6:$E$457)*H479","v":0},{"$f":"IF(TODAY()<$AK$26,IF(A479<>\"\",SUMIF('Custo Básico dos Produtos'!$B$7:$B$457,A479,'Custo Básico dos Produtos'!$A$7:$A$457),0),0)","v":0},{"$f":"IF('Aferi (Variáveis)'!$C$12=\"Venda para Exportar\",0,IF('Aferi (Variáveis)'!$C$12=\"ALC\",0,IF('Aferi (Variáveis)'!$C$12=\"ZFM\",0,IF('Aferi (Variáveis)'!$C$12=\"Exportação\",0,IF('Aferi (Variáveis)'!$C$12=\"AO\",0,E479/(100+(0*'Aferi (Variáveis)'!$K$12/100))*100*K479%/100*'Aferi (Variáveis)'!$K$12)))))","v":0},0,{"$f":"(E479*'Aferi (Variáveis)'!$K$12/100)","v":0},0,{"$f":"IF('Aferi (Variáveis)'!$F$20=\"Venda para Exportar\",0,IF('Aferi (Variáveis)'!$F$20=\"ALC\",0,IF('Aferi (Variáveis)'!$F$20=\"ZFM\",0,IF('Aferi (Variáveis)'!$F$20=\"Exportação\",0,IF('Aferi (Variáveis)'!$F$20=\"AO\",7*T479/100,T479*'Aferi (Variáveis)'!$F$20/100)))))","v":0},0,{"$f":"IF('Aferi (Variáveis)'!$C$12=\"ZFM\",0,IF('Aferi (Variáveis)'!$C$12=\"Exportação\",0,3*T479/100))","v":0},{"$f":"IF('Aferi (Variáveis)'!$C$12=\"ZFM\",0,IF('Aferi (Variáveis)'!$C$12=\"Exportação\",0,0.65*T479/100))","v":0},0,0,0,0,0,0,0,0,0,{"$f":"SUMIF('Custo Básico dos Produtos'!$B$7:$B$480,A479,'Custo Básico dos Produtos'!$K$7:$K$480)","v":0},null,null,0,0,0,0,0,0]
[null,{"$f":"IF(Q480<>0,VLOOKUP(Q480,'Custo Básico dos Produtos'!$A$7:$J$480,3),\"\")","v":""},null,{"$f":"SUMIF('Custo Básico dos Produtos'!$A$7:$A$480,Q480,'Custo Básico dos Produtos'!$J$7:$J$480)","v":0},0,0,{"$f":"IF(B480=\"\",0,SUMIF('Cadastro de Produtos em Linha'!$B$7:$B$457,A480,'Cadastro de Produtos em Linha'!$D$7:$D$457))","v":0},null,0,0,{"$f":"IF('Aferi (Variáveis)'!$C$12=\"ALC\",0,IF('Aferi (Variáveis)'!$C$12=\"ZFM\",0,IF('Aferi (Variáveis)'!$C$12=\"Exportação\",0,IF('Aferi (Variáveis)'!$C$12=\"Venda para Exportar\",0,IF('Aferi (Variáveis)'!$C$12=\"AO\",0,SUMIF('Custo Básico dos Produtos'!$A$7:$A$480,Q480,'Custo Básico dos Produtos'!$L$7:$L$480))))))","v":0},0,0,0,0,{"$f":"SUMIF('Cadastro de Produtos em Linha'!$A$6:$A$457,Q480,'Cadastro de Produtos em Linha'!$E$6:$E$457)*H480","v":0},{"$f":"IF(TODAY()<$AK$26,IF(A480<>\"\",SUMIF('Custo Básico dos Produtos'!$B$7:$B$457,A480,'Custo Básico dos Produtos'!$A$7:$A$457),0),0)","v":0},{"$f":"IF('Aferi (Variáveis)'!$C$12=\"Venda para Exportar\",0,IF('Aferi (Variáveis)'!$C$12=\"ALC\",0,IF('Aferi (Variáveis)'!$C$12=\"ZFM\",0,IF('Aferi (Variáveis)'!$C$12=\"Exportação\",0,IF('Aferi (Variáveis)'!$C$12=\"AO\",0,E480/(100+(0*'Aferi (Variáveis)'!$K$12/100))*100*K480%/100*'Aferi (Variáveis)'!$K$12)))))","v":0},0,{"$f":"(E480*'Aferi (Variáveis)'!$K$12/100)","v":0},0,{"$f":"IF('Aferi (Variáveis)'!$F$20=\"Venda para Exportar\",0,IF('Aferi (Variáveis)'!$F$20=\"ALC\",0,IF('Aferi (Variáveis)'!$F$20=\"ZFM\",0,IF('Aferi (Variáveis)'!$F$20=\"Exportação\",0,IF('Aferi (Variáveis)'!$F$20=\"AO\",7*T480/100,T480*'Aferi (Variáveis)'!$F$20/100)))))","v":0},0,{"$f":"IF('Aferi (Variáveis)'!$C$12=\"ZFM\",0,IF('Aferi (Variáveis)'!$C$12=\"Exportação\",0,3*T480/100))","v":0},{"$f":"IF('Aferi (Variáveis)'!$C$12=\"ZFM\",0,IF('Aferi (Variáveis)'!$C$12=\"Exportação\",0,0.65*T480/100))","v":0},0,0,0,0,0,0,0,0,0,{"$f":"SUMIF('Custo Básico dos Produtos'!$B$7:$B$480,A480,'Custo Básico dos Produtos'!$K$7:$K$480)","v":0},null,null,0,0,0,0,0,0]
[null,{"$f":"IF(Q481<>0,VLOOKUP(Q481,'Custo Básico dos Produtos'!$A$7:$J$480,3),\"\")","v":""},null,{"$f":"SUMIF('Custo Básico dos Produtos'!$A$7:$A$480,Q481,'Custo Básico dos Produtos'!$J$7:$J$480)","v":0},0,0,{"$f":"IF(B481=\"\",0,SUMIF('Cadastro de Produtos em Linha'!$B$7:$B$457,A481,'Cadastro de Produtos em Linha'!$D$7:$D$457))","v":0},null,0,0,{"$f":"IF('Aferi (Variáveis)'!$C$12=\"ALC\",0,IF('Aferi (Variáveis)'!$C$12=\"ZFM\",0,IF('Aferi (Variáveis)'!$C$12=\"Exportação\",0,IF('Aferi (Variáveis)'!$C$12=\"Venda para Exportar\",0,IF('Aferi (Variáveis)'!$C$12=\"AO\",0,SUMIF('Custo Básico dos Produtos'!$A$7:$A$480,Q481,'Custo Básico dos Produtos'!$L$7:$L$480))))))","v":0},0,0,0,0,{"$f":"SUMIF('Cadastro de Produtos em Linha'!$A$6:$A$457,Q481,'Cadastro de Produtos em Linha'!$E$6:$E$457)*H481","v":0},{"$f":"IF(TODAY()<$AK$26,IF(A481<>\"\",SUMIF('Custo Básico dos Produtos'!$B$7:$B$457,A481,'Custo Básico dos Produtos'!$A$7:$A$457),0),0)","v":0},{"$f":"IF('Aferi (Variáveis)'!$C$12=\"Venda para Exportar\",0,IF('Aferi (Variáveis)'!$C$12=\"ALC\",0,IF('Aferi (Variáveis)'!$C$12=\"ZFM\",0,IF('Aferi (Variáveis)'!$C$12=\"Exportação\",0,IF('Aferi (Variáveis)'!$C$12=\"AO\",0,E481/(100+(0*'Aferi (Variáveis)'!$K$12/100))*100*K481%/100*'Aferi (Variáveis)'!$K$12)))))","v":0},0,{"$f":"(E481*'Aferi (Variáveis)'!$K$12/100)","v":0},0,{"$f":"IF('Aferi (Variáveis)'!$F$20=\"Venda para Exportar\",0,IF('Aferi (Variáveis)'!$F$20=\"ALC\",0,IF('Aferi (Variáveis)'!$F$20=\"ZFM\",0,IF('Aferi (Variáveis)'!$F$20=\"Exportação\",0,IF('Aferi (Variáveis)'!$F$20=\"AO\",7*T481/100,T481*'Aferi (Variáveis)'!$F$20/100)))))","v":0},0,{"$f":"IF('Aferi (Variáveis)'!$C$12=\"ZFM\",0,IF('Aferi (Variáveis)'!$C$12=\"Exportação\",0,3*T481/100))","v":0},{"$f":"IF('Aferi (Variáveis)'!$C$12=\"ZFM\",0,IF('Aferi (Variáveis)'!$C$12=\"Exportação\",0,0.65*T481/100))","v":0},0,0,0,0,0,0,0,0,0,{"$f":"SUMIF('Custo Básico dos Produtos'!$B$7:$B$480,A481,'Custo Básico dos Produtos'!$K$7:$K$480)","v":0},null,null,0,0,0,0,0,0]
[null,{"$f":"IF(Q482<>0,VLOOKUP(Q482,'Custo Básico dos Produtos'!$A$7:$J$480,3),\"\")","v":""},null,{"$f":"SUMIF('Custo Básico dos Produtos'!$A$7:$A$480,Q482,'Custo Básico dos Produtos'!$J$7:$J$480)","v":0},0,0,{"$f":"IF(B482=\"\",0,SUMIF('Cadastro de Produtos em Linha'!$B$7:$B$457,A482,'Cadastro de Produtos em Linha'!$D$7:$D$457))","v":0},null,0,0,{"$f":"IF('Aferi (Variáveis)'!$C$12=\"ALC\",0,IF('Aferi (Variáveis)'!$C$12=\"ZFM\",0,IF('Aferi (Variáveis)'!$C$12=\"Exportação\",0,IF('Aferi (Variáveis)'!$C$12=\"Venda para Exportar\",0,IF('Aferi (Variáveis)'!$C$12=\"AO\",0,SUMIF('Custo Básico dos Produtos'!$A$7:$A$480,Q482,'Custo Básico dos Produtos'!$L$7:$L$480))))))","v":0},0,0,0,0,{"$f":"SUMIF('Cadastro de Produtos em Linha'!$A$6:$A$457,Q482,'Cadastro de Produtos em Linha'!$E$6:$E$457)*H482","v":0},{"$f":"IF(TODAY()<$AK$26,IF(A482<>\"\",SUMIF('Custo Básico dos Produtos'!$B$7:$B$457,A482,'Custo Básico dos Produtos'!$A$7:$A$457),0),0)","v":0},{"$f":"IF('Aferi (Variáveis)'!$C$12=\"Venda para Exportar\",0,IF('Aferi (Variáveis)'!$C$12=\"ALC\",0,IF('Aferi (Variáveis)'!$C$12=\"ZFM\",0,IF('Aferi (Variáveis)'!$C$12=\"Exportação\",0,IF('Aferi (Variáveis)'!$C$12=\"AO\",0,E482/(100+(0*'Aferi (Variáveis)'!$K$12/100))*100*K482%/100*'Aferi (Variáveis)'!$K$12)))))","v":0},0,{"$f":"(E482*'Aferi (Variáveis)'!$K$12/100)","v":0},0,{"$f":"IF('Aferi (Variáveis)'!$F$20=\"Venda para Exportar\",0,IF('Aferi (Variáveis)'!$F$20=\"ALC\",0,IF('Aferi (Variáveis)'!$F$20=\"ZFM\",0,IF('Aferi (Variáveis)'!$F$20=\"Exportação\",0,IF('Aferi (Variáveis)'!$F$20=\"AO\",7*T482/100,T482*'Aferi (Variáveis)'!$F$20/100)))))","v":0},0,{"$f":"IF('Aferi (Variáveis)'!$C$12=\"ZFM\",0,IF('Aferi (Variáveis)'!$C$12=\"Exportação\",0,3*T482/100))","v":0},{"$f":"IF('Aferi (Variáveis)'!$C$12=\"ZFM\",0,IF('Aferi (Variáveis)'!$C$12=\"Exportação\",0,0.65*T482/100))","v":0},0,0,0,0,0,0,0,0,0,{"$f":"SUMIF('Custo Básico dos Produtos'!$B$7:$B$480,A482,'Custo Básico dos Produtos'!$K$7:$K$480)","v":0},null,null,0,0,0,0,0,0]
[null,{"$f":"IF(Q483<>0,VLOOKUP(Q483,'Custo Básico dos Produtos'!$A$7:$J$480,3),\"\")","v":""},null,{"$f":"SUMIF('Custo Básico dos Produtos'!$A$7:$A$480,Q483,'Custo Básico dos Produtos'!$J$7:$J$480)","v":0},0,0,{"$f":"IF(B483=\"\",0,SUMIF('Cadastro de Produtos em Linha'!$B$7:$B$457,A483,'Cadastro de Produtos em Linha'!$D$7:$D$457))","v":0},null,{"$f":"IF(F483=\"\",0,IF(F483>=AI483,G483*H483,0))","v":0},{"$f":"IF(F483=\"\",0,I483*E483)","v":0},{"$f":"IF('Aferi (Variáveis)'!$C$12=\"ALC\",0,IF('Aferi (Variáveis)'!$C$12=\"ZFM\",0,IF('Aferi (Variáveis)'!$C$12=\"Exportação\",0,IF('Aferi (Variáveis)'!$C$12=\"Venda para Exportar\",0,IF('Aferi (Variáveis)'!$C$12=\"AO\",0,SUMIF('Custo Básico dos Produtos'!$A$7:$A$480,Q483,'Custo Básico dos Produtos'!$L$7:$L$480))))))","v":0},{"$f":"J483+M483","v":0},{"$f":"S483","v":0},{"$f":"J483+M483","v":0},0,{"$f":"SUMIF('Cadastro de Produtos em Linha'!$A$6:$A$457,Q483,'Cadastro de Produtos em Linha'!$E$6:$E$457)*H483","v":0},{"$f":"IF(TODAY()<$AK$26,IF(A483<>\"\",SUMIF('Custo Básico dos Produtos'!$B$7:$B$457,A483,'Custo Básico dos Produtos'!$A$7:$A$457),0),0)","v":0},{"$f":"IF('Aferi (Variáveis)'!$C$12=\"Venda para Exportar\",0,IF('Aferi (Variáveis)'!$C$12=\"ALC\",0,IF('Aferi (Variáveis)'!$C$12=\"ZFM\",0,IF('Aferi (Variáveis)'!$C$12=\"Exportação\",0,IF('Aferi (Variáveis)'!$C$12=\"AO\",0,E483/(100+(0*'Aferi (Variáveis)'!$K$12/100))*100*K483%/100*'Aferi (Variáveis)'!$K$12)))))","v":0},0,{"$f":"(E483*'Aferi (Variáveis)'!$K$12/100)","v":0},0,{"$f":"IF('Aferi (Variáveis)'!$F$20=\"Venda para Exportar\",0,IF('Aferi (Variáveis)'!$F$20=\"ALC\",0,IF('Aferi (Variáveis)'!$F$20=\"ZFM\",0,IF('Aferi (Variáveis)'!$F$20=\"Exportação\",0,IF('Aferi (Variáveis)'!$F$20=\"AO\",7*T483/100,T483*'Aferi (Variáveis)'!$F$20/100)))))","v":0},0,{"$f":"IF('Aferi (Variáveis)'!$C$12=\"ZFM\",0,IF('Aferi (Variáveis)'!$C$12=\"Exportação\",0,3*T483/100))","v":0},{"$f":"IF('Aferi (Variáveis)'!$C$12=\"ZFM\",0,IF('Aferi (Variáveis)'!$C$12=\"Exportação\",0,0.65*T483/100))","v":0},0,0,0,0,0,0,0,0,0,{"$f":"SUMIF('Custo Básico dos Produtos'!$B$7:$B$480,A483,'Custo Básico dos Produtos'!$K$7:$K$480)","v":0},null,null,0,0,0,0,0,0]
[null,{"$f":"IF(Q484<>0,VLOOKUP(Q484,'Custo Básico dos Produtos'!$A$7:$J$480,3),\"\")","v":""},null,{"$f":"SUMIF('Custo Básico dos Produtos'!$A$7:$A$480,Q484,'Custo Básico dos Produtos'!$J$7:$J$480)","v":0},0,0,{"$f":"IF(B484=\"\",0,SUMIF('Cadastro de Produtos em Linha'!$B$7:$B$457,A484,'Cadastro de Produtos em Linha'!$D$7:$D$457))","v":0},null,0,0,{"$f":"IF('Aferi (Variáveis)'!$C$12=\"ALC\",0,IF('Aferi (Variáveis)'!$C$12=\"ZFM\",0,IF('Aferi (Variáveis)'!$C$12=\"Exportação\",0,IF('Aferi (Variáveis)'!$C$12=\"Venda para Exportar\",0,IF('Aferi (Variáveis)'!$C$12=\"AO\",0,SUMIF('Custo Básico dos Produtos'!$A$7:$A$480,Q484,'Custo Básico dos Produtos'!$L$7:$L$480))))))","v":0},0,0,0,0,{"$f":"SUMIF('Cadastro de Produtos em Linha'!$A$6:$A$457,Q484,'Cadastro de Produtos em Linha'!$E$6:$E$457)*H484","v":0},{"$f":"IF(TODAY()<$AK$26,IF(A484<>\"\",SUMIF('Custo Básico dos Produtos'!$B$7:$B$457,A484,'Custo Básico dos Produtos'!$A$7:$A$457),0),0)","v":0},{"$f":"IF('Aferi (Variáveis)'!$C$12=\"Venda para Exportar\",0,IF('Aferi (Variáveis)'!$C$12=\"ALC\",0,IF('Aferi (Variáveis)'!$C$12=\"ZFM\",0,IF('Aferi (Variáveis)'!$C$12=\"Exportação\",0,IF('Aferi (Variáveis)'!$C$12=\"AO\",0,E484/(100+(0*'Aferi (Variáveis)'!$K$12/100))*100*K484%/100*'Aferi (Variáveis)'!$K$12)))))","v":0},0,{"$f":"(E484*'Aferi (Variáveis)'!$K$12/100)","v":0},0,{"$f":"IF('Aferi (Variáveis)'!$F$20=\"Venda para Exportar\",0,IF('Aferi (Variáveis)'!$F$20=\"ALC\",0,IF('Aferi (Variáveis)'!$F$20=\"ZFM\",0,IF('Aferi (Variáveis)'!$F$20=\"Exportação\",0,IF('Aferi (Variáveis)'!$F$20=\"AO\",7*T484/100,T484*'Aferi (Variáveis)'!$F$20/100)))))","v":0},0,{"$f":"IF('Aferi (Variáveis)'!$C$12=\"ZFM\",0,IF('Aferi (Variáveis)'!$C$12=\"Exportação\",0,3*T484/100))","v":0},{"$f":"IF('Aferi (Variáveis)'!$C$12=\"ZFM\",0,IF('Aferi (Variáveis)'!$C$12=\"Exportação\",0,0.65*T484/100))","v":0},0,0,0,0,0,0,0,0,0,{"$f":"SUMIF('Custo Básico dos Produtos'!$B$7:$B$480,A484,'Custo Básico dos Produtos'!$K$7:$K$480)","v":0},null,null,0,0,0,0,0,0]
[null,{"$f":"IF(Q485<>0,VLOOKUP(Q485,'Custo Básico dos Produtos'!$A$7:$J$480,3),\"\")","v":""},null,{"$f":"SUMIF('Custo Básico dos Produtos'!$A$7:$A$480,Q485,'Custo Básico dos Produtos'!$J$7:$J$480)","v":0},0,0,{"$f":"IF(B485=\"\",0,SUMIF('Cadastro de Produtos em Linha'!$B$7:$B$457,A485,'Cadastro de Produtos em Linha'!$D$7:$D$457))","v":0},null,0,0,{"$f":"IF('Aferi (Variáveis)'!$C$12=\"ALC\",0,IF('Aferi (Variáveis)'!$C$12=\"ZFM\",0,IF('Aferi (Variáveis)'!$C$12=\"Exportação\",0,IF('Aferi (Variáveis)'!$C$12=\"Venda para Exportar\",0,IF('Aferi (Variáveis)'!$C$12=\"AO\",0,SUMIF('Custo Básico dos Produtos'!$A$7:$A$480,Q485,'Custo Básico dos Produtos'!$L$7:$L$480))))))","v":0},0,0,0,0,{"$f":"SUMIF('Cadastro de Produtos em Linha'!$A$6:$A$457,Q485,'Cadastro de Produtos em Linha'!$E$6:$E$457)*H485","v":0},{"$f":"IF(TODAY()<$AK$26,IF(A485<>\"\",SUMIF('Custo Básico dos Produtos'!$B$7:$B$457,A485,'Custo Básico dos Produtos'!$A$7:$A$457),0),0)","v":0},{"$f":"IF('Aferi (Variáveis)'!$C$12=\"Venda para Exportar\",0,IF('Aferi (Variáveis)'!$C$12=\"ALC\",0,IF('Aferi (Variáveis)'!$C$12=\"ZFM\",0,IF('Aferi (Variáveis)'!$C$12=\"Exportação\",0,IF('Aferi (Variáveis)'!$C$12=\"AO\",0,E485/(100+(0*'Aferi (Variáveis)'!$K$12/100))*100*K485%/100*'Aferi (Variáveis)'!$K$12)))))","v":0},0,{"$f":"(E485*'Aferi (Variáveis)'!$K$12/100)","v":0},0,{"$f":"IF('Aferi (Variáveis)'!$F$20=\"Venda para Exportar\",0,IF('Aferi (Variáveis)'!$F$20=\"ALC\",0,IF('Aferi (Variáveis)'!$F$20=\"ZFM\",0,IF('Aferi (Variáveis)'!$F$20=\"Exportação\",0,IF('Aferi (Variáveis)'!$F$20=\"AO\",7*T485/100,T485*'Aferi (Variáveis)'!$F$20/100)))))","v":0},0,{"$f":"IF('Aferi (Variáveis)'!$C$12=\"ZFM\",0,IF('Aferi (Variáveis)'!$C$12=\"Exportação\",0,3*T485/100))","v":0},{"$f":"IF('Aferi (Variáveis)'!$C$12=\"ZFM\",0,IF('Aferi (Variáveis)'!$C$12=\"Exportação\",0,0.65*T485/100))","v":0},0,0,0,0,0,0,0,0,0,{"$f":"SUMIF('Custo Básico dos Produtos'!$B$7:$B$480,A485,'Custo Básico dos Produtos'!$K$7:$K$480)","v":0},null,null,0,0,0,0,0,0]
[null,{"$f":"IF(Q486<>0,VLOOKUP(Q486,'Custo Básico dos Produtos'!$A$7:$J$480,3),\"\")","v":""},null,{"$f":"SUMIF('Custo Básico dos Produtos'!$A$7:$A$480,Q486,'Custo Básico dos Produtos'!$J$7:$J$480)","v":0},0,0,{"$f":"IF(B486=\"\",0,SUMIF('Cadastro de Produtos em Linha'!$B$7:$B$457,A486,'Cadastro de Produtos em Linha'!$D$7:$D$457))","v":0},null,0,0,{"$f":"IF('Aferi (Variáveis)'!$C$12=\"ALC\",0,IF('Aferi (Variáveis)'!$C$12=\"ZFM\",0,IF('Aferi (Variáveis)'!$C$12=\"Exportação\",0,IF('Aferi (Variáveis)'!$C$12=\"Venda para Exportar\",0,IF('Aferi (Variáveis)'!$C$12=\"AO\",0,SUMIF('Custo Básico dos Produtos'!$A$7:$A$480,Q486,'Custo Básico dos Produtos'!$L$7:$L$480))))))","v":0},0,0,0,0,{"$f":"SUMIF('Cadastro de Produtos em Linha'!$A$6:$A$457,Q486,'Cadastro de Produtos em Linha'!$E$6:$E$457)*H486","v":0},{"$f":"IF(TODAY()<$AK$26,IF(A486<>\"\",SUMIF('Custo Básico dos Produtos'!$B$7:$B$457,A486,'Custo Básico dos Produtos'!$A$7:$A$457),0),0)","v":0},{"$f":"IF('Aferi (Variáveis)'!$C$12=\"Venda para Exportar\",0,IF('Aferi (Variáveis)'!$C$12=\"ALC\",0,IF('Aferi (Variáveis)'!$C$12=\"ZFM\",0,IF('Aferi (Variáveis)'!$C$12=\"Exportação\",0,IF('Aferi (Variáveis)'!$C$12=\"AO\",0,E486/(100+(0*'Aferi (Variáveis)'!$K$12/100))*100*K486%/100*'Aferi (Variáveis)'!$K$12)))))","v":0},0,{"$f":"(E486*'Aferi (Variáveis)'!$K$12/100)","v":0},0,{"$f":"IF('Aferi (Variáveis)'!$F$20=\"Venda para Exportar\",0,IF('Aferi (Variáveis)'!$F$20=\"ALC\",0,IF('Aferi (Variáveis)'!$F$20=\"ZFM\",0,IF('Aferi (Variáveis)'!$F$20=\"Exportação\",0,IF('Aferi (Variáveis)'!$F$20=\"AO\",7*T486/100,T486*'Aferi (Variáveis)'!$F$20/100)))))","v":0},0,{"$f":"IF('Aferi (Variáveis)'!$C$12=\"ZFM\",0,IF('Aferi (Variáveis)'!$C$12=\"Exportação\",0,3*T486/100))","v":0},{"$f":"IF('Aferi (Variáveis)'!$C$12=\"ZFM\",0,IF('Aferi (Variáveis)'!$C$12=\"Exportação\",0,0.65*T486/100))","v":0},0,0,0,0,0,0,0,0,0,{"$f":"SUMIF('Custo Básico dos Produtos'!$B$7:$B$480,A486,'Custo Básico dos Produtos'!$K$7:$K$480)","v":0},null,null,0,0,0,0,0,0]
[null,{"$f":"IF(Q487<>0,VLOOKUP(Q487,'Custo Básico dos Produtos'!$A$7:$J$480,3),\"\")","v":""},null,{"$f":"SUMIF('Custo Básico dos Produtos'!$A$7:$A$480,Q487,'Custo Básico dos Produtos'!$J$7:$J$480)","v":0},0,0,{"$f":"IF(B487=\"\",0,SUMIF('Cadastro de Produtos em Linha'!$B$7:$B$457,A487,'Cadastro de Produtos em Linha'!$D$7:$D$457))","v":0},null,0,0,{"$f":"IF('Aferi (Variáveis)'!$C$12=\"ALC\",0,IF('Aferi (Variáveis)'!$C$12=\"ZFM\",0,IF('Aferi (Variáveis)'!$C$12=\"Exportação\",0,IF('Aferi (Variáveis)'!$C$12=\"Venda para Exportar\",0,IF('Aferi (Variáveis)'!$C$12=\"AO\",0,SUMIF('Custo Básico dos Produtos'!$A$7:$A$480,Q487,'Custo Básico dos Produtos'!$L$7:$L$480))))))","v":0},0,0,0,0,{"$f":"SUMIF('Cadastro de Produtos em Linha'!$A$6:$A$457,Q487,'Cadastro de Produtos em Linha'!$E$6:$E$457)*H487","v":0},{"$f":"IF(TODAY()<$AK$26,IF(A487<>\"\",SUMIF('Custo Básico dos Produtos'!$B$7:$B$457,A487,'Custo Básico dos Produtos'!$A$7:$A$457),0),0)","v":0},{"$f":"IF('Aferi (Variáveis)'!$C$12=\"Venda para Exportar\",0,IF('Aferi (Variáveis)'!$C$12=\"ALC\",0,IF('Aferi (Variáveis)'!$C$12=\"ZFM\",0,IF('Aferi (Variáveis)'!$C$12=\"Exportação\",0,IF('Aferi (Variáveis)'!$C$12=\"AO\",0,E487/(100+(0*'Aferi (Variáveis)'!$K$12/100))*100*K487%/100*'Aferi (Variáveis)'!$K$12)))))","v":0},0,{"$f":"(E487*'Aferi (Variáveis)'!$K$12/100)","v":0},0,{"$f":"IF('Aferi (Variáveis)'!$F$20=\"Venda para Exportar\",0,IF('Aferi (Variáveis)'!$F$20=\"ALC\",0,IF('Aferi (Variáveis)'!$F$20=\"ZFM\",0,IF('Aferi (Variáveis)'!$F$20=\"Exportação\",0,IF('Aferi (Variáveis)'!$F$20=\"AO\",7*T487/100,T487*'Aferi (Variáveis)'!$F$20/100)))))","v":0},0,{"$f":"IF('Aferi (Variáveis)'!$C$12=\"ZFM\",0,IF('Aferi (Variáveis)'!$C$12=\"Exportação\",0,3*T487/100))","v":0},{"$f":"IF('Aferi (Variáveis)'!$C$12=\"ZFM\",0,IF('Aferi (Variáveis)'!$C$12=\"Exportação\",0,0.65*T487/100))","v":0},0,0,0,0,0,0,0,0,0,{"$f":"SUMIF('Custo Básico dos Produtos'!$B$7:$B$480,A487,'Custo Básico dos Produtos'!$K$7:$K$480)","v":0},null,null,0,0,0,0,0,0]
[null,{"$f":"IF(Q488<>0,VLOOKUP(Q488,'Custo Básico dos Produtos'!$A$7:$J$480,3),\"\")","v":""},null,{"$f":"SUMIF('Custo Básico dos Produtos'!$A$7:$A$480,Q488,'Custo Básico dos Produtos'!$J$7:$J$480)","v":0},0,0,{"$f":"IF(B488=\"\",0,SUMIF('Cadastro de Produtos em Linha'!$B$7:$B$457,A488,'Cadastro de Produtos em Linha'!$D$7:$D$457))","v":0},null,0,0,{"$f":"IF('Aferi (Variáveis)'!$C$12=\"ALC\",0,IF('Aferi (Variáveis)'!$C$12=\"ZFM\",0,IF('Aferi (Variáveis)'!$C$12=\"Exportação\",0,IF('Aferi (Variáveis)'!$C$12=\"Venda para Exportar\",0,IF('Aferi (Variáveis)'!$C$12=\"AO\",0,SUMIF('Custo Básico dos Produtos'!$A$7:$A$480,Q488,'Custo Básico dos Produtos'!$L$7:$L$480))))))","v":0},0,0,0,0,{"$f":"SUMIF('Cadastro de Produtos em Linha'!$A$6:$A$457,Q488,'Cadastro de Produtos em Linha'!$E$6:$E$457)*H488","v":0},{"$f":"IF(TODAY()<$AK$26,IF(A488<>\"\",SUMIF('Custo Básico dos Produtos'!$B$7:$B$457,A488,'Custo Básico dos Produtos'!$A$7:$A$457),0),0)","v":0},{"$f":"IF('Aferi (Variáveis)'!$C$12=\"Venda para Exportar\",0,IF('Aferi (Variáveis)'!$C$12=\"ALC\",0,IF('Aferi (Variáveis)'!$C$12=\"ZFM\",0,IF('Aferi (Variáveis)'!$C$12=\"Exportação\",0,IF('Aferi (Variáveis)'!$C$12=\"AO\",0,E488/(100+(0*'Aferi (Variáveis)'!$K$12/100))*100*K488%/100*'Aferi (Variáveis)'!$K$12)))))","v":0},0,{"$f":"(E488*'Aferi (Variáveis)'!$K$12/100)","v":0},0,{"$f":"IF('Aferi (Variáveis)'!$F$20=\"Venda para Exportar\",0,IF('Aferi (Variáveis)'!$F$20=\"ALC\",0,IF('Aferi (Variáveis)'!$F$20=\"ZFM\",0,IF('Aferi (Variáveis)'!$F$20=\"Exportação\",0,IF('Aferi (Variáveis)'!$F$20=\"AO\",7*T488/100,T488*'Aferi (Variáveis)'!$F$20/100)))))","v":0},0,{"$f":"IF('Aferi (Variáveis)'!$C$12=\"ZFM\",0,IF('Aferi (Variáveis)'!$C$12=\"Exportação\",0,3*T488/100))","v":0},{"$f":"IF('Aferi (Variáveis)'!$C$12=\"ZFM\",0,IF('Aferi (Variáveis)'!$C$12=\"Exportação\",0,0.65*T488/100))","v":0},0,0,0,0,0,0,0,0,0,{"$f":"SUMIF('Custo Básico dos Produtos'!$B$7:$B$480,A488,'Custo Básico dos Produtos'!$K$7:$K$480)","v":0},null,null,0,0,0,0,0,0]
[null,{"$f":"IF(Q489<>0,VLOOKUP(Q489,'Custo Básico dos Produtos'!$A$7:$J$480,3),\"\")","v":""},null,{"$f":"SUMIF('Custo Básico dos Produtos'!$A$7:$A$480,Q489,'Custo Básico dos Produtos'!$J$7:$J$480)","v":0},0,0,{"$f":"IF(B489=\"\",0,SUMIF('Cadastro de Produtos em Linha'!$B$7:$B$457,A489,'Cadastro de Produtos em Linha'!$D$7:$D$457))","v":0},null,0,0,{"$f":"IF('Aferi (Variáveis)'!$C$12=\"ALC\",0,IF('Aferi (Variáveis)'!$C$12=\"ZFM\",0,IF('Aferi (Variáveis)'!$C$12=\"Exportação\",0,IF('Aferi (Variáveis)'!$C$12=\"Venda para Exportar\",0,IF('Aferi (Variáveis)'!$C$12=\"AO\",0,SUMIF('Custo Básico dos Produtos'!$A$7:$A$480,Q489,'Custo Básico dos Produtos'!$L$7:$L$480))))))","v":0},0,0,0,0,{"$f":"SUMIF('Cadastro de Produtos em Linha'!$A$6:$A$457,Q489,'Cadastro de Produtos em Linha'!$E$6:$E$457)*H489","v":0},{"$f":"IF(TODAY()<$AK$26,IF(A489<>\"\",SUMIF('Custo Básico dos Produtos'!$B$7:$B$457,A489,'Custo Básico dos Produtos'!$A$7:$A$457),0),0)","v":0},{"$f":"IF('Aferi (Variáveis)'!$C$12=\"Venda para Exportar\",0,IF('Aferi (Variáveis)'!$C$12=\"ALC\",0,IF('Aferi (Variáveis)'!$C$12=\"ZFM\",0,IF('Aferi (Variáveis)'!$C$12=\"Exportação\",0,IF('Aferi (Variáveis)'!$C$12=\"AO\",0,E489/(100+(0*'Aferi (Variáveis)'!$K$12/100))*100*K489%/100*'Aferi (Variáveis)'!$K$12)))))","v":0},0,{"$f":"(E489*'Aferi (Variáveis)'!$K$12/100)","v":0},0,{"$f":"IF('Aferi (Variáveis)'!$F$20=\"Venda para Exportar\",0,IF('Aferi (Variáveis)'!$F$20=\"ALC\",0,IF('Aferi (Variáveis)'!$F$20=\"ZFM\",0,IF('Aferi (Variáveis)'!$F$20=\"Exportação\",0,IF('Aferi (Variáveis)'!$F$20=\"AO\",7*T489/100,T489*'Aferi (Variáveis)'!$F$20/100)))))","v":0},0,{"$f":"IF('Aferi (Variáveis)'!$C$12=\"ZFM\",0,IF('Aferi (Variáveis)'!$C$12=\"Exportação\",0,3*T489/100))","v":0},{"$f":"IF('Aferi (Variáveis)'!$C$12=\"ZFM\",0,IF('Aferi (Variáveis)'!$C$12=\"Exportação\",0,0.65*T489/100))","v":0},0,0,0,0,0,0,0,0,0,{"$f":"SUMIF('Custo Básico dos Produtos'!$B$7:$B$480,A489,'Custo Básico dos Produtos'!$K$7:$K$480)","v":0},null,null,0,0,0,0,0,0]
[null,{"$f":"IF(Q490<>0,VLOOKUP(Q490,'Custo Básico dos Produtos'!$A$7:$J$480,3),\"\")","v":""},null,{"$f":"SUMIF('Custo Básico dos Produtos'!$A$7:$A$480,Q490,'Custo Básico dos Produtos'!$J$7:$J$480)","v":0},0,0,{"$f":"IF(B490=\"\",0,SUMIF('Cadastro de Produtos em Linha'!$B$7:$B$457,A490,'Cadastro de Produtos em Linha'!$D$7:$D$457))","v":0},null,0,0,{"$f":"IF('Aferi (Variáveis)'!$C$12=\"ALC\",0,IF('Aferi (Variáveis)'!$C$12=\"ZFM\",0,IF('Aferi (Variáveis)'!$C$12=\"Exportação\",0,IF('Aferi (Variáveis)'!$C$12=\"Venda para Exportar\",0,IF('Aferi (Variáveis)'!$C$12=\"AO\",0,SUMIF('Custo Básico dos Produtos'!$A$7:$A$480,Q490,'Custo Básico dos Produtos'!$L$7:$L$480))))))","v":0},0,0,0,0,{"$f":"SUMIF('Cadastro de Produtos em Linha'!$A$6:$A$457,Q490,'Cadastro de Produtos em Linha'!$E$6:$E$457)*H490","v":0},{"$f":"IF(TODAY()<$AK$26,IF(A490<>\"\",SUMIF('Custo Básico dos Produtos'!$B$7:$B$457,A490,'Custo Básico dos Produtos'!$A$7:$A$457),0),0)","v":0},{"$f":"IF('Aferi (Variáveis)'!$C$12=\"Venda para Exportar\",0,IF('Aferi (Variáveis)'!$C$12=\"ALC\",0,IF('Aferi (Variáveis)'!$C$12=\"ZFM\",0,IF('Aferi (Variáveis)'!$C$12=\"Exportação\",0,IF('Aferi (Variáveis)'!$C$12=\"AO\",0,E490/(100+(0*'Aferi (Variáveis)'!$K$12/100))*100*K490%/100*'Aferi (Variáveis)'!$K$12)))))","v":0},0,{"$f":"(E490*'Aferi (Variáveis)'!$K$12/100)","v":0},0,{"$f":"IF('Aferi (Variáveis)'!$F$20=\"Venda para Exportar\",0,IF('Aferi (Variáveis)'!$F$20=\"ALC\",0,IF('Aferi (Variáveis)'!$F$20=\"ZFM\",0,IF('Aferi (Variáveis)'!$F$20=\"Exportação\",0,IF('Aferi (Variáveis)'!$F$20=\"AO\",7*T490/100,T490*'Aferi (Variáveis)'!$F$20/100)))))","v":0},0,{"$f":"IF('Aferi (Variáveis)'!$C$12=\"ZFM\",0,IF('Aferi (Variáveis)'!$C$12=\"Exportação\",0,3*T490/100))","v":0},{"$f":"IF('Aferi (Variáveis)'!$C$12=\"ZFM\",0,IF('Aferi (Variáveis)'!$C$12=\"Exportação\",0,0.65*T490/100))","v":0},0,0,0,0,0,0,0,0,0,{"$f":"SUMIF('Custo Básico dos Produtos'!$B$7:$B$480,A490,'Custo Básico dos Produtos'!$K$7:$K$480)","v":0},null,null,0,0,0,0,0,0]
[null,{"$f":"IF(Q491<>0,VLOOKUP(Q491,'Custo Básico dos Produtos'!$A$7:$J$480,3),\"\")","v":""},null,{"$f":"SUMIF('Custo Básico dos Produtos'!$A$7:$A$480,Q491,'Custo Básico dos Produtos'!$J$7:$J$480)","v":0},0,0,{"$f":"IF(B491=\"\",0,SUMIF('Cadastro de Produtos em Linha'!$B$7:$B$457,A491,'Cadastro de Produtos em Linha'!$D$7:$D$457))","v":0},null,0,0,{"$f":"IF('Aferi (Variáveis)'!$C$12=\"ALC\",0,IF('Aferi (Variáveis)'!$C$12=\"ZFM\",0,IF('Aferi (Variáveis)'!$C$12=\"Exportação\",0,IF('Aferi (Variáveis)'!$C$12=\"Venda para Exportar\",0,IF('Aferi (Variáveis)'!$C$12=\"AO\",0,SUMIF('Custo Básico dos Produtos'!$A$7:$A$480,Q491,'Custo Básico dos Produtos'!$L$7:$L$480))))))","v":0},0,0,0,0,{"$f":"SUMIF('Cadastro de Produtos em Linha'!$A$6:$A$457,Q491,'Cadastro de Produtos em Linha'!$E$6:$E$457)*H491","v":0},{"$f":"IF(TODAY()<$AK$26,IF(A491<>\"\",SUMIF('Custo Básico dos Produtos'!$B$7:$B$457,A491,'Custo Básico dos Produtos'!$A$7:$A$457),0),0)","v":0},{"$f":"IF('Aferi (Variáveis)'!$C$12=\"Venda para Exportar\",0,IF('Aferi (Variáveis)'!$C$12=\"ALC\",0,IF('Aferi (Variáveis)'!$C$12=\"ZFM\",0,IF('Aferi (Variáveis)'!$C$12=\"Exportação\",0,IF('Aferi (Variáveis)'!$C$12=\"AO\",0,E491/(100+(0*'Aferi (Variáveis)'!$K$12/100))*100*K491%/100*'Aferi (Variáveis)'!$K$12)))))","v":0},0,{"$f":"(E491*'Aferi (Variáveis)'!$K$12/100)","v":0},0,{"$f":"IF('Aferi (Variáveis)'!$F$20=\"Venda para Exportar\",0,IF('Aferi (Variáveis)'!$F$20=\"ALC\",0,IF('Aferi (Variáveis)'!$F$20=\"ZFM\",0,IF('Aferi (Variáveis)'!$F$20=\"Exportação\",0,IF('Aferi (Variáveis)'!$F$20=\"AO\",7*T491/100,T491*'Aferi (Variáveis)'!$F$20/100)))))","v":0},0,{"$f":"IF('Aferi (Variáveis)'!$C$12=\"ZFM\",0,IF('Aferi (Variáveis)'!$C$12=\"Exportação\",0,3*T491/100))","v":0},{"$f":"IF('Aferi (Variáveis)'!$C$12=\"ZFM\",0,IF('Aferi (Variáveis)'!$C$12=\"Exportação\",0,0.65*T491/100))","v":0},0,0,0,0,0,0,0,0,0,{"$f":"SUMIF('Custo Básico dos Produtos'!$B$7:$B$480,A491,'Custo Básico dos Produtos'!$K$7:$K$480)","v":0},null,null,0,0,0,0,0,0]
[null,{"$f":"IF(Q492<>0,VLOOKUP(Q492,'Custo Básico dos Produtos'!$A$7:$J$480,3),\"\")","v":""},null,{"$f":"SUMIF('Custo Básico dos Produtos'!$A$7:$A$480,Q492,'Custo Básico dos Produtos'!$J$7:$J$480)","v":0},0,0,{"$f":"IF(B492=\"\",0,SUMIF('Cadastro de Produtos em Linha'!$B$7:$B$457,A492,'Cadastro de Produtos em Linha'!$D$7:$D$457))","v":0},null,0,0,{"$f":"IF('Aferi (Variáveis)'!$C$12=\"ALC\",0,IF('Aferi (Variáveis)'!$C$12=\"ZFM\",0,IF('Aferi (Variáveis)'!$C$12=\"Exportação\",0,IF('Aferi (Variáveis)'!$C$12=\"Venda para Exportar\",0,IF('Aferi (Variáveis)'!$C$12=\"AO\",0,SUMIF('Custo Básico dos Produtos'!$A$7:$A$480,Q492,'Custo Básico dos Produtos'!$L$7:$L$480))))))","v":0},0,0,0,0,{"$f":"SUMIF('Cadastro de Produtos em Linha'!$A$6:$A$457,Q492,'Cadastro de Produtos em Linha'!$E$6:$E$457)*H492","v":0},{"$f":"IF(TODAY()<$AK$26,IF(A492<>\"\",SUMIF('Custo Básico dos Produtos'!$B$7:$B$457,A492,'Custo Básico dos Produtos'!$A$7:$A$457),0),0)","v":0},{"$f":"IF('Aferi (Variáveis)'!$C$12=\"Venda para Exportar\",0,IF('Aferi (Variáveis)'!$C$12=\"ALC\",0,IF('Aferi (Variáveis)'!$C$12=\"ZFM\",0,IF('Aferi (Variáveis)'!$C$12=\"Exportação\",0,IF('Aferi (Variáveis)'!$C$12=\"AO\",0,E492/(100+(0*'Aferi (Variáveis)'!$K$12/100))*100*K492%/100*'Aferi (Variáveis)'!$K$12)))))","v":0},0,{"$f":"(E492*'Aferi (Variáveis)'!$K$12/100)","v":0},0,{"$f":"IF('Aferi (Variáveis)'!$F$20=\"Venda para Exportar\",0,IF('Aferi (Variáveis)'!$F$20=\"ALC\",0,IF('Aferi (Variáveis)'!$F$20=\"ZFM\",0,IF('Aferi (Variáveis)'!$F$20=\"Exportação\",0,IF('Aferi (Variáveis)'!$F$20=\"AO\",7*T492/100,T492*'Aferi (Variáveis)'!$F$20/100)))))","v":0},0,{"$f":"IF('Aferi (Variáveis)'!$C$12=\"ZFM\",0,IF('Aferi (Variáveis)'!$C$12=\"Exportação\",0,3*T492/100))","v":0},{"$f":"IF('Aferi (Variáveis)'!$C$12=\"ZFM\",0,IF('Aferi (Variáveis)'!$C$12=\"Exportação\",0,0.65*T492/100))","v":0},0,0,0,0,0,0,0,0,0,{"$f":"SUMIF('Custo Básico dos Produtos'!$B$7:$B$480,A492,'Custo Básico dos Produtos'!$K$7:$K$480)","v":0},null,null,0,0,0,0,0,0]
[null,{"$f":"IF(Q493<>0,VLOOKUP(Q493,'Custo Básico dos Produtos'!$A$7:$J$480,3),\"\")","v":""},null,{"$f":"SUMIF('Custo Básico dos Produtos'!$A$7:$A$480,Q493,'Custo Básico dos Produtos'!$J$7:$J$480)","v":0},0,0,{"$f":"IF(B493=\"\",0,SUMIF('Cadastro de Produtos em Linha'!$B$7:$B$457,A493,'Cadastro de Produtos em Linha'!$D$7:$D$457))","v":0},null,0,0,{"$f":"IF('Aferi (Variáveis)'!$C$12=\"ALC\",0,IF('Aferi (Variáveis)'!$C$12=\"ZFM\",0,IF('Aferi (Variáveis)'!$C$12=\"Exportação\",0,IF('Aferi (Variáveis)'!$C$12=\"Venda para Exportar\",0,IF('Aferi (Variáveis)'!$C$12=\"AO\",0,SUMIF('Custo Básico dos Produtos'!$A$7:$A$480,Q493,'Custo Básico dos Produtos'!$L$7:$L$480))))))","v":0},0,0,0,0,{"$f":"SUMIF('Cadastro de Produtos em Linha'!$A$6:$A$457,Q493,'Cadastro de Produtos em Linha'!$E$6:$E$457)*H493","v":0},{"$f":"IF(TODAY()<$AK$26,IF(A493<>\"\",SUMIF('Custo Básico dos Produtos'!$B$7:$B$457,A493,'Custo Básico dos Produtos'!$A$7:$A$457),0),0)","v":0},{"$f":"IF('Aferi (Variáveis)'!$C$12=\"Venda para Exportar\",0,IF('Aferi (Variáveis)'!$C$12=\"ALC\",0,IF('Aferi (Variáveis)'!$C$12=\"ZFM\",0,IF('Aferi (Variáveis)'!$C$12=\"Exportação\",0,IF('Aferi (Variáveis)'!$C$12=\"AO\",0,E493/(100+(0*'Aferi (Variáveis)'!$K$12/100))*100*K493%/100*'Aferi (Variáveis)'!$K$12)))))","v":0},0,{"$f":"(E493*'Aferi (Variáveis)'!$K$12/100)","v":0},0,{"$f":"IF('Aferi (Variáveis)'!$F$20=\"Venda para Exportar\",0,IF('Aferi (Variáveis)'!$F$20=\"ALC\",0,IF('Aferi (Variáveis)'!$F$20=\"ZFM\",0,IF('Aferi (Variáveis)'!$F$20=\"Exportação\",0,IF('Aferi (Variáveis)'!$F$20=\"AO\",7*T493/100,T493*'Aferi (Variáveis)'!$F$20/100)))))","v":0},0,{"$f":"IF('Aferi (Variáveis)'!$C$12=\"ZFM\",0,IF('Aferi (Variáveis)'!$C$12=\"Exportação\",0,3*T493/100))","v":0},{"$f":"IF('Aferi (Variáveis)'!$C$12=\"ZFM\",0,IF('Aferi (Variáveis)'!$C$12=\"Exportação\",0,0.65*T493/100))","v":0},0,0,0,0,0,0,0,0,0,{"$f":"SUMIF('Custo Básico dos Produtos'!$B$7:$B$480,A493,'Custo Básico dos Produtos'!$K$7:$K$480)","v":0},null,null,0,0,0,0,0,0]
[null,{"$f":"IF(Q494<>0,VLOOKUP(Q494,'Custo Básico dos Produtos'!$A$7:$J$480,3),\"\")","v":""},null,{"$f":"SUMIF('Custo Básico dos Produtos'!$A$7:$A$480,Q494,'Custo Básico dos Produtos'!$J$7:$J$480)","v":0},0,0,{"$f":"IF(B494=\"\",0,SUMIF('Cadastro de Produtos em Linha'!$B$7:$B$457,A494,'Cadastro de Produtos em Linha'!$D$7:$D$457))","v":0},null,0,0,{"$f":"IF('Aferi (Variáveis)'!$C$12=\"ALC\",0,IF('Aferi (Variáveis)'!$C$12=\"ZFM\",0,IF('Aferi (Variáveis)'!$C$12=\"Exportação\",0,IF('Aferi (Variáveis)'!$C$12=\"Venda para Exportar\",0,IF('Aferi (Variáveis)'!$C$12=\"AO\",0,SUMIF('Custo Básico dos Produtos'!$A$7:$A$480,Q494,'Custo Básico dos Produtos'!$L$7:$L$480))))))","v":0},0,0,0,0,{"$f":"SUMIF('Cadastro de Produtos em Linha'!$A$6:$A$457,Q494,'Cadastro de Produtos em Linha'!$E$6:$E$457)*H494","v":0},{"$f":"IF(TODAY()<$AK$26,IF(A494<>\"\",SUMIF('Custo Básico dos Produtos'!$B$7:$B$457,A494,'Custo Básico dos Produtos'!$A$7:$A$457),0),0)","v":0},{"$f":"IF('Aferi (Variáveis)'!$C$12=\"Venda para Exportar\",0,IF('Aferi (Variáveis)'!$C$12=\"ALC\",0,IF('Aferi (Variáveis)'!$C$12=\"ZFM\",0,IF('Aferi (Variáveis)'!$C$12=\"Exportação\",0,IF('Aferi (Variáveis)'!$C$12=\"AO\",0,E494/(100+(0*'Aferi (Variáveis)'!$K$12/100))*100*K494%/100*'Aferi (Variáveis)'!$K$12)))))","v":0},0,{"$f":"(E494*'Aferi (Variáveis)'!$K$12/100)","v":0},0,{"$f":"IF('Aferi (Variáveis)'!$F$20=\"Venda para Exportar\",0,IF('Aferi (Variáveis)'!$F$20=\"ALC\",0,IF('Aferi (Variáveis)'!$F$20=\"ZFM\",0,IF('Aferi (Variáveis)'!$F$20=\"Exportação\",0,IF('Aferi (Variáveis)'!$F$20=\"AO\",7*T494/100,T494*'Aferi (Variáveis)'!$F$20/100)))))","v":0},0,{"$f":"IF('Aferi (Variáveis)'!$C$12=\"ZFM\",0,IF('Aferi (Variáveis)'!$C$12=\"Exportação\",0,3*T494/100))","v":0},{"$f":"IF('Aferi (Variáveis)'!$C$12=\"ZFM\",0,IF('Aferi (Variáveis)'!$C$12=\"Exportação\",0,0.65*T494/100))","v":0},0,0,0,0,0,0,0,0,0,{"$f":"SUMIF('Custo Básico dos Produtos'!$B$7:$B$480,A494,'Custo Básico dos Produtos'!$K$7:$K$480)","v":0},null,null,0,0,0,0,0,0]
[null,{"$f":"IF(Q495<>0,VLOOKUP(Q495,'Custo Básico dos Produtos'!$A$7:$J$480,3),\"\")","v":""},null,{"$f":"SUMIF('Custo Básico dos Produtos'!$A$7:$A$480,Q495,'Custo Básico dos Produtos'!$J$7:$J$480)","v":0},0,0,{"$f":"IF(B495=\"\",0,SUMIF('Cadastro de Produtos em Linha'!$B$7:$B$457,A495,'Cadastro de Produtos em Linha'!$D$7:$D$457))","v":0},null,0,0,{"$f":"IF('Aferi (Variáveis)'!$C$12=\"ALC\",0,IF('Aferi (Variáveis)'!$C$12=\"ZFM\",0,IF('Aferi (Variáveis)'!$C$12=\"Exportação\",0,IF('Aferi (Variáveis)'!$C$12=\"Venda para Exportar\",0,IF('Aferi (Variáveis)'!$C$12=\"AO\",0,SUMIF('Custo Básico dos Produtos'!$A$7:$A$480,Q495,'Custo Básico dos Produtos'!$L$7:$L$480))))))","v":0},0,0,0,0,{"$f":"SUMIF('Cadastro de Produtos em Linha'!$A$6:$A$457,Q495,'Cadastro de Produtos em Linha'!$E$6:$E$457)*H495","v":0},{"$f":"IF(TODAY()<$AK$26,IF(A495<>\"\",SUMIF('Custo Básico dos Produtos'!$B$7:$B$457,A495,'Custo Básico dos Produtos'!$A$7:$A$457),0),0)","v":0},{"$f":"IF('Aferi (Variáveis)'!$C$12=\"Venda para Exportar\",0,IF('Aferi (Variáveis)'!$C$12=\"ALC\",0,IF('Aferi (Variáveis)'!$C$12=\"ZFM\",0,IF('Aferi (Variáveis)'!$C$12=\"Exportação\",0,IF('Aferi (Variáveis)'!$C$12=\"AO\",0,E495/(100+(0*'Aferi (Variáveis)'!$K$12/100))*100*K495%/100*'Aferi (Variáveis)'!$K$12)))))","v":0},0,{"$f":"(E495*'Aferi (Variáveis)'!$K$12/100)","v":0},0,{"$f":"IF('Aferi (Variáveis)'!$F$20=\"Venda para Exportar\",0,IF('Aferi (Variáveis)'!$F$20=\"ALC\",0,IF('Aferi (Variáveis)'!$F$20=\"ZFM\",0,IF('Aferi (Variáveis)'!$F$20=\"Exportação\",0,IF('Aferi (Variáveis)'!$F$20=\"AO\",7*T495/100,T495*'Aferi (Variáveis)'!$F$20/100)))))","v":0},0,{"$f":"IF('Aferi (Variáveis)'!$C$12=\"ZFM\",0,IF('Aferi (Variáveis)'!$C$12=\"Exportação\",0,3*T495/100))","v":0},{"$f":"IF('Aferi (Variáveis)'!$C$12=\"ZFM\",0,IF('Aferi (Variáveis)'!$C$12=\"Exportação\",0,0.65*T495/100))","v":0},0,0,0,0,0,0,0,0,0,{"$f":"SUMIF('Custo Básico dos Produtos'!$B$7:$B$480,A495,'Custo Básico dos Produtos'!$K$7:$K$480)","v":0},null,null,0,0,0,0,0,0]
[null,{"$f":"IF(Q496<>0,VLOOKUP(Q496,'Custo Básico dos Produtos'!$A$7:$J$480,3),\"\")","v":""},null,{"$f":"SUMIF('Custo Básico dos Produtos'!$A$7:$A$480,Q496,'Custo Básico dos Produtos'!$J$7:$J$480)","v":0},0,0,{"$f":"IF(B496=\"\",0,SUMIF('Cadastro de Produtos em Linha'!$B$7:$B$457,A496,'Cadastro de Produtos em Linha'!$D$7:$D$457))","v":0},null,0,0,{"$f":"IF('Aferi (Variáveis)'!$C$12=\"ALC\",0,IF('Aferi (Variáveis)'!$C$12=\"ZFM\",0,IF('Aferi (Variáveis)'!$C$12=\"Exportação\",0,IF('Aferi (Variáveis)'!$C$12=\"Venda para Exportar\",0,IF('Aferi (Variáveis)'!$C$12=\"AO\",0,SUMIF('Custo Básico dos Produtos'!$A$7:$A$480,Q496,'Custo Básico dos Produtos'!$L$7:$L$480))))))","v":0},0,0,0,0,{"$f":"SUMIF('Cadastro de Produtos em Linha'!$A$6:$A$457,Q496,'Cadastro de Produtos em Linha'!$E$6:$E$457)*H496","v":0},{"$f":"IF(TODAY()<$AK$26,IF(A496<>\"\",SUMIF('Custo Básico dos Produtos'!$B$7:$B$457,A496,'Custo Básico dos Produtos'!$A$7:$A$457),0),0)","v":0},{"$f":"IF('Aferi (Variáveis)'!$C$12=\"Venda para Exportar\",0,IF('Aferi (Variáveis)'!$C$12=\"ALC\",0,IF('Aferi (Variáveis)'!$C$12=\"ZFM\",0,IF('Aferi (Variáveis)'!$C$12=\"Exportação\",0,IF('Aferi (Variáveis)'!$C$12=\"AO\",0,E496/(100+(0*'Aferi (Variáveis)'!$K$12/100))*100*K496%/100*'Aferi (Variáveis)'!$K$12)))))","v":0},0,{"$f":"(E496*'Aferi (Variáveis)'!$K$12/100)","v":0},0,{"$f":"IF('Aferi (Variáveis)'!$F$20=\"Venda para Exportar\",0,IF('Aferi (Variáveis)'!$F$20=\"ALC\",0,IF('Aferi (Variáveis)'!$F$20=\"ZFM\",0,IF('Aferi (Variáveis)'!$F$20=\"Exportação\",0,IF('Aferi (Variáveis)'!$F$20=\"AO\",7*T496/100,T496*'Aferi (Variáveis)'!$F$20/100)))))","v":0},0,{"$f":"IF('Aferi (Variáveis)'!$C$12=\"ZFM\",0,IF('Aferi (Variáveis)'!$C$12=\"Exportação\",0,3*T496/100))","v":0},{"$f":"IF('Aferi (Variáveis)'!$C$12=\"ZFM\",0,IF('Aferi (Variáveis)'!$C$12=\"Exportação\",0,0.65*T496/100))","v":0},0,0,0,0,0,0,0,0,0,{"$f":"SUMIF('Custo Básico dos Produtos'!$B$7:$B$480,A496,'Custo Básico dos Produtos'!$K$7:$K$480)","v":0},null,null,0,0,0,0,0,0]
[null,{"$f":"IF(Q497<>0,VLOOKUP(Q497,'Custo Básico dos Produtos'!$A$7:$J$480,3),\"\")","v":""},null,{"$f":"SUMIF('Custo Básico dos Produtos'!$A$7:$A$480,Q497,'Custo Básico dos Produtos'!$J$7:$J$480)","v":0},0,0,{"$f":"IF(B497=\"\",0,SUMIF('Cadastro de Produtos em Linha'!$B$7:$B$457,A497,'Cadastro de Produtos em Linha'!$D$7:$D$457))","v":0},null,0,0,{"$f":"IF('Aferi (Variáveis)'!$C$12=\"ALC\",0,IF('Aferi (Variáveis)'!$C$12=\"ZFM\",0,IF('Aferi (Variáveis)'!$C$12=\"Exportação\",0,IF('Aferi (Variáveis)'!$C$12=\"Venda para Exportar\",0,IF('Aferi (Variáveis)'!$C$12=\"AO\",0,SUMIF('Custo Básico dos Produtos'!$A$7:$A$480,Q497,'Custo Básico dos Produtos'!$L$7:$L$480))))))","v":0},0,0,0,0,{"$f":"SUMIF('Cadastro de Produtos em Linha'!$A$6:$A$457,Q497,'Cadastro de Produtos em Linha'!$E$6:$E$457)*H497","v":0},{"$f":"IF(TODAY()<$AK$26,IF(A497<>\"\",SUMIF('Custo Básico dos Produtos'!$B$7:$B$457,A497,'Custo Básico dos Produtos'!$A$7:$A$457),0),0)","v":0},{"$f":"IF('Aferi (Variáveis)'!$C$12=\"Venda para Exportar\",0,IF('Aferi (Variáveis)'!$C$12=\"ALC\",0,IF('Aferi (Variáveis)'!$C$12=\"ZFM\",0,IF('Aferi (Variáveis)'!$C$12=\"Exportação\",0,IF('Aferi (Variáveis)'!$C$12=\"AO\",0,E497/(100+(0*'Aferi (Variáveis)'!$K$12/100))*100*K497%/100*'Aferi (Variáveis)'!$K$12)))))","v":0},0,{"$f":"(E497*'Aferi (Variáveis)'!$K$12/100)","v":0},0,{"$f":"IF('Aferi (Variáveis)'!$F$20=\"Venda para Exportar\",0,IF('Aferi (Variáveis)'!$F$20=\"ALC\",0,IF('Aferi (Variáveis)'!$F$20=\"ZFM\",0,IF('Aferi (Variáveis)'!$F$20=\"Exportação\",0,IF('Aferi (Variáveis)'!$F$20=\"AO\",7*T497/100,T497*'Aferi (Variáveis)'!$F$20/100)))))","v":0},0,{"$f":"IF('Aferi (Variáveis)'!$C$12=\"ZFM\",0,IF('Aferi (Variáveis)'!$C$12=\"Exportação\",0,3*T497/100))","v":0},{"$f":"IF('Aferi (Variáveis)'!$C$12=\"ZFM\",0,IF('Aferi (Variáveis)'!$C$12=\"Exportação\",0,0.65*T497/100))","v":0},0,0,0,0,0,0,0,0,0,{"$f":"SUMIF('Custo Básico dos Produtos'!$B$7:$B$480,A497,'Custo Básico dos Produtos'!$K$7:$K$480)","v":0},null,null,0,0,0,0,0,0]
[null,{"$f":"IF(Q498<>0,VLOOKUP(Q498,'Custo Básico dos Produtos'!$A$7:$J$480,3),\"\")","v":""},null,{"$f":"SUMIF('Custo Básico dos Produtos'!$A$7:$A$480,Q498,'Custo Básico dos Produtos'!$J$7:$J$480)","v":0},0,0,{"$f":"IF(B498=\"\",0,SUMIF('Cadastro de Produtos em Linha'!$B$7:$B$457,A498,'Cadastro de Produtos em Linha'!$D$7:$D$457))","v":0},null,0,0,{"$f":"IF('Aferi (Variáveis)'!$C$12=\"ALC\",0,IF('Aferi (Variáveis)'!$C$12=\"ZFM\",0,IF('Aferi (Variáveis)'!$C$12=\"Exportação\",0,IF('Aferi (Variáveis)'!$C$12=\"Venda para Exportar\",0,IF('Aferi (Variáveis)'!$C$12=\"AO\",0,SUMIF('Custo Básico dos Produtos'!$A$7:$A$480,Q498,'Custo Básico dos Produtos'!$L$7:$L$480))))))","v":0},0,0,0,0,{"$f":"SUMIF('Cadastro de Produtos em Linha'!$A$6:$A$457,Q498,'Cadastro de Produtos em Linha'!$E$6:$E$457)*H498","v":0},{"$f":"IF(TODAY()<$AK$26,IF(A498<>\"\",SUMIF('Custo Básico dos Produtos'!$B$7:$B$457,A498,'Custo Básico dos Produtos'!$A$7:$A$457),0),0)","v":0},{"$f":"IF('Aferi (Variáveis)'!$C$12=\"Venda para Exportar\",0,IF('Aferi (Variáveis)'!$C$12=\"ALC\",0,IF('Aferi (Variáveis)'!$C$12=\"ZFM\",0,IF('Aferi (Variáveis)'!$C$12=\"Exportação\",0,IF('Aferi (Variáveis)'!$C$12=\"AO\",0,E498/(100+(0*'Aferi (Variáveis)'!$K$12/100))*100*K498%/100*'Aferi (Variáveis)'!$K$12)))))","v":0},0,{"$f":"(E498*'Aferi (Variáveis)'!$K$12/100)","v":0},0,{"$f":"IF('Aferi (Variáveis)'!$F$20=\"Venda para Exportar\",0,IF('Aferi (Variáveis)'!$F$20=\"ALC\",0,IF('Aferi (Variáveis)'!$F$20=\"ZFM\",0,IF('Aferi (Variáveis)'!$F$20=\"Exportação\",0,IF('Aferi (Variáveis)'!$F$20=\"AO\",7*T498/100,T498*'Aferi (Variáveis)'!$F$20/100)))))","v":0},0,{"$f":"IF('Aferi (Variáveis)'!$C$12=\"ZFM\",0,IF('Aferi (Variáveis)'!$C$12=\"Exportação\",0,3*T498/100))","v":0},{"$f":"IF('Aferi (Variáveis)'!$C$12=\"ZFM\",0,IF('Aferi (Variáveis)'!$C$12=\"Exportação\",0,0.65*T498/100))","v":0},0,0,0,0,0,0,0,0,0,{"$f":"SUMIF('Custo Básico dos Produtos'!$B$7:$B$480,A498,'Custo Básico dos Produtos'!$K$7:$K$480)","v":0},null,null,0,0,0,0,0,0]
[null,{"$f":"IF(Q499<>0,VLOOKUP(Q499,'Custo Básico dos Produtos'!$A$7:$J$480,3),\"\")","v":""},null,{"$f":"SUMIF('Custo Básico dos Produtos'!$A$7:$A$480,Q499,'Custo Básico dos Produtos'!$J$7:$J$480)","v":0},0,0,{"$f":"IF(B499=\"\",0,SUMIF('Cadastro de Produtos em Linha'!$B$7:$B$457,A499,'Cadastro de Produtos em Linha'!$D$7:$D$457))","v":0},null,0,0,{"$f":"IF('Aferi (Variáveis)'!$C$12=\"ALC\",0,IF('Aferi (Variáveis)'!$C$12=\"ZFM\",0,IF('Aferi (Variáveis)'!$C$12=\"Exportação\",0,IF('Aferi (Variáveis)'!$C$12=\"Venda para Exportar\",0,IF('Aferi (Variáveis)'!$C$12=\"AO\",0,SUMIF('Custo Básico dos Produtos'!$A$7:$A$480,Q499,'Custo Básico dos Produtos'!$L$7:$L$480))))))","v":0},0,0,0,0,{"$f":"SUMIF('Cadastro de Produtos em Linha'!$A$6:$A$457,Q499,'Cadastro de Produtos em Linha'!$E$6:$E$457)*H499","v":0},{"$f":"IF(TODAY()<$AK$26,IF(A499<>\"\",SUMIF('Custo Básico dos Produtos'!$B$7:$B$457,A499,'Custo Básico dos Produtos'!$A$7:$A$457),0),0)","v":0},{"$f":"IF('Aferi (Variáveis)'!$C$12=\"Venda para Exportar\",0,IF('Aferi (Variáveis)'!$C$12=\"ALC\",0,IF('Aferi (Variáveis)'!$C$12=\"ZFM\",0,IF('Aferi (Variáveis)'!$C$12=\"Exportação\",0,IF('Aferi (Variáveis)'!$C$12=\"AO\",0,E499/(100+(0*'Aferi (Variáveis)'!$K$12/100))*100*K499%/100*'Aferi (Variáveis)'!$K$12)))))","v":0},0,{"$f":"(E499*'Aferi (Variáveis)'!$K$12/100)","v":0},0,{"$f":"IF('Aferi (Variáveis)'!$F$20=\"Venda para Exportar\",0,IF('Aferi (Variáveis)'!$F$20=\"ALC\",0,IF('Aferi (Variáveis)'!$F$20=\"ZFM\",0,IF('Aferi (Variáveis)'!$F$20=\"Exportação\",0,IF('Aferi (Variáveis)'!$F$20=\"AO\",7*T499/100,T499*'Aferi (Variáveis)'!$F$20/100)))))","v":0},0,{"$f":"IF('Aferi (Variáveis)'!$C$12=\"ZFM\",0,IF('Aferi (Variáveis)'!$C$12=\"Exportação\",0,3*T499/100))","v":0},{"$f":"IF('Aferi (Variáveis)'!$C$12=\"ZFM\",0,IF('Aferi (Variáveis)'!$C$12=\"Exportação\",0,0.65*T499/100))","v":0},0,0,0,0,0,0,0,0,0,{"$f":"SUMIF('Custo Básico dos Produtos'!$B$7:$B$480,A499,'Custo Básico dos Produtos'!$K$7:$K$480)","v":0},null,null,0,0,0,0,0,0]
[null,{"$f":"IF(Q500<>0,VLOOKUP(Q500,'Custo Básico dos Produtos'!$A$7:$J$480,3),\"\")","v":""},null,{"$f":"SUMIF('Custo Básico dos Produtos'!$A$7:$A$480,Q500,'Custo Básico dos Produtos'!$J$7:$J$480)","v":0},0,0,{"$f":"IF(B500=\"\",0,SUMIF('Cadastro de Produtos em Linha'!$B$7:$B$457,A500,'Cadastro de Produtos em Linha'!$D$7:$D$457))","v":0},null,0,0,{"$f":"IF('Aferi (Variáveis)'!$C$12=\"ALC\",0,IF('Aferi (Variáveis)'!$C$12=\"ZFM\",0,IF('Aferi (Variáveis)'!$C$12=\"Exportação\",0,IF('Aferi (Variáveis)'!$C$12=\"Venda para Exportar\",0,IF('Aferi (Variáveis)'!$C$12=\"AO\",0,SUMIF('Custo Básico dos Produtos'!$A$7:$A$480,Q500,'Custo Básico dos Produtos'!$L$7:$L$480))))))","v":0},0,0,0,0,{"$f":"SUMIF('Cadastro de Produtos em Linha'!$A$6:$A$457,Q500,'Cadastro de Produtos em Linha'!$E$6:$E$457)*H500","v":0},{"$f":"IF(TODAY()<$AK$26,IF(A500<>\"\",SUMIF('Custo Básico dos Produtos'!$B$7:$B$457,A500,'Custo Básico dos Produtos'!$A$7:$A$457),0),0)","v":0},{"$f":"IF('Aferi (Variáveis)'!$C$12=\"Venda para Exportar\",0,IF('Aferi (Variáveis)'!$C$12=\"ALC\",0,IF('Aferi (Variáveis)'!$C$12=\"ZFM\",0,IF('Aferi (Variáveis)'!$C$12=\"Exportação\",0,IF('Aferi (Variáveis)'!$C$12=\"AO\",0,E500/(100+(0*'Aferi (Variáveis)'!$K$12/100))*100*K500%/100*'Aferi (Variáveis)'!$K$12)))))","v":0},0,{"$f":"(E500*'Aferi (Variáveis)'!$K$12/100)","v":0},0,{"$f":"IF('Aferi (Variáveis)'!$F$20=\"Venda para Exportar\",0,IF('Aferi (Variáveis)'!$F$20=\"ALC\",0,IF('Aferi (Variáveis)'!$F$20=\"ZFM\",0,IF('Aferi (Variáveis)'!$F$20=\"Exportação\",0,IF('Aferi (Variáveis)'!$F$20=\"AO\",7*T500/100,T500*'Aferi (Variáveis)'!$F$20/100)))))","v":0},0,{"$f":"IF('Aferi (Variáveis)'!$C$12=\"ZFM\",0,IF('Aferi (Variáveis)'!$C$12=\"Exportação\",0,3*T500/100))","v":0},{"$f":"IF('Aferi (Variáveis)'!$C$12=\"ZFM\",0,IF('Aferi (Variáveis)'!$C$12=\"Exportação\",0,0.65*T500/100))","v":0},0,0,0,0,0,0,0,0,0,{"$f":"SUMIF('Custo Básico dos Produtos'!$B$7:$B$480,A500,'Custo Básico dos Produtos'!$K$7:$K$480)","v":0},null,null,0,0,0,0,0,0]

{"sheet":"Aferi (Pedido_Cliente)","index":5,"n_rows":495,"n_cols":10,"rows_kept":495,"cut":false,"hidden":false,"merged":[[0,5,0,9],[10,1,10,7],[11,6,11,7],[11,1,11,4],[14,0,14,1],[14,2,14,4],[15,0,15,1],[15,2,15,4],[15,5,15,6],[15,7,15,9],[18,15,18,17],[3,1,8,9],[1,5,1,6],[1,7,1,9],[2,5,2,6],[9,2,9,9],[12,1,12,4],[12,6,12,9],[13,1,13,4],[14,6,14,9],[17,0,17,1],[16,0,16,1],[16,2,16,4],[16,5,16,6],[17,5,17,7],[17,8,17,9],[18,8,18,9],[18,5,18,7],[18,0,18,4],[31,1,31,4],[33,1,33,4],[34,1,34,4],[37,1,37,4],[32,1,32,4],[38,1,38,4],[35,1,35,4],[36,1,36,4],[54,1,54,4],[39,1,39,4],[40,1,40,4],[43,1,43,4],[44,1,44,4],[41,1,41,4],[42,1,42,4],[45,1,45,4],[46,1,46,4],[47,1,47,4],[48,1,48,4],[24,1,24,4],[25,1,25,4],[26,1,26,4],[27,1,27,4],[28,1,28,4],[29,1,29,4],[30,1,30,4],[19,0,19,9],[20,1,20,4],[21,1,21,4],[22,1,22,4],[23,1,23,4],[72,1,72,4],[63,1,63,4],[56,1,56,4],[64,1,64,4],[49,1,49,4],[50,1,50,4],[51,1,51,4],[52,1,52,4],[53,1,53,4],[58,1,58,4],[59,1,59,4],[60,1,60,4],[57,1,57,4],[55,1,55,4],[61,1,61,4],[62,1,62,4],[65,1,65,4],[66,1,66,4],[67,1,67,4],[68,1,68,4],[69,1,69,4],[70,1,70,4],[71,1,71,4],[78,1,78,4],[81,1,81,4],[82,1,82,4],[76,1,76,4],[73,1,73,4],[74,1,74,4],[79,1,79,4],[80,1,80,4],[104,1,104,4],[75,1,75,4],[77,1,77,4],[102,1,102,4],[105,1,105,4],[83,1,83,4],[84,1,84,4],[87,1,87,4],[88,1,88,4],[106,1,106,4],[107,1,107,4],[95,1,95,4],[91,1,91,4],[92,1,92,4],[93,1,93,4],[94,1,94,4],[89,1,89,4],[90,1,90,4],[85,1,85,4],[86,1,86,4],[103,1,103,4],[96,1,96,4],[97,1,97,4],[98,1,98,4],[99,1,99,4],[100,1,100,4],[101,1,101,4],[112,1,112,4],[113,1,113,4],[114,1,114,4],[115,1,115,4],[108,1,108,4],[109,1,109,4],[110,1,110,4],[111,1,111,4],[120,1,120,4],[121,1,121,4],[122,1,122,4],[123,1,123,4],[116,1,116,4],[117,1,117,4],[118,1,118,4],[119,1,119,4],[128,1,128,4],[129,1,129,4],[130,1,130,4],[131,1,131,4],[124,1,124,4],[125,1,125,4],[126,1,126,4],[127,1,127,4],[136,1,136,4],[137,1,137,4],[138,1,138,4],[139,1,139,4],[132,1,132,4],[133,1,133,4],[134,1,134,4],[135,1,135,4],[144,1,144,4],[145,1,145,4],[146,1,146,4],[147,1,147,4],[140,1,140,4],[141,1,141,4],[142,1,142,4],[143,1,143,4],[152,1,152,4],[153,1,153,4],[154,1,154,4],[155,1,155,4],[148,1,148,4],[149,1,149,4],[150,1,150,4],[151,1,151,4],[160,1,160,4],[161,1,161,4],[162,1,162,4],[163,1,163,4],[156,1,156,4],[157,1,157,4],[158,1,158,4],[159,1,159,4],[168,1,168,4],[169,1,169,4],[170,1,170,4],[171,1,171,4],[164,1,164,4],[165,1,165,4],[166,1,166,4],[167,1,167,4],[176,1,176,4],[177,1,177,4],[178,1,178,4],[188,1,188,4],[189,1,189,4],[190,1,190,4],[191,1,191,4],[217,1,217,4],[179,1,179,4],[172,1,172,4],[173,1,173,4],[174,1,174,4],[175,1,175,4],[184,1,184,4],[185,1,185,4],[186,1,186,4],[187,1,187,4],[180,1,180,4],[181,1,181,4],[182,1,182,4],[183,1,183,4],[204,1,204,4],[205,1,205,4],[209,1,209,4],[210,1,210,4],[211,1,211,4],[192,1,192,4],[193,1,193,4],[194,1,194,4],[195,1,195,4],[219,1,219,4],[212,1,212,4],[213,1,213,4],[214,1,214,4],[215,1,215,4],[216,1,216,4],[208,1,208,4],[196,1,196,4],[197,1,197,4],[198,1,198,4],[199,1,199,4],[218,1,218,4],[206,1,206,4],[207,1,207,4],[200,1,200,4],[201,1,201,4],[202,1,202,4],[203,1,203,4],[220,1,220,4],[221,1,221,4],[222,1,222,4],[223,1,223,4],[224,1,224,4],[225,1,225,4],[226,1,226,4],[227,1,227,4],[228,1,228,4],[229,1,229,4],[230,1,230,4],[231,1,231,4],[232,1,232,4],[233,1,233,4],[234,1,234,4],[235,1,235,4],[236,1,236,4],[237,1,237,4],[238,1,238,4],[239,1,239,4],[240,1,240,4],[241,1,241,4],[242,1,242,4],[243,1,243,4],[244,1,244,4],[245,1,245,4],[246,1,246,4],[247,1,247,4],[248,1,248,4],[249,1,249,4],[250,1,250,4],[251,1,251,4],[252,1,252,4],[253,1,253,4],[254,1,254,4],[255,1,255,4],[256,1,256,4],[257,1,257,4],[258,1,258,4],[259,1,259,4],[260,1,260,4],[261,1,261,4],[262,1,262,4],[263,1,263,4],[264,1,264,4],[265,1,265,4],[266,1,266,4],[267,1,267,4],[268,1,268,4],[269,1,269,4],[270,1,270,4],[271,1,271,4],[272,1,272,4],[273,1,273,4],[274,1,274,4],[275,1,275,4],[276,1,276,4],[277,1,277,4],[278,1,278,4],[279,1,279,4],[280,1,280,4],[281,1,281,4],[282,1,282,4],[283,1,283,4],[284,1,284,4],[285,1,285,4],[286,1,286,4],[287,1,287,4],[288,1,288,4],[289,1,289,4],[290,1,290,4],[291,1,291,4],[292,1,292,4],[293,1,293,4],[294,1,294,4],[295,1,295,4],[296,1,296,4],[297,1,297,4],[298,1,298,4],[299,1,299,4],[300,1,300,4],[301,1,301,4],[302,1,302,4],[303,1,303,4],[304,1,304,4],[305,1,305,4],[306,1,306,4],[307,1,307,4],[308,1,308,4],[309,1,309,4],[310,1,310,4],[311,1,311,4],[312,1,312,4],[313,1,313,4],[314,1,314,4],[315,1,315,4],[316,1,316,4],[317,1,317,4],[318,1,318,4],[319,1,319,4],[320,1,320,4],[321,1,321,4],[322,1,322,4],[323,1,323,4],[324,1,324,4],[325,1,325,4],[326,1,326,4],[327,1,327,4],[328,1,328,4],[329,1,329,4],[330,1,330,4],[331,1,331,4],[332,1,332,4],[333,1,333,4],[334,1,334,4],[335,1,335,4],[336,1,336,4],[337,1,337,4],[338,1,338,4],[339,1,339,4],[340,1,340,4],[341,1,341,4],[342,1,342,4],[343,1,343,4],[344,1,344,4],[345,1,345,4],[346,1,346,4],[347,1,347,4],[348,1,348,4],[349,1,349,4],[350,1,350,4],[351,1,351,4],[352,1,352,4],[353,1,353,4],[354,1,354,4],[355,1,355,4],[356,1,356,4],[357,1,357,4],[358,1,358,4],[359,1,359,4],[360,1,360,4],[361,1,361,4],[362,1,362,4],[363,1,363,4],[364,1,364,4],[365,1,365,4],[366,1,366,4],[367,1,367,4],[368,1,368,4],[369,1,369,4],[370,1,370,4],[371,1,371,4],[372,1,372,4],[373,1,373,4],[374,1,374,4],[375,1,375,4],[376,1,376,4],[377,1,377,4],[378,1,378,4],[379,1,379,4],[380,1,380,4],[381,1,381,4],[382,1,382,4],[383,1,383,4],[384,1,384,4],[385,1,385,4],[386,1,386,4],[387,1,387,4],[388,1,388,4],[389,1,389,4],[390,1,390,4],[391,1,391,4],[392,1,392,4],[393,1,393,4],[394,1,394,4],[395,1,395,4],[396,1,396,4],[397,1,397,4],[398,1,398,4],[399,1,399,4],[400,1,400,4],[401,1,401,4],[402,1,402,4],[403,1,403,4],[404,1,404,4],[405,1,405,4],[406,1,406,4],[407,1,407,4],[408,1,408,4],[409,1,409,4],[410,1,410,4],[411,1,411,4],[412,1,412,4],[413,1,413,4],[414,1,414,4],[415,1,415,4],[416,1,416,4],[417,1,417,4],[418,1,418,4],[419,1,419,4],[420,1,420,4],[421,1,421,4],[422,1,422,4],[423,1,423,4],[424,1,424,4],[425,1,425,4],[426,1,426,4],[427,1,427,4],[428,1,428,4],[429,1,429,4],[430,1,430,4],[431,1,431,4],[432,1,432,4],[433,1,433,4],[434,1,434,4],[435,1,435,4],[436,1,436,4],[437,1,437,4],[438,1,438,4],[439,1,439,4],[440,1,440,4],[441,1,441,4],[442,1,442,4],[443,1,443,4],[444,1,444,4],[445,1,445,4],[446,1,446,4],[447,1,447,4],[448,1,448,4],[449,1,449,4],[450,1,450,4],[451,1,451,4],[452,1,452,4],[453,1,453,4],[454,1,454,4],[455,1,455,4],[456,1,456,4],[457,1,457,4],[458,1,458,4],[459,1,459,4],[460,1,460,4],[461,1,461,4],[462,1,462,4],[479,1,479,4],[480,1,480,4],[463,1,463,4],[464,1,464,4],[465,1,465,4],[466,1,466,4],[467,1,467,4],[468,1,468,4],[469,1,469,4],[470,1,470,4],[471,1,471,4],[472,1,472,4],[473,1,473,4],[474,1,474,4],[475,1,475,4],[476,1,476,4],[477,1,477,4],[478,1,478,4],[490,1,490,4],[491,1,491,4],[492,1,492,4],[493,1,493,4],[494,1,494,4],[481,1,481,4],[482,1,482,4],[483,1,483,4],[484,1,484,4],[485,1,485,4],[486,1,486,4],[487,1,487,4],[488,1,488,4],[489,1,489,4]]}
[null,null,null,null,null,"Pedido de Venda"]
[null,null,null,null,null,"Representante",null,{"$f":"'Aferi (Pedido) '!H2:J2","v":"DENIZE REPRESENTAÇÕES"}]
[null,null,null,null,null,"Data",null,{"$f":"'Aferi (Pedido) '!H3","v":45771},"Versão",{"$f":"'Aferi (Pedido) '!K3","v":"07.11.24 / 10.05.25"}]
[null,{"$f":"'Aferi (Pedido) '!B4","v":"1/2!!"}]
["Obs."]
[]
[]
[]
[]
["Cliente",{"$f":"'Aferi (Pedido) '!B10","v":0},{"$f":"'Aferi (Pedido) '!C10:J10","v":"O.S.J. COMERCIO DE UTILIDADES LTDA"}]
["Endereço",{"$f":"'Aferi (Pedido) '!B11:J11","v":"AV AUGUSTO CALMON, 1252 - CENTRO CEP 29900-060 LINHARES - Espírito Santo"},null,null,null,null,null,null,"Bairro",{"$f":"'Aferi (Pedido) '!J11:L11","v":0}]
["Cidade",{"$f":"'Aferi (Pedido) '!B12:F12","v":0},null,null,null,"Estado",{"$f":"'Aferi (Pedido) '!H12","v":0},null,"CEP:",{"$f":"'Aferi (Pedido) '!K12","v":0}]
["CNPJ",{"$f":"'Aferi (Pedido) '!B13:E13","v":"07.336.094/0001-13"},null,null,null,"IE:",{"$f":"'Aferi (Pedido) '!G13:J13","v":"082.317.99-2"}]
["Fone",{"$f":"'Aferi (Pedido) '!B14:E14","v":"027 9 8158-6009"},null,null,null,"Contato",{"$f":"'Aferi (Pedido) '!G14:J14","v":"JOAQUIM"},null,"Email ",{"$f":"'Aferi (Pedido) '!J14:L14","v":"grupoutilidades@bol.com.br"}]
["Transportadora",null,{"$f":"'Aferi (Pedido) '!C15:F15","v":"TRANSPORTADORA CONTINENTAL LT"},null,null,"Fone",{"$f":"'Aferi (Pedido) '!H15","v":" 2085-7220"}]
["Data de Entrega",null,{"$f":"'Aferi (Pedido) '!C16","v":"2025-04-25"},null,null,"Email Nota Fiscal",null,{"$f":"'Aferi (Pedido) '!C19","v":"grupoutilidades@bol.com.br"}]
["Forma de Pagamento",null,{"$f":"'Aferi (Pedido) '!C17","v":"BOLETO "},null,null,"Cubagem ",null,{"$f":"'Aferi (Pedido) '!B22","v":0.37398399999999993}]
["Valor Total dos Produtos",null,{"$f":"'Aferi (Pedido) '!I18","v":4938.8999999999996},"IPI",{"$f":"'Aferi (Pedido) '!I17","v":215.1695},"Valor Total do Pedido",null,null,{"$f":"'Aferi (Pedido) '!I16:L16","v":5154.0694999999996}]
[null,null,null,null,null,"Prazo de Pagamento",null,null,{"$f":"'Aferi (Pedido) '!H22","v":"30-40-50-60-70-----"}]
["Produtos"]
[{"$f":"'Aferi (Pedido) '!A25","v":"Referência:"},{"$f":"'Aferi (Pedido) '!B25:C25","v":"Descrição"},null,null,null,"Preço Un.","Qtde. na Embal.","Embal. Pedidas","Qtde. Peças","Vr. Parcial"]
[{"$f":"'Aferi (Pedido) '!A26","v":702},{"$f":"'Aferi (Pedido) '!B26:C26","v":"FILTRO DE LINHA BIVOLT FULL ENERGY BRANCO 4T  FLOW PACK"},null,null,null,{"$f":"'Aferi (Pedido) '!E26","v":15.11},{"$f":"'Aferi (Pedido) '!G26","v":20},{"$f":"'Aferi (Pedido) '!H26","v":1},{"$f":"'Aferi (Pedido) '!I26","v":20},{"$f":"'Aferi (Pedido) '!J26","v":302.2}]
[{"$f":"'Aferi (Pedido) '!A27","v":706},{"$f":"'Aferi (Pedido) '!B27:C27","v":"FILTRO DE LINHA BIVOLT FULL ENERGY PRETO 4T  FLOW PACK"},null,null,null,{"$f":"'Aferi (Pedido) '!E27","v":15.11},{"$f":"'Aferi (Pedido) '!G27","v":20},{"$f":"'Aferi (Pedido) '!H27","v":1},{"$f":"'Aferi (Pedido) '!I27","v":20},{"$f":"'Aferi (Pedido) '!J27","v":302.2}]
[{"$f":"'Aferi (Pedido) '!A28","v":602},{"$f":"'Aferi (Pedido) '!B28:C28","v":"EXTENSAO COMPACT BIPOLAR BRANCA 3 MTS  "},null,null,null,{"$f":"'Aferi (Pedido) '!E28","v":8.9600000000000009},{"$f":"'Aferi (Pedido) '!G28","v":20},{"$f":"'Aferi (Pedido) '!H28","v":2},{"$f":"'Aferi (Pedido) '!I28","v":40},{"$f":"'Aferi (Pedido) '!J28","v":358.40000000000003}]
[{"$f":"'Aferi (Pedido) '!A29","v":606},{"$f":"'Aferi (Pedido) '!B29:C29","v":"EXTENSAO COMPACT BIPOLAR PRETA 3 MTS  "},null,null,null,{"$f":"'Aferi (Pedido) '!E29","v":8.9600000000000009},{"$f":"'Aferi (Pedido) '!G29","v":20},{"$f":"'Aferi (Pedido) '!H29","v":2},{"$f":"'Aferi (Pedido) '!I29","v":40},{"$f":"'Aferi (Pedido) '!J29","v":358.40000000000003}]
[{"$f":"'Aferi (Pedido) '!A30","v":603},{"$f":"'Aferi (Pedido) '!B30:C30","v":"EXTENSAO COMPACT BIPOLAR BRANCA 5 MTS  "},null,null,null,{"$f":"'Aferi (Pedido) '!E30","v":12.08},{"$f":"'Aferi (Pedido) '!G30","v":20},{"$f":"'Aferi (Pedido) '!H30","v":2},{"$f":"'Aferi (Pedido) '!I30","v":40},{"$f":"'Aferi (Pedido) '!J30","v":483.2}]
[{"$f":"'Aferi (Pedido) '!A31","v":607},{"$f":"'Aferi (Pedido) '!B31:C31","v":"EXTENSAO COMPACT BIPOLAR PRETA 5 MTS  "},null,null,null,{"$f":"'Aferi (Pedido) '!E31","v":12.08},{"$f":"'Aferi (Pedido) '!G31","v":20},{"$f":"'Aferi (Pedido) '!H31","v":3},{"$f":"'Aferi (Pedido) '!I31","v":60},{"$f":"'Aferi (Pedido) '!J31","v":724.8}]
[{"$f":"'Aferi (Pedido) '!A32","v":604},{"$f":"'Aferi (Pedido) '!B32:C32","v":"EXTENSAO COMPACT BIPOLAR BRANCA 10 MTS  "},null,null,null,{"$f":"'Aferi (Pedido) '!E32","v":19.71},{"$f":"'Aferi (Pedido) '!G32","v":15},{"$f":"'Aferi (Pedido) '!H32","v":1},{"$f":"'Aferi (Pedido) '!I32","v":15},{"$f":"'Aferi (Pedido) '!J32","v":295.65000000000003}]
[{"$f":"'Aferi (Pedido) '!A33","v":608},{"$f":"'Aferi (Pedido) '!B33:C33","v":"EXTENSAO COMPACT BIPOLAR PRETA 10 MTS  "},null,null,null,{"$f":"'Aferi (Pedido) '!E33","v":19.71},{"$f":"'Aferi (Pedido) '!G33","v":15},{"$f":"'Aferi (Pedido) '!H33","v":1},{"$f":"'Aferi (Pedido) '!I33","v":15},{"$f":"'Aferi (Pedido) '!J33","v":295.65000000000003}]
[{"$f":"'Aferi (Pedido) '!A34","v":652},{"$f":"'Aferi (Pedido) '!B34:C34","v":"EXTENSAO COMPACT TRIPOLAR BRANCA 3 MTS  "},null,null,null,{"$f":"'Aferi (Pedido) '!E34","v":13.32},{"$f":"'Aferi (Pedido) '!G34","v":20},{"$f":"'Aferi (Pedido) '!H34","v":2},{"$f":"'Aferi (Pedido) '!I34","v":40},{"$f":"'Aferi (Pedido) '!J34","v":532.79999999999995}]
[{"$f":"'Aferi (Pedido) '!A35","v":656},{"$f":"'Aferi (Pedido) '!B35:C35","v":"EXTENSAO COMPACT TRIPOLAR PRETA 3 MTS  "},null,null,null,{"$f":"'Aferi (Pedido) '!E35","v":13.32},{"$f":"'Aferi (Pedido) '!G35","v":20},{"$f":"'Aferi (Pedido) '!H35","v":2},{"$f":"'Aferi (Pedido) '!I35","v":40},{"$f":"'Aferi (Pedido) '!J35","v":532.79999999999995}]
[{"$f":"'Aferi (Pedido) '!A36","v":653},{"$f":"'Aferi (Pedido) '!B36:C36","v":"EXTENSAO COMPACT TRIPOLAR BRANCA 5 MTS  "},null,null,null,{"$f":"'Aferi (Pedido) '!E36","v":18.82},{"$f":"'Aferi (Pedido) '!G36","v":20},{"$f":"'Aferi (Pedido) '!H36","v":1},{"$f":"'Aferi (Pedido) '!I36","v":20},{"$f":"'Aferi (Pedido) '!J36","v":376.4}]
[{"$f":"'Aferi (Pedido) '!A37","v":657},{"$f":"'Aferi (Pedido) '!B37:C37","v":"EXTENSAO COMPACT TRIPOLAR PRETA 5 MTS  "},null,null,null,{"$f":"'Aferi (Pedido) '!E37","v":18.82},{"$f":"'Aferi (Pedido) '!G37","v":20},{"$f":"'Aferi (Pedido) '!H37","v":1},{"$f":"'Aferi (Pedido) '!I37","v":20},{"$f":"'Aferi (Pedido) '!J37","v":376.4}]
[{"$f":"'Aferi (Pedido) '!A38","v":0},{"$f":"'Aferi (Pedido) '!B38:C38","v":""},null,null,null,{"$f":"'Aferi (Pedido) '!E38","v":0},{"$f":"'Aferi (Pedido) '!G38","v":0},{"$f":"'Aferi (Pedido) '!H38","v":0},{"$f":"'Aferi (Pedido) '!I38","v":0},{"$f":"'Aferi (Pedido) '!J38","v":0}]
[{"$f":"'Aferi (Pedido) '!A39","v":0},{"$f":"'Aferi (Pedido) '!B39:C39","v":""},null,null,null,{"$f":"'Aferi (Pedido) '!E39","v":0},{"$f":"'Aferi (Pedido) '!G39","v":0},{"$f":"'Aferi (Pedido) '!H39","v":0},{"$f":"'Aferi (Pedido) '!I39","v":0},{"$f":"'Aferi (Pedido) '!J39","v":0}]
[{"$f":"'Aferi (Pedido) '!A40","v":0},{"$f":"'Aferi (Pedido) '!B40:C40","v":""},null,null,null,{"$f":"'Aferi (Pedido) '!E40","v":0},{"$f":"'Aferi (Pedido) '!G40","v":0},{"$f":"'Aferi (Pedido) '!H40","v":0},{"$f":"'Aferi (Pedido) '!I40","v":0},{"$f":"'Aferi (Pedido) '!J40","v":0}]
[{"$f":"'Aferi (Pedido) '!A41","v":0},{"$f":"'Aferi (Pedido) '!B41:C41","v":""},null,null,null,{"$f":"'Aferi (Pedido) '!E41","v":0},{"$f":"'Aferi (Pedido) '!G41","v":0},{"$f":"'Aferi (Pedido) '!H41","v":0},{"$f":"'Aferi (Pedido) '!I41","v":0},{"$f":"'Aferi (Pedido) '!J41","v":0}]
[{"$f":"'Aferi (Pedido) '!A42","v":0},{"$f":"'Aferi (Pedido) '!B42:C42","v":""},null,null,null,{"$f":"'Aferi (Pedido) '!E42","v":0},{"$f":"'Aferi (Pedido) '!G42","v":0},{"$f":"'Aferi (Pedido) '!H42","v":0},{"$f":"'Aferi (Pedido) '!I42","v":0},{"$f":"'Aferi (Pedido) '!J42","v":0}]
[{"$f":"'Aferi (Pedido) '!A43","v":0},{"$f":"'Aferi (Pedido) '!B43:C43","v":""},null,null,null,{"$f":"'Aferi (Pedido) '!E43","v":0},{"$f":"'Aferi (Pedido) '!G43","v":0},{"$f":"'Aferi (Pedido) '!H43","v":0},{"$f":"'Aferi (Pedido) '!I43","v":0},{"$f":"'Aferi (Pedido) '!J43","v":0}]
[{"$f":"'Aferi (Pedido) '!A44","v":0},{"$f":"'Aferi (Pedido) '!B44:C44","v":""},null,null,null,{"$f":"'Aferi (Pedido) '!E44","v":0},{"$f":"'Aferi (Pedido) '!G44","v":0},{"$f":"'Aferi (Pedido) '!H44","v":0},{"$f":"'Aferi (Pedido) '!I44","v":0},{"$f":"'Aferi (Pedido) '!J44","v":0}]
[{"$f":"'Aferi (Pedido) '!A45","v":0},{"$f":"'Aferi (Pedido) '!B45:C45","v":""},null,null,null,{"$f":"'Aferi (Pedido) '!E45","v":0},{"$f":"'Aferi (Pedido) '!G45","v":0},{"$f":"'Aferi (Pedido) '!H45","v":0},{"$f":"'Aferi (Pedido) '!I45","v":0},{"$f":"'Aferi (Pedido) '!J45","v":0}]
[{"$f":"'Aferi (Pedido) '!A46","v":0},{"$f":"'Aferi (Pedido) '!B46:C46","v":""},null,null,null,{"$f":"'Aferi (Pedido) '!E46","v":0},{"$f":"'Aferi (Pedido) '!G46","v":0},{"$f":"'Aferi (Pedido) '!H46","v":0},{"$f":"'Aferi (Pedido) '!I46","v":0},{"$f":"'Aferi (Pedido) '!J46","v":0}]
[{"$f":"'Aferi (Pedido) '!A47","v":0},{"$f":"'Aferi (Pedido) '!B47:C47","v":""},null,null,null,{"$f":"'Aferi (Pedido) '!E47","v":0},{"$f":"'Aferi (Pedido) '!G47","v":0},{"$f":"'Aferi (Pedido) '!H47","v":0},{"$f":"'Aferi (Pedido) '!I47","v":0},{"$f":"'Aferi (Pedido) '!J47","v":0}]
[{"$f":"'Aferi (Pedido) '!A48","v":0},{"$f":"'Aferi (Pedido) '!B48:C48","v":""},null,null,null,{"$f":"'Aferi (Pedido) '!E48","v":0},{"$f":"'Aferi (Pedido) '!G48","v":0},{"$f":"'Aferi (Pedido) '!H48","v":0},{"$f":"'Aferi (Pedido) '!I48","v":0},{"$f":"'Aferi (Pedido) '!J48","v":0}]
[{"$f":"'Aferi (Pedido) '!A49","v":0},{"$f":"'Aferi (Pedido) '!B49:C49","v":""},null,null,null,{"$f":"'Aferi (Pedido) '!E49","v":0},{"$f":"'Aferi (Pedido) '!G49","v":0},{"$f":"'Aferi (Pedido) '!H49","v":0},{"$f":"'Aferi (Pedido) '!I49","v":0},{"$f":"'Aferi (Pedido) '!J49","v":0}]
[{"$f":"'Aferi (Pedido) '!A50","v":0},{"$f":"'Aferi (Pedido) '!B50:C50","v":""},null,null,null,{"$f":"'Aferi (Pedido) '!E50","v":0},{"$f":"'Aferi (Pedido) '!G50","v":0},{"$f":"'Aferi (Pedido) '!H50","v":0},{"$f":"'Aferi (Pedido) '!I50","v":0},{"$f":"'Aferi (Pedido) '!J50","v":0}]
[{"$f":"'Aferi (Pedido) '!A51","v":0},{"$f":"'Aferi (Pedido) '!B51:C51","v":""},null,null,null,{"$f":"'Aferi (Pedido) '!E51","v":0},{"$f":"'Aferi (Pedido) '!G51","v":0},{"$f":"'Aferi (Pedido) '!H51","v":0},{"$f":"'Aferi (Pedido) '!I51","v":0},{"$f":"'Aferi (Pedido) '!J51","v":0}]
[{"$f":"'Aferi (Pedido) '!A52","v":0},{"$f":"'Aferi (Pedido) '!B52:C52","v":""},null,null,null,{"$f":"'Aferi (Pedido) '!E52","v":0},{"$f":"'Aferi (Pedido) '!G52","v":0},{"$f":"'Aferi (Pedido) '!H52","v":0},{"$f":"'Aferi (Pedido) '!I52","v":0},{"$f":"'Aferi (Pedido) '!J52","v":0}]
[{"$f":"'Aferi (Pedido) '!A53","v":0},{"$f":"'Aferi (Pedido) '!B53:C53","v":""},null,null,null,{"$f":"'Aferi (Pedido) '!E53","v":0},{"$f":"'Aferi (Pedido) '!G53","v":0},{"$f":"'Aferi (Pedido) '!H53","v":0},{"$f":"'Aferi (Pedido) '!I53","v":0},{"$f":"'Aferi (Pedido) '!J53","v":0}]
[{"$f":"'Aferi (Pedido) '!A54","v":0},{"$f":"'Aferi (Pedido) '!B54:C54","v":""},null,null,null,{"$f":"'Aferi (Pedido) '!E54","v":0},{"$f":"'Aferi (Pedido) '!G54","v":0},{"$f":"'Aferi (Pedido) '!H54","v":0},{"$f":"'Aferi (Pedido) '!I54","v":0},{"$f":"'Aferi (Pedido) '!J54","v":0}]
[{"$f":"'Aferi (Pedido) '!A55","v":0},{"$f":"'Aferi (Pedido) '!B55:C55","v":""},null,null,null,{"$f":"'Aferi (Pedido) '!E55","v":0},{"$f":"'Aferi (Pedido) '!G55","v":0},{"$f":"'Aferi (Pedido) '!H55","v":0},{"$f":"'Aferi (Pedido) '!I55","v":0},{"$f":"'Aferi (Pedido) '!J55","v":0}]
[{"$f":"'Aferi (Pedido) '!A56","v":0},{"$f":"'Aferi (Pedido) '!B56:C56","v":""},null,null,null,{"$f":"'Aferi (Pedido) '!E56","v":0},{"$f":"'Aferi (Pedido) '!G56","v":0},{"$f":"'Aferi (Pedido) '!H56","v":0},{"$f":"'Aferi (Pedido) '!I56","v":0},{"$f":"'Aferi (Pedido) '!J56","v":0}]
[{"$f":"'Aferi (Pedido) '!A57","v":0},{"$f":"'Aferi (Pedido) '!B57:C57","v":""},null,null,null,{"$f":"'Aferi (Pedido) '!E57","v":0},{"$f":"'Aferi (Pedido) '!G57","v":0},{"$f":"'Aferi (Pedido) '!H57","v":0},{"$f":"'Aferi (Pedido) '!I57","v":0},{"$f":"'Aferi (Pedido) '!J57","v":0}]
[{"$f":"'Aferi (Pedido) '!A58","v":0},{"$f":"'Aferi (Pedido) '!B58:C58","v":""},null,null,null,{"$f":"'Aferi (Pedido) '!E58","v":0},{"$f":"'Aferi (Pedido) '!G58","v":0},{"$f":"'Aferi (Pedido) '!H58","v":0},{"$f":"'Aferi (Pedido) '!I58","v":0},{"$f":"'Aferi (Pedido) '!J58","v":0}]
[{"$f":"'Aferi (Pedido) '!A59","v":0},{"$f":"'Aferi (Pedido) '!B59:C59","v":""},null,null,null,{"$f":"'Aferi (Pedido) '!E59","v":0},{"$f":"'Aferi (Pedido) '!G59","v":0},{"$f":"'Aferi (Pedido) '!H59","v":0},{"$f":"'Aferi (Pedido) '!I59","v":0},{"$f":"'Aferi (Pedido) '!J59","v":0}]
[{"$f":"'Aferi (Pedido) '!A60","v":0},{"$f":"'Aferi (Pedido) '!B60:C60","v":""},null,null,null,{"$f":"'Aferi (Pedido) '!E60","v":0},{"$f":"'Aferi (Pedido) '!G60","v":0},{"$f":"'Aferi (Pedido) '!H60","v":0},{"$f":"'Aferi (Pedido) '!I60","v":0},{"$f":"'Aferi (Pedido) '!J60","v":0}]
[{"$f":"'Aferi (Pedido) '!A61","v":0},{"$f":"'Aferi (Pedido) '!B61:C61","v":""},null,null,null,{"$f":"'Aferi (Pedido) '!E61","v":0},{"$f":"'Aferi (Pedido) '!G61","v":0},{"$f":"'Aferi (Pedido) '!H61","v":0},{"$f":"'Aferi (Pedido) '!I61","v":0},{"$f":"'Aferi (Pedido) '!J61","v":0}]
[{"$f":"'Aferi (Pedido) '!A62","v":0},{"$f":"'Aferi (Pedido) '!B62:C62","v":""},null,null,null,{"$f":"'Aferi (Pedido) '!E62","v":0},{"$f":"'Aferi (Pedido) '!G62","v":0},{"$f":"'Aferi (Pedido) '!H62","v":0},{"$f":"'Aferi (Pedido) '!I62","v":0},{"$f":"'Aferi (Pedido) '!J62","v":0}]
[{"$f":"'Aferi (Pedido) '!A63","v":0},{"$f":"'Aferi (Pedido) '!B63:C63","v":""},null,null,null,{"$f":"'Aferi (Pedido) '!E63","v":0},{"$f":"'Aferi (Pedido) '!G63","v":0},{"$f":"'Aferi (Pedido) '!H63","v":0},{"$f":"'Aferi (Pedido) '!I63","v":0},{"$f":"'Aferi (Pedido) '!J63","v":0}]
[{"$f":"'Aferi (Pedido) '!A64","v":0},{"$f":"'Aferi (Pedido) '!B64:C64","v":""},null,null,null,{"$f":"'Aferi (Pedido) '!E64","v":0},{"$f":"'Aferi (Pedido) '!G64","v":0},{"$f":"'Aferi (Pedido) '!H64","v":0},{"$f":"'Aferi (Pedido) '!I64","v":0},{"$f":"'Aferi (Pedido) '!J64","v":0}]
[{"$f":"'Aferi (Pedido) '!A65","v":0},{"$f":"'Aferi (Pedido) '!B65:C65","v":""},null,null,null,{"$f":"'Aferi (Pedido) '!E65","v":0},{"$f":"'Aferi (Pedido) '!G65","v":0},{"$f":"'Aferi (Pedido) '!H65","v":0},{"$f":"'Aferi (Pedido) '!I65","v":0},{"$f":"'Aferi (Pedido) '!J65","v":0}]
[{"$f":"'Aferi (Pedido) '!A66","v":0},{"$f":"'Aferi (Pedido) '!B66:C66","v":""},null,null,null,{"$f":"'Aferi (Pedido) '!E66","v":0},{"$f":"'Aferi (Pedido) '!G66","v":0},{"$f":"'Aferi (Pedido) '!H66","v":0},{"$f":"'Aferi (Pedido) '!I66","v":0},{"$f":"'Aferi (Pedido) '!J66","v":0}]
[{"$f":"'Aferi (Pedido) '!A67","v":0},{"$f":"'Aferi (Pedido) '!B67:C67","v":""},null,null,null,{"$f":"'Aferi (Pedido) '!E67","v":0},{"$f":"'Aferi (Pedido) '!G67","v":0},{"$f":"'Aferi (Pedido) '!H67","v":0},{"$f":"'Aferi (Pedido) '!I67","v":0},{"$f":"'Aferi (Pedido) '!J67","v":0}]
[{"$f":"'Aferi (Pedido) '!A68","v":0},{"$f":"'Aferi (Pedido) '!B68:C68","v":""},null,null,null,{"$f":"'Aferi (Pedido) '!E68","v":0},{"$f":"'Aferi (Pedido) '!G68","v":0},{"$f":"'Aferi (Pedido) '!H68","v":0},{"$f":"'Aferi (Pedido) '!I68","v":0},{"$f":"'Aferi (Pedido) '!J68","v":0}]
[{"$f":"'Aferi (Pedido) '!A69","v":0},{"$f":"'Aferi (Pedido) '!B69:C69","v":""},null,null,null,{"$f":"'Aferi (Pedido) '!E69","v":0},{"$f":"'Aferi (Pedido) '!G69","v":0},{"$f":"'Aferi (Pedido) '!H69","v":0},{"$f":"'Aferi (Pedido) '!I69","v":0},{"$f":"'Aferi (Pedido) '!J69","v":0}]
[{"$f":"'Aferi (Pedido) '!A70","v":0},{"$f":"'Aferi (Pedido) '!B70:C70","v":""},null,null,null,{"$f":"'Aferi (Pedido) '!E70","v":0},{"$f":"'Aferi (Pedido) '!G70","v":0},{"$f":"'Aferi (Pedido) '!H70","v":0},{"$f":"'Aferi (Pedido) '!I70","v":0},{"$f":"'Aferi (Pedido) '!J70","v":0}]
[{"$f":"'Aferi (Pedido) '!A71","v":0},{"$f":"'Aferi (Pedido) '!B71:C71","v":""},null,null,null,{"$f":"'Aferi (Pedido) '!E71","v":0},{"$f":"'Aferi (Pedido) '!G71","v":0},{"$f":"'Aferi (Pedido) '!H71","v":0},{"$f":"'Aferi (Pedido) '!I71","v":0},{"$f":"'Aferi (Pedido) '!J71","v":0}]
[{"$f":"'Aferi (Pedido) '!A72","v":0},{"$f":"'Aferi (Pedido) '!B72:C72","v":""},null,null,null,{"$f":"'Aferi (Pedido) '!E72","v":0},{"$f":"'Aferi (Pedido) '!G72","v":0},{"$f":"'Aferi (Pedido) '!H72","v":0},{"$f":"'Aferi (Pedido) '!I72","v":0},{"$f":"'Aferi (Pedido) '!J72","v":0}]
[{"$f":"'Aferi (Pedido) '!A73","v":0},{"$f":"'Aferi (Pedido) '!B73:C73","v":""},null,null,null,{"$f":"'Aferi (Pedido) '!E73","v":0},{"$f":"'Aferi (Pedido) '!G73","v":0},{"$f":"'Aferi (Pedido) '!H73","v":0},{"$f":"'Aferi (Pedido) '!I73","v":0},{"$f":"'Aferi (Pedido) '!J73","v":0}]
[{"$f":"'Aferi (Pedido) '!A74","v":0},{"$f":"'Aferi (Pedido) '!B74:C74","v":""},null,null,null,{"$f":"'Aferi (Pedido) '!E74","v":0},{"$f":"'Aferi (Pedido) '!G74","v":0},{"$f":"'Aferi (Pedido) '!H74","v":0},{"$f":"'Aferi (Pedido) '!I74","v":0},{"$f":"'Aferi (Pedido) '!J74","v":0}]
[{"$f":"'Aferi (Pedido) '!A75","v":0},{"$f":"'Aferi (Pedido) '!B75:C75","v":""},null,null,null,{"$f":"'Aferi (Pedido) '!E75","v":0},{"$f":"'Aferi (Pedido) '!G75","v":0},{"$f":"'Aferi (Pedido) '!H75","v":0},{"$f":"'Aferi (Pedido) '!I75","v":0},{"$f":"'Aferi (Pedido) '!J75","v":0}]
[{"$f":"'Aferi (Pedido) '!A76","v":0},{"$f":"'Aferi (Pedido) '!B76:C76","v":""},null,null,null,{"$f":"'Aferi (Pedido) '!E76","v":0},{"$f":"'Aferi (Pedido) '!G76","v":0},{"$f":"'Aferi (Pedido) '!H76","v":0},{"$f":"'Aferi (Pedido) '!I76","v":0},{"$f":"'Aferi (Pedido) '!J76","v":0}]
[{"$f":"'Aferi (Pedido) '!A77","v":0},{"$f":"'Aferi (Pedido) '!B77:C77","v":""},null,null,null,{"$f":"'Aferi (Pedido) '!E77","v":0},{"$f":"'Aferi (Pedido) '!G77","v":0},{"$f":"'Aferi (Pedido) '!H77","v":0},{"$f":"'Aferi (Pedido) '!I77","v":0},{"$f":"'Aferi (Pedido) '!J77","v":0}]
[{"$f":"'Aferi (Pedido) '!A78","v":0},{"$f":"'Aferi (Pedido) '!B78:C78","v":""},null,null,null,{"$f":"'Aferi (Pedido) '!E78","v":0},{"$f":"'Aferi (Pedido) '!G78","v":0},{"$f":"'Aferi (Pedido) '!H78","v":0},{"$f":"'Aferi (Pedido) '!I78","v":0},{"$f":"'Aferi (Pedido) '!J78","v":0}]
[{"$f":"'Aferi (Pedido) '!A79","v":0},{"$f":"'Aferi (Pedido) '!B79:C79","v":""},null,null,null,{"$f":"'Aferi (Pedido) '!E79","v":0},{"$f":"'Aferi (Pedido) '!G79","v":0},{"$f":"'Aferi (Pedido) '!H79","v":0},{"$f":"'Aferi (Pedido) '!I79","v":0},{"$f":"'Aferi (Pedido) '!J79","v":0}]
[{"$f":"'Aferi (Pedido) '!A80","v":0},{"$f":"'Aferi (Pedido) '!B80:C80","v":""},null,null,null,{"$f":"'Aferi (Pedido) '!E80","v":0},{"$f":"'Aferi (Pedido) '!G80","v":0},{"$f":"'Aferi (Pedido) '!H80","v":0},{"$f":"'Aferi (Pedido) '!I80","v":0},{"$f":"'Aferi (Pedido) '!J80","v":0}]
[{"$f":"'Aferi (Pedido) '!A81","v":0},{"$f":"'Aferi (Pedido) '!B81:C81","v":""},null,null,null,{"$f":"'Aferi (Pedido) '!E81","v":0},{"$f":"'Aferi (Pedido) '!G81","v":0},{"$f":"'Aferi (Pedido) '!H81","v":0},{"$f":"'Aferi (Pedido) '!I81","v":0},{"$f":"'Aferi (Pedido) '!J81","v":0}]
[{"$f":"'Aferi (Pedido) '!A82","v":0},{"$f":"'Aferi (Pedido) '!B82:C82","v":""},null,null,null,{"$f":"'Aferi (Pedido) '!E82","v":0},{"$f":"'Aferi (Pedido) '!G82","v":0},{"$f":"'Aferi (Pedido) '!H82","v":0},{"$f":"'Aferi (Pedido) '!I82","v":0},{"$f":"'Aferi (Pedido) '!J82","v":0}]
[{"$f":"'Aferi (Pedido) '!A83","v":0},{"$f":"'Aferi (Pedido) '!B83:C83","v":""},null,null,null,{"$f":"'Aferi (Pedido) '!E83","v":0},{"$f":"'Aferi (Pedido) '!G83","v":0},{"$f":"'Aferi (Pedido) '!H83","v":0},{"$f":"'Aferi (Pedido) '!I83","v":0},{"$f":"'Aferi (Pedido) '!J83","v":0}]
[{"$f":"'Aferi (Pedido) '!A84","v":0},{"$f":"'Aferi (Pedido) '!B84:C84","v":""},null,null,null,{"$f":"'Aferi (Pedido) '!E84","v":0},{"$f":"'Aferi (Pedido) '!G84","v":0},{"$f":"'Aferi (Pedido) '!H84","v":0},{"$f":"'Aferi (Pedido) '!I84","v":0},{"$f":"'Aferi (Pedido) '!J84","v":0}]
[{"$f":"'Aferi (Pedido) '!A85","v":0},{"$f":"'Aferi (Pedido) '!B85:C85","v":""},null,null,null,{"$f":"'Aferi (Pedido) '!E85","v":0},{"$f":"'Aferi (Pedido) '!G85","v":0},{"$f":"'Aferi (Pedido) '!H85","v":0},{"$f":"'Aferi (Pedido) '!I85","v":0},{"$f":"'Aferi (Pedido) '!J85","v":0}]
[{"$f":"'Aferi (Pedido) '!A86","v":0},{"$f":"'Aferi (Pedido) '!B86:C86","v":""},null,null,null,{"$f":"'Aferi (Pedido) '!E86","v":0},{"$f":"'Aferi (Pedido) '!G86","v":0},{"$f":"'Aferi (Pedido) '!H86","v":0},{"$f":"'Aferi (Pedido) '!I86","v":0},{"$f":"'Aferi (Pedido) '!J86","v":0}]
[{"$f":"'Aferi (Pedido) '!A87","v":0},{"$f":"'Aferi (Pedido) '!B87:C87","v":""},null,null,null,{"$f":"'Aferi (Pedido) '!E87","v":0},{"$f":"'Aferi (Pedido) '!G87","v":0},{"$f":"'Aferi (Pedido) '!H87","v":0},{"$f":"'Aferi (Pedido) '!I87","v":0},{"$f":"'Aferi (Pedido) '!J87","v":0}]
[{"$f":"'Aferi (Pedido) '!A88","v":0},{"$f":"'Aferi (Pedido) '!B88:C88","v":""},null,null,null,{"$f":"'Aferi (Pedido) '!E88","v":0},{"$f":"'Aferi (Pedido) '!G88","v":0},{"$f":"'Aferi (Pedido) '!H88","v":0},{"$f":"'Aferi (Pedido) '!I88","v":0},{"$f":"'Aferi (Pedido) '!J88","v":0}]
[{"$f":"'Aferi (Pedido) '!A89","v":0},{"$f":"'Aferi (Pedido) '!B89:C89","v":""},null,null,null,{"$f":"'Aferi (Pedido) '!E89","v":0},{"$f":"'Aferi (Pedido) '!G89","v":0},{"$f":"'Aferi (Pedido) '!H89","v":0},{"$f":"'Aferi (Pedido) '!I89","v":0},{"$f":"'Aferi (Pedido) '!J89","v":0}]
[{"$f":"'Aferi (Pedido) '!A90","v":0},{"$f":"'Aferi (Pedido) '!B90:C90","v":""},null,null,null,{"$f":"'Aferi (Pedido) '!E90","v":0},{"$f":"'Aferi (Pedido) '!G90","v":0},{"$f":"'Aferi (Pedido) '!H90","v":0},{"$f":"'Aferi (Pedido) '!I90","v":0},{"$f":"'Aferi (Pedido) '!J90","v":0}]
[{"$f":"'Aferi (Pedido) '!A91","v":0},{"$f":"'Aferi (Pedido) '!B91:C91","v":""},null,null,null,{"$f":"'Aferi (Pedido) '!E91","v":0},{"$f":"'Aferi (Pedido) '!G91","v":0},{"$f":"'Aferi (Pedido) '!H91","v":0},{"$f":"'Aferi (Pedido) '!I91","v":0},{"$f":"'Aferi (Pedido) '!J91","v":0}]
[{"$f":"'Aferi (Pedido) '!A92","v":0},{"$f":"'Aferi (Pedido) '!B92:C92","v":""},null,null,null,{"$f":"'Aferi (Pedido) '!E92","v":0},{"$f":"'Aferi (Pedido) '!G92","v":0},{"$f":"'Aferi (Pedido) '!H92","v":0},{"$f":"'Aferi (Pedido) '!I92","v":0},{"$f":"'Aferi (Pedido) '!J92","v":0}]
[{"$f":"'Aferi (Pedido) '!A93","v":0},{"$f":"'Aferi (Pedido) '!B93:C93","v":""},null,null,null,{"$f":"'Aferi (Pedido) '!E93","v":0},{"$f":"'Aferi (Pedido) '!G93","v":0},{"$f":"'Aferi (Pedido) '!H93","v":0},{"$f":"'Aferi (Pedido) '!I93","v":0},{"$f":"'Aferi (Pedido) '!J93","v":0}]
[{"$f":"'Aferi (Pedido) '!A94","v":0},{"$f":"'Aferi (Pedido) '!B94:C94","v":""},null,null,null,{"$f":"'Aferi (Pedido) '!E94","v":0},{"$f":"'Aferi (Pedido) '!G94","v":0},{"$f":"'Aferi (Pedido) '!H94","v":0},{"$f":"'Aferi (Pedido) '!I94","v":0},{"$f":"'Aferi (Pedido) '!J94","v":0}]
[{"$f":"'Aferi (Pedido) '!A95","v":0},{"$f":"'Aferi (Pedido) '!B95:C95","v":""},null,null,null,{"$f":"'Aferi (Pedido) '!E95","v":0},{"$f":"'Aferi (Pedido) '!G95","v":0},{"$f":"'Aferi (Pedido) '!H95","v":0},{"$f":"'Aferi (Pedido) '!I95","v":0},{"$f":"'Aferi (Pedido) '!J95","v":0}]
[{"$f":"'Aferi (Pedido) '!A96","v":0},{"$f":"'Aferi (Pedido) '!B96:C96","v":""},null,null,null,{"$f":"'Aferi (Pedido) '!E96","v":0},{"$f":"'Aferi (Pedido) '!G96","v":0},{"$f":"'Aferi (Pedido) '!H96","v":0},{"$f":"'Aferi (Pedido) '!I96","v":0},{"$f":"'Aferi (Pedido) '!J96","v":0}]
[{"$f":"'Aferi (Pedido) '!A97","v":0},{"$f":"'Aferi (Pedido) '!B97:C97","v":""},null,null,null,{"$f":"'Aferi (Pedido) '!E97","v":0},{"$f":"'Aferi (Pedido) '!G97","v":0},{"$f":"'Aferi (Pedido) '!H97","v":0},{"$f":"'Aferi (Pedido) '!I97","v":0},{"$f":"'Aferi (Pedido) '!J97","v":0}]
[{"$f":"'Aferi (Pedido) '!A98","v":0},{"$f":"'Aferi (Pedido) '!B98:C98","v":""},null,null,null,{"$f":"'Aferi (Pedido) '!E98","v":0},{"$f":"'Aferi (Pedido) '!G98","v":0},{"$f":"'Aferi (Pedido) '!H98","v":0},{"$f":"'Aferi (Pedido) '!I98","v":0},{"$f":"'Aferi (Pedido) '!J98","v":0}]
[{"$f":"'Aferi (Pedido) '!A99","v":0},{"$f":"'Aferi (Pedido) '!B99:C99","v":""},null,null,null,{"$f":"'Aferi (Pedido) '!E99","v":0},{"$f":"'Aferi (Pedido) '!G99","v":0},{"$f":"'Aferi (Pedido) '!H99","v":0},{"$f":"'Aferi (Pedido) '!I99","v":0},{"$f":"'Aferi (Pedido) '!J99","v":0}]
[{"$f":"'Aferi (Pedido) '!A100","v":0},{"$f":"'Aferi (Pedido) '!B100:C100","v":""},null,null,null,{"$f":"'Aferi (Pedido) '!E100","v":0},{"$f":"'Aferi (Pedido) '!G100","v":0},{"$f":"'Aferi (Pedido) '!H100","v":0},{"$f":"'Aferi (Pedido) '!I100","v":0},{"$f":"'Aferi (Pedido) '!J100","v":0}]
[{"$f":"'Aferi (Pedido) '!A101","v":0},{"$f":"'Aferi (Pedido) '!B101:C101","v":""},null,null,null,{"$f":"'Aferi (Pedido) '!E101","v":0},{"$f":"'Aferi (Pedido) '!G101","v":0},{"$f":"'Aferi (Pedido) '!H101","v":0},{"$f":"'Aferi (Pedido) '!I101","v":0},{"$f":"'Aferi (Pedido) '!J101","v":0}]
[{"$f":"'Aferi (Pedido) '!A102","v":0},{"$f":"'Aferi (Pedido) '!B102:C102","v":""},null,null,null,{"$f":"'Aferi (Pedido) '!E102","v":0},{"$f":"'Aferi (Pedido) '!G102","v":0},{"$f":"'Aferi (Pedido) '!H102","v":0},{"$f":"'Aferi (Pedido) '!I102","v":0},{"$f":"'Aferi (Pedido) '!J102","v":0}]
[{"$f":"'Aferi (Pedido) '!A103","v":0},{"$f":"'Aferi (Pedido) '!B103:C103","v":""},null,null,null,{"$f":"'Aferi (Pedido) '!E103","v":0},{"$f":"'Aferi (Pedido) '!G103","v":0},{"$f":"'Aferi (Pedido) '!H103","v":0},{"$f":"'Aferi (Pedido) '!I103","v":0},{"$f":"'Aferi (Pedido) '!J103","v":0}]
[{"$f":"'Aferi (Pedido) '!A104","v":0},{"$f":"'Aferi (Pedido) '!B104:C104","v":""},null,null,null,{"$f":"'Aferi (Pedido) '!E104","v":0},{"$f":"'Aferi (Pedido) '!G104","v":0},{"$f":"'Aferi (Pedido) '!H104","v":0},{"$f":"'Aferi (Pedido) '!I104","v":0},{"$f":"'Aferi (Pedido) '!J104","v":0}]
[{"$f":"'Aferi (Pedido) '!A105","v":0},{"$f":"'Aferi (Pedido) '!B105:C105","v":""},null,null,null,{"$f":"'Aferi (Pedido) '!E105","v":0},{"$f":"'Aferi (Pedido) '!G105","v":0},{"$f":"'Aferi (Pedido) '!H105","v":0},{"$f":"'Aferi (Pedido) '!I105","v":0},{"$f":"'Aferi (Pedido) '!J105","v":0}]
[{"$f":"'Aferi (Pedido) '!A106","v":0},{"$f":"'Aferi (Pedido) '!B106:C106","v":""},null,null,null,{"$f":"'Aferi (Pedido) '!E106","v":0},{"$f":"'Aferi (Pedido) '!G106","v":0},{"$f":"'Aferi (Pedido) '!H106","v":0},{"$f":"'Aferi (Pedido) '!I106","v":0},{"$f":"'Aferi (Pedido) '!J106","v":0}]
[{"$f":"'Aferi (Pedido) '!A107","v":0},{"$f":"'Aferi (Pedido) '!B107:C107","v":""},null,null,null,{"$f":"'Aferi (Pedido) '!E107","v":0},{"$f":"'Aferi (Pedido) '!G107","v":0},{"$f":"'Aferi (Pedido) '!H107","v":0},{"$f":"'Aferi (Pedido) '!I107","v":0},{"$f":"'Aferi (Pedido) '!J107","v":0}]
[{"$f":"'Aferi (Pedido) '!A108","v":0},{"$f":"'Aferi (Pedido) '!B108:C108","v":""},null,null,null,{"$f":"'Aferi (Pedido) '!E108","v":0},{"$f":"'Aferi (Pedido) '!G108","v":0},{"$f":"'Aferi (Pedido) '!H108","v":0},{"$f":"'Aferi (Pedido) '!I108","v":0},{"$f":"'Aferi (Pedido) '!J108","v":0}]
[{"$f":"'Aferi (Pedido) '!A109","v":0},{"$f":"'Aferi (Pedido) '!B109:C109","v":""},null,null,null,{"$f":"'Aferi (Pedido) '!E109","v":0},{"$f":"'Aferi (Pedido) '!G109","v":0},{"$f":"'Aferi (Pedido) '!H109","v":0},{"$f":"'Aferi (Pedido) '!I109","v":0},{"$f":"'Aferi (Pedido) '!J109","v":0}]
[{"$f":"'Aferi (Pedido) '!A110","v":0},{"$f":"'Aferi (Pedido) '!B110:C110","v":""},null,null,null,{"$f":"'Aferi (Pedido) '!E110","v":0},{"$f":"'Aferi (Pedido) '!G110","v":0},{"$f":"'Aferi (Pedido) '!H110","v":0},{"$f":"'Aferi (Pedido) '!I110","v":0},{"$f":"'Aferi (Pedido) '!J110","v":0}]
[{"$f":"'Aferi (Pedido) '!A111","v":0},{"$f":"'Aferi (Pedido) '!B111:C111","v":""},null,null,null,{"$f":"'Aferi (Pedido) '!E111","v":0},{"$f":"'Aferi (Pedido) '!G111","v":0},{"$f":"'Aferi (Pedido) '!H111","v":0},{"$f":"'Aferi (Pedido) '!I111","v":0},{"$f":"'Aferi (Pedido) '!J111","v":0}]
[{"$f":"'Aferi (Pedido) '!A112","v":0},{"$f":"'Aferi (Pedido) '!B112:C112","v":""},null,null,null,{"$f":"'Aferi (Pedido) '!E112","v":0},{"$f":"'Aferi (Pedido) '!G112","v":0},{"$f":"'Aferi (Pedido) '!H112","v":0},{"$f":"'Aferi (Pedido) '!I112","v":0},{"$f":"'Aferi (Pedido) '!J112","v":0}]
[{"$f":"'Aferi (Pedido) '!A113","v":0},{"$f":"'Aferi (Pedido) '!B113:C113","v":""},null,null,null,{"$f":"'Aferi (Pedido) '!E113","v":0},{"$f":"'Aferi (Pedido) '!G113","v":0},{"$f":"'Aferi (Pedido) '!H113","v":0},{"$f":"'Aferi (Pedido) '!I113","v":0},{"$f":"'Aferi (Pedido) '!J113","v":0}]
[{"$f":"'Aferi (Pedido) '!A114","v":0},{"$f":"'Aferi (Pedido) '!B114:C114","v":""},null,null,null,{"$f":"'Aferi (Pedido) '!E114","v":0},{"$f":"'Aferi (Pedido) '!G114","v":0},{"$f":"'Aferi (Pedido) '!H114","v":0},{"$f":"'Aferi (Pedido) '!I114","v":0},{"$f":"'Aferi (Pedido) '!J114","v":0}]
[{"$f":"'Aferi (Pedido) '!A115","v":0},{"$f":"'Aferi (Pedido) '!B115:C115","v":""},null,null,null,{"$f":"'Aferi (Pedido) '!E115","v":0},{"$f":"'Aferi (Pedido) '!G115","v":0},{"$f":"'Aferi (Pedido) '!H115","v":0},{"$f":"'Aferi (Pedido) '!I115","v":0},{"$f":"'Aferi (Pedido) '!J115","v":0}]
[{"$f":"'Aferi (Pedido) '!A116","v":0},{"$f":"'Aferi (Pedido) '!B116:C116","v":""},null,null,null,{"$f":"'Aferi (Pedido) '!E116","v":0},{"$f":"'Aferi (Pedido) '!G116","v":0},{"$f":"'Aferi (Pedido) '!H116","v":0},{"$f":"'Aferi (Pedido) '!I116","v":0},{"$f":"'Aferi (Pedido) '!J116","v":0}]
[{"$f":"'Aferi (Pedido) '!A117","v":0},{"$f":"'Aferi (Pedido) '!B117:C117","v":""},null,null,null,{"$f":"'Aferi (Pedido) '!E117","v":0},{"$f":"'Aferi (Pedido) '!G117","v":0},{"$f":"'Aferi (Pedido) '!H117","v":0},{"$f":"'Aferi (Pedido) '!I117","v":0},{"$f":"'Aferi (Pedido) '!J117","v":0}]
[{"$f":"'Aferi (Pedido) '!A118","v":0},{"$f":"'Aferi (Pedido) '!B118:C118","v":""},null,null,null,{"$f":"'Aferi (Pedido) '!E118","v":0},{"$f":"'Aferi (Pedido) '!G118","v":0},{"$f":"'Aferi (Pedido) '!H118","v":0},{"$f":"'Aferi (Pedido) '!I118","v":0},{"$f":"'Aferi (Pedido) '!J118","v":0}]
[{"$f":"'Aferi (Pedido) '!A119","v":0},{"$f":"'Aferi (Pedido) '!B119:C119","v":""},null,null,null,{"$f":"'Aferi (Pedido) '!E119","v":0},{"$f":"'Aferi (Pedido) '!G119","v":0},{"$f":"'Aferi (Pedido) '!H119","v":0},{"$f":"'Aferi (Pedido) '!I119","v":0},{"$f":"'Aferi (Pedido) '!J119","v":0}]
[{"$f":"'Aferi (Pedido) '!A120","v":0},{"$f":"'Aferi (Pedido) '!B120:C120","v":""},null,null,null,{"$f":"'Aferi (Pedido) '!E120","v":0},{"$f":"'Aferi (Pedido) '!G120","v":0},{"$f":"'Aferi (Pedido) '!H120","v":0},{"$f":"'Aferi (Pedido) '!I120","v":0},{"$f":"'Aferi (Pedido) '!J120","v":0}]
[{"$f":"'Aferi (Pedido) '!A121","v":0},{"$f":"'Aferi (Pedido) '!B121:C121","v":""},null,null,null,{"$f":"'Aferi (Pedido) '!E121","v":0},{"$f":"'Aferi (Pedido) '!G121","v":0},{"$f":"'Aferi (Pedido) '!H121","v":0},{"$f":"'Aferi (Pedido) '!I121","v":0},{"$f":"'Aferi (Pedido) '!J121","v":0}]
[{"$f":"'Aferi (Pedido) '!A122","v":0},{"$f":"'Aferi (Pedido) '!B122:C122","v":""},null,null,null,{"$f":"'Aferi (Pedido) '!E122","v":0},{"$f":"'Aferi (Pedido) '!G122","v":0},{"$f":"'Aferi (Pedido) '!H122","v":0},{"$f":"'Aferi (Pedido) '!I122","v":0},{"$f":"'Aferi (Pedido) '!J122","v":0}]
[{"$f":"'Aferi (Pedido) '!A123","v":0},{"$f":"'Aferi (Pedido) '!B123:C123","v":""},null,null,null,{"$f":"'Aferi (Pedido) '!E123","v":0},{"$f":"'Aferi (Pedido) '!G123","v":0},{"$f":"'Aferi (Pedido) '!H123","v":0},{"$f":"'Aferi (Pedido) '!I123","v":0},{"$f":"'Aferi (Pedido) '!J123","v":0}]
[{"$f":"'Aferi (Pedido) '!A124","v":0},{"$f":"'Aferi (Pedido) '!B124:C124","v":""},null,null,null,{"$f":"'Aferi (Pedido) '!E124","v":0},{"$f":"'Aferi (Pedido) '!G124","v":0},{"$f":"'Aferi (Pedido) '!H124","v":0},{"$f":"'Aferi (Pedido) '!I124","v":0},{"$f":"'Aferi (Pedido) '!J124","v":0}]
[{"$f":"'Aferi (Pedido) '!A125","v":0},{"$f":"'Aferi (Pedido) '!B125:C125","v":""},null,null,null,{"$f":"'Aferi (Pedido) '!E125","v":0},{"$f":"'Aferi (Pedido) '!G125","v":0},{"$f":"'Aferi (Pedido) '!H125","v":0},{"$f":"'Aferi (Pedido) '!I125","v":0},{"$f":"'Aferi (Pedido) '!J125","v":0}]
[{"$f":"'Aferi (Pedido) '!A126","v":0},{"$f":"'Aferi (Pedido) '!B126:C126","v":""},null,null,null,{"$f":"'Aferi (Pedido) '!E126","v":0},{"$f":"'Aferi (Pedido) '!G126","v":0},{"$f":"'Aferi (Pedido) '!H126","v":0},{"$f":"'Aferi (Pedido) '!I126","v":0},{"$f":"'Aferi (Pedido) '!J126","v":0}]
[{"$f":"'Aferi (Pedido) '!A127","v":0},{"$f":"'Aferi (Pedido) '!B127:C127","v":""},null,null,null,{"$f":"'Aferi (Pedido) '!E127","v":0},{"$f":"'Aferi (Pedido) '!G127","v":0},{"$f":"'Aferi (Pedido) '!H127","v":0},{"$f":"'Aferi (Pedido) '!I127","v":0},{"$f":"'Aferi (Pedido) '!J127","v":0}]
[{"$f":"'Aferi (Pedido) '!A128","v":0},{"$f":"'Aferi (Pedido) '!B128:C128","v":""},null,null,null,{"$f":"'Aferi (Pedido) '!E128","v":0},{"$f":"'Aferi (Pedido) '!G128","v":0},{"$f":"'Aferi (Pedido) '!H128","v":0},{"$f":"'Aferi (Pedido) '!I128","v":0},{"$f":"'Aferi (Pedido) '!J128","v":0}]
[{"$f":"'Aferi (Pedido) '!A129","v":0},{"$f":"'Aferi (Pedido) '!B129:C129","v":""},null,null,null,{"$f":"'Aferi (Pedido) '!E129","v":0},{"$f":"'Aferi (Pedido) '!G129","v":0},{"$f":"'Aferi (Pedido) '!H129","v":0},{"$f":"'Aferi (Pedido) '!I129","v":0},{"$f":"'Aferi (Pedido) '!J129","v":0}]
[{"$f":"'Aferi (Pedido) '!A130","v":0},{"$f":"'Aferi (Pedido) '!B130:C130","v":""},null,null,null,{"$f":"'Aferi (Pedido) '!E130","v":0},{"$f":"'Aferi (Pedido) '!G130","v":0},{"$f":"'Aferi (Pedido) '!H130","v":0},{"$f":"'Aferi (Pedido) '!I130","v":0},{"$f":"'Aferi (Pedido) '!J130","v":0}]
[{"$f":"'Aferi (Pedido) '!A131","v":0},{"$f":"'Aferi (Pedido) '!B131:C131","v":""},null,null,null,{"$f":"'Aferi (Pedido) '!E131","v":0},{"$f":"'Aferi (Pedido) '!G131","v":0},{"$f":"'Aferi (Pedido) '!H131","v":0},{"$f":"'Aferi (Pedido) '!I131","v":0},{"$f":"'Aferi (Pedido) '!J131","v":0}]
[{"$f":"'Aferi (Pedido) '!A132","v":0},{"$f":"'Aferi (Pedido) '!B132:C132","v":""},null,null,null,{"$f":"'Aferi (Pedido) '!E132","v":0},{"$f":"'Aferi (Pedido) '!G132","v":0},{"$f":"'Aferi (Pedido) '!H132","v":0},{"$f":"'Aferi (Pedido) '!I132","v":0},{"$f":"'Aferi (Pedido) '!J132","v":0}]
[{"$f":"'Aferi (Pedido) '!A133","v":0},{"$f":"'Aferi (Pedido) '!B133:C133","v":""},null,null,null,{"$f":"'Aferi (Pedido) '!E133","v":0},{"$f":"'Aferi (Pedido) '!G133","v":0},{"$f":"'Aferi (Pedido) '!H133","v":0},{"$f":"'Aferi (Pedido) '!I133","v":0},{"$f":"'Aferi (Pedido) '!J133","v":0}]
[{"$f":"'Aferi (Pedido) '!A134","v":0},{"$f":"'Aferi (Pedido) '!B134:C134","v":""},null,null,null,{"$f":"'Aferi (Pedido) '!E134","v":0},{"$f":"'Aferi (Pedido) '!G134","v":0},{"$f":"'Aferi (Pedido) '!H134","v":0},{"$f":"'Aferi (Pedido) '!I134","v":0},{"$f":"'Aferi (Pedido) '!J134","v":0}]
[{"$f":"'Aferi (Pedido) '!A135","v":0},{"$f":"'Aferi (Pedido) '!B135:C135","v":""},null,null,null,{"$f":"'Aferi (Pedido) '!E135","v":0},{"$f":"'Aferi (Pedido) '!G135","v":0},{"$f":"'Aferi (Pedido) '!H135","v":0},{"$f":"'Aferi (Pedido) '!I135","v":0},{"$f":"'Aferi (Pedido) '!J135","v":0}]
[{"$f":"'Aferi (Pedido) '!A136","v":0},{"$f":"'Aferi (Pedido) '!B136:C136","v":""},null,null,null,{"$f":"'Aferi (Pedido) '!E136","v":0},{"$f":"'Aferi (Pedido) '!G136","v":0},{"$f":"'Aferi (Pedido) '!H136","v":0},{"$f":"'Aferi (Pedido) '!I136","v":0},{"$f":"'Aferi (Pedido) '!J136","v":0}]
[{"$f":"'Aferi (Pedido) '!A137","v":0},{"$f":"'Aferi (Pedido) '!B137:C137","v":""},null,null,null,{"$f":"'Aferi (Pedido) '!E137","v":0},{"$f":"'Aferi (Pedido) '!G137","v":0},{"$f":"'Aferi (Pedido) '!H137","v":0},{"$f":"'Aferi (Pedido) '!I137","v":0},{"$f":"'Aferi (Pedido) '!J137","v":0}]
[{"$f":"'Aferi (Pedido) '!A138","v":0},{"$f":"'Aferi (Pedido) '!B138:C138","v":""},null,null,null,{"$f":"'Aferi (Pedido) '!E138","v":0},{"$f":"'Aferi (Pedido) '!G138","v":0},{"$f":"'Aferi (Pedido) '!H138","v":0},{"$f":"'Aferi (Pedido) '!I138","v":0},{"$f":"'Aferi (Pedido) '!J138","v":0}]
[{"$f":"'Aferi (Pedido) '!A139","v":0},{"$f":"'Aferi (Pedido) '!B139:C139","v":""},null,null,null,{"$f":"'Aferi (Pedido) '!E139","v":0},{"$f":"'Aferi (Pedido) '!G139","v":0},{"$f":"'Aferi (Pedido) '!H139","v":0},{"$f":"'Aferi (Pedido) '!I139","v":0},{"$f":"'Aferi (Pedido) '!J139","v":0}]
[{"$f":"'Aferi (Pedido) '!A140","v":0},{"$f":"'Aferi (Pedido) '!B140:C140","v":""},null,null,null,{"$f":"'Aferi (Pedido) '!E140","v":0},{"$f":"'Aferi (Pedido) '!G140","v":0},{"$f":"'Aferi (Pedido) '!H140","v":0},{"$f":"'Aferi (Pedido) '!I140","v":0},{"$f":"'Aferi (Pedido) '!J140","v":0}]
[{"$f":"'Aferi (Pedido) '!A141","v":0},{"$f":"'Aferi (Pedido) '!B141:C141","v":""},null,null,null,{"$f":"'Aferi (Pedido) '!E141","v":0},{"$f":"'Aferi (Pedido) '!G141","v":0},{"$f":"'Aferi (Pedido) '!H141","v":0},{"$f":"'Aferi (Pedido) '!I141","v":0},{"$f":"'Aferi (Pedido) '!J141","v":0}]
[{"$f":"'Aferi (Pedido) '!A142","v":0},{"$f":"'Aferi (Pedido) '!B142:C142","v":""},null,null,null,{"$f":"'Aferi (Pedido) '!E142","v":0},{"$f":"'Aferi (Pedido) '!G142","v":0},{"$f":"'Aferi (Pedido) '!H142","v":0},{"$f":"'Aferi (Pedido) '!I142","v":0},{"$f":"'Aferi (Pedido) '!J142","v":0}]
[{"$f":"'Aferi (Pedido) '!A143","v":0},{"$f":"'Aferi (Pedido) '!B143:C143","v":""},null,null,null,{"$f":"'Aferi (Pedido) '!E143","v":0},{"$f":"'Aferi (Pedido) '!G143","v":0},{"$f":"'Aferi (Pedido) '!H143","v":0},{"$f":"'Aferi (Pedido) '!I143","v":0},{"$f":"'Aferi (Pedido) '!J143","v":0}]
[{"$f":"'Aferi (Pedido) '!A144","v":0},{"$f":"'Aferi (Pedido) '!B144:C144","v":""},null,null,null,{"$f":"'Aferi (Pedido) '!E144","v":0},{"$f":"'Aferi (Pedido) '!G144","v":0},{"$f":"'Aferi (Pedido) '!H144","v":0},{"$f":"'Aferi (Pedido) '!I144","v":0},{"$f":"'Aferi (Pedido) '!J144","v":0}]
[{"$f":"'Aferi (Pedido) '!A145","v":0},{"$f":"'Aferi (Pedido) '!B145:C145","v":""},null,null,null,{"$f":"'Aferi (Pedido) '!E145","v":0},{"$f":"'Aferi (Pedido) '!G145","v":0},{"$f":"'Aferi (Pedido) '!H145","v":0},{"$f":"'Aferi (Pedido) '!I145","v":0},{"$f":"'Aferi (Pedido) '!J145","v":0}]
[{"$f":"'Aferi (Pedido) '!A146","v":0},{"$f":"'Aferi (Pedido) '!B146:C146","v":""},null,null,null,{"$f":"'Aferi (Pedido) '!E146","v":0},{"$f":"'Aferi (Pedido) '!G146","v":0},{"$f":"'Aferi (Pedido) '!H146","v":0},{"$f":"'Aferi (Pedido) '!I146","v":0},{"$f":"'Aferi (Pedido) '!J146","v":0}]
[{"$f":"'Aferi (Pedido) '!A147","v":0},{"$f":"'Aferi (Pedido) '!B147:C147","v":""},null,null,null,{"$f":"'Aferi (Pedido) '!E147","v":0},{"$f":"'Aferi (Pedido) '!G147","v":0},{"$f":"'Aferi (Pedido) '!H147","v":0},{"$f":"'Aferi (Pedido) '!I147","v":0},{"$f":"'Aferi (Pedido) '!J147","v":0}]
[{"$f":"'Aferi (Pedido) '!A148","v":0},{"$f":"'Aferi (Pedido) '!B148:C148","v":""},null,null,null,{"$f":"'Aferi (Pedido) '!E148","v":0},{"$f":"'Aferi (Pedido) '!G148","v":0},{"$f":"'Aferi (Pedido) '!H148","v":0},{"$f":"'Aferi (Pedido) '!I148","v":0},{"$f":"'Aferi (Pedido) '!J148","v":0}]
[{"$f":"'Aferi (Pedido) '!A149","v":0},{"$f":"'Aferi (Pedido) '!B149:C149","v":""},null,null,null,{"$f":"'Aferi (Pedido) '!E149","v":0},{"$f":"'Aferi (Pedido) '!G149","v":0},{"$f":"'Aferi (Pedido) '!H149","v":0},{"$f":"'Aferi (Pedido) '!I149","v":0},{"$f":"'Aferi (Pedido) '!J149","v":0}]
[{"$f":"'Aferi (Pedido) '!A150","v":0},{"$f":"'Aferi (Pedido) '!B150:C150","v":""},null,null,null,{"$f":"'Aferi (Pedido) '!E150","v":0},{"$f":"'Aferi (Pedido) '!G150","v":0},{"$f":"'Aferi (Pedido) '!H150","v":0},{"$f":"'Aferi (Pedido) '!I150","v":0},{"$f":"'Aferi (Pedido) '!J150","v":0}]
[{"$f":"'Aferi (Pedido) '!A151","v":0},{"$f":"'Aferi (Pedido) '!B151:C151","v":""},null,null,null,{"$f":"'Aferi (Pedido) '!E151","v":0},{"$f":"'Aferi (Pedido) '!G151","v":0},{"$f":"'Aferi (Pedido) '!H151","v":0},{"$f":"'Aferi (Pedido) '!I151","v":0},{"$f":"'Aferi (Pedido) '!J151","v":0}]
[{"$f":"'Aferi (Pedido) '!A152","v":0},{"$f":"'Aferi (Pedido) '!B152:C152","v":""},null,null,null,{"$f":"'Aferi (Pedido) '!E152","v":0},{"$f":"'Aferi (Pedido) '!G152","v":0},{"$f":"'Aferi (Pedido) '!H152","v":0},{"$f":"'Aferi (Pedido) '!I152","v":0},{"$f":"'Aferi (Pedido) '!J152","v":0}]
[{"$f":"'Aferi (Pedido) '!A153","v":0},{"$f":"'Aferi (Pedido) '!B153:C153","v":""},null,null,null,{"$f":"'Aferi (Pedido) '!E153","v":0},{"$f":"'Aferi (Pedido) '!G153","v":0},{"$f":"'Aferi (Pedido) '!H153","v":0},{"$f":"'Aferi (Pedido) '!I153","v":0},{"$f":"'Aferi (Pedido) '!J153","v":0}]
[{"$f":"'Aferi (Pedido) '!A154","v":0},{"$f":"'Aferi (Pedido) '!B154:C154","v":""},null,null,null,{"$f":"'Aferi (Pedido) '!E154","v":0},{"$f":"'Aferi (Pedido) '!G154","v":0},{"$f":"'Aferi (Pedido) '!H154","v":0},{"$f":"'Aferi (Pedido) '!I154","v":0},{"$f":"'Aferi (Pedido) '!J154","v":0}]
[{"$f":"'Aferi (Pedido) '!A155","v":0},{"$f":"'Aferi (Pedido) '!B155:C155","v":""},null,null,null,{"$f":"'Aferi (Pedido) '!E155","v":0},{"$f":"'Aferi (Pedido) '!G155","v":0},{"$f":"'Aferi (Pedido) '!H155","v":0},{"$f":"'Aferi (Pedido) '!I155","v":0},{"$f":"'Aferi (Pedido) '!J155","v":0}]
[{"$f":"'Aferi (Pedido) '!A156","v":0},{"$f":"'Aferi (Pedido) '!B156:C156","v":""},null,null,null,{"$f":"'Aferi (Pedido) '!E156","v":0},{"$f":"'Aferi (Pedido) '!G156","v":0},{"$f":"'Aferi (Pedido) '!H156","v":0},{"$f":"'Aferi (Pedido) '!I156","v":0},{"$f":"'Aferi (Pedido) '!J156","v":0}]
[{"$f":"'Aferi (Pedido) '!A157","v":0},{"$f":"'Aferi (Pedido) '!B157:C157","v":""},null,null,null,{"$f":"'Aferi (Pedido) '!E157","v":0},{"$f":"'Aferi (Pedido) '!G157","v":0},{"$f":"'Aferi (Pedido) '!H157","v":0},{"$f":"'Aferi (Pedido) '!I157","v":0},{"$f":"'Aferi (Pedido) '!J157","v":0}]
[{"$f":"'Aferi (Pedido) '!A158","v":0},{"$f":"'Aferi (Pedido) '!B158:C158","v":""},null,null,null,{"$f":"'Aferi (Pedido) '!E158","v":0},{"$f":"'Aferi (Pedido) '!G158","v":0},{"$f":"'Aferi (Pedido) '!H158","v":0},{"$f":"'Aferi (Pedido) '!I158","v":0},{"$f":"'Aferi (Pedido) '!J158","v":0}]
[{"$f":"'Aferi (Pedido) '!A159","v":0},{"$f":"'Aferi (Pedido) '!B159:C159","v":""},null,null,null,{"$f":"'Aferi (Pedido) '!E159","v":0},{"$f":"'Aferi (Pedido) '!G159","v":0},{"$f":"'Aferi (Pedido) '!H159","v":0},{"$f":"'Aferi (Pedido) '!I159","v":0},{"$f":"'Aferi (Pedido) '!J159","v":0}]
[{"$f":"'Aferi (Pedido) '!A160","v":0},{"$f":"'Aferi (Pedido) '!B160:C160","v":""},null,null,null,{"$f":"'Aferi (Pedido) '!E160","v":0},{"$f":"'Aferi (Pedido) '!G160","v":0},{"$f":"'Aferi (Pedido) '!H160","v":0},{"$f":"'Aferi (Pedido) '!I160","v":0},{"$f":"'Aferi (Pedido) '!J160","v":0}]
[{"$f":"'Aferi (Pedido) '!A161","v":0},{"$f":"'Aferi (Pedido) '!B161:C161","v":""},null,null,null,{"$f":"'Aferi (Pedido) '!E161","v":0},{"$f":"'Aferi (Pedido) '!G161","v":0},{"$f":"'Aferi (Pedido) '!H161","v":0},{"$f":"'Aferi (Pedido) '!I161","v":0},{"$f":"'Aferi (Pedido) '!J161","v":0}]
[{"$f":"'Aferi (Pedido) '!A162","v":0},{"$f":"'Aferi (Pedido) '!B162:C162","v":""},null,null,null,{"$f":"'Aferi (Pedido) '!E162","v":0},{"$f":"'Aferi (Pedido) '!G162","v":0},{"$f":"'Aferi (Pedido) '!H162","v":0},{"$f":"'Aferi (Pedido) '!I162","v":0},{"$f":"'Aferi (Pedido) '!J162","v":0}]
[{"$f":"'Aferi (Pedido) '!A163","v":0},{"$f":"'Aferi (Pedido) '!B163:C163","v":""},null,null,null,{"$f":"'Aferi (Pedido) '!E163","v":0},{"$f":"'Aferi (Pedido) '!G163","v":0},{"$f":"'Aferi (Pedido) '!H163","v":0},{"$f":"'Aferi (Pedido) '!I163","v":0},{"$f":"'Aferi (Pedido) '!J163","v":0}]
[{"$f":"'Aferi (Pedido) '!A164","v":0},{"$f":"'Aferi (Pedido) '!B164:C164","v":""},null,null,null,{"$f":"'Aferi (Pedido) '!E164","v":0},{"$f":"'Aferi (Pedido) '!G164","v":0},{"$f":"'Aferi (Pedido) '!H164","v":0},{"$f":"'Aferi (Pedido) '!I164","v":0},{"$f":"'Aferi (Pedido) '!J164","v":0}]
[{"$f":"'Aferi (Pedido) '!A165","v":0},{"$f":"'Aferi (Pedido) '!B165:C165","v":""},null,null,null,{"$f":"'Aferi (Pedido) '!E165","v":0},{"$f":"'Aferi (Pedido) '!G165","v":0},{"$f":"'Aferi (Pedido) '!H165","v":0},{"$f":"'Aferi (Pedido) '!I165","v":0},{"$f":"'Aferi (Pedido) '!J165","v":0}]
[{"$f":"'Aferi (Pedido) '!A166","v":0},{"$f":"'Aferi (Pedido) '!B166:C166","v":""},null,null,null,{"$f":"'Aferi (Pedido) '!E166","v":0},{"$f":"'Aferi (Pedido) '!G166","v":0},{"$f":"'Aferi (Pedido) '!H166","v":0},{"$f":"'Aferi (Pedido) '!I166","v":0},{"$f":"'Aferi (Pedido) '!J166","v":0}]
[{"$f":"'Aferi (Pedido) '!A167","v":0},{"$f":"'Aferi (Pedido) '!B167:C167","v":""},null,null,null,{"$f":"'Aferi (Pedido) '!E167","v":0},{"$f":"'Aferi (Pedido) '!G167","v":0},{"$f":"'Aferi (Pedido) '!H167","v":0},{"$f":"'Aferi (Pedido) '!I167","v":0},{"$f":"'Aferi (Pedido) '!J167","v":0}]
[{"$f":"'Aferi (Pedido) '!A168","v":0},{"$f":"'Aferi (Pedido) '!B168:C168","v":""},null,null,null,{"$f":"'Aferi (Pedido) '!E168","v":0},{"$f":"'Aferi (Pedido) '!G168","v":0},{"$f":"'Aferi (Pedido) '!H168","v":0},{"$f":"'Aferi (Pedido) '!I168","v":0},{"$f":"'Aferi (Pedido) '!J168","v":0}]
[{"$f":"'Aferi (Pedido) '!A169","v":0},{"$f":"'Aferi (Pedido) '!B169:C169","v":""},null,null,null,{"$f":"'Aferi (Pedido) '!E169","v":0},{"$f":"'Aferi (Pedido) '!G169","v":0},{"$f":"'Aferi (Pedido) '!H169","v":0},{"$f":"'Aferi (Pedido) '!I169","v":0},{"$f":"'Aferi (Pedido) '!J169","v":0}]
[{"$f":"'Aferi (Pedido) '!A170","v":0},{"$f":"'Aferi (Pedido) '!B170:C170","v":""},null,null,null,{"$f":"'Aferi (Pedido) '!E170","v":0},{"$f":"'Aferi (Pedido) '!G170","v":0},{"$f":"'Aferi (Pedido) '!H170","v":0},{"$f":"'Aferi (Pedido) '!I170","v":0},{"$f":"'Aferi (Pedido) '!J170","v":0}]
[{"$f":"'Aferi (Pedido) '!A171","v":0},{"$f":"'Aferi (Pedido) '!B171:C171","v":""},null,null,null,{"$f":"'Aferi (Pedido) '!E171","v":0},{"$f":"'Aferi (Pedido) '!G171","v":0},{"$f":"'Aferi (Pedido) '!H171","v":0},{"$f":"'Aferi (Pedido) '!I171","v":0},{"$f":"'Aferi (Pedido) '!J171","v":0}]
[{"$f":"'Aferi (Pedido) '!A172","v":0},{"$f":"'Aferi (Pedido) '!B172:C172","v":""},null,null,null,{"$f":"'Aferi (Pedido) '!E172","v":0},{"$f":"'Aferi (Pedido) '!G172","v":0},{"$f":"'Aferi (Pedido) '!H172","v":0},{"$f":"'Aferi (Pedido) '!I172","v":0},{"$f":"'Aferi (Pedido) '!J172","v":0}]
[{"$f":"'Aferi (Pedido) '!A173","v":0},{"$f":"'Aferi (Pedido) '!B173:C173","v":""},null,null,null,{"$f":"'Aferi (Pedido) '!E173","v":0},{"$f":"'Aferi (Pedido) '!G173","v":0},{"$f":"'Aferi (Pedido) '!H173","v":0},{"$f":"'Aferi (Pedido) '!I173","v":0},{"$f":"'Aferi (Pedido) '!J173","v":0}]
[{"$f":"'Aferi (Pedido) '!A174","v":0},{"$f":"'Aferi (Pedido) '!B174:C174","v":""},null,null,null,{"$f":"'Aferi (Pedido) '!E174","v":0},{"$f":"'Aferi (Pedido) '!G174","v":0},{"$f":"'Aferi (Pedido) '!H174","v":0},{"$f":"'Aferi (Pedido) '!I174","v":0},{"$f":"'Aferi (Pedido) '!J174","v":0}]
[{"$f":"'Aferi (Pedido) '!A175","v":0},{"$f":"'Aferi (Pedido) '!B175:C175","v":""},null,null,null,{"$f":"'Aferi (Pedido) '!E175","v":0},{"$f":"'Aferi (Pedido) '!G175","v":0},{"$f":"'Aferi (Pedido) '!H175","v":0},{"$f":"'Aferi (Pedido) '!I175","v":0},{"$f":"'Aferi (Pedido) '!J175","v":0}]
[{"$f":"'Aferi (Pedido) '!A176","v":0},{"$f":"'Aferi (Pedido) '!B176:C176","v":""},null,null,null,{"$f":"'Aferi (Pedido) '!E176","v":0},{"$f":"'Aferi (Pedido) '!G176","v":0},{"$f":"'Aferi (Pedido) '!H176","v":0},{"$f":"'Aferi (Pedido) '!I176","v":0},{"$f":"'Aferi (Pedido) '!J176","v":0}]
[{"$f":"'Aferi (Pedido) '!A177","v":0},{"$f":"'Aferi (Pedido) '!B177:C177","v":""},null,null,null,{"$f":"'Aferi (Pedido) '!E177","v":0},{"$f":"'Aferi (Pedido) '!G177","v":0},{"$f":"'Aferi (Pedido) '!H177","v":0},{"$f":"'Aferi (Pedido) '!I177","v":0},{"$f":"'Aferi (Pedido) '!J177","v":0}]
[{"$f":"'Aferi (Pedido) '!A178","v":0},{"$f":"'Aferi (Pedido) '!B178:C178","v":""},null,null,null,{"$f":"'Aferi (Pedido) '!E178","v":0},{"$f":"'Aferi (Pedido) '!G178","v":0},{"$f":"'Aferi (Pedido) '!H178","v":0},{"$f":"'Aferi (Pedido) '!I178","v":0},{"$f":"'Aferi (Pedido) '!J178","v":0}]
[{"$f":"'Aferi (Pedido) '!A179","v":0},{"$f":"'Aferi (Pedido) '!B179:C179","v":""},null,null,null,{"$f":"'Aferi (Pedido) '!E179","v":0},{"$f":"'Aferi (Pedido) '!G179","v":0},{"$f":"'Aferi (Pedido) '!H179","v":0},{"$f":"'Aferi (Pedido) '!I179","v":0},{"$f":"'Aferi (Pedido) '!J179","v":0}]
[{"$f":"'Aferi (Pedido) '!A180","v":0},{"$f":"'Aferi (Pedido) '!B180:C180","v":""},null,null,null,{"$f":"'Aferi (Pedido) '!E180","v":0},{"$f":"'Aferi (Pedido) '!G180","v":0},{"$f":"'Aferi (Pedido) '!H180","v":0},{"$f":"'Aferi (Pedido) '!I180","v":0},{"$f":"'Aferi (Pedido) '!J180","v":0}]
[{"$f":"'Aferi (Pedido) '!A181","v":0},{"$f":"'Aferi (Pedido) '!B181:C181","v":""},null,null,null,{"$f":"'Aferi (Pedido) '!E181","v":0},{"$f":"'Aferi (Pedido) '!G181","v":0},{"$f":"'Aferi (Pedido) '!H181","v":0},{"$f":"'Aferi (Pedido) '!I181","v":0},{"$f":"'Aferi (Pedido) '!J181","v":0}]
[{"$f":"'Aferi (Pedido) '!A182","v":0},{"$f":"'Aferi (Pedido) '!B182:C182","v":""},null,null,null,{"$f":"'Aferi (Pedido) '!E182","v":0},{"$f":"'Aferi (Pedido) '!G182","v":0},{"$f":"'Aferi (Pedido) '!H182","v":0},{"$f":"'Aferi (Pedido) '!I182","v":0},{"$f":"'Aferi (Pedido) '!J182","v":0}]
[{"$f":"'Aferi (Pedido) '!A183","v":0},{"$f":"'Aferi (Pedido) '!B183:C183","v":""},null,null,null,{"$f":"'Aferi (Pedido) '!E183","v":0},{"$f":"'Aferi (Pedido) '!G183","v":0},{"$f":"'Aferi (Pedido) '!H183","v":0},{"$f":"'Aferi (Pedido) '!I183","v":0},{"$f":"'Aferi (Pedido) '!J183","v":0}]
[{"$f":"'Aferi (Pedido) '!A184","v":0},{"$f":"'Aferi (Pedido) '!B184:C184","v":""},null,null,null,{"$f":"'Aferi (Pedido) '!E184","v":0},{"$f":"'Aferi (Pedido) '!G184","v":0},{"$f":"'Aferi (Pedido) '!H184","v":0},{"$f":"'Aferi (Pedido) '!I184","v":0},{"$f":"'Aferi (Pedido) '!J184","v":0}]
[{"$f":"'Aferi (Pedido) '!A185","v":0},{"$f":"'Aferi (Pedido) '!B185:C185","v":""},null,null,null,{"$f":"'Aferi (Pedido) '!E185","v":0},{"$f":"'Aferi (Pedido) '!G185","v":0},{"$f":"'Aferi (Pedido) '!H185","v":0},{"$f":"'Aferi (Pedido) '!I185","v":0},{"$f":"'Aferi (Pedido) '!J185","v":0}]
[{"$f":"'Aferi (Pedido) '!A186","v":0},{"$f":"'Aferi (Pedido) '!B186:C186","v":""},null,null,null,{"$f":"'Aferi (Pedido) '!E186","v":0},{"$f":"'Aferi (Pedido) '!G186","v":0},{"$f":"'Aferi (Pedido) '!H186","v":0},{"$f":"'Aferi (Pedido) '!I186","v":0},{"$f":"'Aferi (Pedido) '!J186","v":0}]
[{"$f":"'Aferi (Pedido) '!A187","v":0},{"$f":"'Aferi (Pedido) '!B187:C187","v":""},null,null,null,{"$f":"'Aferi (Pedido) '!E187","v":0},{"$f":"'Aferi (Pedido) '!G187","v":0},{"$f":"'Aferi (Pedido) '!H187","v":0},{"$f":"'Aferi (Pedido) '!I187","v":0},{"$f":"'Aferi (Pedido) '!J187","v":0}]
[{"$f":"'Aferi (Pedido) '!A188","v":0},{"$f":"'Aferi (Pedido) '!B188:C188","v":""},null,null,null,{"$f":"'Aferi (Pedido) '!E188","v":0},{"$f":"'Aferi (Pedido) '!G188","v":0},{"$f":"'Aferi (Pedido) '!H188","v":0},{"$f":"'Aferi (Pedido) '!I188","v":0},{"$f":"'Aferi (Pedido) '!J188","v":0}]
[{"$f":"'Aferi (Pedido) '!A189","v":0},{"$f":"'Aferi (Pedido) '!B189:C189","v":""},null,null,null,{"$f":"'Aferi (Pedido) '!E189","v":0},{"$f":"'Aferi (Pedido) '!G189","v":0},{"$f":"'Aferi (Pedido) '!H189","v":0},{"$f":"'Aferi (Pedido) '!I189","v":0},{"$f":"'Aferi (Pedido) '!J189","v":0}]
[{"$f":"'Aferi (Pedido) '!A190","v":0},{"$f":"'Aferi (Pedido) '!B190:C190","v":""},null,null,null,{"$f":"'Aferi (Pedido) '!E190","v":0},{"$f":"'Aferi (Pedido) '!G190","v":0},{"$f":"'Aferi (Pedido) '!H190","v":0},{"$f":"'Aferi (Pedido) '!I190","v":0},{"$f":"'Aferi (Pedido) '!J190","v":0}]
[{"$f":"'Aferi (Pedido) '!A191","v":0},{"$f":"'Aferi (Pedido) '!B191:C191","v":""},null,null,null,{"$f":"'Aferi (Pedido) '!E191","v":0},{"$f":"'Aferi (Pedido) '!G191","v":0},{"$f":"'Aferi (Pedido) '!H191","v":0},{"$f":"'Aferi (Pedido) '!I191","v":0},{"$f":"'Aferi (Pedido) '!J191","v":0}]
[{"$f":"'Aferi (Pedido) '!A192","v":0},{"$f":"'Aferi (Pedido) '!B192:C192","v":""},null,null,null,{"$f":"'Aferi (Pedido) '!E192","v":0},{"$f":"'Aferi (Pedido) '!G192","v":0},{"$f":"'Aferi (Pedido) '!H192","v":0},{"$f":"'Aferi (Pedido) '!I192","v":0},{"$f":"'Aferi (Pedido) '!J192","v":0}]
[{"$f":"'Aferi (Pedido) '!A193","v":0},{"$f":"'Aferi (Pedido) '!B193:C193","v":""},null,null,null,{"$f":"'Aferi (Pedido) '!E193","v":0},{"$f":"'Aferi (Pedido) '!G193","v":0},{"$f":"'Aferi (Pedido) '!H193","v":0},{"$f":"'Aferi (Pedido) '!I193","v":0},{"$f":"'Aferi (Pedido) '!J193","v":0}]
[{"$f":"'Aferi (Pedido) '!A194","v":0},{"$f":"'Aferi (Pedido) '!B194:C194","v":""},null,null,null,{"$f":"'Aferi (Pedido) '!E194","v":0},{"$f":"'Aferi (Pedido) '!G194","v":0},{"$f":"'Aferi (Pedido) '!H194","v":0},{"$f":"'Aferi (Pedido) '!I194","v":0},{"$f":"'Aferi (Pedido) '!J194","v":0}]
[{"$f":"'Aferi (Pedido) '!A195","v":0},{"$f":"'Aferi (Pedido) '!B195:C195","v":""},null,null,null,{"$f":"'Aferi (Pedido) '!E195","v":0},{"$f":"'Aferi (Pedido) '!G195","v":0},{"$f":"'Aferi (Pedido) '!H195","v":0},{"$f":"'Aferi (Pedido) '!I195","v":0},{"$f":"'Aferi (Pedido) '!J195","v":0}]
[{"$f":"'Aferi (Pedido) '!A196","v":0},{"$f":"'Aferi (Pedido) '!B196:C196","v":""},null,null,null,{"$f":"'Aferi (Pedido) '!E196","v":0},{"$f":"'Aferi (Pedido) '!G196","v":0},{"$f":"'Aferi (Pedido) '!H196","v":0},{"$f":"'Aferi (Pedido) '!I196","v":0},{"$f":"'Aferi (Pedido) '!J196","v":0}]
[{"$f":"'Aferi (Pedido) '!A197","v":0},{"$f":"'Aferi (Pedido) '!B197:C197","v":""},null,null,null,{"$f":"'Aferi (Pedido) '!E197","v":0},{"$f":"'Aferi (Pedido) '!G197","v":0},{"$f":"'Aferi (Pedido) '!H197","v":0},{"$f":"'Aferi (Pedido) '!I197","v":0},{"$f":"'Aferi (Pedido) '!J197","v":0}]
[{"$f":"'Aferi (Pedido) '!A198","v":0},{"$f":"'Aferi (Pedido) '!B198:C198","v":""},null,null,null,{"$f":"'Aferi (Pedido) '!E198","v":0},{"$f":"'Aferi (Pedido) '!G198","v":0},{"$f":"'Aferi (Pedido) '!H198","v":0},{"$f":"'Aferi (Pedido) '!I198","v":0},{"$f":"'Aferi (Pedido) '!J198","v":0}]
[{"$f":"'Aferi (Pedido) '!A199","v":0},{"$f":"'Aferi (Pedido) '!B199:C199","v":""},null,null,null,{"$f":"'Aferi (Pedido) '!E199","v":0},{"$f":"'Aferi (Pedido) '!G199","v":0},{"$f":"'Aferi (Pedido) '!H199","v":0},{"$f":"'Aferi (Pedido) '!I199","v":0},{"$f":"'Aferi (Pedido) '!J199","v":0}]
[{"$f":"'Aferi (Pedido) '!A200","v":0},{"$f":"'Aferi (Pedido) '!B200:C200","v":""},null,null,null,{"$f":"'Aferi (Pedido) '!E200","v":0},{"$f":"'Aferi (Pedido) '!G200","v":0},{"$f":"'Aferi (Pedido) '!H200","v":0},{"$f":"'Aferi (Pedido) '!I200","v":0},{"$f":"'Aferi (Pedido) '!J200","v":0}]
[{"$f":"'Aferi (Pedido) '!A201","v":0},{"$f":"'Aferi (Pedido) '!B201:C201","v":""},null,null,null,{"$f":"'Aferi (Pedido) '!E201","v":0},{"$f":"'Aferi (Pedido) '!G201","v":0},{"$f":"'Aferi (Pedido) '!H201","v":0},{"$f":"'Aferi (Pedido) '!I201","v":0},{"$f":"'Aferi (Pedido) '!J201","v":0}]
[{"$f":"'Aferi (Pedido) '!A202","v":0},{"$f":"'Aferi (Pedido) '!B202:C202","v":""},null,null,null,{"$f":"'Aferi (Pedido) '!E202","v":0},{"$f":"'Aferi (Pedido) '!G202","v":0},{"$f":"'Aferi (Pedido) '!H202","v":0},{"$f":"'Aferi (Pedido) '!I202","v":0},{"$f":"'Aferi (Pedido) '!J202","v":0}]
[{"$f":"'Aferi (Pedido) '!A203","v":0},{"$f":"'Aferi (Pedido) '!B203:C203","v":""},null,null,null,{"$f":"'Aferi (Pedido) '!E203","v":0},{"$f":"'Aferi (Pedido) '!G203","v":0},{"$f":"'Aferi (Pedido) '!H203","v":0},{"$f":"'Aferi (Pedido) '!I203","v":0},{"$f":"'Aferi (Pedido) '!J203","v":0}]
[{"$f":"'Aferi (Pedido) '!A204","v":0},{"$f":"'Aferi (Pedido) '!B204:C204","v":""},null,null,null,{"$f":"'Aferi (Pedido) '!E204","v":0},{"$f":"'Aferi (Pedido) '!G204","v":0},{"$f":"'Aferi (Pedido) '!H204","v":0},{"$f":"'Aferi (Pedido) '!I204","v":0},{"$f":"'Aferi (Pedido) '!J204","v":0}]
[{"$f":"'Aferi (Pedido) '!A205","v":0},{"$f":"'Aferi (Pedido) '!B205:C205","v":""},null,null,null,{"$f":"'Aferi (Pedido) '!E205","v":0},{"$f":"'Aferi (Pedido) '!G205","v":0},{"$f":"'Aferi (Pedido) '!H205","v":0},{"$f":"'Aferi (Pedido) '!I205","v":0},{"$f":"'Aferi (Pedido) '!J205","v":0}]
[{"$f":"'Aferi (Pedido) '!A206","v":0},{"$f":"'Aferi (Pedido) '!B206:C206","v":""},null,null,null,{"$f":"'Aferi (Pedido) '!E206","v":0},{"$f":"'Aferi (Pedido) '!G206","v":0},{"$f":"'Aferi (Pedido) '!H206","v":0},{"$f":"'Aferi (Pedido) '!I206","v":0},{"$f":"'Aferi (Pedido) '!J206","v":0}]
[{"$f":"'Aferi (Pedido) '!A207","v":0},{"$f":"'Aferi (Pedido) '!B207:C207","v":""},null,null,null,{"$f":"'Aferi (Pedido) '!E207","v":0},{"$f":"'Aferi (Pedido) '!G207","v":0},{"$f":"'Aferi (Pedido) '!H207","v":0},{"$f":"'Aferi (Pedido) '!I207","v":0},{"$f":"'Aferi (Pedido) '!J207","v":0}]
[{"$f":"'Aferi (Pedido) '!A208","v":0},{"$f":"'Aferi (Pedido) '!B208:C208","v":""},null,null,null,{"$f":"'Aferi (Pedido) '!E208","v":0},{"$f":"'Aferi (Pedido) '!G208","v":0},{"$f":"'Aferi (Pedido) '!H208","v":0},{"$f":"'Aferi (Pedido) '!I208","v":0},{"$f":"'Aferi (Pedido) '!J208","v":0}]
[{"$f":"'Aferi (Pedido) '!A209","v":0},{"$f":"'Aferi (Pedido) '!B209:C209","v":""},null,null,null,{"$f":"'Aferi (Pedido) '!E209","v":0},{"$f":"'Aferi (Pedido) '!G209","v":0},{"$f":"'Aferi (Pedido) '!H209","v":0},{"$f":"'Aferi (Pedido) '!I209","v":0},{"$f":"'Aferi (Pedido) '!J209","v":0}]
[{"$f":"'Aferi (Pedido) '!A210","v":0},{"$f":"'Aferi (Pedido) '!B210:C210","v":""},null,null,null,{"$f":"'Aferi (Pedido) '!E210","v":0},{"$f":"'Aferi (Pedido) '!G210","v":0},{"$f":"'Aferi (Pedido) '!H210","v":0},{"$f":"'Aferi (Pedido) '!I210","v":0},{"$f":"'Aferi (Pedido) '!J210","v":0}]
[{"$f":"'Aferi (Pedido) '!A211","v":0},{"$f":"'Aferi (Pedido) '!B211:C211","v":""},null,null,null,{"$f":"'Aferi (Pedido) '!E211","v":0},{"$f":"'Aferi (Pedido) '!G211","v":0},{"$f":"'Aferi (Pedido) '!H211","v":0},{"$f":"'Aferi (Pedido) '!I211","v":0},{"$f":"'Aferi (Pedido) '!J211","v":0}]
[{"$f":"'Aferi (Pedido) '!A212","v":0},{"$f":"'Aferi (Pedido) '!B212:C212","v":""},null,null,null,{"$f":"'Aferi (Pedido) '!E212","v":0},{"$f":"'Aferi (Pedido) '!G212","v":0},{"$f":"'Aferi (Pedido) '!H212","v":0},{"$f":"'Aferi (Pedido) '!I212","v":0},{"$f":"'Aferi (Pedido) '!J212","v":0}]
[{"$f":"'Aferi (Pedido) '!A213","v":0},{"$f":"'Aferi (Pedido) '!B213:C213","v":""},null,null,null,{"$f":"'Aferi (Pedido) '!E213","v":0},{"$f":"'Aferi (Pedido) '!G213","v":0},{"$f":"'Aferi (Pedido) '!H213","v":0},{"$f":"'Aferi (Pedido) '!I213","v":0},{"$f":"'Aferi (Pedido) '!J213","v":0}]
[{"$f":"'Aferi (Pedido) '!A214","v":0},{"$f":"'Aferi (Pedido) '!B214:C214","v":""},null,null,null,{"$f":"'Aferi (Pedido) '!E214","v":0},{"$f":"'Aferi (Pedido) '!G214","v":0},{"$f":"'Aferi (Pedido) '!H214","v":0},{"$f":"'Aferi (Pedido) '!I214","v":0},{"$f":"'Aferi (Pedido) '!J214","v":0}]
[{"$f":"'Aferi (Pedido) '!A215","v":0},{"$f":"'Aferi (Pedido) '!B215:C215","v":""},null,null,null,{"$f":"'Aferi (Pedido) '!E215","v":0},{"$f":"'Aferi (Pedido) '!G215","v":0},{"$f":"'Aferi (Pedido) '!H215","v":0},{"$f":"'Aferi (Pedido) '!I215","v":0},{"$f":"'Aferi (Pedido) '!J215","v":0}]
[{"$f":"'Aferi (Pedido) '!A216","v":0},{"$f":"'Aferi (Pedido) '!B216:C216","v":""},null,null,null,{"$f":"'Aferi (Pedido) '!E216","v":0},{"$f":"'Aferi (Pedido) '!G216","v":0},{"$f":"'Aferi (Pedido) '!H216","v":0},{"$f":"'Aferi (Pedido) '!I216","v":0},{"$f":"'Aferi (Pedido) '!J216","v":0}]
[{"$f":"'Aferi (Pedido) '!A217","v":0},{"$f":"'Aferi (Pedido) '!B217:C217","v":""},null,null,null,{"$f":"'Aferi (Pedido) '!E217","v":0},{"$f":"'Aferi (Pedido) '!G217","v":0},{"$f":"'Aferi (Pedido) '!H217","v":0},{"$f":"'Aferi (Pedido) '!I217","v":0},{"$f":"'Aferi (Pedido) '!J217","v":0}]
[{"$f":"'Aferi (Pedido) '!A218","v":0},{"$f":"'Aferi (Pedido) '!B218:C218","v":""},null,null,null,{"$f":"'Aferi (Pedido) '!E218","v":0},{"$f":"'Aferi (Pedido) '!G218","v":0},{"$f":"'Aferi (Pedido) '!H218","v":0},{"$f":"'Aferi (Pedido) '!I218","v":0},{"$f":"'Aferi (Pedido) '!J218","v":0}]
[{"$f":"'Aferi (Pedido) '!A219","v":0},{"$f":"'Aferi (Pedido) '!B219:C219","v":""},null,null,null,{"$f":"'Aferi (Pedido) '!E219","v":0},{"$f":"'Aferi (Pedido) '!G219","v":0},{"$f":"'Aferi (Pedido) '!H219","v":0},{"$f":"'Aferi (Pedido) '!I219","v":0},{"$f":"'Aferi (Pedido) '!J219","v":0}]
[{"$f":"'Aferi (Pedido) '!A220","v":0},{"$f":"'Aferi (Pedido) '!B220:C220","v":""},null,null,null,{"$f":"'Aferi (Pedido) '!E220","v":0},{"$f":"'Aferi (Pedido) '!G220","v":0},{"$f":"'Aferi (Pedido) '!H220","v":0},{"$f":"'Aferi (Pedido) '!I220","v":0},{"$f":"'Aferi (Pedido) '!J220","v":0}]
[{"$f":"'Aferi (Pedido) '!A221","v":0},{"$f":"'Aferi (Pedido) '!B221:C221","v":""},null,null,null,{"$f":"'Aferi (Pedido) '!E221","v":0},{"$f":"'Aferi (Pedido) '!G221","v":0},{"$f":"'Aferi (Pedido) '!H221","v":0},{"$f":"'Aferi (Pedido) '!I221","v":0},{"$f":"'Aferi (Pedido) '!J221","v":0}]
[{"$f":"'Aferi (Pedido) '!A222","v":0},{"$f":"'Aferi (Pedido) '!B222:C222","v":""},null,null,null,{"$f":"'Aferi (Pedido) '!E222","v":0},{"$f":"'Aferi (Pedido) '!G222","v":0},{"$f":"'Aferi (Pedido) '!H222","v":0},{"$f":"'Aferi (Pedido) '!I222","v":5},{"$f":"'Aferi (Pedido) '!J222","v":0}]
[{"$f":"'Aferi (Pedido) '!A223","v":0},{"$f":"'Aferi (Pedido) '!B223:C223","v":""},null,null,null,{"$f":"'Aferi (Pedido) '!E223","v":0},{"$f":"'Aferi (Pedido) '!G223","v":0},{"$f":"'Aferi (Pedido) '!H223","v":0},{"$f":"'Aferi (Pedido) '!I223","v":0},{"$f":"'Aferi (Pedido) '!J223","v":0}]
[{"$f":"'Aferi (Pedido) '!A224","v":0},{"$f":"'Aferi (Pedido) '!B224:C224","v":""},null,null,null,{"$f":"'Aferi (Pedido) '!E224","v":0},{"$f":"'Aferi (Pedido) '!G224","v":0},{"$f":"'Aferi (Pedido) '!H224","v":0},{"$f":"'Aferi (Pedido) '!I224","v":0},{"$f":"'Aferi (Pedido) '!J224","v":0}]
[{"$f":"'Aferi (Pedido) '!A226","v":0},{"$f":"'Aferi (Pedido) '!B226:C226","v":""},null,null,null,{"$f":"'Aferi (Pedido) '!E226","v":0},{"$f":"'Aferi (Pedido) '!G226","v":0},{"$f":"'Aferi (Pedido) '!H226","v":0},{"$f":"'Aferi (Pedido) '!I226","v":0},{"$f":"'Aferi (Pedido) '!J226","v":0}]
[{"$f":"'Aferi (Pedido) '!A227","v":0},{"$f":"'Aferi (Pedido) '!B227:C227","v":""},null,null,null,{"$f":"'Aferi (Pedido) '!E227","v":0},{"$f":"'Aferi (Pedido) '!G227","v":0},{"$f":"'Aferi (Pedido) '!H227","v":0},{"$f":"'Aferi (Pedido) '!I227","v":0},{"$f":"'Aferi (Pedido) '!J227","v":0}]
[{"$f":"'Aferi (Pedido) '!A228","v":0},{"$f":"'Aferi (Pedido) '!B228:C228","v":""},null,null,null,{"$f":"'Aferi (Pedido) '!E228","v":0},{"$f":"'Aferi (Pedido) '!G228","v":0},{"$f":"'Aferi (Pedido) '!H228","v":0},{"$f":"'Aferi (Pedido) '!I228","v":0},{"$f":"'Aferi (Pedido) '!J228","v":0}]
[{"$f":"'Aferi (Pedido) '!A229","v":0},{"$f":"'Aferi (Pedido) '!B229:C229","v":""},null,null,null,{"$f":"'Aferi (Pedido) '!E229","v":0},{"$f":"'Aferi (Pedido) '!G229","v":0},{"$f":"'Aferi (Pedido) '!H229","v":0},{"$f":"'Aferi (Pedido) '!I229","v":0},{"$f":"'Aferi (Pedido) '!J229","v":0}]
[{"$f":"'Aferi (Pedido) '!A230","v":0},{"$f":"'Aferi (Pedido) '!B230:C230","v":""},null,null,null,{"$f":"'Aferi (Pedido) '!E230","v":0},{"$f":"'Aferi (Pedido) '!G230","v":0},{"$f":"'Aferi (Pedido) '!H230","v":0},{"$f":"'Aferi (Pedido) '!I230","v":0},{"$f":"'Aferi (Pedido) '!J230","v":0}]
[{"$f":"'Aferi (Pedido) '!A231","v":0},{"$f":"'Aferi (Pedido) '!B231:C231","v":""},null,null,null,{"$f":"'Aferi (Pedido) '!E231","v":0},{"$f":"'Aferi (Pedido) '!G231","v":0},{"$f":"'Aferi (Pedido) '!H231","v":0},{"$f":"'Aferi (Pedido) '!I231","v":0},{"$f":"'Aferi (Pedido) '!J231","v":0}]
[{"$f":"'Aferi (Pedido) '!A232","v":0},{"$f":"'Aferi (Pedido) '!B232:C232","v":""},null,null,null,{"$f":"'Aferi (Pedido) '!E232","v":0},{"$f":"'Aferi (Pedido) '!G232","v":0},{"$f":"'Aferi (Pedido) '!H232","v":0},{"$f":"'Aferi (Pedido) '!I232","v":0},{"$f":"'Aferi (Pedido) '!J232","v":0}]
[{"$f":"'Aferi (Pedido) '!A233","v":0},{"$f":"'Aferi (Pedido) '!B233:C233","v":""},null,null,null,{"$f":"'Aferi (Pedido) '!E233","v":0},{"$f":"'Aferi (Pedido) '!G233","v":0},{"$f":"'Aferi (Pedido) '!H233","v":0},{"$f":"'Aferi (Pedido) '!I233","v":0},{"$f":"'Aferi (Pedido) '!J233","v":0}]
[{"$f":"'Aferi (Pedido) '!A234","v":0},{"$f":"'Aferi (Pedido) '!B234:C234","v":""},null,null,null,{"$f":"'Aferi (Pedido) '!E234","v":0},{"$f":"'Aferi (Pedido) '!G234","v":0},{"$f":"'Aferi (Pedido) '!H234","v":0},{"$f":"'Aferi (Pedido) '!I234","v":0},{"$f":"'Aferi (Pedido) '!J234","v":0}]
[{"$f":"'Aferi (Pedido) '!A235","v":0},{"$f":"'Aferi (Pedido) '!B235:C235","v":""},null,null,null,{"$f":"'Aferi (Pedido) '!E235","v":0},{"$f":"'Aferi (Pedido) '!G235","v":0},{"$f":"'Aferi (Pedido) '!H235","v":0},{"$f":"'Aferi (Pedido) '!I235","v":0},{"$f":"'Aferi (Pedido) '!J235","v":0}]
[{"$f":"'Aferi (Pedido) '!A236","v":0},{"$f":"'Aferi (Pedido) '!B236:C236","v":""},null,null,null,{"$f":"'Aferi (Pedido) '!E236","v":0},{"$f":"'Aferi (Pedido) '!G236","v":0},{"$f":"'Aferi (Pedido) '!H236","v":0},{"$f":"'Aferi (Pedido) '!I236","v":0},{"$f":"'Aferi (Pedido) '!J236","v":0}]
[{"$f":"'Aferi (Pedido) '!A237","v":0},{"$f":"'Aferi (Pedido) '!B237:C237","v":""},null,null,null,{"$f":"'Aferi (Pedido) '!E237","v":0},{"$f":"'Aferi (Pedido) '!G237","v":0},{"$f":"'Aferi (Pedido) '!H237","v":0},{"$f":"'Aferi (Pedido) '!I237","v":0},{"$f":"'Aferi (Pedido) '!J237","v":0}]
[{"$f":"'Aferi (Pedido) '!A238","v":0},{"$f":"'Aferi (Pedido) '!B238:C238","v":""},null,null,null,{"$f":"'Aferi (Pedido) '!E238","v":0},{"$f":"'Aferi (Pedido) '!G238","v":0},{"$f":"'Aferi (Pedido) '!H238","v":0},{"$f":"'Aferi (Pedido) '!I238","v":0},{"$f":"'Aferi (Pedido) '!J238","v":0}]
[{"$f":"'Aferi (Pedido) '!A239","v":0},{"$f":"'Aferi (Pedido) '!B239:C239","v":""},null,null,null,{"$f":"'Aferi (Pedido) '!E239","v":0},{"$f":"'Aferi (Pedido) '!G239","v":0},{"$f":"'Aferi (Pedido) '!H239","v":0},{"$f":"'Aferi (Pedido) '!I239","v":0},{"$f":"'Aferi (Pedido) '!J239","v":0}]
[{"$f":"'Aferi (Pedido) '!A240","v":0},{"$f":"'Aferi (Pedido) '!B240:C240","v":""},null,null,null,{"$f":"'Aferi (Pedido) '!E240","v":0},{"$f":"'Aferi (Pedido) '!G240","v":0},{"$f":"'Aferi (Pedido) '!H240","v":0},{"$f":"'Aferi (Pedido) '!I240","v":0},{"$f":"'Aferi (Pedido) '!J240","v":0}]
[{"$f":"'Aferi (Pedido) '!A241","v":0},{"$f":"'Aferi (Pedido) '!B241:C241","v":""},null,null,null,{"$f":"'Aferi (Pedido) '!E241","v":0},{"$f":"'Aferi (Pedido) '!G241","v":0},{"$f":"'Aferi (Pedido) '!H241","v":0},{"$f":"'Aferi (Pedido) '!I241","v":0},{"$f":"'Aferi (Pedido) '!J241","v":0}]
[{"$f":"'Aferi (Pedido) '!A242","v":0},{"$f":"'Aferi (Pedido) '!B242:C242","v":""},null,null,null,{"$f":"'Aferi (Pedido) '!E242","v":0},{"$f":"'Aferi (Pedido) '!G242","v":0},{"$f":"'Aferi (Pedido) '!H242","v":0},{"$f":"'Aferi (Pedido) '!I242","v":0},{"$f":"'Aferi (Pedido) '!J242","v":0}]
[{"$f":"'Aferi (Pedido) '!A243","v":0},{"$f":"'Aferi (Pedido) '!B243:C243","v":""},null,null,null,{"$f":"'Aferi (Pedido) '!E243","v":0},{"$f":"'Aferi (Pedido) '!G243","v":0},{"$f":"'Aferi (Pedido) '!H243","v":0},{"$f":"'Aferi (Pedido) '!I243","v":0},{"$f":"'Aferi (Pedido) '!J243","v":0}]
[{"$f":"'Aferi (Pedido) '!A244","v":0},{"$f":"'Aferi (Pedido) '!B244:C244","v":""},null,null,null,{"$f":"'Aferi (Pedido) '!E244","v":0},{"$f":"'Aferi (Pedido) '!G244","v":0},{"$f":"'Aferi (Pedido) '!H244","v":0},{"$f":"'Aferi (Pedido) '!I244","v":0},{"$f":"'Aferi (Pedido) '!J244","v":0}]
[{"$f":"'Aferi (Pedido) '!A245","v":0},{"$f":"'Aferi (Pedido) '!B245:C245","v":""},null,null,null,{"$f":"'Aferi (Pedido) '!E245","v":0},{"$f":"'Aferi (Pedido) '!G245","v":0},{"$f":"'Aferi (Pedido) '!H245","v":0},{"$f":"'Aferi (Pedido) '!I245","v":0},{"$f":"'Aferi (Pedido) '!J245","v":0}]
[{"$f":"'Aferi (Pedido) '!A246","v":0},{"$f":"'Aferi (Pedido) '!B246:C246","v":""},null,null,null,{"$f":"'Aferi (Pedido) '!E246","v":0},{"$f":"'Aferi (Pedido) '!G246","v":0},{"$f":"'Aferi (Pedido) '!H246","v":0},{"$f":"'Aferi (Pedido) '!I246","v":0},{"$f":"'Aferi (Pedido) '!J246","v":0}]
[{"$f":"'Aferi (Pedido) '!A247","v":0},{"$f":"'Aferi (Pedido) '!B247:C247","v":""},null,null,null,{"$f":"'Aferi (Pedido) '!E247","v":0},{"$f":"'Aferi (Pedido) '!G247","v":0},{"$f":"'Aferi (Pedido) '!H247","v":0},{"$f":"'Aferi (Pedido) '!I247","v":0},{"$f":"'Aferi (Pedido) '!J247","v":0}]
[{"$f":"'Aferi (Pedido) '!A248","v":0},{"$f":"'Aferi (Pedido) '!B248:C248","v":""},null,null,null,{"$f":"'Aferi (Pedido) '!E248","v":0},{"$f":"'Aferi (Pedido) '!G248","v":0},{"$f":"'Aferi (Pedido) '!H248","v":0},{"$f":"'Aferi (Pedido) '!I248","v":0},{"$f":"'Aferi (Pedido) '!J248","v":0}]
[{"$f":"'Aferi (Pedido) '!A249","v":0},{"$f":"'Aferi (Pedido) '!B249:C249","v":""},null,null,null,{"$f":"'Aferi (Pedido) '!E249","v":0},{"$f":"'Aferi (Pedido) '!G249","v":0},{"$f":"'Aferi (Pedido) '!H249","v":0},{"$f":"'Aferi (Pedido) '!I249","v":0},{"$f":"'Aferi (Pedido) '!J249","v":0}]
[{"$f":"'Aferi (Pedido) '!A250","v":0},{"$f":"'Aferi (Pedido) '!B250:C250","v":""},null,null,null,{"$f":"'Aferi (Pedido) '!E250","v":0},{"$f":"'Aferi (Pedido) '!G250","v":0},{"$f":"'Aferi (Pedido) '!H250","v":0},{"$f":"'Aferi (Pedido) '!I250","v":0},{"$f":"'Aferi (Pedido) '!J250","v":0}]
[{"$f":"'Aferi (Pedido) '!A251","v":0},{"$f":"'Aferi (Pedido) '!B251:C251","v":""},null,null,null,{"$f":"'Aferi (Pedido) '!E251","v":0},{"$f":"'Aferi (Pedido) '!G251","v":0},{"$f":"'Aferi (Pedido) '!H251","v":0},{"$f":"'Aferi (Pedido) '!I251","v":0},{"$f":"'Aferi (Pedido) '!J251","v":0}]
[{"$f":"'Aferi (Pedido) '!A252","v":0},{"$f":"'Aferi (Pedido) '!B252:C252","v":""},null,null,null,{"$f":"'Aferi (Pedido) '!E252","v":0},{"$f":"'Aferi (Pedido) '!G252","v":0},{"$f":"'Aferi (Pedido) '!H252","v":0},{"$f":"'Aferi (Pedido) '!I252","v":0},{"$f":"'Aferi (Pedido) '!J252","v":0}]
[{"$f":"'Aferi (Pedido) '!A253","v":0},{"$f":"'Aferi (Pedido) '!B253:C253","v":""},null,null,null,{"$f":"'Aferi (Pedido) '!E253","v":0},{"$f":"'Aferi (Pedido) '!G253","v":0},{"$f":"'Aferi (Pedido) '!H253","v":0},{"$f":"'Aferi (Pedido) '!I253","v":0},{"$f":"'Aferi (Pedido) '!J253","v":0}]
[{"$f":"'Aferi (Pedido) '!A254","v":0},{"$f":"'Aferi (Pedido) '!B254:C254","v":""},null,null,null,{"$f":"'Aferi (Pedido) '!E254","v":0},{"$f":"'Aferi (Pedido) '!G254","v":0},{"$f":"'Aferi (Pedido) '!H254","v":0},{"$f":"'Aferi (Pedido) '!I254","v":0},{"$f":"'Aferi (Pedido) '!J254","v":0}]
[{"$f":"'Aferi (Pedido) '!A255","v":0},{"$f":"'Aferi (Pedido) '!B255:C255","v":""},null,null,null,{"$f":"'Aferi (Pedido) '!E255","v":0},{"$f":"'Aferi (Pedido) '!G255","v":0},{"$f":"'Aferi (Pedido) '!H255","v":0},{"$f":"'Aferi (Pedido) '!I255","v":0},{"$f":"'Aferi (Pedido) '!J255","v":0}]
[{"$f":"'Aferi (Pedido) '!A256","v":0},{"$f":"'Aferi (Pedido) '!B256:C256","v":""},null,null,null,{"$f":"'Aferi (Pedido) '!E256","v":0},{"$f":"'Aferi (Pedido) '!G256","v":0},{"$f":"'Aferi (Pedido) '!H256","v":0},{"$f":"'Aferi (Pedido) '!I256","v":0},{"$f":"'Aferi (Pedido) '!J256","v":0}]
[{"$f":"'Aferi (Pedido) '!A257","v":0},{"$f":"'Aferi (Pedido) '!B257:C257","v":""},null,null,null,{"$f":"'Aferi (Pedido) '!E257","v":0},{"$f":"'Aferi (Pedido) '!G257","v":0},{"$f":"'Aferi (Pedido) '!H257","v":0},{"$f":"'Aferi (Pedido) '!I257","v":0},{"$f":"'Aferi (Pedido) '!J257","v":0}]
[{"$f":"'Aferi (Pedido) '!A258","v":0},{"$f":"'Aferi (Pedido) '!B258:C258","v":""},null,null,null,{"$f":"'Aferi (Pedido) '!E258","v":0},{"$f":"'Aferi (Pedido) '!G258","v":0},{"$f":"'Aferi (Pedido) '!H258","v":0},{"$f":"'Aferi (Pedido) '!I258","v":0},{"$f":"'Aferi (Pedido) '!J258","v":0}]
[{"$f":"'Aferi (Pedido) '!A259","v":0},{"$f":"'Aferi (Pedido) '!B259:C259","v":""},null,null,null,{"$f":"'Aferi (Pedido) '!E259","v":0},{"$f":"'Aferi (Pedido) '!G259","v":0},{"$f":"'Aferi (Pedido) '!H259","v":0},{"$f":"'Aferi (Pedido) '!I259","v":0},{"$f":"'Aferi (Pedido) '!J259","v":0}]
[{"$f":"'Aferi (Pedido) '!A260","v":0},{"$f":"'Aferi (Pedido) '!B260:C260","v":""},null,null,null,{"$f":"'Aferi (Pedido) '!E260","v":0},{"$f":"'Aferi (Pedido) '!G260","v":0},{"$f":"'Aferi (Pedido) '!H260","v":0},{"$f":"'Aferi (Pedido) '!I260","v":0},{"$f":"'Aferi (Pedido) '!J260","v":0}]
[{"$f":"'Aferi (Pedido) '!A261","v":0},{"$f":"'Aferi (Pedido) '!B261:C261","v":""},null,null,null,{"$f":"'Aferi (Pedido) '!E261","v":0},{"$f":"'Aferi (Pedido) '!G261","v":0},{"$f":"'Aferi (Pedido) '!H261","v":0},{"$f":"'Aferi (Pedido) '!I261","v":0},{"$f":"'Aferi (Pedido) '!J261","v":0}]
[{"$f":"'Aferi (Pedido) '!A262","v":0},{"$f":"'Aferi (Pedido) '!B262:C262","v":""},null,null,null,{"$f":"'Aferi (Pedido) '!E262","v":0},{"$f":"'Aferi (Pedido) '!G262","v":0},{"$f":"'Aferi (Pedido) '!H262","v":0},{"$f":"'Aferi (Pedido) '!I262","v":0},{"$f":"'Aferi (Pedido) '!J262","v":0}]
[{"$f":"'Aferi (Pedido) '!A263","v":0},{"$f":"'Aferi (Pedido) '!B263:C263","v":""},null,null,null,{"$f":"'Aferi (Pedido) '!E263","v":0},{"$f":"'Aferi (Pedido) '!G263","v":0},{"$f":"'Aferi (Pedido) '!H263","v":0},{"$f":"'Aferi (Pedido) '!I263","v":0},{"$f":"'Aferi (Pedido) '!J263","v":0}]
[{"$f":"'Aferi (Pedido) '!A264","v":0},{"$f":"'Aferi (Pedido) '!B264:C264","v":""},null,null,null,{"$f":"'Aferi (Pedido) '!E264","v":0},{"$f":"'Aferi (Pedido) '!G264","v":0},{"$f":"'Aferi (Pedido) '!H264","v":0},{"$f":"'Aferi (Pedido) '!I264","v":0},{"$f":"'Aferi (Pedido) '!J264","v":0}]
[{"$f":"'Aferi (Pedido) '!A265","v":0},{"$f":"'Aferi (Pedido) '!B265:C265","v":""},null,null,null,{"$f":"'Aferi (Pedido) '!E265","v":0},{"$f":"'Aferi (Pedido) '!G265","v":0},{"$f":"'Aferi (Pedido) '!H265","v":0},{"$f":"'Aferi (Pedido) '!I265","v":0},{"$f":"'Aferi (Pedido) '!J265","v":0}]
[{"$f":"'Aferi (Pedido) '!A266","v":0},{"$f":"'Aferi (Pedido) '!B266:C266","v":""},null,null,null,{"$f":"'Aferi (Pedido) '!E266","v":0},{"$f":"'Aferi (Pedido) '!G266","v":0},{"$f":"'Aferi (Pedido) '!H266","v":0},{"$f":"'Aferi (Pedido) '!I266","v":0},{"$f":"'Aferi (Pedido) '!J266","v":0}]
[{"$f":"'Aferi (Pedido) '!A267","v":0},{"$f":"'Aferi (Pedido) '!B267:C267","v":""},null,null,null,{"$f":"'Aferi (Pedido) '!E267","v":0},{"$f":"'Aferi (Pedido) '!G267","v":0},{"$f":"'Aferi (Pedido) '!H267","v":0},{"$f":"'Aferi (Pedido) '!I267","v":0},{"$f":"'Aferi (Pedido) '!J267","v":0}]
[{"$f":"'Aferi (Pedido) '!A268","v":0},{"$f":"'Aferi (Pedido) '!B268:C268","v":""},null,null,null,{"$f":"'Aferi (Pedido) '!E268","v":0},{"$f":"'Aferi (Pedido) '!G268","v":0},{"$f":"'Aferi (Pedido) '!H268","v":0},{"$f":"'Aferi (Pedido) '!I268","v":0},{"$f":"'Aferi (Pedido) '!J268","v":0}]
[{"$f":"'Aferi (Pedido) '!A269","v":0},{"$f":"'Aferi (Pedido) '!B269:C269","v":""},null,null,null,{"$f":"'Aferi (Pedido) '!E269","v":0},{"$f":"'Aferi (Pedido) '!G269","v":0},{"$f":"'Aferi (Pedido) '!H269","v":0},{"$f":"'Aferi (Pedido) '!I269","v":0},{"$f":"'Aferi (Pedido) '!J269","v":0}]
[{"$f":"'Aferi (Pedido) '!A270","v":0},{"$f":"'Aferi (Pedido) '!B270:C270","v":""},null,null,null,{"$f":"'Aferi (Pedido) '!E270","v":0},{"$f":"'Aferi (Pedido) '!G270","v":0},{"$f":"'Aferi (Pedido) '!H270","v":0},{"$f":"'Aferi (Pedido) '!I270","v":0},{"$f":"'Aferi (Pedido) '!J270","v":0}]
[{"$f":"'Aferi (Pedido) '!A271","v":0},{"$f":"'Aferi (Pedido) '!B271:C271","v":""},null,null,null,{"$f":"'Aferi (Pedido) '!E271","v":0},{"$f":"'Aferi (Pedido) '!G271","v":0},{"$f":"'Aferi (Pedido) '!H271","v":0},{"$f":"'Aferi (Pedido) '!I271","v":0},{"$f":"'Aferi (Pedido) '!J271","v":0}]
[{"$f":"'Aferi (Pedido) '!A272","v":0},{"$f":"'Aferi (Pedido) '!B272:C272","v":""},null,null,null,{"$f":"'Aferi (Pedido) '!E272","v":0},{"$f":"'Aferi (Pedido) '!G272","v":0},{"$f":"'Aferi (Pedido) '!H272","v":0},{"$f":"'Aferi (Pedido) '!I272","v":0},{"$f":"'Aferi (Pedido) '!J272","v":0}]
[{"$f":"'Aferi (Pedido) '!A273","v":0},{"$f":"'Aferi (Pedido) '!B273:C273","v":""},null,null,null,{"$f":"'Aferi (Pedido) '!E273","v":0},{"$f":"'Aferi (Pedido) '!G273","v":0},{"$f":"'Aferi (Pedido) '!H273","v":0},{"$f":"'Aferi (Pedido) '!I273","v":0},{"$f":"'Aferi (Pedido) '!J273","v":0}]
[{"$f":"'Aferi (Pedido) '!A274","v":0},{"$f":"'Aferi (Pedido) '!B274:C274","v":""},null,null,null,{"$f":"'Aferi (Pedido) '!E274","v":0},{"$f":"'Aferi (Pedido) '!G274","v":0},{"$f":"'Aferi (Pedido) '!H274","v":0},{"$f":"'Aferi (Pedido) '!I274","v":0},{"$f":"'Aferi (Pedido) '!J274","v":0}]
[{"$f":"'Aferi (Pedido) '!A275","v":0},{"$f":"'Aferi (Pedido) '!B275:C275","v":""},null,null,null,{"$f":"'Aferi (Pedido) '!E275","v":0},{"$f":"'Aferi (Pedido) '!G275","v":0},{"$f":"'Aferi (Pedido) '!H275","v":0},{"$f":"'Aferi (Pedido) '!I275","v":0},{"$f":"'Aferi (Pedido) '!J275","v":0}]
[{"$f":"'Aferi (Pedido) '!A276","v":0},{"$f":"'Aferi (Pedido) '!B276:C276","v":""},null,null,null,{"$f":"'Aferi (Pedido) '!E276","v":0},{"$f":"'Aferi (Pedido) '!G276","v":0},{"$f":"'Aferi (Pedido) '!H276","v":0},{"$f":"'Aferi (Pedido) '!I276","v":0},{"$f":"'Aferi (Pedido) '!J276","v":0}]
[{"$f":"'Aferi (Pedido) '!A277","v":0},{"$f":"'Aferi (Pedido) '!B277:C277","v":""},null,null,null,{"$f":"'Aferi (Pedido) '!E277","v":0},{"$f":"'Aferi (Pedido) '!G277","v":0},{"$f":"'Aferi (Pedido) '!H277","v":0},{"$f":"'Aferi (Pedido) '!I277","v":0},{"$f":"'Aferi (Pedido) '!J277","v":0}]
[{"$f":"'Aferi (Pedido) '!A278","v":0},{"$f":"'Aferi (Pedido) '!B278:C278","v":""},null,null,null,{"$f":"'Aferi (Pedido) '!E278","v":0},{"$f":"'Aferi (Pedido) '!G278","v":0},{"$f":"'Aferi (Pedido) '!H278","v":0},{"$f":"'Aferi (Pedido) '!I278","v":0},{"$f":"'Aferi (Pedido) '!J278","v":0}]
[{"$f":"'Aferi (Pedido) '!A279","v":0},{"$f":"'Aferi (Pedido) '!B279:C279","v":""},null,null,null,{"$f":"'Aferi (Pedido) '!E279","v":0},{"$f":"'Aferi (Pedido) '!G279","v":0},{"$f":"'Aferi (Pedido) '!H279","v":0},{"$f":"'Aferi (Pedido) '!I279","v":0},{"$f":"'Aferi (Pedido) '!J279","v":0}]
[{"$f":"'Aferi (Pedido) '!A280","v":0},{"$f":"'Aferi (Pedido) '!B280:C280","v":""},null,null,null,{"$f":"'Aferi (Pedido) '!E280","v":0},{"$f":"'Aferi (Pedido) '!G280","v":0},{"$f":"'Aferi (Pedido) '!H280","v":0},{"$f":"'Aferi (Pedido) '!I280","v":0},{"$f":"'Aferi (Pedido) '!J280","v":0}]
[{"$f":"'Aferi (Pedido) '!A281","v":0},{"$f":"'Aferi (Pedido) '!B281:C281","v":""},null,null,null,{"$f":"'Aferi (Pedido) '!E281","v":0},{"$f":"'Aferi (Pedido) '!G281","v":0},{"$f":"'Aferi (Pedido) '!H281","v":0},{"$f":"'Aferi (Pedido) '!I281","v":0},{"$f":"'Aferi (Pedido) '!J281","v":0}]
[{"$f":"'Aferi (Pedido) '!A282","v":0},{"$f":"'Aferi (Pedido) '!B282:C282","v":""},null,null,null,{"$f":"'Aferi (Pedido) '!E282","v":0},{"$f":"'Aferi (Pedido) '!G282","v":0},{"$f":"'Aferi (Pedido) '!H282","v":0},{"$f":"'Aferi (Pedido) '!I282","v":0},{"$f":"'Aferi (Pedido) '!J282","v":0}]
[{"$f":"'Aferi (Pedido) '!A283","v":0},{"$f":"'Aferi (Pedido) '!B283:C283","v":""},null,null,null,{"$f":"'Aferi (Pedido) '!E283","v":0},{"$f":"'Aferi (Pedido) '!G283","v":0},{"$f":"'Aferi (Pedido) '!H283","v":0},{"$f":"'Aferi (Pedido) '!I283","v":0},{"$f":"'Aferi (Pedido) '!J283","v":0}]
[{"$f":"'Aferi (Pedido) '!A284","v":0},{"$f":"'Aferi (Pedido) '!B284:C284","v":""},null,null,null,{"$f":"'Aferi (Pedido) '!E284","v":0},{"$f":"'Aferi (Pedido) '!G284","v":0},{"$f":"'Aferi (Pedido) '!H284","v":0},{"$f":"'Aferi (Pedido) '!I284","v":0},{"$f":"'Aferi (Pedido) '!J284","v":0}]
[{"$f":"'Aferi (Pedido) '!A285","v":0},{"$f":"'Aferi (Pedido) '!B285:C285","v":""},null,null,null,{"$f":"'Aferi (Pedido) '!E285","v":0},{"$f":"'Aferi (Pedido) '!G285","v":0},{"$f":"'Aferi (Pedido) '!H285","v":0},{"$f":"'Aferi (Pedido) '!I285","v":0},{"$f":"'Aferi (Pedido) '!J285","v":0}]
[{"$f":"'Aferi (Pedido) '!A286","v":0},{"$f":"'Aferi (Pedido) '!B286:C286","v":""},null,null,null,{"$f":"'Aferi (Pedido) '!E286","v":0},{"$f":"'Aferi (Pedido) '!G286","v":0},{"$f":"'Aferi (Pedido) '!H286","v":0},{"$f":"'Aferi (Pedido) '!I286","v":0},{"$f":"'Aferi (Pedido) '!J286","v":0}]
[{"$f":"'Aferi (Pedido) '!A287","v":0},{"$f":"'Aferi (Pedido) '!B287:C287","v":""},null,null,null,{"$f":"'Aferi (Pedido) '!E287","v":0},{"$f":"'Aferi (Pedido) '!G287","v":0},{"$f":"'Aferi (Pedido) '!H287","v":0},{"$f":"'Aferi (Pedido) '!I287","v":0},{"$f":"'Aferi (Pedido) '!J287","v":0}]
[{"$f":"'Aferi (Pedido) '!A288","v":0},{"$f":"'Aferi (Pedido) '!B288:C288","v":""},null,null,null,{"$f":"'Aferi (Pedido) '!E288","v":0},{"$f":"'Aferi (Pedido) '!G288","v":0},{"$f":"'Aferi (Pedido) '!H288","v":0},{"$f":"'Aferi (Pedido) '!I288","v":0},{"$f":"'Aferi (Pedido) '!J288","v":0}]
[{"$f":"'Aferi (Pedido) '!A289","v":0},{"$f":"'Aferi (Pedido) '!B289:C289","v":""},null,null,null,{"$f":"'Aferi (Pedido) '!E289","v":0},{"$f":"'Aferi (Pedido) '!G289","v":0},{"$f":"'Aferi (Pedido) '!H289","v":0},{"$f":"'Aferi (Pedido) '!I289","v":0},{"$f":"'Aferi (Pedido) '!J289","v":0}]
[{"$f":"'Aferi (Pedido) '!A290","v":0},{"$f":"'Aferi (Pedido) '!B290:C290","v":""},null,null,null,{"$f":"'Aferi (Pedido) '!E290","v":0},{"$f":"'Aferi (Pedido) '!G290","v":0},{"$f":"'Aferi (Pedido) '!H290","v":0},{"$f":"'Aferi (Pedido) '!I290","v":0},{"$f":"'Aferi (Pedido) '!J290","v":0}]
[{"$f":"'Aferi (Pedido) '!A291","v":0},{"$f":"'Aferi (Pedido) '!B291:C291","v":""},null,null,null,{"$f":"'Aferi (Pedido) '!E291","v":0},{"$f":"'Aferi (Pedido) '!G291","v":0},{"$f":"'Aferi (Pedido) '!H291","v":0},{"$f":"'Aferi (Pedido) '!I291","v":0},{"$f":"'Aferi (Pedido) '!J291","v":0}]
[{"$f":"'Aferi (Pedido) '!A292","v":0},{"$f":"'Aferi (Pedido) '!B292:C292","v":""},null,null,null,{"$f":"'Aferi (Pedido) '!E292","v":0},{"$f":"'Aferi (Pedido) '!G292","v":0},{"$f":"'Aferi (Pedido) '!H292","v":0},{"$f":"'Aferi (Pedido) '!I292","v":0},{"$f":"'Aferi (Pedido) '!J292","v":0}]
[{"$f":"'Aferi (Pedido) '!A293","v":0},{"$f":"'Aferi (Pedido) '!B293:C293","v":""},null,null,null,{"$f":"'Aferi (Pedido) '!E293","v":0},{"$f":"'Aferi (Pedido) '!G293","v":0},{"$f":"'Aferi (Pedido) '!H293","v":0},{"$f":"'Aferi (Pedido) '!I293","v":0},{"$f":"'Aferi (Pedido) '!J293","v":0}]
[{"$f":"'Aferi (Pedido) '!A294","v":0},{"$f":"'Aferi (Pedido) '!B294:C294","v":""},null,null,null,{"$f":"'Aferi (Pedido) '!E294","v":0},{"$f":"'Aferi (Pedido) '!G294","v":0},{"$f":"'Aferi (Pedido) '!H294","v":0},{"$f":"'Aferi (Pedido) '!I294","v":0},{"$f":"'Aferi (Pedido) '!J294","v":0}]
[{"$f":"'Aferi (Pedido) '!A295","v":0},{"$f":"'Aferi (Pedido) '!B295:C295","v":""},null,null,null,{"$f":"'Aferi (Pedido) '!E295","v":0},{"$f":"'Aferi (Pedido) '!G295","v":0},{"$f":"'Aferi (Pedido) '!H295","v":0},{"$f":"'Aferi (Pedido) '!I295","v":0},{"$f":"'Aferi (Pedido) '!J295","v":0}]
[{"$f":"'Aferi (Pedido) '!A296","v":0},{"$f":"'Aferi (Pedido) '!B296:C296","v":""},null,null,null,{"$f":"'Aferi (Pedido) '!E296","v":0},{"$f":"'Aferi (Pedido) '!G296","v":0},{"$f":"'Aferi (Pedido) '!H296","v":0},{"$f":"'Aferi (Pedido) '!I296","v":0},{"$f":"'Aferi (Pedido) '!J296","v":0}]
[{"$f":"'Aferi (Pedido) '!A297","v":0},{"$f":"'Aferi (Pedido) '!B297:C297","v":""},null,null,null,{"$f":"'Aferi (Pedido) '!E297","v":0},{"$f":"'Aferi (Pedido) '!G297","v":0},{"$f":"'Aferi (Pedido) '!H297","v":0},{"$f":"'Aferi (Pedido) '!I297","v":0},{"$f":"'Aferi (Pedido) '!J297","v":0}]
[{"$f":"'Aferi (Pedido) '!A298","v":0},{"$f":"'Aferi (Pedido) '!B298:C298","v":""},null,null,null,{"$f":"'Aferi (Pedido) '!E298","v":0},{"$f":"'Aferi (Pedido) '!G298","v":0},{"$f":"'Aferi (Pedido) '!H298","v":0},{"$f":"'Aferi (Pedido) '!I298","v":0},{"$f":"'Aferi (Pedido) '!J298","v":0}]
[{"$f":"'Aferi (Pedido) '!A299","v":0},{"$f":"'Aferi (Pedido) '!B299:C299","v":""},null,null,null,{"$f":"'Aferi (Pedido) '!E299","v":0},{"$f":"'Aferi (Pedido) '!G299","v":0},{"$f":"'Aferi (Pedido) '!H299","v":0},{"$f":"'Aferi (Pedido) '!I299","v":0},{"$f":"'Aferi (Pedido) '!J299","v":0}]
[{"$f":"'Aferi (Pedido) '!A300","v":0},{"$f":"'Aferi (Pedido) '!B300:C300","v":""},null,null,null,{"$f":"'Aferi (Pedido) '!E300","v":0},{"$f":"'Aferi (Pedido) '!G300","v":0},{"$f":"'Aferi (Pedido) '!H300","v":0},{"$f":"'Aferi (Pedido) '!I300","v":0},{"$f":"'Aferi (Pedido) '!J300","v":0}]
[{"$f":"'Aferi (Pedido) '!A301","v":0},{"$f":"'Aferi (Pedido) '!B301:C301","v":""},null,null,null,{"$f":"'Aferi (Pedido) '!E301","v":0},{"$f":"'Aferi (Pedido) '!G301","v":0},{"$f":"'Aferi (Pedido) '!H301","v":0},{"$f":"'Aferi (Pedido) '!I301","v":0},{"$f":"'Aferi (Pedido) '!J301","v":0}]
[{"$f":"'Aferi (Pedido) '!A302","v":0},{"$f":"'Aferi (Pedido) '!B302:C302","v":""},null,null,null,{"$f":"'Aferi (Pedido) '!E302","v":0},{"$f":"'Aferi (Pedido) '!G302","v":0},{"$f":"'Aferi (Pedido) '!H302","v":0},{"$f":"'Aferi (Pedido) '!I302","v":0},{"$f":"'Aferi (Pedido) '!J302","v":0}]
[{"$f":"'Aferi (Pedido) '!A303","v":0},{"$f":"'Aferi (Pedido) '!B303:C303","v":""},null,null,null,{"$f":"'Aferi (Pedido) '!E303","v":0},{"$f":"'Aferi (Pedido) '!G303","v":0},{"$f":"'Aferi (Pedido) '!H303","v":0},{"$f":"'Aferi (Pedido) '!I303","v":0},{"$f":"'Aferi (Pedido) '!J303","v":0}]
[{"$f":"'Aferi (Pedido) '!A304","v":0},{"$f":"'Aferi (Pedido) '!B304:C304","v":""},null,null,null,{"$f":"'Aferi (Pedido) '!E304","v":0},{"$f":"'Aferi (Pedido) '!G304","v":0},{"$f":"'Aferi (Pedido) '!H304","v":0},{"$f":"'Aferi (Pedido) '!I304","v":0},{"$f":"'Aferi (Pedido) '!J304","v":0}]
[{"$f":"'Aferi (Pedido) '!A305","v":0},{"$f":"'Aferi (Pedido) '!B305:C305","v":""},null,null,null,{"$f":"'Aferi (Pedido) '!E305","v":0},{"$f":"'Aferi (Pedido) '!G305","v":0},{"$f":"'Aferi (Pedido) '!H305","v":0},{"$f":"'Aferi (Pedido) '!I305","v":0},{"$f":"'Aferi (Pedido) '!J305","v":0}]
[{"$f":"'Aferi (Pedido) '!A306","v":0},{"$f":"'Aferi (Pedido) '!B306:C306","v":""},null,null,null,{"$f":"'Aferi (Pedido) '!E306","v":0},{"$f":"'Aferi (Pedido) '!G306","v":0},{"$f":"'Aferi (Pedido) '!H306","v":0},{"$f":"'Aferi (Pedido) '!I306","v":0},{"$f":"'Aferi (Pedido) '!J306","v":0}]
[{"$f":"'Aferi (Pedido) '!A307","v":0},{"$f":"'Aferi (Pedido) '!B307:C307","v":""},null,null,null,{"$f":"'Aferi (Pedido) '!E307","v":0},{"$f":"'Aferi (Pedido) '!G307","v":0},{"$f":"'Aferi (Pedido) '!H307","v":0},{"$f":"'Aferi (Pedido) '!I307","v":0},{"$f":"'Aferi (Pedido) '!J307","v":0}]
[{"$f":"'Aferi (Pedido) '!A308","v":0},{"$f":"'Aferi (Pedido) '!B308:C308","v":""},null,null,null,{"$f":"'Aferi (Pedido) '!E308","v":0},{"$f":"'Aferi (Pedido) '!G308","v":0},{"$f":"'Aferi (Pedido) '!H308","v":0},{"$f":"'Aferi (Pedido) '!I308","v":0},{"$f":"'Aferi (Pedido) '!J308","v":0}]
[{"$f":"'Aferi (Pedido) '!A309","v":0},{"$f":"'Aferi (Pedido) '!B309:C309","v":""},null,null,null,{"$f":"'Aferi (Pedido) '!E309","v":0},{"$f":"'Aferi (Pedido) '!G309","v":0},{"$f":"'Aferi (Pedido) '!H309","v":0},{"$f":"'Aferi (Pedido) '!I309","v":0},{"$f":"'Aferi (Pedido) '!J309","v":0}]
[{"$f":"'Aferi (Pedido) '!A310","v":0},{"$f":"'Aferi (Pedido) '!B310:C310","v":""},null,null,null,{"$f":"'Aferi (Pedido) '!E310","v":0},{"$f":"'Aferi (Pedido) '!G310","v":0},{"$f":"'Aferi (Pedido) '!H310","v":0},{"$f":"'Aferi (Pedido) '!I310","v":0},{"$f":"'Aferi (Pedido) '!J310","v":0}]
[{"$f":"'Aferi (Pedido) '!A311","v":0},{"$f":"'Aferi (Pedido) '!B311:C311","v":""},null,null,null,{"$f":"'Aferi (Pedido) '!E311","v":0},{"$f":"'Aferi (Pedido) '!G311","v":0},{"$f":"'Aferi (Pedido) '!H311","v":0},{"$f":"'Aferi (Pedido) '!I311","v":0},{"$f":"'Aferi (Pedido) '!J311","v":0}]
[{"$f":"'Aferi (Pedido) '!A312","v":0},{"$f":"'Aferi (Pedido) '!B312:C312","v":""},null,null,null,{"$f":"'Aferi (Pedido) '!E312","v":0},{"$f":"'Aferi (Pedido) '!G312","v":0},{"$f":"'Aferi (Pedido) '!H312","v":0},{"$f":"'Aferi (Pedido) '!I312","v":0},{"$f":"'Aferi (Pedido) '!J312","v":0}]
[{"$f":"'Aferi (Pedido) '!A313","v":0},{"$f":"'Aferi (Pedido) '!B313:C313","v":""},null,null,null,{"$f":"'Aferi (Pedido) '!E313","v":0},{"$f":"'Aferi (Pedido) '!G313","v":0},{"$f":"'Aferi (Pedido) '!H313","v":0},{"$f":"'Aferi (Pedido) '!I313","v":0},{"$f":"'Aferi (Pedido) '!J313","v":0}]
[{"$f":"'Aferi (Pedido) '!A314","v":0},{"$f":"'Aferi (Pedido) '!B314:C314","v":""},null,null,null,{"$f":"'Aferi (Pedido) '!E314","v":0},{"$f":"'Aferi (Pedido) '!G314","v":0},{"$f":"'Aferi (Pedido) '!H314","v":0},{"$f":"'Aferi (Pedido) '!I314","v":0},{"$f":"'Aferi (Pedido) '!J314","v":0}]
[{"$f":"'Aferi (Pedido) '!A315","v":0},{"$f":"'Aferi (Pedido) '!B315:C315","v":""},null,null,null,{"$f":"'Aferi (Pedido) '!E315","v":0},{"$f":"'Aferi (Pedido) '!G315","v":0},{"$f":"'Aferi (Pedido) '!H315","v":0},{"$f":"'Aferi (Pedido) '!I315","v":0},{"$f":"'Aferi (Pedido) '!J315","v":0}]
[{"$f":"'Aferi (Pedido) '!A316","v":0},{"$f":"'Aferi (Pedido) '!B316:C316","v":""},null,null,null,{"$f":"'Aferi (Pedido) '!E316","v":0},{"$f":"'Aferi (Pedido) '!G316","v":0},{"$f":"'Aferi (Pedido) '!H316","v":0},{"$f":"'Aferi (Pedido) '!I316","v":0},{"$f":"'Aferi (Pedido) '!J316","v":0}]
[{"$f":"'Aferi (Pedido) '!A317","v":0},{"$f":"'Aferi (Pedido) '!B317:C317","v":""},null,null,null,{"$f":"'Aferi (Pedido) '!E317","v":0},{"$f":"'Aferi (Pedido) '!G317","v":0},{"$f":"'Aferi (Pedido) '!H317","v":0},{"$f":"'Aferi (Pedido) '!I317","v":0},{"$f":"'Aferi (Pedido) '!J317","v":0}]
[{"$f":"'Aferi (Pedido) '!A318","v":0},{"$f":"'Aferi (Pedido) '!B318:C318","v":""},null,null,null,{"$f":"'Aferi (Pedido) '!E318","v":0},{"$f":"'Aferi (Pedido) '!G318","v":0},{"$f":"'Aferi (Pedido) '!H318","v":0},{"$f":"'Aferi (Pedido) '!I318","v":0},{"$f":"'Aferi (Pedido) '!J318","v":0}]
[{"$f":"'Aferi (Pedido) '!A319","v":0},{"$f":"'Aferi (Pedido) '!B319:C319","v":""},null,null,null,{"$f":"'Aferi (Pedido) '!E319","v":0},{"$f":"'Aferi (Pedido) '!G319","v":0},{"$f":"'Aferi (Pedido) '!H319","v":0},{"$f":"'Aferi (Pedido) '!I319","v":0},{"$f":"'Aferi (Pedido) '!J319","v":0}]
[{"$f":"'Aferi (Pedido) '!A320","v":0},{"$f":"'Aferi (Pedido) '!B320:C320","v":""},null,null,null,{"$f":"'Aferi (Pedido) '!E320","v":0},{"$f":"'Aferi (Pedido) '!G320","v":0},{"$f":"'Aferi (Pedido) '!H320","v":0},{"$f":"'Aferi (Pedido) '!I320","v":0},{"$f":"'Aferi (Pedido) '!J320","v":0}]
[{"$f":"'Aferi (Pedido) '!A321","v":0},{"$f":"'Aferi (Pedido) '!B321:C321","v":""},null,null,null,{"$f":"'Aferi (Pedido) '!E321","v":0},{"$f":"'Aferi (Pedido) '!G321","v":0},{"$f":"'Aferi (Pedido) '!H321","v":0},{"$f":"'Aferi (Pedido) '!I321","v":0},{"$f":"'Aferi (Pedido) '!J321","v":0}]
[{"$f":"'Aferi (Pedido) '!A322","v":0},{"$f":"'Aferi (Pedido) '!B322:C322","v":""},null,null,null,{"$f":"'Aferi (Pedido) '!E322","v":0},{"$f":"'Aferi (Pedido) '!G322","v":0},{"$f":"'Aferi (Pedido) '!H322","v":0},{"$f":"'Aferi (Pedido) '!I322","v":0},{"$f":"'Aferi (Pedido) '!J322","v":0}]
[{"$f":"'Aferi (Pedido) '!A323","v":0},{"$f":"'Aferi (Pedido) '!B323:C323","v":""},null,null,null,{"$f":"'Aferi (Pedido) '!E323","v":0},{"$f":"'Aferi (Pedido) '!G323","v":0},{"$f":"'Aferi (Pedido) '!H323","v":0},{"$f":"'Aferi (Pedido) '!I323","v":0},{"$f":"'Aferi (Pedido) '!J323","v":0}]
[{"$f":"'Aferi (Pedido) '!A324","v":0},{"$f":"'Aferi (Pedido) '!B324:C324","v":""},null,null,null,{"$f":"'Aferi (Pedido) '!E324","v":0},{"$f":"'Aferi (Pedido) '!G324","v":0},{"$f":"'Aferi (Pedido) '!H324","v":0},{"$f":"'Aferi (Pedido) '!I324","v":0},{"$f":"'Aferi (Pedido) '!J324","v":0}]
[{"$f":"'Aferi (Pedido) '!A325","v":0},{"$f":"'Aferi (Pedido) '!B325:C325","v":""},null,null,null,{"$f":"'Aferi (Pedido) '!E325","v":0},{"$f":"'Aferi (Pedido) '!G325","v":0},{"$f":"'Aferi (Pedido) '!H325","v":0},{"$f":"'Aferi (Pedido) '!I325","v":0},{"$f":"'Aferi (Pedido) '!J325","v":0}]
[{"$f":"'Aferi (Pedido) '!A326","v":0},{"$f":"'Aferi (Pedido) '!B326:C326","v":""},null,null,null,{"$f":"'Aferi (Pedido) '!E326","v":0},{"$f":"'Aferi (Pedido) '!G326","v":0},{"$f":"'Aferi (Pedido) '!H326","v":0},{"$f":"'Aferi (Pedido) '!I326","v":0},{"$f":"'Aferi (Pedido) '!J326","v":0}]
[{"$f":"'Aferi (Pedido) '!A327","v":0},{"$f":"'Aferi (Pedido) '!B327:C327","v":""},null,null,null,{"$f":"'Aferi (Pedido) '!E327","v":0},{"$f":"'Aferi (Pedido) '!G327","v":0},{"$f":"'Aferi (Pedido) '!H327","v":0},{"$f":"'Aferi (Pedido) '!I327","v":0},{"$f":"'Aferi (Pedido) '!J327","v":0}]
[{"$f":"'Aferi (Pedido) '!A328","v":0},{"$f":"'Aferi (Pedido) '!B328:C328","v":""},null,null,null,{"$f":"'Aferi (Pedido) '!E328","v":0},{"$f":"'Aferi (Pedido) '!G328","v":0},{"$f":"'Aferi (Pedido) '!H328","v":0},{"$f":"'Aferi (Pedido) '!I328","v":0},{"$f":"'Aferi (Pedido) '!J328","v":0}]
[{"$f":"'Aferi (Pedido) '!A329","v":0},{"$f":"'Aferi (Pedido) '!B329:C329","v":""},null,null,null,{"$f":"'Aferi (Pedido) '!E329","v":0},{"$f":"'Aferi (Pedido) '!G329","v":0},{"$f":"'Aferi (Pedido) '!H329","v":0},{"$f":"'Aferi (Pedido) '!I329","v":0},{"$f":"'Aferi (Pedido) '!J329","v":0}]
[{"$f":"'Aferi (Pedido) '!A330","v":0},{"$f":"'Aferi (Pedido) '!B330:C330","v":""},null,null,null,{"$f":"'Aferi (Pedido) '!E330","v":0},{"$f":"'Aferi (Pedido) '!G330","v":0},{"$f":"'Aferi (Pedido) '!H330","v":0},{"$f":"'Aferi (Pedido) '!I330","v":0},{"$f":"'Aferi (Pedido) '!J330","v":0}]
[{"$f":"'Aferi (Pedido) '!A331","v":0},{"$f":"'Aferi (Pedido) '!B331:C331","v":""},null,null,null,{"$f":"'Aferi (Pedido) '!E331","v":0},{"$f":"'Aferi (Pedido) '!G331","v":0},{"$f":"'Aferi (Pedido) '!H331","v":0},{"$f":"'Aferi (Pedido) '!I331","v":0},{"$f":"'Aferi (Pedido) '!J331","v":0}]
[{"$f":"'Aferi (Pedido) '!A332","v":0},{"$f":"'Aferi (Pedido) '!B332:C332","v":""},null,null,null,{"$f":"'Aferi (Pedido) '!E332","v":0},{"$f":"'Aferi (Pedido) '!G332","v":0},{"$f":"'Aferi (Pedido) '!H332","v":0},{"$f":"'Aferi (Pedido) '!I332","v":0},{"$f":"'Aferi (Pedido) '!J332","v":0}]
[{"$f":"'Aferi (Pedido) '!A333","v":0},{"$f":"'Aferi (Pedido) '!B333:C333","v":""},null,null,null,{"$f":"'Aferi (Pedido) '!E333","v":0},{"$f":"'Aferi (Pedido) '!G333","v":0},{"$f":"'Aferi (Pedido) '!H333","v":0},{"$f":"'Aferi (Pedido) '!I333","v":0},{"$f":"'Aferi (Pedido) '!J333","v":0}]
[{"$f":"'Aferi (Pedido) '!A334","v":0},{"$f":"'Aferi (Pedido) '!B334:C334","v":""},null,null,null,{"$f":"'Aferi (Pedido) '!E334","v":0},{"$f":"'Aferi (Pedido) '!G334","v":0},{"$f":"'Aferi (Pedido) '!H334","v":0},{"$f":"'Aferi (Pedido) '!I334","v":0},{"$f":"'Aferi (Pedido) '!J334","v":0}]
[{"$f":"'Aferi (Pedido) '!A335","v":0},{"$f":"'Aferi (Pedido) '!B335:C335","v":""},null,null,null,{"$f":"'Aferi (Pedido) '!E335","v":0},{"$f":"'Aferi (Pedido) '!G335","v":0},{"$f":"'Aferi (Pedido) '!H335","v":0},{"$f":"'Aferi (Pedido) '!I335","v":0},{"$f":"'Aferi (Pedido) '!J335","v":0}]
[{"$f":"'Aferi (Pedido) '!A336","v":0},{"$f":"'Aferi (Pedido) '!B336:C336","v":""},null,null,null,{"$f":"'Aferi (Pedido) '!E336","v":0},{"$f":"'Aferi (Pedido) '!G336","v":0},{"$f":"'Aferi (Pedido) '!H336","v":0},{"$f":"'Aferi (Pedido) '!I336","v":0},{"$f":"'Aferi (Pedido) '!J336","v":0}]
[{"$f":"'Aferi (Pedido) '!A337","v":0},{"$f":"'Aferi (Pedido) '!B337:C337","v":""},null,null,null,{"$f":"'Aferi (Pedido) '!E337","v":0},{"$f":"'Aferi (Pedido) '!G337","v":0},{"$f":"'Aferi (Pedido) '!H337","v":0},{"$f":"'Aferi (Pedido) '!I337","v":0},{"$f":"'Aferi (Pedido) '!J337","v":0}]
[{"$f":"'Aferi (Pedido) '!A338","v":0},{"$f":"'Aferi (Pedido) '!B338:C338","v":""},null,null,null,{"$f":"'Aferi (Pedido) '!E338","v":0},{"$f":"'Aferi (Pedido) '!G338","v":0},{"$f":"'Aferi (Pedido) '!H338","v":0},{"$f":"'Aferi (Pedido) '!I338","v":0},{"$f":"'Aferi (Pedido) '!J338","v":0}]
[{"$f":"'Aferi (Pedido) '!A339","v":0},{"$f":"'Aferi (Pedido) '!B339:C339","v":""},null,null,null,{"$f":"'Aferi (Pedido) '!E339","v":0},{"$f":"'Aferi (Pedido) '!G339","v":0},{"$f":"'Aferi (Pedido) '!H339","v":0},{"$f":"'Aferi (Pedido) '!I339","v":0},{"$f":"'Aferi (Pedido) '!J339","v":0}]
[{"$f":"'Aferi (Pedido) '!A340","v":0},{"$f":"'Aferi (Pedido) '!B340:C340","v":""},null,null,null,{"$f":"'Aferi (Pedido) '!E340","v":0},{"$f":"'Aferi (Pedido) '!G340","v":0},{"$f":"'Aferi (Pedido) '!H340","v":0},{"$f":"'Aferi (Pedido) '!I340","v":0},{"$f":"'Aferi (Pedido) '!J340","v":0}]
[{"$f":"'Aferi (Pedido) '!A341","v":0},{"$f":"'Aferi (Pedido) '!B341:C341","v":""},null,null,null,{"$f":"'Aferi (Pedido) '!E341","v":0},{"$f":"'Aferi (Pedido) '!G341","v":0},{"$f":"'Aferi (Pedido) '!H341","v":0},{"$f":"'Aferi (Pedido) '!I341","v":0},{"$f":"'Aferi (Pedido) '!J341","v":0}]
[{"$f":"'Aferi (Pedido) '!A342","v":0},{"$f":"'Aferi (Pedido) '!B342:C342","v":""},null,null,null,{"$f":"'Aferi (Pedido) '!E342","v":0},{"$f":"'Aferi (Pedido) '!G342","v":0},{"$f":"'Aferi (Pedido) '!H342","v":0},{"$f":"'Aferi (Pedido) '!I342","v":0},{"$f":"'Aferi (Pedido) '!J342","v":0}]
[{"$f":"'Aferi (Pedido) '!A343","v":0},{"$f":"'Aferi (Pedido) '!B343:C343","v":""},null,null,null,{"$f":"'Aferi (Pedido) '!E343","v":0},{"$f":"'Aferi (Pedido) '!G343","v":0},{"$f":"'Aferi (Pedido) '!H343","v":0},{"$f":"'Aferi (Pedido) '!I343","v":0},{"$f":"'Aferi (Pedido) '!J343","v":0}]
[{"$f":"'Aferi (Pedido) '!A344","v":0},{"$f":"'Aferi (Pedido) '!B344:C344","v":""},null,null,null,{"$f":"'Aferi (Pedido) '!E344","v":0},{"$f":"'Aferi (Pedido) '!G344","v":0},{"$f":"'Aferi (Pedido) '!H344","v":0},{"$f":"'Aferi (Pedido) '!I344","v":0},{"$f":"'Aferi (Pedido) '!J344","v":0}]
[{"$f":"'Aferi (Pedido) '!A345","v":0},{"$f":"'Aferi (Pedido) '!B345:C345","v":""},null,null,null,{"$f":"'Aferi (Pedido) '!E345","v":0},{"$f":"'Aferi (Pedido) '!G345","v":0},{"$f":"'Aferi (Pedido) '!H345","v":0},{"$f":"'Aferi (Pedido) '!I345","v":0},{"$f":"'Aferi (Pedido) '!J345","v":0}]
[{"$f":"'Aferi (Pedido) '!A346","v":0},{"$f":"'Aferi (Pedido) '!B346:C346","v":""},null,null,null,{"$f":"'Aferi (Pedido) '!E346","v":0},{"$f":"'Aferi (Pedido) '!G346","v":0},{"$f":"'Aferi (Pedido) '!H346","v":0},{"$f":"'Aferi (Pedido) '!I346","v":0},{"$f":"'Aferi (Pedido) '!J346","v":0}]
[{"$f":"'Aferi (Pedido) '!A347","v":0},{"$f":"'Aferi (Pedido) '!B347:C347","v":""},null,null,null,{"$f":"'Aferi (Pedido) '!E347","v":0},{"$f":"'Aferi (Pedido) '!G347","v":0},{"$f":"'Aferi (Pedido) '!H347","v":0},{"$f":"'Aferi (Pedido) '!I347","v":0},{"$f":"'Aferi (Pedido) '!J347","v":0}]
[{"$f":"'Aferi (Pedido) '!A348","v":0},{"$f":"'Aferi (Pedido) '!B348:C348","v":""},null,null,null,{"$f":"'Aferi (Pedido) '!E348","v":0},{"$f":"'Aferi (Pedido) '!G348","v":0},{"$f":"'Aferi (Pedido) '!H348","v":0},{"$f":"'Aferi (Pedido) '!I348","v":0},{"$f":"'Aferi (Pedido) '!J348","v":0}]
[{"$f":"'Aferi (Pedido) '!A349","v":0},{"$f":"'Aferi (Pedido) '!B349:C349","v":""},null,null,null,{"$f":"'Aferi (Pedido) '!E349","v":0},{"$f":"'Aferi (Pedido) '!G349","v":0},{"$f":"'Aferi (Pedido) '!H349","v":0},{"$f":"'Aferi (Pedido) '!I349","v":0},{"$f":"'Aferi (Pedido) '!J349","v":0}]
[{"$f":"'Aferi (Pedido) '!A350","v":0},{"$f":"'Aferi (Pedido) '!B350:C350","v":""},null,null,null,{"$f":"'Aferi (Pedido) '!E350","v":0},{"$f":"'Aferi (Pedido) '!G350","v":0},{"$f":"'Aferi (Pedido) '!H350","v":0},{"$f":"'Aferi (Pedido) '!I350","v":0},{"$f":"'Aferi (Pedido) '!J350","v":0}]
[{"$f":"'Aferi (Pedido) '!A351","v":0},{"$f":"'Aferi (Pedido) '!B351:C351","v":""},null,null,null,{"$f":"'Aferi (Pedido) '!E351","v":0},{"$f":"'Aferi (Pedido) '!G351","v":0},{"$f":"'Aferi (Pedido) '!H351","v":0},{"$f":"'Aferi (Pedido) '!I351","v":0},{"$f":"'Aferi (Pedido) '!J351","v":0}]
[{"$f":"'Aferi (Pedido) '!A352","v":0},{"$f":"'Aferi (Pedido) '!B352:C352","v":""},null,null,null,{"$f":"'Aferi (Pedido) '!E352","v":0},{"$f":"'Aferi (Pedido) '!G352","v":0},{"$f":"'Aferi (Pedido) '!H352","v":0},{"$f":"'Aferi (Pedido) '!I352","v":0},{"$f":"'Aferi (Pedido) '!J352","v":0}]
[{"$f":"'Aferi (Pedido) '!A353","v":0},{"$f":"'Aferi (Pedido) '!B353:C353","v":""},null,null,null,{"$f":"'Aferi (Pedido) '!E353","v":0},{"$f":"'Aferi (Pedido) '!G353","v":0},{"$f":"'Aferi (Pedido) '!H353","v":0},{"$f":"'Aferi (Pedido) '!I353","v":0},{"$f":"'Aferi (Pedido) '!J353","v":0}]
[{"$f":"'Aferi (Pedido) '!A354","v":0},{"$f":"'Aferi (Pedido) '!B354:C354","v":""},null,null,null,{"$f":"'Aferi (Pedido) '!E354","v":0},{"$f":"'Aferi (Pedido) '!G354","v":0},{"$f":"'Aferi (Pedido) '!H354","v":0},{"$f":"'Aferi (Pedido) '!I354","v":0},{"$f":"'Aferi (Pedido) '!J354","v":0}]
[{"$f":"'Aferi (Pedido) '!A355","v":0},{"$f":"'Aferi (Pedido) '!B355:C355","v":""},null,null,null,{"$f":"'Aferi (Pedido) '!E355","v":0},{"$f":"'Aferi (Pedido) '!G355","v":0},{"$f":"'Aferi (Pedido) '!H355","v":0},{"$f":"'Aferi (Pedido) '!I355","v":0},{"$f":"'Aferi (Pedido) '!J355","v":0}]
[{"$f":"'Aferi (Pedido) '!A356","v":0},{"$f":"'Aferi (Pedido) '!B356:C356","v":""},null,null,null,{"$f":"'Aferi (Pedido) '!E356","v":0},{"$f":"'Aferi (Pedido) '!G356","v":0},{"$f":"'Aferi (Pedido) '!H356","v":0},{"$f":"'Aferi (Pedido) '!I356","v":0},{"$f":"'Aferi (Pedido) '!J356","v":0}]
[{"$f":"'Aferi (Pedido) '!A357","v":0},{"$f":"'Aferi (Pedido) '!B357:C357","v":""},null,null,null,{"$f":"'Aferi (Pedido) '!E357","v":0},{"$f":"'Aferi (Pedido) '!G357","v":0},{"$f":"'Aferi (Pedido) '!H357","v":0},{"$f":"'Aferi (Pedido) '!I357","v":0},{"$f":"'Aferi (Pedido) '!J357","v":0}]
[{"$f":"'Aferi (Pedido) '!A358","v":0},{"$f":"'Aferi (Pedido) '!B358:C358","v":""},null,null,null,{"$f":"'Aferi (Pedido) '!E358","v":0},{"$f":"'Aferi (Pedido) '!G358","v":0},{"$f":"'Aferi (Pedido) '!H358","v":0},{"$f":"'Aferi (Pedido) '!I358","v":0},{"$f":"'Aferi (Pedido) '!J358","v":0}]
[{"$f":"'Aferi (Pedido) '!A359","v":0},{"$f":"'Aferi (Pedido) '!B359:C359","v":""},null,null,null,{"$f":"'Aferi (Pedido) '!E359","v":0},{"$f":"'Aferi (Pedido) '!G359","v":0},{"$f":"'Aferi (Pedido) '!H359","v":0},{"$f":"'Aferi (Pedido) '!I359","v":0},{"$f":"'Aferi (Pedido) '!J359","v":0}]
[{"$f":"'Aferi (Pedido) '!A360","v":0},{"$f":"'Aferi (Pedido) '!B360:C360","v":""},null,null,null,{"$f":"'Aferi (Pedido) '!E360","v":0},{"$f":"'Aferi (Pedido) '!G360","v":0},{"$f":"'Aferi (Pedido) '!H360","v":0},{"$f":"'Aferi (Pedido) '!I360","v":0},{"$f":"'Aferi (Pedido) '!J360","v":0}]
[{"$f":"'Aferi (Pedido) '!A361","v":0},{"$f":"'Aferi (Pedido) '!B361:C361","v":""},null,null,null,{"$f":"'Aferi (Pedido) '!E361","v":0},{"$f":"'Aferi (Pedido) '!G361","v":0},{"$f":"'Aferi (Pedido) '!H361","v":0},{"$f":"'Aferi (Pedido) '!I361","v":0},{"$f":"'Aferi (Pedido) '!J361","v":0}]
[{"$f":"'Aferi (Pedido) '!A362","v":0},{"$f":"'Aferi (Pedido) '!B362:C362","v":""},null,null,null,{"$f":"'Aferi (Pedido) '!E362","v":0},{"$f":"'Aferi (Pedido) '!G362","v":0},{"$f":"'Aferi (Pedido) '!H362","v":0},{"$f":"'Aferi (Pedido) '!I362","v":0},{"$f":"'Aferi (Pedido) '!J362","v":0}]
[{"$f":"'Aferi (Pedido) '!A363","v":0},{"$f":"'Aferi (Pedido) '!B363:C363","v":""},null,null,null,{"$f":"'Aferi (Pedido) '!E363","v":0},{"$f":"'Aferi (Pedido) '!G363","v":0},{"$f":"'Aferi (Pedido) '!H363","v":0},{"$f":"'Aferi (Pedido) '!I363","v":0},{"$f":"'Aferi (Pedido) '!J363","v":0}]
[{"$f":"'Aferi (Pedido) '!A364","v":0},{"$f":"'Aferi (Pedido) '!B364:C364","v":""},null,null,null,{"$f":"'Aferi (Pedido) '!E364","v":0},{"$f":"'Aferi (Pedido) '!G364","v":0},{"$f":"'Aferi (Pedido) '!H364","v":0},{"$f":"'Aferi (Pedido) '!I364","v":0},{"$f":"'Aferi (Pedido) '!J364","v":0}]
[{"$f":"'Aferi (Pedido) '!A365","v":0},{"$f":"'Aferi (Pedido) '!B365:C365","v":""},null,null,null,{"$f":"'Aferi (Pedido) '!E365","v":0},{"$f":"'Aferi (Pedido) '!G365","v":0},{"$f":"'Aferi (Pedido) '!H365","v":0},{"$f":"'Aferi (Pedido) '!I365","v":0},{"$f":"'Aferi (Pedido) '!J365","v":0}]
[{"$f":"'Aferi (Pedido) '!A366","v":0},{"$f":"'Aferi (Pedido) '!B366:C366","v":""},null,null,null,{"$f":"'Aferi (Pedido) '!E366","v":0},{"$f":"'Aferi (Pedido) '!G366","v":0},{"$f":"'Aferi (Pedido) '!H366","v":0},{"$f":"'Aferi (Pedido) '!I366","v":0},{"$f":"'Aferi (Pedido) '!J366","v":0}]
[{"$f":"'Aferi (Pedido) '!A367","v":0},{"$f":"'Aferi (Pedido) '!B367:C367","v":""},null,null,null,{"$f":"'Aferi (Pedido) '!E367","v":0},{"$f":"'Aferi (Pedido) '!G367","v":0},{"$f":"'Aferi (Pedido) '!H367","v":0},{"$f":"'Aferi (Pedido) '!I367","v":0},{"$f":"'Aferi (Pedido) '!J367","v":0}]
[{"$f":"'Aferi (Pedido) '!A368","v":0},{"$f":"'Aferi (Pedido) '!B368:C368","v":""},null,null,null,{"$f":"'Aferi (Pedido) '!E368","v":0},{"$f":"'Aferi (Pedido) '!G368","v":0},{"$f":"'Aferi (Pedido) '!H368","v":0},{"$f":"'Aferi (Pedido) '!I368","v":0},{"$f":"'Aferi (Pedido) '!J368","v":0}]
[{"$f":"'Aferi (Pedido) '!A369","v":0},{"$f":"'Aferi (Pedido) '!B369:C369","v":""},null,null,null,{"$f":"'Aferi (Pedido) '!E369","v":0},{"$f":"'Aferi (Pedido) '!G369","v":0},{"$f":"'Aferi (Pedido) '!H369","v":0},{"$f":"'Aferi (Pedido) '!I369","v":0},{"$f":"'Aferi (Pedido) '!J369","v":0}]
[{"$f":"'Aferi (Pedido) '!A370","v":0},{"$f":"'Aferi (Pedido) '!B370:C370","v":""},null,null,null,{"$f":"'Aferi (Pedido) '!E370","v":0},{"$f":"'Aferi (Pedido) '!G370","v":0},{"$f":"'Aferi (Pedido) '!H370","v":0},{"$f":"'Aferi (Pedido) '!I370","v":0},{"$f":"'Aferi (Pedido) '!J370","v":0}]
[{"$f":"'Aferi (Pedido) '!A371","v":0},{"$f":"'Aferi (Pedido) '!B371:C371","v":""},null,null,null,{"$f":"'Aferi (Pedido) '!E371","v":0},{"$f":"'Aferi (Pedido) '!G371","v":0},{"$f":"'Aferi (Pedido) '!H371","v":0},{"$f":"'Aferi (Pedido) '!I371","v":0},{"$f":"'Aferi (Pedido) '!J371","v":0}]
[{"$f":"'Aferi (Pedido) '!A372","v":0},{"$f":"'Aferi (Pedido) '!B372:C372","v":""},null,null,null,{"$f":"'Aferi (Pedido) '!E372","v":0},{"$f":"'Aferi (Pedido) '!G372","v":0},{"$f":"'Aferi (Pedido) '!H372","v":0},{"$f":"'Aferi (Pedido) '!I372","v":0},{"$f":"'Aferi (Pedido) '!J372","v":0}]
[{"$f":"'Aferi (Pedido) '!A373","v":0},{"$f":"'Aferi (Pedido) '!B373:C373","v":""},null,null,null,{"$f":"'Aferi (Pedido) '!E373","v":0},{"$f":"'Aferi (Pedido) '!G373","v":0},{"$f":"'Aferi (Pedido) '!H373","v":0},{"$f":"'Aferi (Pedido) '!I373","v":0},{"$f":"'Aferi (Pedido) '!J373","v":0}]
[{"$f":"'Aferi (Pedido) '!A374","v":0},{"$f":"'Aferi (Pedido) '!B374:C374","v":""},null,null,null,{"$f":"'Aferi (Pedido) '!E374","v":0},{"$f":"'Aferi (Pedido) '!G374","v":0},{"$f":"'Aferi (Pedido) '!H374","v":0},{"$f":"'Aferi (Pedido) '!I374","v":0},{"$f":"'Aferi (Pedido) '!J374","v":0}]
[{"$f":"'Aferi (Pedido) '!A375","v":0},{"$f":"'Aferi (Pedido) '!B375:C375","v":""},null,null,null,{"$f":"'Aferi (Pedido) '!E375","v":0},{"$f":"'Aferi (Pedido) '!G375","v":0},{"$f":"'Aferi (Pedido) '!H375","v":0},{"$f":"'Aferi (Pedido) '!I375","v":0},{"$f":"'Aferi (Pedido) '!J375","v":0}]
[{"$f":"'Aferi (Pedido) '!A376","v":0},{"$f":"'Aferi (Pedido) '!B376:C376","v":""},null,null,null,{"$f":"'Aferi (Pedido) '!E376","v":0},{"$f":"'Aferi (Pedido) '!G376","v":0},{"$f":"'Aferi (Pedido) '!H376","v":0},{"$f":"'Aferi (Pedido) '!I376","v":0},{"$f":"'Aferi (Pedido) '!J376","v":0}]
[{"$f":"'Aferi (Pedido) '!A377","v":0},{"$f":"'Aferi (Pedido) '!B377:C377","v":""},null,null,null,{"$f":"'Aferi (Pedido) '!E377","v":0},{"$f":"'Aferi (Pedido) '!G377","v":0},{"$f":"'Aferi (Pedido) '!H377","v":0},{"$f":"'Aferi (Pedido) '!I377","v":0},{"$f":"'Aferi (Pedido) '!J377","v":0}]
[{"$f":"'Aferi (Pedido) '!A378","v":0},{"$f":"'Aferi (Pedido) '!B378:C378","v":""},null,null,null,{"$f":"'Aferi (Pedido) '!E378","v":0},{"$f":"'Aferi (Pedido) '!G378","v":0},{"$f":"'Aferi (Pedido) '!H378","v":0},{"$f":"'Aferi (Pedido) '!I378","v":0},{"$f":"'Aferi (Pedido) '!J378","v":0}]
[{"$f":"'Aferi (Pedido) '!A379","v":0},{"$f":"'Aferi (Pedido) '!B379:C379","v":""},null,null,null,{"$f":"'Aferi (Pedido) '!E379","v":0},{"$f":"'Aferi (Pedido) '!G379","v":0},{"$f":"'Aferi (Pedido) '!H379","v":0},{"$f":"'Aferi (Pedido) '!I379","v":0},{"$f":"'Aferi (Pedido) '!J379","v":0}]
[{"$f":"'Aferi (Pedido) '!A380","v":0},{"$f":"'Aferi (Pedido) '!B380:C380","v":""},null,null,null,{"$f":"'Aferi (Pedido) '!E380","v":0},{"$f":"'Aferi (Pedido) '!G380","v":0},{"$f":"'Aferi (Pedido) '!H380","v":0},{"$f":"'Aferi (Pedido) '!I380","v":0},{"$f":"'Aferi (Pedido) '!J380","v":0}]
[{"$f":"'Aferi (Pedido) '!A381","v":0},{"$f":"'Aferi (Pedido) '!B381:C381","v":""},null,null,null,{"$f":"'Aferi (Pedido) '!E381","v":0},{"$f":"'Aferi (Pedido) '!G381","v":0},{"$f":"'Aferi (Pedido) '!H381","v":0},{"$f":"'Aferi (Pedido) '!I381","v":0},{"$f":"'Aferi (Pedido) '!J381","v":0}]
[{"$f":"'Aferi (Pedido) '!A382","v":0},{"$f":"'Aferi (Pedido) '!B382:C382","v":""},null,null,null,{"$f":"'Aferi (Pedido) '!E382","v":0},{"$f":"'Aferi (Pedido) '!G382","v":0},{"$f":"'Aferi (Pedido) '!H382","v":0},{"$f":"'Aferi (Pedido) '!I382","v":0},{"$f":"'Aferi (Pedido) '!J382","v":0}]
[{"$f":"'Aferi (Pedido) '!A383","v":0},{"$f":"'Aferi (Pedido) '!B383:C383","v":""},null,null,null,{"$f":"'Aferi (Pedido) '!E383","v":0},{"$f":"'Aferi (Pedido) '!G383","v":0},{"$f":"'Aferi (Pedido) '!H383","v":0},{"$f":"'Aferi (Pedido) '!I383","v":0},{"$f":"'Aferi (Pedido) '!J383","v":0}]
[{"$f":"'Aferi (Pedido) '!A384","v":0},{"$f":"'Aferi (Pedido) '!B384:C384","v":""},null,null,null,{"$f":"'Aferi (Pedido) '!E384","v":0},{"$f":"'Aferi (Pedido) '!G384","v":0},{"$f":"'Aferi (Pedido) '!H384","v":0},{"$f":"'Aferi (Pedido) '!I384","v":0},{"$f":"'Aferi (Pedido) '!J384","v":0}]
[{"$f":"'Aferi (Pedido) '!A385","v":0},{"$f":"'Aferi (Pedido) '!B385:C385","v":""},null,null,null,{"$f":"'Aferi (Pedido) '!E385","v":0},{"$f":"'Aferi (Pedido) '!G385","v":0},{"$f":"'Aferi (Pedido) '!H385","v":0},{"$f":"'Aferi (Pedido) '!I385","v":0},{"$f":"'Aferi (Pedido) '!J385","v":0}]
[{"$f":"'Aferi (Pedido) '!A386","v":0},{"$f":"'Aferi (Pedido) '!B386:C386","v":""},null,null,null,{"$f":"'Aferi (Pedido) '!E386","v":0},{"$f":"'Aferi (Pedido) '!G386","v":0},{"$f":"'Aferi (Pedido) '!H386","v":0},{"$f":"'Aferi (Pedido) '!I386","v":0},{"$f":"'Aferi (Pedido) '!J386","v":0}]
[{"$f":"'Aferi (Pedido) '!A387","v":0},{"$f":"'Aferi (Pedido) '!B387:C387","v":""},null,null,null,{"$f":"'Aferi (Pedido) '!E387","v":0},{"$f":"'Aferi (Pedido) '!G387","v":0},{"$f":"'Aferi (Pedido) '!H387","v":0},{"$f":"'Aferi (Pedido) '!I387","v":0},{"$f":"'Aferi (Pedido) '!J387","v":0}]
[{"$f":"'Aferi (Pedido) '!A388","v":0},{"$f":"'Aferi (Pedido) '!B388:C388","v":""},null,null,null,{"$f":"'Aferi (Pedido) '!E388","v":0},{"$f":"'Aferi (Pedido) '!G388","v":0},{"$f":"'Aferi (Pedido) '!H388","v":0},{"$f":"'Aferi (Pedido) '!I388","v":0},{"$f":"'Aferi (Pedido) '!J388","v":0}]
[{"$f":"'Aferi (Pedido) '!A389","v":0},{"$f":"'Aferi (Pedido) '!B389:C389","v":""},null,null,null,{"$f":"'Aferi (Pedido) '!E389","v":0},{"$f":"'Aferi (Pedido) '!G389","v":0},{"$f":"'Aferi (Pedido) '!H389","v":0},{"$f":"'Aferi (Pedido) '!I389","v":0},{"$f":"'Aferi (Pedido) '!J389","v":0}]
[{"$f":"'Aferi (Pedido) '!A390","v":0},{"$f":"'Aferi (Pedido) '!B390:C390","v":""},null,null,null,{"$f":"'Aferi (Pedido) '!E390","v":0},{"$f":"'Aferi (Pedido) '!G390","v":0},{"$f":"'Aferi (Pedido) '!H390","v":0},{"$f":"'Aferi (Pedido) '!I390","v":0},{"$f":"'Aferi (Pedido) '!J390","v":0}]
[{"$f":"'Aferi (Pedido) '!A391","v":0},{"$f":"'Aferi (Pedido) '!B391:C391","v":""},null,null,null,{"$f":"'Aferi (Pedido) '!E391","v":0},{"$f":"'Aferi (Pedido) '!G391","v":0},{"$f":"'Aferi (Pedido) '!H391","v":0},{"$f":"'Aferi (Pedido) '!I391","v":0},{"$f":"'Aferi (Pedido) '!J391","v":0}]
[{"$f":"'Aferi (Pedido) '!A392","v":0},{"$f":"'Aferi (Pedido) '!B392:C392","v":""},null,null,null,{"$f":"'Aferi (Pedido) '!E392","v":0},{"$f":"'Aferi (Pedido) '!G392","v":0},{"$f":"'Aferi (Pedido) '!H392","v":0},{"$f":"'Aferi (Pedido) '!I392","v":0},{"$f":"'Aferi (Pedido) '!J392","v":0}]
[{"$f":"'Aferi (Pedido) '!A393","v":0},{"$f":"'Aferi (Pedido) '!B393:C393","v":""},null,null,null,{"$f":"'Aferi (Pedido) '!E393","v":0},{"$f":"'Aferi (Pedido) '!G393","v":0},{"$f":"'Aferi (Pedido) '!H393","v":0},{"$f":"'Aferi (Pedido) '!I393","v":0},{"$f":"'Aferi (Pedido) '!J393","v":0}]
[{"$f":"'Aferi (Pedido) '!A394","v":0},{"$f":"'Aferi (Pedido) '!B394:C394","v":""},null,null,null,{"$f":"'Aferi (Pedido) '!E394","v":0},{"$f":"'Aferi (Pedido) '!G394","v":0},{"$f":"'Aferi (Pedido) '!H394","v":0},{"$f":"'Aferi (Pedido) '!I394","v":0},{"$f":"'Aferi (Pedido) '!J394","v":0}]
[{"$f":"'Aferi (Pedido) '!A395","v":0},{"$f":"'Aferi (Pedido) '!B395:C395","v":""},null,null,null,{"$f":"'Aferi (Pedido) '!E395","v":0},{"$f":"'Aferi (Pedido) '!G395","v":0},{"$f":"'Aferi (Pedido) '!H395","v":0},{"$f":"'Aferi (Pedido) '!I395","v":0},{"$f":"'Aferi (Pedido) '!J395","v":0}]
[{"$f":"'Aferi (Pedido) '!A396","v":0},{"$f":"'Aferi (Pedido) '!B396:C396","v":""},null,null,null,{"$f":"'Aferi (Pedido) '!E396","v":0},{"$f":"'Aferi (Pedido) '!G396","v":0},{"$f":"'Aferi (Pedido) '!H396","v":0},{"$f":"'Aferi (Pedido) '!I396","v":0},{"$f":"'Aferi (Pedido) '!J396","v":0}]
[{"$f":"'Aferi (Pedido) '!A397","v":0},{"$f":"'Aferi (Pedido) '!B397:C397","v":""},null,null,null,{"$f":"'Aferi (Pedido) '!E397","v":0},{"$f":"'Aferi (Pedido) '!G397","v":0},{"$f":"'Aferi (Pedido) '!H397","v":0},{"$f":"'Aferi (Pedido) '!I397","v":0},{"$f":"'Aferi (Pedido) '!J397","v":0}]
[{"$f":"'Aferi (Pedido) '!A398","v":0},{"$f":"'Aferi (Pedido) '!B398:C398","v":""},null,null,null,{"$f":"'Aferi (Pedido) '!E398","v":0},{"$f":"'Aferi (Pedido) '!G398","v":0},{"$f":"'Aferi (Pedido) '!H398","v":0},{"$f":"'Aferi (Pedido) '!I398","v":0},{"$f":"'Aferi (Pedido) '!J398","v":0}]
[{"$f":"'Aferi (Pedido) '!A399","v":0},{"$f":"'Aferi (Pedido) '!B399:C399","v":""},null,null,null,{"$f":"'Aferi (Pedido) '!E399","v":0},{"$f":"'Aferi (Pedido) '!G399","v":0},{"$f":"'Aferi (Pedido) '!H399","v":0},{"$f":"'Aferi (Pedido) '!I399","v":0},{"$f":"'Aferi (Pedido) '!J399","v":0}]
[{"$f":"'Aferi (Pedido) '!A400","v":0},{"$f":"'Aferi (Pedido) '!B400:C400","v":""},null,null,null,{"$f":"'Aferi (Pedido) '!E400","v":0},{"$f":"'Aferi (Pedido) '!G400","v":0},{"$f":"'Aferi (Pedido) '!H400","v":0},{"$f":"'Aferi (Pedido) '!I400","v":0},{"$f":"'Aferi (Pedido) '!J400","v":0}]
[{"$f":"'Aferi (Pedido) '!A401","v":0},{"$f":"'Aferi (Pedido) '!B401:C401","v":""},null,null,null,{"$f":"'Aferi (Pedido) '!E401","v":0},{"$f":"'Aferi (Pedido) '!G401","v":0},{"$f":"'Aferi (Pedido) '!H401","v":0},{"$f":"'Aferi (Pedido) '!I401","v":0},{"$f":"'Aferi (Pedido) '!J401","v":0}]
[{"$f":"'Aferi (Pedido) '!A402","v":0},{"$f":"'Aferi (Pedido) '!B402:C402","v":""},null,null,null,{"$f":"'Aferi (Pedido) '!E402","v":0},{"$f":"'Aferi (Pedido) '!G402","v":0},{"$f":"'Aferi (Pedido) '!H402","v":0},{"$f":"'Aferi (Pedido) '!I402","v":0},{"$f":"'Aferi (Pedido) '!J402","v":0}]
[{"$f":"'Aferi (Pedido) '!A403","v":0},{"$f":"'Aferi (Pedido) '!B403:C403","v":""},null,null,null,{"$f":"'Aferi (Pedido) '!E403","v":0},{"$f":"'Aferi (Pedido) '!G403","v":0},{"$f":"'Aferi (Pedido) '!H403","v":0},{"$f":"'Aferi (Pedido) '!I403","v":0},{"$f":"'Aferi (Pedido) '!J403","v":0}]
[{"$f":"'Aferi (Pedido) '!A404","v":0},{"$f":"'Aferi (Pedido) '!B404:C404","v":""},null,null,null,{"$f":"'Aferi (Pedido) '!E404","v":0},{"$f":"'Aferi (Pedido) '!G404","v":0},{"$f":"'Aferi (Pedido) '!H404","v":0},{"$f":"'Aferi (Pedido) '!I404","v":0},{"$f":"'Aferi (Pedido) '!J404","v":0}]
[{"$f":"'Aferi (Pedido) '!A405","v":0},{"$f":"'Aferi (Pedido) '!B405:C405","v":""},null,null,null,{"$f":"'Aferi (Pedido) '!E405","v":0},{"$f":"'Aferi (Pedido) '!G405","v":0},{"$f":"'Aferi (Pedido) '!H405","v":0},{"$f":"'Aferi (Pedido) '!I405","v":0},{"$f":"'Aferi (Pedido) '!J405","v":0}]
[{"$f":"'Aferi (Pedido) '!A406","v":0},{"$f":"'Aferi (Pedido) '!B406:C406","v":""},null,null,null,{"$f":"'Aferi (Pedido) '!E406","v":0},{"$f":"'Aferi (Pedido) '!G406","v":0},{"$f":"'Aferi (Pedido) '!H406","v":0},{"$f":"'Aferi (Pedido) '!I406","v":0},{"$f":"'Aferi (Pedido) '!J406","v":0}]
[{"$f":"'Aferi (Pedido) '!A407","v":0},{"$f":"'Aferi (Pedido) '!B407:C407","v":""},null,null,null,{"$f":"'Aferi (Pedido) '!E407","v":0},{"$f":"'Aferi (Pedido) '!G407","v":0},{"$f":"'Aferi (Pedido) '!H407","v":0},{"$f":"'Aferi (Pedido) '!I407","v":0},{"$f":"'Aferi (Pedido) '!J407","v":0}]
[{"$f":"'Aferi (Pedido) '!A408","v":0},{"$f":"'Aferi (Pedido) '!B408:C408","v":""},null,null,null,{"$f":"'Aferi (Pedido) '!E408","v":0},{"$f":"'Aferi (Pedido) '!G408","v":0},{"$f":"'Aferi (Pedido) '!H408","v":0},{"$f":"'Aferi (Pedido) '!I408","v":0},{"$f":"'Aferi (Pedido) '!J408","v":0}]
[{"$f":"'Aferi (Pedido) '!A409","v":0},{"$f":"'Aferi (Pedido) '!B409:C409","v":""},null,null,null,{"$f":"'Aferi (Pedido) '!E409","v":0},{"$f":"'Aferi (Pedido) '!G409","v":0},{"$f":"'Aferi (Pedido) '!H409","v":0},{"$f":"'Aferi (Pedido) '!I409","v":0},{"$f":"'Aferi (Pedido) '!J409","v":0}]
[{"$f":"'Aferi (Pedido) '!A410","v":0},{"$f":"'Aferi (Pedido) '!B410:C410","v":""},null,null,null,{"$f":"'Aferi (Pedido) '!E410","v":0},{"$f":"'Aferi (Pedido) '!G410","v":0},{"$f":"'Aferi (Pedido) '!H410","v":0},{"$f":"'Aferi (Pedido) '!I410","v":0},{"$f":"'Aferi (Pedido) '!J410","v":0}]
[{"$f":"'Aferi (Pedido) '!A411","v":0},{"$f":"'Aferi (Pedido) '!B411:C411","v":""},null,null,null,{"$f":"'Aferi (Pedido) '!E411","v":0},{"$f":"'Aferi (Pedido) '!G411","v":0},{"$f":"'Aferi (Pedido) '!H411","v":0},{"$f":"'Aferi (Pedido) '!I411","v":0},{"$f":"'Aferi (Pedido) '!J411","v":0}]
[{"$f":"'Aferi (Pedido) '!A412","v":0},{"$f":"'Aferi (Pedido) '!B412:C412","v":""},null,null,null,{"$f":"'Aferi (Pedido) '!E412","v":0},{"$f":"'Aferi (Pedido) '!G412","v":0},{"$f":"'Aferi (Pedido) '!H412","v":0},{"$f":"'Aferi (Pedido) '!I412","v":0},{"$f":"'Aferi (Pedido) '!J412","v":0}]
[{"$f":"'Aferi (Pedido) '!A413","v":0},{"$f":"'Aferi (Pedido) '!B413:C413","v":""},null,null,null,{"$f":"'Aferi (Pedido) '!E413","v":0},{"$f":"'Aferi (Pedido) '!G413","v":0},{"$f":"'Aferi (Pedido) '!H413","v":0},{"$f":"'Aferi (Pedido) '!I413","v":0},{"$f":"'Aferi (Pedido) '!J413","v":0}]
[{"$f":"'Aferi (Pedido) '!A414","v":0},{"$f":"'Aferi (Pedido) '!B414:C414","v":""},null,null,null,{"$f":"'Aferi (Pedido) '!E414","v":0},{"$f":"'Aferi (Pedido) '!G414","v":0},{"$f":"'Aferi (Pedido) '!H414","v":0},{"$f":"'Aferi (Pedido) '!I414","v":0},{"$f":"'Aferi (Pedido) '!J414","v":0}]
[{"$f":"'Aferi (Pedido) '!A415","v":0},{"$f":"'Aferi (Pedido) '!B415:C415","v":""},null,null,null,{"$f":"'Aferi (Pedido) '!E415","v":0},{"$f":"'Aferi (Pedido) '!G415","v":0},{"$f":"'Aferi (Pedido) '!H415","v":0},{"$f":"'Aferi (Pedido) '!I415","v":0},{"$f":"'Aferi (Pedido) '!J415","v":0}]
[{"$f":"'Aferi (Pedido) '!A416","v":0},{"$f":"'Aferi (Pedido) '!B416:C416","v":""},null,null,null,{"$f":"'Aferi (Pedido) '!E416","v":0},{"$f":"'Aferi (Pedido) '!G416","v":0},{"$f":"'Aferi (Pedido) '!H416","v":0},{"$f":"'Aferi (Pedido) '!I416","v":0},{"$f":"'Aferi (Pedido) '!J416","v":0}]
[{"$f":"'Aferi (Pedido) '!A417","v":0},{"$f":"'Aferi (Pedido) '!B417:C417","v":""},null,null,null,{"$f":"'Aferi (Pedido) '!E417","v":0},{"$f":"'Aferi (Pedido) '!G417","v":0},{"$f":"'Aferi (Pedido) '!H417","v":0},{"$f":"'Aferi (Pedido) '!I417","v":0},{"$f":"'Aferi (Pedido) '!J417","v":0}]
[{"$f":"'Aferi (Pedido) '!A418","v":0},{"$f":"'Aferi (Pedido) '!B418:C418","v":""},null,null,null,{"$f":"'Aferi (Pedido) '!E418","v":0},{"$f":"'Aferi (Pedido) '!G418","v":0},{"$f":"'Aferi (Pedido) '!H418","v":0},{"$f":"'Aferi (Pedido) '!I418","v":0},{"$f":"'Aferi (Pedido) '!J418","v":0}]
[{"$f":"'Aferi (Pedido) '!A419","v":0},{"$f":"'Aferi (Pedido) '!B419:C419","v":""},null,null,null,{"$f":"'Aferi (Pedido) '!E419","v":0},{"$f":"'Aferi (Pedido) '!G419","v":0},{"$f":"'Aferi (Pedido) '!H419","v":0},{"$f":"'Aferi (Pedido) '!I419","v":0},{"$f":"'Aferi (Pedido) '!J419","v":0}]
[{"$f":"'Aferi (Pedido) '!A420","v":0},{"$f":"'Aferi (Pedido) '!B420:C420","v":""},null,null,null,{"$f":"'Aferi (Pedido) '!E420","v":0},{"$f":"'Aferi (Pedido) '!G420","v":0},{"$f":"'Aferi (Pedido) '!H420","v":0},{"$f":"'Aferi (Pedido) '!I420","v":0},{"$f":"'Aferi (Pedido) '!J420","v":0}]
[{"$f":"'Aferi (Pedido) '!A421","v":0},{"$f":"'Aferi (Pedido) '!B421:C421","v":""},null,null,null,{"$f":"'Aferi (Pedido) '!E421","v":0},{"$f":"'Aferi (Pedido) '!G421","v":0},{"$f":"'Aferi (Pedido) '!H421","v":0},{"$f":"'Aferi (Pedido) '!I421","v":0},{"$f":"'Aferi (Pedido) '!J421","v":0}]
[{"$f":"'Aferi (Pedido) '!A422","v":0},{"$f":"'Aferi (Pedido) '!B422:C422","v":""},null,null,null,{"$f":"'Aferi (Pedido) '!E422","v":0},{"$f":"'Aferi (Pedido) '!G422","v":0},{"$f":"'Aferi (Pedido) '!H422","v":0},{"$f":"'Aferi (Pedido) '!I422","v":0},{"$f":"'Aferi (Pedido) '!J422","v":0}]
[{"$f":"'Aferi (Pedido) '!A423","v":0},{"$f":"'Aferi (Pedido) '!B423:C423","v":""},null,null,null,{"$f":"'Aferi (Pedido) '!E423","v":0},{"$f":"'Aferi (Pedido) '!G423","v":0},{"$f":"'Aferi (Pedido) '!H423","v":0},{"$f":"'Aferi (Pedido) '!I423","v":0},{"$f":"'Aferi (Pedido) '!J423","v":0}]
[{"$f":"'Aferi (Pedido) '!A424","v":0},{"$f":"'Aferi (Pedido) '!B424:C424","v":""},null,null,null,{"$f":"'Aferi (Pedido) '!E424","v":0},{"$f":"'Aferi (Pedido) '!G424","v":0},{"$f":"'Aferi (Pedido) '!H424","v":0},{"$f":"'Aferi (Pedido) '!I424","v":0},{"$f":"'Aferi (Pedido) '!J424","v":0}]
[{"$f":"'Aferi (Pedido) '!A425","v":0},{"$f":"'Aferi (Pedido) '!B425:C425","v":""},null,null,null,{"$f":"'Aferi (Pedido) '!E425","v":0},{"$f":"'Aferi (Pedido) '!G425","v":0},{"$f":"'Aferi (Pedido) '!H425","v":0},{"$f":"'Aferi (Pedido) '!I425","v":0},{"$f":"'Aferi (Pedido) '!J425","v":0}]
[{"$f":"'Aferi (Pedido) '!A426","v":0},{"$f":"'Aferi (Pedido) '!B426:C426","v":""},null,null,null,{"$f":"'Aferi (Pedido) '!E426","v":0},{"$f":"'Aferi (Pedido) '!G426","v":0},{"$f":"'Aferi (Pedido) '!H426","v":0},{"$f":"'Aferi (Pedido) '!I426","v":0},{"$f":"'Aferi (Pedido) '!J426","v":0}]
[{"$f":"'Aferi (Pedido) '!A427","v":0},{"$f":"'Aferi (Pedido) '!B427:C427","v":""},null,null,null,{"$f":"'Aferi (Pedido) '!E427","v":0},{"$f":"'Aferi (Pedido) '!G427","v":0},{"$f":"'Aferi (Pedido) '!H427","v":0},{"$f":"'Aferi (Pedido) '!I427","v":0},{"$f":"'Aferi (Pedido) '!J427","v":0}]
[{"$f":"'Aferi (Pedido) '!A428","v":0},{"$f":"'Aferi (Pedido) '!B428:C428","v":""},null,null,null,{"$f":"'Aferi (Pedido) '!E428","v":0},{"$f":"'Aferi (Pedido) '!G428","v":0},{"$f":"'Aferi (Pedido) '!H428","v":0},{"$f":"'Aferi (Pedido) '!I428","v":0},{"$f":"'Aferi (Pedido) '!J428","v":0}]
[{"$f":"'Aferi (Pedido) '!A429","v":0},{"$f":"'Aferi (Pedido) '!B429:C429","v":""},null,null,null,{"$f":"'Aferi (Pedido) '!E429","v":0},{"$f":"'Aferi (Pedido) '!G429","v":0},{"$f":"'Aferi (Pedido) '!H429","v":0},{"$f":"'Aferi (Pedido) '!I429","v":0},{"$f":"'Aferi (Pedido) '!J429","v":0}]
[{"$f":"'Aferi (Pedido) '!A430","v":0},{"$f":"'Aferi (Pedido) '!B430:C430","v":""},null,null,null,{"$f":"'Aferi (Pedido) '!E430","v":0},{"$f":"'Aferi (Pedido) '!G430","v":0},{"$f":"'Aferi (Pedido) '!H430","v":0},{"$f":"'Aferi (Pedido) '!I430","v":0},{"$f":"'Aferi (Pedido) '!J430","v":0}]
[{"$f":"'Aferi (Pedido) '!A431","v":0},{"$f":"'Aferi (Pedido) '!B431:C431","v":""},null,null,null,{"$f":"'Aferi (Pedido) '!E431","v":0},{"$f":"'Aferi (Pedido) '!G431","v":0},{"$f":"'Aferi (Pedido) '!H431","v":0},{"$f":"'Aferi (Pedido) '!I431","v":0},{"$f":"'Aferi (Pedido) '!J431","v":0}]
[{"$f":"'Aferi (Pedido) '!A432","v":0},{"$f":"'Aferi (Pedido) '!B432:C432","v":""},null,null,null,{"$f":"'Aferi (Pedido) '!E432","v":0},{"$f":"'Aferi (Pedido) '!G432","v":0},{"$f":"'Aferi (Pedido) '!H432","v":0},{"$f":"'Aferi (Pedido) '!I432","v":0},{"$f":"'Aferi (Pedido) '!J432","v":0}]
[{"$f":"'Aferi (Pedido) '!A433","v":0},{"$f":"'Aferi (Pedido) '!B433:C433","v":""},null,null,null,{"$f":"'Aferi (Pedido) '!E433","v":0},{"$f":"'Aferi (Pedido) '!G433","v":0},{"$f":"'Aferi (Pedido) '!H433","v":0},{"$f":"'Aferi (Pedido) '!I433","v":0},{"$f":"'Aferi (Pedido) '!J433","v":0}]
[{"$f":"'Aferi (Pedido) '!A434","v":0},{"$f":"'Aferi (Pedido) '!B434:C434","v":""},null,null,null,{"$f":"'Aferi (Pedido) '!E434","v":0},{"$f":"'Aferi (Pedido) '!G434","v":0},{"$f":"'Aferi (Pedido) '!H434","v":0},{"$f":"'Aferi (Pedido) '!I434","v":0},{"$f":"'Aferi (Pedido) '!J434","v":0}]
[{"$f":"'Aferi (Pedido) '!A435","v":0},{"$f":"'Aferi (Pedido) '!B435:C435","v":""},null,null,null,{"$f":"'Aferi (Pedido) '!E435","v":0},{"$f":"'Aferi (Pedido) '!G435","v":0},{"$f":"'Aferi (Pedido) '!H435","v":0},{"$f":"'Aferi (Pedido) '!I435","v":0},{"$f":"'Aferi (Pedido) '!J435","v":0}]
[{"$f":"'Aferi (Pedido) '!A436","v":0},{"$f":"'Aferi (Pedido) '!B436:C436","v":""},null,null,null,{"$f":"'Aferi (Pedido) '!E436","v":0},{"$f":"'Aferi (Pedido) '!G436","v":0},{"$f":"'Aferi (Pedido) '!H436","v":0},{"$f":"'Aferi (Pedido) '!I436","v":0},{"$f":"'Aferi (Pedido) '!J436","v":0}]
[{"$f":"'Aferi (Pedido) '!A437","v":0},{"$f":"'Aferi (Pedido) '!B437:C437","v":""},null,null,null,{"$f":"'Aferi (Pedido) '!E437","v":0},{"$f":"'Aferi (Pedido) '!G437","v":0},{"$f":"'Aferi (Pedido) '!H437","v":0},{"$f":"'Aferi (Pedido) '!I437","v":0},{"$f":"'Aferi (Pedido) '!J437","v":0}]
[{"$f":"'Aferi (Pedido) '!A438","v":0},{"$f":"'Aferi (Pedido) '!B438:C438","v":""},null,null,null,{"$f":"'Aferi (Pedido) '!E438","v":0},{"$f":"'Aferi (Pedido) '!G438","v":0},{"$f":"'Aferi (Pedido) '!H438","v":0},{"$f":"'Aferi (Pedido) '!I438","v":0},{"$f":"'Aferi (Pedido) '!J438","v":0}]
[{"$f":"'Aferi (Pedido) '!A439","v":0},{"$f":"'Aferi (Pedido) '!B439:C439","v":""},null,null,null,{"$f":"'Aferi (Pedido) '!E439","v":0},{"$f":"'Aferi (Pedido) '!G439","v":0},{"$f":"'Aferi (Pedido) '!H439","v":0},{"$f":"'Aferi (Pedido) '!I439","v":0},{"$f":"'Aferi (Pedido) '!J439","v":0}]
[{"$f":"'Aferi (Pedido) '!A440","v":0},{"$f":"'Aferi (Pedido) '!B440:C440","v":""},null,null,null,{"$f":"'Aferi (Pedido) '!E440","v":0},{"$f":"'Aferi (Pedido) '!G440","v":0},{"$f":"'Aferi (Pedido) '!H440","v":0},{"$f":"'Aferi (Pedido) '!I440","v":0},{"$f":"'Aferi (Pedido) '!J440","v":0}]
[{"$f":"'Aferi (Pedido) '!A441","v":0},{"$f":"'Aferi (Pedido) '!B441:C441","v":""},null,null,null,{"$f":"'Aferi (Pedido) '!E441","v":0},{"$f":"'Aferi (Pedido) '!G441","v":0},{"$f":"'Aferi (Pedido) '!H441","v":0},{"$f":"'Aferi (Pedido) '!I441","v":0},{"$f":"'Aferi (Pedido) '!J441","v":0}]
[{"$f":"'Aferi (Pedido) '!A442","v":0},{"$f":"'Aferi (Pedido) '!B442:C442","v":""},null,null,null,{"$f":"'Aferi (Pedido) '!E442","v":0},{"$f":"'Aferi (Pedido) '!G442","v":0},{"$f":"'Aferi (Pedido) '!H442","v":0},{"$f":"'Aferi (Pedido) '!I442","v":0},{"$f":"'Aferi (Pedido) '!J442","v":0}]
[{"$f":"'Aferi (Pedido) '!A443","v":0},{"$f":"'Aferi (Pedido) '!B443:C443","v":""},null,null,null,{"$f":"'Aferi (Pedido) '!E443","v":0},{"$f":"'Aferi (Pedido) '!G443","v":0},{"$f":"'Aferi (Pedido) '!H443","v":0},{"$f":"'Aferi (Pedido) '!I443","v":0},{"$f":"'Aferi (Pedido) '!J443","v":0}]
[{"$f":"'Aferi (Pedido) '!A444","v":0},{"$f":"'Aferi (Pedido) '!B444:C444","v":""},null,null,null,{"$f":"'Aferi (Pedido) '!E444","v":0},{"$f":"'Aferi (Pedido) '!G444","v":0},{"$f":"'Aferi (Pedido) '!H444","v":0},{"$f":"'Aferi (Pedido) '!I444","v":0},{"$f":"'Aferi (Pedido) '!J444","v":0}]
[{"$f":"'Aferi (Pedido) '!A445","v":0},{"$f":"'Aferi (Pedido) '!B445:C445","v":""},null,null,null,{"$f":"'Aferi (Pedido) '!E445","v":0},{"$f":"'Aferi (Pedido) '!G445","v":0},{"$f":"'Aferi (Pedido) '!H445","v":0},{"$f":"'Aferi (Pedido) '!I445","v":0},{"$f":"'Aferi (Pedido) '!J445","v":0}]
[{"$f":"'Aferi (Pedido) '!A446","v":0},{"$f":"'Aferi (Pedido) '!B446:C446","v":""},null,null,null,{"$f":"'Aferi (Pedido) '!E446","v":0},{"$f":"'Aferi (Pedido) '!G446","v":0},{"$f":"'Aferi (Pedido) '!H446","v":0},{"$f":"'Aferi (Pedido) '!I446","v":0},{"$f":"'Aferi (Pedido) '!J446","v":0}]
[{"$f":"'Aferi (Pedido) '!A447","v":0},{"$f":"'Aferi (Pedido) '!B447:C447","v":""},null,null,null,{"$f":"'Aferi (Pedido) '!E447","v":0},{"$f":"'Aferi (Pedido) '!G447","v":0},{"$f":"'Aferi (Pedido) '!H447","v":0},{"$f":"'Aferi (Pedido) '!I447","v":0},{"$f":"'Aferi (Pedido) '!J447","v":0}]
[{"$f":"'Aferi (Pedido) '!A448","v":0},{"$f":"'Aferi (Pedido) '!B448:C448","v":""},null,null,null,{"$f":"'Aferi (Pedido) '!E448","v":0},{"$f":"'Aferi (Pedido) '!G448","v":0},{"$f":"'Aferi (Pedido) '!H448","v":0},{"$f":"'Aferi (Pedido) '!I448","v":0},{"$f":"'Aferi (Pedido) '!J448","v":0}]
[{"$f":"'Aferi (Pedido) '!A449","v":0},{"$f":"'Aferi (Pedido) '!B449:C449","v":""},null,null,null,{"$f":"'Aferi (Pedido) '!E449","v":0},{"$f":"'Aferi (Pedido) '!G449","v":0},{"$f":"'Aferi (Pedido) '!H449","v":0},{"$f":"'Aferi (Pedido) '!I449","v":0},{"$f":"'Aferi (Pedido) '!J449","v":0}]
[{"$f":"'Aferi (Pedido) '!A450","v":0},{"$f":"'Aferi (Pedido) '!B450:C450","v":""},null,null,null,{"$f":"'Aferi (Pedido) '!E450","v":0},{"$f":"'Aferi (Pedido) '!G450","v":0},{"$f":"'Aferi (Pedido) '!H450","v":0},{"$f":"'Aferi (Pedido) '!I450","v":0},{"$f":"'Aferi (Pedido) '!J450","v":0}]
[{"$f":"'Aferi (Pedido) '!A451","v":0},{"$f":"'Aferi (Pedido) '!B451:C451","v":""},null,null,null,{"$f":"'Aferi (Pedido) '!E451","v":0},{"$f":"'Aferi (Pedido) '!G451","v":0},{"$f":"'Aferi (Pedido) '!H451","v":0},{"$f":"'Aferi (Pedido) '!I451","v":0},{"$f":"'Aferi (Pedido) '!J451","v":0}]
[{"$f":"'Aferi (Pedido) '!A452","v":0},{"$f":"'Aferi (Pedido) '!B452:C452","v":""},null,null,null,{"$f":"'Aferi (Pedido) '!E452","v":0},{"$f":"'Aferi (Pedido) '!G452","v":0},{"$f":"'Aferi (Pedido) '!H452","v":0},{"$f":"'Aferi (Pedido) '!I452","v":0},{"$f":"'Aferi (Pedido) '!J452","v":0}]
[{"$f":"'Aferi (Pedido) '!A453","v":0},{"$f":"'Aferi (Pedido) '!B453:C453","v":""},null,null,null,{"$f":"'Aferi (Pedido) '!E453","v":0},{"$f":"'Aferi (Pedido) '!G453","v":0},{"$f":"'Aferi (Pedido) '!H453","v":0},{"$f":"'Aferi (Pedido) '!I453","v":0},{"$f":"'Aferi (Pedido) '!J453","v":0}]
[{"$f":"'Aferi (Pedido) '!A454","v":0},{"$f":"'Aferi (Pedido) '!B454:C454","v":""},null,null,null,{"$f":"'Aferi (Pedido) '!E454","v":0},{"$f":"'Aferi (Pedido) '!G454","v":0},{"$f":"'Aferi (Pedido) '!H454","v":0},{"$f":"'Aferi (Pedido) '!I454","v":0},{"$f":"'Aferi (Pedido) '!J454","v":0}]
[{"$f":"'Aferi (Pedido) '!A455","v":0},{"$f":"'Aferi (Pedido) '!B455:C455","v":""},null,null,null,{"$f":"'Aferi (Pedido) '!E455","v":0},{"$f":"'Aferi (Pedido) '!G455","v":0},{"$f":"'Aferi (Pedido) '!H455","v":0},{"$f":"'Aferi (Pedido) '!I455","v":0},{"$f":"'Aferi (Pedido) '!J455","v":0}]
[{"$f":"'Aferi (Pedido) '!A456","v":0},{"$f":"'Aferi (Pedido) '!B456:C456","v":""},null,null,null,{"$f":"'Aferi (Pedido) '!E456","v":0},{"$f":"'Aferi (Pedido) '!G456","v":0},{"$f":"'Aferi (Pedido) '!H456","v":0},{"$f":"'Aferi (Pedido) '!I456","v":0},{"$f":"'Aferi (Pedido) '!J456","v":0}]
[{"$f":"'Aferi (Pedido) '!A457","v":0},{"$f":"'Aferi (Pedido) '!B457:C457","v":""},null,null,null,{"$f":"'Aferi (Pedido) '!E457","v":0},{"$f":"'Aferi (Pedido) '!G457","v":0},{"$f":"'Aferi (Pedido) '!H457","v":0},{"$f":"'Aferi (Pedido) '!I457","v":0},{"$f":"'Aferi (Pedido) '!J457","v":0}]
[{"$f":"'Aferi (Pedido) '!A458","v":0},{"$f":"'Aferi (Pedido) '!B458:C458","v":""},null,null,null,{"$f":"'Aferi (Pedido) '!E458","v":0},{"$f":"'Aferi (Pedido) '!G458","v":0},{"$f":"'Aferi (Pedido) '!H458","v":0},{"$f":"'Aferi (Pedido) '!I458","v":0},{"$f":"'Aferi (Pedido) '!J458","v":0}]
[{"$f":"'Aferi (Pedido) '!A459","v":0},{"$f":"'Aferi (Pedido) '!B459:C459","v":""},null,null,null,{"$f":"'Aferi (Pedido) '!E459","v":0},{"$f":"'Aferi (Pedido) '!G459","v":0},{"$f":"'Aferi (Pedido) '!H459","v":0},{"$f":"'Aferi (Pedido) '!I459","v":0},{"$f":"'Aferi (Pedido) '!J459","v":0}]
[{"$f":"'Aferi (Pedido) '!A460","v":0},{"$f":"'Aferi (Pedido) '!B460:C460","v":""},null,null,null,{"$f":"'Aferi (Pedido) '!E460","v":0},{"$f":"'Aferi (Pedido) '!G460","v":0},{"$f":"'Aferi (Pedido) '!H460","v":0},{"$f":"'Aferi (Pedido) '!I460","v":0},{"$f":"'Aferi (Pedido) '!J460","v":0}]
[{"$f":"'Aferi (Pedido) '!A461","v":0},{"$f":"'Aferi (Pedido) '!B461:C461","v":""},null,null,null,{"$f":"'Aferi (Pedido) '!E461","v":0},{"$f":"'Aferi (Pedido) '!G461","v":0},{"$f":"'Aferi (Pedido) '!H461","v":0},{"$f":"'Aferi (Pedido) '!I461","v":0},{"$f":"'Aferi (Pedido) '!J461","v":0}]
[{"$f":"'Aferi (Pedido) '!A462","v":0},{"$f":"'Aferi (Pedido) '!B462:C462","v":""},null,null,null,{"$f":"'Aferi (Pedido) '!E462","v":0},{"$f":"'Aferi (Pedido) '!G462","v":0},{"$f":"'Aferi (Pedido) '!H462","v":0},{"$f":"'Aferi (Pedido) '!I462","v":0},{"$f":"'Aferi (Pedido) '!J462","v":0}]
[{"$f":"'Aferi (Pedido) '!A463","v":0},{"$f":"'Aferi (Pedido) '!B463:C463","v":""},null,null,null,{"$f":"'Aferi (Pedido) '!E463","v":0},{"$f":"'Aferi (Pedido) '!G463","v":0},{"$f":"'Aferi (Pedido) '!H463","v":0},{"$f":"'Aferi (Pedido) '!I463","v":0},{"$f":"'Aferi (Pedido) '!J463","v":0}]
[{"$f":"'Aferi (Pedido) '!A464","v":0},{"$f":"'Aferi (Pedido) '!B464:C464","v":""},null,null,null,{"$f":"'Aferi (Pedido) '!E464","v":0},{"$f":"'Aferi (Pedido) '!G464","v":0},{"$f":"'Aferi (Pedido) '!H464","v":0},{"$f":"'Aferi (Pedido) '!I464","v":0},{"$f":"'Aferi (Pedido) '!J464","v":0}]
[{"$f":"'Aferi (Pedido) '!A465","v":0},{"$f":"'Aferi (Pedido) '!B465:C465","v":""},null,null,null,{"$f":"'Aferi (Pedido) '!E465","v":0},{"$f":"'Aferi (Pedido) '!G465","v":0},{"$f":"'Aferi (Pedido) '!H465","v":0},{"$f":"'Aferi (Pedido) '!I465","v":0},{"$f":"'Aferi (Pedido) '!J465","v":0}]
[{"$f":"'Aferi (Pedido) '!A466","v":0},{"$f":"'Aferi (Pedido) '!B466:C466","v":""},null,null,null,{"$f":"'Aferi (Pedido) '!E466","v":0},{"$f":"'Aferi (Pedido) '!G466","v":0},{"$f":"'Aferi (Pedido) '!H466","v":0},{"$f":"'Aferi (Pedido) '!I466","v":0},{"$f":"'Aferi (Pedido) '!J466","v":0}]
[{"$f":"'Aferi (Pedido) '!A467","v":0},{"$f":"'Aferi (Pedido) '!B467:C467","v":""},null,null,null,{"$f":"'Aferi (Pedido) '!E467","v":0},{"$f":"'Aferi (Pedido) '!G467","v":0},{"$f":"'Aferi (Pedido) '!H467","v":0},{"$f":"'Aferi (Pedido) '!I467","v":0},{"$f":"'Aferi (Pedido) '!J467","v":0}]
[{"$f":"'Aferi (Pedido) '!A468","v":0},{"$f":"'Aferi (Pedido) '!B468:C468","v":""},null,null,null,{"$f":"'Aferi (Pedido) '!E468","v":0},{"$f":"'Aferi (Pedido) '!G468","v":0},{"$f":"'Aferi (Pedido) '!H468","v":0},{"$f":"'Aferi (Pedido) '!I468","v":0},{"$f":"'Aferi (Pedido) '!J468","v":0}]
[{"$f":"'Aferi (Pedido) '!A469","v":0},{"$f":"'Aferi (Pedido) '!B469:C469","v":""},null,null,null,{"$f":"'Aferi (Pedido) '!E469","v":0},{"$f":"'Aferi (Pedido) '!G469","v":0},{"$f":"'Aferi (Pedido) '!H469","v":0},{"$f":"'Aferi (Pedido) '!I469","v":0},{"$f":"'Aferi (Pedido) '!J469","v":0}]
[{"$f":"'Aferi (Pedido) '!A470","v":0},{"$f":"'Aferi (Pedido) '!B470:C470","v":""},null,null,null,{"$f":"'Aferi (Pedido) '!E470","v":0},{"$f":"'Aferi (Pedido) '!G470","v":0},{"$f":"'Aferi (Pedido) '!H470","v":0},{"$f":"'Aferi (Pedido) '!I470","v":0},{"$f":"'Aferi (Pedido) '!J470","v":0}]
[{"$f":"'Aferi (Pedido) '!A471","v":0},{"$f":"'Aferi (Pedido) '!B471:C471","v":""},null,null,null,{"$f":"'Aferi (Pedido) '!E471","v":0},{"$f":"'Aferi (Pedido) '!G471","v":0},{"$f":"'Aferi (Pedido) '!H471","v":0},{"$f":"'Aferi (Pedido) '!I471","v":0},{"$f":"'Aferi (Pedido) '!J471","v":0}]
[{"$f":"'Aferi (Pedido) '!A472","v":0},{"$f":"'Aferi (Pedido) '!B472:C472","v":""},null,null,null,{"$f":"'Aferi (Pedido) '!E472","v":0},{"$f":"'Aferi (Pedido) '!G472","v":0},{"$f":"'Aferi (Pedido) '!H472","v":0},{"$f":"'Aferi (Pedido) '!I472","v":0},{"$f":"'Aferi (Pedido) '!J472","v":0}]
[{"$f":"'Aferi (Pedido) '!A473","v":0},{"$f":"'Aferi (Pedido) '!B473:C473","v":""},null,null,null,{"$f":"'Aferi (Pedido) '!E473","v":0},{"$f":"'Aferi (Pedido) '!G473","v":0},{"$f":"'Aferi (Pedido) '!H473","v":0},{"$f":"'Aferi (Pedido) '!I473","v":0},{"$f":"'Aferi (Pedido) '!J473","v":0}]
[{"$f":"'Aferi (Pedido) '!A474","v":0},{"$f":"'Aferi (Pedido) '!B474:C474","v":""},null,null,null,{"$f":"'Aferi (Pedido) '!E474","v":0},{"$f":"'Aferi (Pedido) '!G474","v":0},{"$f":"'Aferi (Pedido) '!H474","v":0},{"$f":"'Aferi (Pedido) '!I474","v":0},{"$f":"'Aferi (Pedido) '!J474","v":0}]
[{"$f":"'Aferi (Pedido) '!A475","v":0},{"$f":"'Aferi (Pedido) '!B475:C475","v":""},null,null,null,{"$f":"'Aferi (Pedido) '!E475","v":0},{"$f":"'Aferi (Pedido) '!G475","v":0},{"$f":"'Aferi (Pedido) '!H475","v":0},{"$f":"'Aferi (Pedido) '!I475","v":0},{"$f":"'Aferi (Pedido) '!J475","v":0}]
[{"$f":"'Aferi (Pedido) '!A476","v":0},{"$f":"'Aferi (Pedido) '!B476:C476","v":""},null,null,null,{"$f":"'Aferi (Pedido) '!E476","v":0},{"$f":"'Aferi (Pedido) '!G476","v":0},{"$f":"'Aferi (Pedido) '!H476","v":0},{"$f":"'Aferi (Pedido) '!I476","v":0},{"$f":"'Aferi (Pedido) '!J476","v":0}]
[{"$f":"'Aferi (Pedido) '!A477","v":0},{"$f":"'Aferi (Pedido) '!B477:C477","v":""},null,null,null,{"$f":"'Aferi (Pedido) '!E477","v":0},{"$f":"'Aferi (Pedido) '!G477","v":0},{"$f":"'Aferi (Pedido) '!H477","v":0},{"$f":"'Aferi (Pedido) '!I477","v":0},{"$f":"'Aferi (Pedido) '!J477","v":0}]
[{"$f":"'Aferi (Pedido) '!A478","v":0},{"$f":"'Aferi (Pedido) '!B478:C478","v":""},null,null,null,{"$f":"'Aferi (Pedido) '!E478","v":0},{"$f":"'Aferi (Pedido) '!G478","v":0},{"$f":"'Aferi (Pedido) '!H478","v":0},{"$f":"'Aferi (Pedido) '!I478","v":0},{"$f":"'Aferi (Pedido) '!J478","v":0}]
[{"$f":"'Aferi (Pedido) '!A479","v":0},{"$f":"'Aferi (Pedido) '!B479:C479","v":""},null,null,null,{"$f":"'Aferi (Pedido) '!E479","v":0},{"$f":"'Aferi (Pedido) '!G479","v":0},{"$f":"'Aferi (Pedido) '!H479","v":0},{"$f":"'Aferi (Pedido) '!I479","v":0},{"$f":"'Aferi (Pedido) '!J479","v":0}]
[{"$f":"'Aferi (Pedido) '!A480","v":0},{"$f":"'Aferi (Pedido) '!B480:C480","v":""},null,null,null,{"$f":"'Aferi (Pedido) '!E480","v":0},{"$f":"'Aferi (Pedido) '!G480","v":0},{"$f":"'Aferi (Pedido) '!H480","v":0},{"$f":"'Aferi (Pedido) '!I480","v":0},{"$f":"'Aferi (Pedido) '!J480","v":0}]
[{"$f":"'Aferi (Pedido) '!A481","v":0},{"$f":"'Aferi (Pedido) '!B481:C481","v":""},null,null,null,{"$f":"'Aferi (Pedido) '!E481","v":0},{"$f":"'Aferi (Pedido) '!G481","v":0},{"$f":"'Aferi (Pedido) '!H481","v":0},{"$f":"'Aferi (Pedido) '!I481","v":0},{"$f":"'Aferi (Pedido) '!J481","v":0}]
[{"$f":"'Aferi (Pedido) '!A482","v":0},{"$f":"'Aferi (Pedido) '!B482:C482","v":""},null,null,null,{"$f":"'Aferi (Pedido) '!E482","v":0},{"$f":"'Aferi (Pedido) '!G482","v":0},{"$f":"'Aferi (Pedido) '!H482","v":0},{"$f":"'Aferi (Pedido) '!I482","v":0},{"$f":"'Aferi (Pedido) '!J482","v":0}]
[{"$f":"'Aferi (Pedido) '!A483","v":0},{"$f":"'Aferi (Pedido) '!B483:C483","v":""},null,null,null,{"$f":"'Aferi (Pedido) '!E483","v":0},{"$f":"'Aferi (Pedido) '!G483","v":0},{"$f":"'Aferi (Pedido) '!H483","v":0},{"$f":"'Aferi (Pedido) '!I483","v":0},{"$f":"'Aferi (Pedido) '!J483","v":0}]
[{"$f":"'Aferi (Pedido) '!A484","v":0},{"$f":"'Aferi (Pedido) '!B484:C484","v":""},null,null,null,{"$f":"'Aferi (Pedido) '!E484","v":0},{"$f":"'Aferi (Pedido) '!G484","v":0},{"$f":"'Aferi (Pedido) '!H484","v":0},{"$f":"'Aferi (Pedido) '!I484","v":0},{"$f":"'Aferi (Pedido) '!J484","v":0}]
[{"$f":"'Aferi (Pedido) '!A485","v":0},{"$f":"'Aferi (Pedido) '!B485:C485","v":""},null,null,null,{"$f":"'Aferi (Pedido) '!E485","v":0},{"$f":"'Aferi (Pedido) '!G485","v":0},{"$f":"'Aferi (Pedido) '!H485","v":0},{"$f":"'Aferi (Pedido) '!I485","v":0},{"$f":"'Aferi (Pedido) '!J485","v":0}]
[{"$f":"'Aferi (Pedido) '!A486","v":0},{"$f":"'Aferi (Pedido) '!B486:C486","v":""},null,null,null,{"$f":"'Aferi (Pedido) '!E486","v":0},{"$f":"'Aferi (Pedido) '!G486","v":0},{"$f":"'Aferi (Pedido) '!H486","v":0},{"$f":"'Aferi (Pedido) '!I486","v":0},{"$f":"'Aferi (Pedido) '!J486","v":0}]
[{"$f":"'Aferi (Pedido) '!A487","v":0},{"$f":"'Aferi (Pedido) '!B487:C487","v":""},null,null,null,{"$f":"'Aferi (Pedido) '!E487","v":0},{"$f":"'Aferi (Pedido) '!G487","v":0},{"$f":"'Aferi (Pedido) '!H487","v":0},{"$f":"'Aferi (Pedido) '!I487","v":0},{"$f":"'Aferi (Pedido) '!J487","v":0}]
[{"$f":"'Aferi (Pedido) '!A488","v":0},{"$f":"'Aferi (Pedido) '!B488:C488","v":""},null,null,null,{"$f":"'Aferi (Pedido) '!E488","v":0},{"$f":"'Aferi (Pedido) '!G488","v":0},{"$f":"'Aferi (Pedido) '!H488","v":0},{"$f":"'Aferi (Pedido) '!I488","v":0},{"$f":"'Aferi (Pedido) '!J488","v":0}]
[{"$f":"'Aferi (Pedido) '!A489","v":0},{"$f":"'Aferi (Pedido) '!B489:C489","v":""},null,null,null,{"$f":"'Aferi (Pedido) '!E489","v":0},{"$f":"'Aferi (Pedido) '!G489","v":0},{"$f":"'Aferi (Pedido) '!H489","v":0},{"$f":"'Aferi (Pedido) '!I489","v":0},{"$f":"'Aferi (Pedido) '!J489","v":0}]
[{"$f":"'Aferi (Pedido) '!A490","v":0},{"$f":"'Aferi (Pedido) '!B490:C490","v":""},null,null,null,{"$f":"'Aferi (Pedido) '!E490","v":0},{"$f":"'Aferi (Pedido) '!G490","v":0},{"$f":"'Aferi (Pedido) '!H490","v":0},{"$f":"'Aferi (Pedido) '!I490","v":0},{"$f":"'Aferi (Pedido) '!J490","v":0}]
[{"$f":"'Aferi (Pedido) '!A491","v":0},{"$f":"'Aferi (Pedido) '!B491:C491","v":""},null,null,null,{"$f":"'Aferi (Pedido) '!E491","v":0},{"$f":"'Aferi (Pedido) '!G491","v":0},{"$f":"'Aferi (Pedido) '!H491","v":0},{"$f":"'Aferi (Pedido) '!I491","v":0},{"$f":"'Aferi (Pedido) '!J491","v":0}]
[{"$f":"'Aferi (Pedido) '!A492","v":0},{"$f":"'Aferi (Pedido) '!B492:C492","v":""},null,null,null,{"$f":"'Aferi (Pedido) '!E492","v":0},{"$f":"'Aferi (Pedido) '!G492","v":0},{"$f":"'Aferi (Pedido) '!H492","v":0},{"$f":"'Aferi (Pedido) '!I492","v":0},{"$f":"'Aferi (Pedido) '!J492","v":0}]
[{"$f":"'Aferi (Pedido) '!A493","v":0},{"$f":"'Aferi (Pedido) '!B493:C493","v":""},null,null,null,{"$f":"'Aferi (Pedido) '!E493","v":0},{"$f":"'Aferi (Pedido) '!G493","v":0},{"$f":"'Aferi (Pedido) '!H493","v":0},{"$f":"'Aferi (Pedido) '!I493","v":0},{"$f":"'Aferi (Pedido) '!J493","v":0}]
[{"$f":"'Aferi (Pedido) '!A494","v":0},{"$f":"'Aferi (Pedido) '!B494:C494","v":""},null,null,null,{"$f":"'Aferi (Pedido) '!E494","v":0},{"$f":"'Aferi (Pedido) '!G494","v":0},{"$f":"'Aferi (Pedido) '!H494","v":0},{"$f":"'Aferi (Pedido) '!I494","v":0},{"$f":"'Aferi (Pedido) '!J494","v":0}]
[{"$f":"'Aferi (Pedido) '!A495","v":0},{"$f":"'Aferi (Pedido) '!B495:C495","v":""},null,null,null,{"$f":"'Aferi (Pedido) '!E495","v":0},{"$f":"'Aferi (Pedido) '!G495","v":0},{"$f":"'Aferi (Pedido) '!H495","v":0},{"$f":"'Aferi (Pedido) '!I495","v":0},{"$f":"'Aferi (Pedido) '!J495","v":0}]
[{"$f":"'Aferi (Pedido) '!A496","v":0},{"$f":"'Aferi (Pedido) '!B496:C496","v":""},null,null,null,{"$f":"'Aferi (Pedido) '!E496","v":0},{"$f":"'Aferi (Pedido) '!G496","v":0},{"$f":"'Aferi (Pedido) '!H496","v":0},{"$f":"'Aferi (Pedido) '!I496","v":0},{"$f":"'Aferi (Pedido) '!J496","v":0}]
[{"$f":"'Aferi (Pedido) '!A497","v":0},{"$f":"'Aferi (Pedido) '!B497:C497","v":""},null,null,null,{"$f":"'Aferi (Pedido) '!E497","v":0},{"$f":"'Aferi (Pedido) '!G497","v":0},{"$f":"'Aferi (Pedido) '!H497","v":0},{"$f":"'Aferi (Pedido) '!I497","v":0},{"$f":"'Aferi (Pedido) '!J497","v":0}]
[{"$f":"'Aferi (Pedido) '!A498","v":0},{"$f":"'Aferi (Pedido) '!B498:C498","v":""},null,null,null,{"$f":"'Aferi (Pedido) '!E498","v":0},{"$f":"'Aferi (Pedido) '!G498","v":0},{"$f":"'Aferi (Pedido) '!H498","v":0},{"$f":"'Aferi (Pedido) '!I498","v":0},{"$f":"'Aferi (Pedido) '!J498","v":0}]
[{"$f":"'Aferi (Pedido) '!A499","v":0},{"$f":"'Aferi (Pedido) '!B499:C499","v":""},null,null,null,{"$f":"'Aferi (Pedido) '!E499","v":0},{"$f":"'Aferi (Pedido) '!G499","v":0},{"$f":"'Aferi (Pedido) '!H499","v":0},{"$f":"'Aferi (Pedido) '!I499","v":0},{"$f":"'Aferi (Pedido) '!J499","v":0}]
[{"$f":"'Aferi (Pedido) '!A500","v":0},{"$f":"'Aferi (Pedido) '!B500:C500","v":""},null,null,null,{"$f":"'Aferi (Pedido) '!E500","v":0},{"$f":"'Aferi (Pedido) '!G500","v":0},{"$f":"'Aferi (Pedido) '!H500","v":0},{"$f":"'Aferi (Pedido) '!I500","v":0},{"$f":"'Aferi (Pedido) '!J500","v":0}]